Workbook

Sheet Portada

Sheet Contenido

Sheet Total Aceite
A28: Marca | K28: Canal
D29: 2 | N29: 2
B30: Seleccionar: | K30: Seleccionar:

Sheet A. Oliva
A28: Marca | K28: Canal
D29: 1 | N29: 1
B30: Seleccionar: | K30: Seleccionar:

Sheet O. Virgen
A1: 25
A28: Marca | K28: Canal
D29: 1 | N29: 2
B30: Seleccionar: | K30: Seleccionar:

Sheet O. Virgen Extra
A28: Marca | K28: Canal
D29: 1 | N29: 1
B30: Seleccionar: | K30: Seleccionar:

Sheet O. Virgen + Extra
A28: Marca | K28: Canal
D29: 2 | N29: 2
B30: Seleccionar: | K30: Seleccionar:

Sheet Conclusiones
B6: Conclusiones
B8: La actividad promocional de aceite se contrae con fuerza en julio de 2026. El aceite cede la dinámica promocional: todas las categorías reducen actividad y la distribución deja de ser un actor relevante. La presión promocional se reduce en todas las variedades de aceite analizadas en este informe. Los fabricantes continúan impulsando la mayor parte de las promociones, pese a reducir significativamente su intensidad frente al mes de julio de 2025. Los hipermercados concentran la mayor caída, mientras que las marcas de distribución prácticamente abandonan la actividad promocional. • La actividad promocional en aceite de oliva continúa disminuyendo en el séptimo del año, reduciéndose del 12,3 % al 5,6 %. El descenso está encabezado por los principales fabricantes, que reducen su actividad del 32,3 % al 16,6 %, mientras que las marcas de distribución eliminan completamente la promoción. Los hipermercados siguen concentrando la mayor caída, pasando del 34,7 % al 14,8 %. • El aceite de oliva virgen extra es la variedad que registra la mayor reducción promocional del mercado. Su peso en promoción pasa del 12,5 % al 2,5 %, impulsado por una fuerte reducción tanto en las marcas de fabricantes como en el canal hipermercado. Destaca especialmente el descenso de este canal, que pasa del 36,9 % al 4,8 %. • El aceite de oliva virgen, presenta la evolución más estable a pesar de que también reduce su actividad promocional, pasando del 7,0 % al 3,2 %. Las marcas de fabricantes y los hipermercados disminuyen significativamente su presencia promocional, mientras que los supermercados constituyen la única excepción del mercado al incrementar ligeramente su actividad, del 3,1 % al 3,3 %.

Sheet Back data
A1: Measures = Weighted PURCHS Vert %
A2: CANA2 = Total CANA2
A3: PRODS = LECHE ENVASADA\Total PRODS
A4: S360MAPA - PROMO - 21/10/2025 13:56:24 | B4: 45323 | C4: 45352 | D4: 45383 | E4: 45413 | F4: 45444 | G4: 45474 | H4: 45505 | I4: 45536 | J4: 45566 | K4: 45597 | L4: 45627 | M4: 45658 | N4: 45689 | O4: 45717 | P4: 45748 | Q4: 45778 | R4: 45809 | S4: 45839 | T4: 45870 | U4: 45901 | V4: 45931 | W4: 45962 | X4: 45992 | Y4: 46023 | Z4: 46054 | AA4: 46082 | AB4: 46113 | AC4: 46143 | AD4: 46174 | AE4: 46204
A5: T.ALIMENTACIÓN MAPA
A6: TOTAL | B6: 100 | C6: 100 | D6: 100 | E6: 100 | F6: 100 | G6: 100 | H6: 100 | I6: 100 | J6: 100 | K6: 100 | L6: 100 | M6: 100 | N6: 100 | O6: 100 | P6: 100 | Q6: 100 | R6: 100 | S6: 100 | T6: 100 | U6: 100 | V6: 100 | W6: 100 | X6: 100 | Y6: 100 | Z6: 100 | AA6: 100 | AB6: 100 | AC6: 100 | AD6: 100 | AE6: 100
A7: SIN PROMOCION | B7: 83.41 | C7: 82.91 | D7: 82.88 | E7: 83.86 | F7: 84.55 | G7: 87.08 | H7: 88.73 | I7: 89.32 | J7: 91.83 | K7: 92.81 | L7: 98.59 | M7: 98.62 | N7: 97.75 | O7: 98.42 | P7: 98.34 | Q7: 98.21 | R7: 97.38 | S7: 97.86 | T7: 97.87 | U7: 97.39 | V7: 97.68 | W7: 97.46 | X7: 97.88 | Y7: 97.11 | Z7: 96.94 | AA7: 97.07 | AB7: 96.94 | AC7: 96.92 | AD7: 97.17 | AE7: 96.67
A8: CON PROMOCION | B8: 1.66 | C8: 1.72 | D8: 2.45 | E8: 1.98 | F8: 1.97 | G8: 1.81 | H8: 1.8 | I8: 3.18 | J8: 1.97 | K8: 1.92 | L8: 1.41 | M8: 1.38 | N8: 2.25 | O8: 1.58 | P8: 1.66 | Q8: 1.79 | R8: 2.62 | S8: 2.14 | T8: 2.13 | U8: 2.61 | V8: 2.32 | W8: 2.54 | X8: 2.12 | Y8: 2.89 | Z8: 3.06 | AA8: 2.93 | AB8: 3.06 | AC8: 3.08 | AD8: 2.83 | AE8: 3.33
A10: PRINCIPALES FABRICANTE
A11: TOTAL | B11: 100 | C11: 100 | D11: 100 | E11: 100 | F11: 100 | G11: 100 | H11: 100 | I11: 100 | J11: 100 | K11: 100 | L11: 100 | M11: 100 | N11: 100 | O11: 100 | P11: 100 | Q11: 100 | R11: 100 | S11: 100 | T11: 100 | U11: 100 | V11: 100 | W11: 100 | X11: 100 | Y11: 100 | Z11: 100 | AA11: 100 | AB11: 100 | AC11: 100 | AD11: 100 | AE11: 100
A12: SIN PROMOCION | B12: 77.54 | C12: 77.01 | D12: 79.09 | E12: 78.79 | F12: 79.74 | G12: 83.82 | H12: 85.55 | I12: 84.11 | J12: 86.6 | K12: 87.59 | L12: 93.54 | M12: 94.45 | N12: 93.7 | O12: 92.46 | P12: 92.29 | Q12: 92.26 | R12: 90.2 | S12: 90.51 | T12: 92.42 | U12: 91.74 | V12: 90.78 | W12: 92.14 | X12: 92.79 | Y12: 91.84 | Z12: 92.75 | AA12: 90.75 | AB12: 91.67 | AC12: 91.41 | AD12: 91.75 | AE12: 90.87
A13: CON PROMOCION | B13: 5.62 | C13: 5.6 | D13: 5.8 | E13: 5.26 | F13: 5.48 | G13: 4.36 | H13: 4.3 | I13: 6.94 | J13: 5.92 | K13: 5.59 | L13: 6.46 | M13: 5.55 | N13: 6.3 | O13: 7.54 | P13: 7.71 | Q13: 7.74 | R13: 9.8 | S13: 9.49 | T13: 7.58 | U13: 8.26 | V13: 9.22 | W13: 7.86 | X13: 7.21 | Y13: 8.16 | Z13: 7.25 | AA13: 9.25 | AB13: 8.33 | AC13: 8.59 | AD13: 8.25 | AE13: 9.13
A15: MARCAS DISTRIBUCION
A16: TOTAL | B16: 100 | C16: 100 | D16: 100 | E16: 100 | F16: 100 | G16: 100 | H16: 100 | I16: 100 | J16: 100 | K16: 100 | L16: 100 | M16: 100 | N16: 100 | O16: 100 | P16: 100 | Q16: 100 | R16: 100 | S16: 100 | T16: 100 | U16: 100 | V16: 100 | W16: 100 | X16: 100 | Y16: 100 | Z16: 100 | AA16: 100 | AB16: 100 | AC16: 100 | AD16: 100 | AE16: 100
A17: SIN PROMOCION | B17: 85.26 | C17: 84.8 | D17: 84.09 | E17: 85.14 | F17: 86.03 | G17: 88.27 | H17: 90.22 | I17: 91.47 | J17: 93.7 | K17: 94.62 | L17: 99.78 | M17: 99.72 | N17: 99.82 | O17: 99.69 | P17: 99.8 | Q17: 99.49 | R17: 98.96 | S17: 99.81 | T17: 99.01 | U17: 98.81 | V17: 99.8 | W17: 99.26 | X17: 99.31 | Y17: 99.46 | Z17: 98.14 | AA17: 98.71 | AB17: 98.67 | AC17: 98.1 | AD17: 98.37 | AE17: 98.08
A18: CON PROMOCION | B18: 0.58 | C18: 0.55 | D18: 1.53 | E18: 1.07 | F18: 0.88 | G18: 0.9 | H18: 0.72 | I18: 1.78 | J18: 0.61 | K18: 0.78 | L18: 0.22 | M18: 0.28 | N18: 0.18 | O18: 0.31 | P18: 0.2 | Q18: 0.51 | R18: 1.04 | S18: 0.19 | T18: 0.99 | U18: 1.19 | V18: 0.2 | W18: 0.74 | X18: 0.69 | Y18: 0.54 | Z18: 1.86 | AA18: 1.29 | AB18: 1.33 | AC18: 1.9 | AD18: 1.63 | AE18: 1.92
A20: OTROS FABRICANTES
A21: TOTAL | B21: 100 | C21: 100 | D21: 100 | E21: 100 | F21: 100 | G21: 100 | H21: 100 | I21: 100 | J21: 100 | K21: 100 | L21: 100 | M21: 100 | N21: 100 | O21: 100 | P21: 100 | Q21: 100 | R21: 100 | S21: 100 | T21: 100 | U21: 100 | V21: 100 | W21: 100 | X21: 100 | Y21: 100 | Z21: 100 | AA21: 100 | AB21: 100 | AC21: 100 | AD21: 100 | AE21: 100
A22: SIN PROMOCION | B22: 81.16 | C22: 80.97 | D22: 81.11 | E22: 84.2 | F22: 82.93 | G22: 85.2 | H22: 84.82 | I22: 84.8 | J22: 88.57 | K22: 89.72 | L22: 99.67 | M22: 98.13 | N22: 90.92 | O22: 99.48 | P22: 98.43 | Q22: 99.67 | R22: 98.75 | S22: 97.64 | T22: 99.42 | U22: 97.26 | V22: 94.58 | W22: 93.99 | X22: 96.45 | Y22: 90.66 | Z22: 95.63 | AA22: 96.5 | AB22: 94.01 | AC22: 97.84 | AD22: 97.89 | AE22: 96.65
A23: CON PROMOCION | B23: 2.09 | C23: 2.56 | D23: 3.05 | E23: 2.35 | F23: 3.2 | G23: 3.17 | H23: 4.28 | I23: 5.54 | J23: 4.16 | K23: 3.23 | L23: 0.33 | M23: 1.87 | N23: 9.08 | O23: 0.52 | P23: 1.57 | Q23: 0.33 | R23: 1.25 | S23: 2.36 | T23: 0.58 | U23: 2.74 | V23: 5.42 | W23: 6.01 | X23: 3.55 | Y23: 9.34 | Z23: 4.37 | AA23: 3.5 | AB23: 5.99 | AC23: 2.16 | AD23: 2.11 | AE23: 3.35
A26: Measures = Weighted PURCHS Vert %
A27: CANA2 = Total CANA2
A28: PRODS = DERIVADOS LACTEOS\LECHE ENVASADA\Total PRODS
A29: S360MAPA - PROMO - 21/10/2025 13:56:24 | B29: 45323 | C29: 45352 | D29: 45383 | E29: 45413 | F29: 45444 | G29: 45474 | H29: 45505 | I29: 45536 | J29: 45566 | K29: 45597 | L29: 45627 | M29: 45658 | N29: 45689 | O29: 45717 | P29: 45748 | Q29: 45778 | R29: 45809 | S29: 45839 | T29: 45870 | U29: 45901 | V29: 45931 | W29: 45962 | X29: 45992 | Y29: 46023 | Z29: 46054 | AA29: 46082 | AB29: 46113 | AC29: 46143 | AD29: 46174 | AE29: 46204
A30: T.ALIMENTACIÓN MAPA
A31: TOTAL | B31: 100 | C31: 100 | D31: 100 | E31: 100 | F31: 100 | G31: 100 | H31: 100 | I31: 100 | J31: 100 | K31: 100 | L31: 100 | M31: 100 | N31: 100 | O31: 100 | P31: 100 | Q31: 100 | R31: 100 | S31: 100 | T31: 100 | U31: 100 | V31: 100 | W31: 100 | X31: 100 | Y31: 100 | Z31: 100 | AA31: 100 | AB31: 100 | AC31: 100 | AD31: 100 | AE31: 100
A32: SIN PROMOCION | B32: 81.07 | C32: 80.46 | D32: 81.31 | E32: 81.09 | F32: 82.74 | G32: 85.11 | H32: 87.41 | I32: 89.25 | J32: 90.31 | K32: 91.51 | L32: 95.05 | M32: 94.8 | N32: 94.38 | O32: 93.47 | P32: 94.31 | Q32: 93.97 | R32: 93.87 | S32: 93.83 | T32: 93.78 | U32: 93.38 | V32: 93.77 | W32: 94.43 | X32: 95 | Y32: 93.63 | Z32: 93.83 | AA32: 94.22 | AB32: 94.22 | AC32: 93.58 | AD32: 93.95 | AE32: 93.97
A33: CON PROMOCION | B33: 3.2 | C33: 3.14 | D33: 3.12 | E33: 3.33 | F33: 3.05 | G33: 3.25 | H33: 3.07 | I33: 3.51 | J33: 3.5 | K33: 3.41 | L33: 4.95 | M33: 5.2 | N33: 5.62 | O33: 6.53 | P33: 5.69 | Q33: 6.03 | R33: 6.13 | S33: 6.17 | T33: 6.22 | U33: 6.62 | V33: 6.23 | W33: 5.57 | X33: 5 | Y33: 6.37 | Z33: 6.17 | AA33: 5.78 | AB33: 5.78 | AC33: 6.42 | AD33: 6.05 | AE33: 6.03
A35: PRINCIPALES FABRICANTE
A36: TOTAL | B36: 100 | C36: 100 | D36: 100 | E36: 100 | F36: 100 | G36: 100 | H36: 100 | I36: 100 | J36: 100 | K36: 100 | L36: 100 | M36: 100 | N36: 100 | O36: 100 | P36: 100 | Q36: 100 | R36: 100 | S36: 100 | T36: 100 | U36: 100 | V36: 100 | W36: 100 | X36: 100 | Y36: 100 | Z36: 100 | AA36: 100 | AB36: 100 | AC36: 100 | AD36: 100 | AE36: 100
A37: SIN PROMOCION | B37: 76.9 | C37: 75.2 | D37: 76.77 | E37: 75.44 | F37: 77.68 | G37: 80.29 | H37: 82.2 | I37: 83.77 | J37: 85.55 | K37: 86.58 | L37: 81.74 | M37: 81.24 | N37: 78.96 | O37: 79.55 | P37: 78.28 | Q37: 76.22 | R37: 77.06 | S37: 77.31 | T37: 76.53 | U37: 75.94 | V37: 78.57 | W37: 80.02 | X37: 82.22 | Y37: 79.52 | Z37: 79.41 | AA37: 79.68 | AB37: 77.61 | AC37: 75.32 | AD37: 74.97 | AE37: 76.32
A38: CON PROMOCION | B38: 7.42 | C38: 7.43 | D38: 7.47 | E38: 8.13 | F38: 7.19 | G38: 7.39 | H38: 7.19 | I38: 8.27 | J38: 8.17 | K38: 7.41 | L38: 18.26 | M38: 18.76 | N38: 21.04 | O38: 20.45 | P38: 21.72 | Q38: 23.78 | R38: 22.94 | S38: 22.69 | T38: 23.47 | U38: 24.06 | V38: 21.43 | W38: 19.98 | X38: 17.78 | Y38: 20.48 | Z38: 20.59 | AA38: 20.32 | AB38: 22.39 | AC38: 24.68 | AD38: 25.03 | AE38: 23.68
A40: MARCAS DISTRIBUCION
A41: TOTAL | B41: 100 | C41: 100 | D41: 100 | E41: 100 | F41: 100 | G41: 100 | H41: 100 | I41: 100 | J41: 100 | K41: 100 | L41: 100 | M41: 100 | N41: 100 | O41: 100 | P41: 100 | Q41: 100 | R41: 100 | S41: 100 | T41: 100 | U41: 100 | V41: 100 | W41: 100 | X41: 100 | Y41: 100 | Z41: 100 | AA41: 100 | AB41: 100 | AC41: 100 | AD41: 100 | AE41: 100
A42: SIN PROMOCION | B42: 81.92 | C42: 81.4 | D42: 82.02 | E42: 82.16 | F42: 83.62 | G42: 86 | H42: 88.32 | I42: 90.44 | J42: 91.39 | K42: 92.43 | L42: 98.05 | M42: 97.96 | N42: 97.59 | O42: 96.14 | P42: 97.5 | Q42: 97.54 | R42: 97 | S42: 97.07 | T42: 97.15 | U42: 96.71 | V42: 96.76 | W42: 97.22 | X42: 97.62 | Y42: 96.71 | Z42: 96.59 | AA42: 96.91 | AB42: 97.29 | AC42: 96.89 | AD42: 97.47 | AE42: 97.23
A43: CON PROMOCION | B43: 2.19 | C43: 2.12 | D43: 2.16 | E43: 2.22 | F43: 2.14 | G43: 2.32 | H43: 2.18 | I43: 2.47 | J43: 2.47 | K43: 2.63 | L43: 1.95 | M43: 2.04 | N43: 2.41 | O43: 3.86 | P43: 2.5 | Q43: 2.46 | R43: 3 | S43: 2.93 | T43: 2.85 | U43: 3.29 | V43: 3.24 | W43: 2.78 | X43: 2.38 | Y43: 3.29 | Z43: 3.41 | AA43: 3.09 | AB43: 2.71 | AC43: 3.11 | AD43: 2.53 | AE43: 2.77
A45: OTROS FABRICANTES
A46: TOTAL | B46: 100 | C46: 100 | D46: 100 | E46: 100 | F46: 100 | G46: 100 | H46: 100 | I46: 100 | J46: 100 | K46: 100 | L46: 100 | M46: 100 | N46: 100 | O46: 100 | P46: 100 | Q46: 100 | R46: 100 | S46: 100 | T46: 100 | U46: 100 | V46: 100 | W46: 100 | X46: 100 | Y46: 100 | Z46: 100 | AA46: 100 | AB46: 100 | AC46: 100 | AD46: 100 | AE46: 100
A47: SIN PROMOCION | B47: 82.09 | C47: 82.57 | D47: 83.49 | E47: 82.59 | F47: 84.27 | G47: 85.92 | H47: 88.54 | I47: 89.7 | J47: 90.44 | K47: 92.75 | L47: 95.95 | M47: 94.62 | N47: 96.06 | O47: 96.62 | P47: 96.54 | Q47: 95.83 | R47: 94.9 | S47: 94.25 | T47: 94.66 | U47: 95.55 | V47: 95.31 | W47: 95.67 | X47: 95.69 | Y47: 93.19 | Z47: 94.82 | AA47: 95.67 | AB47: 96.16 | AC47: 95.43 | AD47: 94.85 | AE47: 93.87
A48: CON PROMOCION | B48: 3.15 | C48: 3.07 | D48: 2.88 | E48: 3.37 | F48: 3.15 | G48: 3.71 | H48: 3.24 | I48: 3.11 | J48: 3.15 | K48: 2.63 | L48: 4.05 | M48: 5.38 | N48: 3.94 | O48: 3.38 | P48: 3.46 | Q48: 4.17 | R48: 5.1 | S48: 5.75 | T48: 5.34 | U48: 4.45 | V48: 4.69 | W48: 4.33 | X48: 4.31 | Y48: 6.81 | Z48: 5.18 | AA48: 4.33 | AB48: 3.84 | AC48: 4.57 | AD48: 5.15 | AE48: 6.13
A51: Measures = Weighted PURCHS Vert %
A52: CANA2 = Total CANA2
A53: PRODS = TOTAL ACEITE\LECHE ENVASADA\Total PRODS
A54: S360MAPA - PROMO - 21/10/2025 13:56:24 | B54: 45323 | C54: 45352 | D54: 45383 | E54: 45413 | F54: 45444 | G54: 45474 | H54: 45505 | I54: 45536 | J54: 45566 | K54: 45597 | L54: 45627 | M54: 45658 | N54: 45689 | O54: 45717 | P54: 45748 | Q54: 45778 | R54: 45809 | S54: 45839 | T54: 45870 | U54: 45901 | V54: 45931 | W54: 45962 | X54: 45992 | Y54: 46023 | Z54: 46054 | AA54: 46082 | AB54: 46113 | AC54: 46143 | AD54: 46174 | AE54: 46204
A55: T.ALIMENTACIÓN MAPA
A56: TOTAL | B56: 100 | C56: 100 | D56: 100 | E56: 100 | F56: 100 | G56: 100 | H56: 100 | I56: 100 | J56: 100 | K56: 100 | L56: 100 | M56: 100 | N56: 100 | O56: 100 | P56: 100 | Q56: 100 | R56: 100 | S56: 100 | T56: 100 | U56: 100 | V56: 100 | W56: 100 | X56: 100 | Y56: 100 | Z56: 100 | AA56: 100 | AB56: 100 | AC56: 100 | AD56: 100 | AE56: 100
A57: SIN PROMOCION | B57: 79 | C57: 81.54 | D57: 80.11 | E57: 80.36 | F57: 80.92 | G57: 84 | H57: 84.9 | I57: 85.39 | J57: 86.6 | K57: 87.96 | L57: 94.51 | M57: 92.04 | N57: 89.66 | O57: 89.17 | P57: 89.33 | Q57: 87.65 | R57: 86 | S57: 91.37 | T57: 91.1 | U57: 89.37 | V57: 92.78 | W57: 90.64 | X57: 93.79 | Y57: 92.26 | Z57: 88.05 | AA57: 90.96 | AB57: 96.88 | AC57: 95.93 | AD57: 95.95 | AE57: 96.9
A58: CON PROMOCION | B58: 6.64 | C58: 4.6 | D58: 6.27 | E58: 5.71 | F58: 5.28 | G58: 5.96 | H58: 5.6 | I58: 6.69 | J58: 7.53 | K58: 6.33 | L58: 5.49 | M58: 7.96 | N58: 10.34 | O58: 10.83 | P58: 10.68 | Q58: 12.35 | R58: 14 | S58: 8.63 | T58: 8.9 | U58: 10.63 | V58: 7.22 | W58: 9.36 | X58: 6.21 | Y58: 7.74 | Z58: 11.95 | AA58: 9.04 | AB58: 3.12 | AC58: 4.07 | AD58: 4.05 | AE58: 3.1
A60: PRINCIPALES FABRICANTE
A61: TOTAL | B61: 100 | C61: 100 | D61: 100 | E61: 100 | F61: 100 | G61: 100 | H61: 100 | I61: 100 | J61: 100 | K61: 100 | L61: 100 | M61: 100 | N61: 100 | O61: 100 | P61: 100 | Q61: 100 | R61: 100 | S61: 100 | T61: 100 | U61: 100 | V61: 100 | W61: 100 | X61: 100 | Y61: 100 | Z61: 100 | AA61: 100 | AB61: 100 | AC61: 100 | AD61: 100 | AE61: 100
A62: SIN PROMOCION | B62: 67.38 | C62: 69.18 | D62: 65.35 | E62: 67.63 | F62: 67.3 | G62: 74.14 | H62: 73.75 | I62: 70.31 | J62: 74.36 | K62: 75.21 | L62: 75.5 | M62: 78.69 | N62: 68.42 | O62: 75.63 | P62: 70.19 | Q62: 66.61 | R62: 66.17 | S62: 74.18 | T62: 69.47 | U62: 70 | V62: 73.09 | W62: 65.91 | X62: 75.35 | Y62: 66.97 | Z62: 62.54 | AA62: 68.51 | AB62: 87.47 | AC62: 87.27 | AD62: 84.59 | AE62: 87.37
A63: CON PROMOCION | B63: 17.04 | C63: 14.84 | D63: 19.51 | E63: 17.07 | F63: 15.85 | G63: 15.32 | H63: 16.49 | I63: 19.52 | J63: 19.47 | K63: 16.68 | L63: 24.5 | M63: 21.31 | N63: 31.58 | O63: 24.37 | P63: 29.81 | Q63: 33.39 | R63: 33.83 | S63: 25.82 | T63: 30.53 | U63: 30 | V63: 26.91 | W63: 34.09 | X63: 24.65 | Y63: 33.03 | Z63: 37.46 | AA63: 31.49 | AB63: 12.53 | AC63: 12.73 | AD63: 15.41 | AE63: 12.63
A65: MARCAS DISTRIBUCION
A66: TOTAL | B66: 100 | C66: 100 | D66: 100 | E66: 100 | F66: 100 | G66: 100 | H66: 100 | I66: 100 | J66: 100 | K66: 100 | L66: 100 | M66: 100 | N66: 100 | O66: 100 | P66: 100 | Q66: 100 | R66: 100 | S66: 100 | T66: 100 | U66: 100 | V66: 100 | W66: 100 | X66: 100 | Y66: 100 | Z66: 100 | AA66: 100 | AB66: 100 | AC66: 100 | AD66: 100 | AE66: 100
A67: SIN PROMOCION | B67: 82.88 | C67: 85.65 | D67: 85.99 | E67: 84.52 | F67: 86.3 | G67: 86.72 | H67: 87.88 | I67: 90.48 | J67: 91.19 | K67: 93.14 | L67: 99.92 | M67: 96.57 | N67: 98.67 | O67: 94.27 | P67: 95 | Q67: 96.17 | R67: 93.29 | S67: 99.25 | T67: 99.69 | U67: 98.18 | V67: 99.62 | W67: 99.95 | X67: 99.97 | Y67: 99.61 | Z67: 98.97 | AA67: 99.17 | AB67: 99.95 | AC67: 98.17 | AD67: 99.76 | AE67: 99.98
A68: CON PROMOCION | B68: 2.39 | C68: 1.32 | D68: 1.82 | E68: 1.95 | F68: 1.27 | G68: 2.93 | H68: 2.31 | I68: 2.15 | J68: 2.87 | K68: 2.21 | L68: 0.08 | M68: 3.43 | N68: 1.33 | O68: 5.73 | P68: 5 | Q68: 3.83 | R68: 6.71 | S68: 0.75 | T68: 0.31 | U68: 1.82 | V68: 0.38 | W68: 0.05 | X68: 0.03 | Y68: 0.39 | Z68: 1.03 | AA68: 0.83 | AB68: 0.05 | AC68: 1.83 | AD68: 0.24 | AE68: 0.02
A70: OTROS FABRICANTES
A71: TOTAL | B71: 100 | C71: 100 | D71: 100 | E71: 100 | F71: 100 | G71: 100 | H71: 100 | I71: 100 | J71: 100 | K71: 100 | L71: 100 | M71: 100 | N71: 100 | O71: 100 | P71: 100 | Q71: 100 | R71: 100 | S71: 100 | T71: 100 | U71: 100 | V71: 100 | W71: 100 | X71: 100 | Y71: 100 | Z71: 100 | AA71: 100 | AB71: 100 | AC71: 100 | AD71: 100 | AE71: 100
A72: SIN PROMOCION | B72: 84 | C72: 81.19 | D72: 78.36 | E72: 84.04 | F72: 79.82 | G72: 86.23 | H72: 89.03 | I72: 88.42 | J72: 90.34 | K72: 86.76 | L72: 97.34 | M72: 95.04 | N72: 96.69 | O72: 93.5 | P72: 95.92 | Q72: 91.76 | R72: 90.51 | S72: 91.29 | T72: 95.47 | U72: 91.87 | V72: 95.57 | W72: 95.76 | X72: 94.06 | Y72: 96.95 | Z72: 91.93 | AA72: 92.43 | AB72: 97.88 | AC72: 98.97 | AD72: 97.83 | AE72: 98.69
A73: CON PROMOCION | B73: 5.25 | C73: 4.34 | D73: 4.64 | E73: 2.59 | F73: 5.51 | G73: 5.68 | H73: 3.26 | I73: 4.88 | J73: 4.64 | K73: 6.91 | L73: 2.66 | M73: 4.96 | N73: 3.31 | O73: 6.5 | P73: 4.08 | Q73: 8.24 | R73: 9.49 | S73: 8.71 | T73: 4.53 | U73: 8.13 | V73: 4.43 | W73: 4.24 | X73: 5.94 | Y73: 3.05 | Z73: 8.07 | AA73: 7.57 | AB73: 2.12 | AC73: 1.03 | AD73: 2.17 | AE73: 1.31
A76: Measures = Weighted PURCHS Vert %
A77: CANA2 = Total CANA2
A78: PRODS = A.O VIRGEN+V.EXTRA\TOTAL ACEITE\LECHE ENVASADA\Total PRODS
A79: S360MAPA - PROMO - 21/10/2025 13:56:24 | B79: 45323 | C79: 45352 | D79: 45383 | E79: 45413 | F79: 45444 | G79: 45474 | H79: 45505 | I79: 45536 | J79: 45566 | K79: 45597 | L79: 45627 | M79: 45658 | N79: 45689 | O79: 45717 | P79: 45748 | Q79: 45778 | R79: 45809 | S79: 45839 | T79: 45870 | U79: 45901 | V79: 45931 | W79: 45962 | X79: 45992 | Y79: 46023 | Z79: 46054 | AA79: 46082 | AB79: 46113 | AC79: 46143 | AD79: 46174 | AE79: 46204
A80: T.ALIMENTACIÓN MAPA
A81: TOTAL | B81: 100 | C81: 100 | D81: 100 | E81: 100 | F81: 100 | G81: 100 | H81: 100 | I81: 100 | J81: 100 | K81: 100 | L81: 100 | M81: 100 | N81: 100 | O81: 100 | P81: 100 | Q81: 100 | R81: 100 | S81: 100 | T81: 100 | U81: 100 | V81: 100 | W81: 100 | X81: 100 | Y81: 100 | Z81: 100 | AA81: 100 | AB81: 100 | AC81: 100 | AD81: 100 | AE81: 100
A82: SIN PROMOCION | B82: 77.35 | C82: 78.46 | D82: 75.58 | E82: 77.42 | F82: 76.43 | G82: 82.54 | H82: 82.72 | I82: 83.29 | J82: 84.74 | K82: 84.71 | L82: 92.33 | M82: 90.5 | N82: 82.99 | O82: 88.39 | P82: 88.7 | Q82: 81.94 | R82: 81.9 | S82: 88.76 | T82: 87.85 | U82: 85.51 | V82: 90.78 | W82: 84.99 | X82: 92.04 | Y82: 88.34 | Z82: 76.4 | AA82: 87.03 | AB82: 96 | AC82: 96.47 | AD82: 95.18 | AE82: 97.32
A83: CON PROMOCION | B83: 8.62 | C83: 6.96 | D83: 9.38 | E83: 8.09 | F83: 6.23 | G83: 6.8 | H83: 8.07 | I83: 8.67 | J83: 10.05 | K83: 8.95 | L83: 7.67 | M83: 9.5 | N83: 17.01 | O83: 11.61 | P83: 11.3 | Q83: 18.06 | R83: 18.1 | S83: 11.24 | T83: 12.15 | U83: 14.49 | V83: 9.22 | W83: 15.01 | X83: 7.96 | Y83: 11.66 | Z83: 23.6 | AA83: 12.97 | AB83: 4 | AC83: 3.53 | AD83: 4.82 | AE83: 2.68
A85: PRINCIPALES FABRICANTE
A86: TOTAL | B86: 100 | C86: 100 | D86: 100 | E86: 100 | F86: 100 | G86: 100 | H86: 100 | I86: 100 | J86: 100 | K86: 100 | L86: 100 | M86: 100 | N86: 100 | O86: 100 | P86: 100 | Q86: 100 | R86: 100 | S86: 100 | T86: 100 | U86: 100 | V86: 100 | W86: 100 | X86: 100 | Y86: 100 | Z86: 100 | AA86: 100 | AB86: 100 | AC86: 100 | AD86: 100 | AE86: 100
A87: SIN PROMOCION | B87: 64.11 | C87: 60.65 | D87: 55.71 | E87: 62.85 | F87: 64.54 | G87: 69.2 | H87: 65.31 | I87: 69.53 | J87: 67.24 | K87: 71.23 | L87: 72.64 | M87: 75.71 | N87: 60.3 | O87: 74.95 | P87: 70.61 | Q87: 57.26 | R87: 57.03 | S87: 74.82 | T87: 69.16 | U87: 68.82 | V87: 70.43 | W87: 62.22 | X87: 78.04 | Y87: 59.06 | Z87: 48.04 | AA87: 64.88 | AB87: 88.48 | AC87: 86.88 | AD87: 85.22 | AE87: 90.29
A88: CON PROMOCION | B88: 19.94 | C88: 21.29 | D88: 29.47 | E88: 22.5 | F88: 14.97 | G88: 18.68 | H88: 22.57 | I88: 23.66 | J88: 27.55 | K88: 20.36 | L88: 27.36 | M88: 24.29 | N88: 39.7 | O88: 25.05 | P88: 29.39 | Q88: 42.74 | R88: 42.97 | S88: 25.18 | T88: 30.84 | U88: 31.18 | V88: 29.57 | W88: 37.78 | X88: 21.96 | Y88: 40.94 | Z88: 51.96 | AA88: 35.12 | AB88: 11.52 | AC88: 13.12 | AD88: 14.78 | AE88: 9.71
A90: MARCAS DISTRIBUCION
A91: TOTAL | B91: 100 | C91: 100 | D91: 100 | E91: 100 | F91: 100 | G91: 100 | H91: 100 | I91: 100 | J91: 100 | K91: 100 | L91: 100 | M91: 100 | N91: 100 | O91: 100 | P91: 100 | Q91: 100 | R91: 100 | S91: 100 | T91: 100 | U91: 100 | V91: 100 | W91: 100 | X91: 100 | Y91: 100 | Z91: 100 | AA91: 100 | AB91: 100 | AC91: 100 | AD91: 100 | AE91: 100
A92: SIN PROMOCION | B92: 83.55 | C92: 85.38 | D92: 85.02 | E92: 83.4 | F92: 83.15 | G92: 88.02 | H92: 89.33 | I92: 89.86 | J92: 93.92 | K92: 92.74 | L92: 99.7 | M92: 98.62 | N92: 99.28 | O92: 98.45 | P92: 97.2 | Q92: 96.99 | R92: 96.91 | S92: 98.44 | T92: 98.85 | U92: 97.8 | V92: 99.73 | W92: 100 | X92: 99.92 | Y92: 99.37 | Z92: 95.98 | AA92: 100 | AB92: 99.78 | AC92: 100 | AD92: 100 | AE92: 100
A93: CON PROMOCION | B93: 1.65 | C93: 1.04 | D93: 0.84 | E93: 1.52 | F93: 0.94 | G93: 2.09 | H93: 2.64 | I93: 1.7 | J93: 0.75 | K93: 2.7 | L93: 0.3 | M93: 1.38 | N93: 0.72 | O93: 1.55 | P93: 2.8 | Q93: 3.01 | R93: 3.09 | S93: 1.56 | T93: 1.15 | U93: 2.2 | V93: 0.27 | W93: 0 | X93: 0.08 | Y93: 0.63 | Z93: 4.02 | AA93: 0 | AB93: 0.22 | AC93: 0 | AD93: 0 | AE93: 0
A95: OTROS FABRICANTES
A96: TOTAL | B96: 100 | C96: 100 | D96: 100 | E96: 100 | F96: 100 | G96: 100 | H96: 100 | I96: 100 | J96: 100 | K96: 100 | L96: 100 | M96: 100 | N96: 100 | O96: 100 | P96: 100 | Q96: 100 | R96: 100 | S96: 100 | T96: 100 | U96: 100 | V96: 100 | W96: 100 | X96: 100 | Y96: 100 | Z96: 100 | AA96: 100 | AB96: 100 | AC96: 100 | AD96: 100 | AE96: 100
A97: SIN PROMOCION | B97: 85.13 | C97: 83.28 | D97: 76.67 | E97: 85.58 | F97: 75.55 | G97: 82.55 | H97: 85.98 | I97: 86.75 | J97: 91.02 | K97: 79.69 | L97: 93.76 | M97: 90.78 | N97: 95.33 | O97: 86.99 | P97: 94.62 | Q97: 88.38 | R97: 85.25 | S97: 87.05 | T97: 91.9 | U97: 84.89 | V97: 96.97 | W97: 92.56 | X97: 90.63 | Y97: 97.92 | Z97: 90.97 | AA97: 87.26 | AB97: 96.17 | AC97: 99.3 | AD97: 97.07 | AE97: 100
A98: CON PROMOCION | B98: 6.46 | C98: 4.02 | D98: 4.92 | E98: 2.21 | F98: 7.92 | G98: 6.32 | H98: 5.07 | I98: 4.37 | J98: 4.18 | K98: 11.61 | L98: 6.24 | M98: 9.22 | N98: 4.67 | O98: 13.01 | P98: 5.38 | Q98: 11.62 | R98: 14.75 | S98: 12.95 | T98: 8.1 | U98: 15.11 | V98: 3.03 | W98: 7.44 | X98: 9.37 | Y98: 2.08 | Z98: 9.03 | AA98: 12.74 | AB98: 3.83 | AC98: 0.7 | AD98: 2.93 | AE98: 0
A101: Measures = Weighted PURCHS Vert %
A102: CANA2 = Total CANA2
A103: PRODS = A.O VIRGEN\A.O VIRGEN+V.EXTRA\TOTAL ACEITE\LECHE ENVASADA\Total PRODS
A104: S360MAPA - PROMO - 21/10/2025 13:56:24 | B104: 45323 | C104: 45352 | D104: 45383 | E104: 45413 | F104: 45444 | G104: 45474 | H104: 45505 | I104: 45536 | J104: 45566 | K104: 45597 | L104: 45627 | M104: 45658 | N104: 45689 | O104: 45717 | P104: 45748 | Q104: 45778 | R104: 45809 | S104: 45839 | T104: 45870 | U104: 45901 | V104: 45931 | W104: 45962 | X104: 45992 | Y104: 46023 | Z104: 46054 | AA104: 46082 | AB104: 46113 | AC104: 46143 | AD104: 46174 | AE104: 46204
A105: T.ALIMENTACIÓN MAPA
A106: TOTAL | B106: 100 | C106: 100 | D106: 100 | E106: 100 | F106: 100 | G106: 100 | H106: 100 | I106: 100 | J106: 100 | K106: 100 | L106: 100 | M106: 100 | N106: 100 | O106: 100 | P106: 100 | Q106: 100 | R106: 100 | S106: 100 | T106: 100 | U106: 100 | V106: 100 | W106: 100 | X106: 100 | Y106: 100 | Z106: 100 | AA106: 100 | AB106: 100 | AC106: 100 | AD106: 100 | AE106: 100
A107: SIN PROMOCION | B107: 79.39 | C107: 76.3 | D107: 79.05 | E107: 80.72 | F107: 81.43 | G107: 83.25 | H107: 87.87 | I107: 83.36 | J107: 87.05 | K107: 91.96 | L107: 94.06 | M107: 91.79 | N107: 89.18 | O107: 94 | P107: 95.16 | Q107: 92.65 | R107: 89.78 | S107: 93.01 | T107: 87.13 | U107: 88.07 | V107: 94.16 | W107: 93.16 | X107: 97.01 | Y107: 89 | Z107: 88.44 | AA107: 94.97 | AB107: 95.4 | AC107: 96.53 | AD107: 96.87 | AE107: 96.78
A108: CON PROMOCION | B108: 8.69 | C108: 6.27 | D108: 7.25 | E108: 6.01 | F108: 4.93 | G108: 3.15 | H108: 5.69 | I108: 7.43 | J108: 6.62 | K108: 3.88 | L108: 5.94 | M108: 8.21 | N108: 10.82 | O108: 6 | P108: 4.84 | Q108: 7.35 | R108: 10.22 | S108: 6.99 | T108: 12.87 | U108: 11.93 | V108: 5.84 | W108: 6.84 | X108: 2.99 | Y108: 11 | Z108: 11.56 | AA108: 5.03 | AB108: 4.6 | AC108: 3.47 | AD108: 3.13 | AE108: 3.22
A110: PRINCIPALES FABRICANTE
A111: TOTAL | B111: 100 | C111: 100 | D111: 100 | E111: 100 | F111: 100 | G111: 100 | H111: 100 | I111: 100 | J111: 100 | K111: 100 | L111: 100 | M111: 100 | N111: 100 | O111: 100 | P111: 100 | Q111: 100 | R111: 100 | S111: 100 | T111: 100 | U111: 100 | V111: 100 | W111: 100 | X111: 100 | Y111: 100 | Z111: 100 | AA111: 100 | AB111: 100 | AC111: 100 | AD111: 100 | AE111: 100
A112: SIN PROMOCION | B112: 66.94 | C112: 60.49 | D112: 56.96 | E112: 66.64 | F112: 62.89 | G112: 78.21 | H112: 76.81 | I112: 67.28 | J112: 69.88 | K112: 78.73 | L112: 65.85 | M112: 66.45 | N112: 58.64 | O112: 71.12 | P112: 75.06 | Q112: 72.79 | R112: 67.6 | S112: 73.72 | T112: 59.14 | U112: 62.73 | V112: 78.39 | W112: 73.97 | X112: 85.05 | Y112: 50.68 | Z112: 64.91 | AA112: 75.08 | AB112: 78.04 | AC112: 82.34 | AD112: 83.32 | AE112: 83.2
A113: CON PROMOCION | B113: 21.24 | C113: 20.47 | D113: 27.12 | E113: 20.7 | F113: 16.1 | G113: 15.57 | H113: 14.68 | I113: 26.64 | J113: 23.15 | K113: 16.87 | L113: 34.15 | M113: 33.55 | N113: 41.36 | O113: 28.88 | P113: 24.94 | Q113: 27.21 | R113: 32.4 | S113: 26.28 | T113: 40.86 | U113: 37.27 | V113: 21.61 | W113: 26.03 | X113: 14.95 | Y113: 49.32 | Z113: 35.09 | AA113: 24.92 | AB113: 21.96 | AC113: 17.66 | AD113: 16.68 | AE113: 16.8
A115: MARCAS DISTRIBUCION
A116: TOTAL | B116: 100 | C116: 100 | D116: 100 | E116: 100 | F116: 100 | G116: 100 | H116: 100 | I116: 100 | J116: 100 | K116: 100 | L116: 100 | M116: 100 | N116: 100 | O116: 100 | P116: 100 | Q116: 100 | R116: 100 | S116: 100 | T116: 100 | U116: 100 | V116: 100 | W116: 100 | X116: 100 | Y116: 100 | Z116: 100 | AA116: 100 | AB116: 100 | AC116: 100 | AD116: 100 | AE116: 100
A117: SIN PROMOCION | B117: 83.48 | C117: 81.3 | D117: 86.59 | E117: 84.37 | F117: 86.48 | G117: 85.37 | H117: 90.68 | I117: 86.56 | J117: 93.58 | K117: 95.04 | L117: 100 | M117: 100 | N117: 100 | O117: 100 | P117: 100 | Q117: 100 | R117: 97.97 | S117: 98.72 | T117: 100 | U117: 100 | V117: 100 | W117: 100 | X117: 100 | Y117: 100 | Z117: 98.71 | AA117: 100 | AB117: 100 | AC117: 100 | AD117: 100 | AE117: 100
A118: CON PROMOCION | B118: 2.5 | C118: 1.97 | D118: 0 | E118: 1.09 | F118: 1.5 | G118: 1.43 | H118: 3.47 | I118: 2.64 | J118: 0.48 | K118: 1.33 | L118: 0 | M118: 0 | N118: 0 | O118: 0 | P118: 0 | Q118: 0 | R118: 2.03 | S118: 1.28 | T118: 0 | U118: 0 | V118: 0 | W118: 0 | X118: 0 | Y118: 0 | Z118: 1.29 | AA118: 0 | AB118: 0 | AC118: 0 | AD118: 0 | AE118: 0
A120: OTROS FABRICANTES
A121: TOTAL | B121: 100 | C121: 100 | D121: 100 | E121: 100 | F121: 100 | G121: 100 | H121: 100 | I121: 100 | J121: 100 | K121: 100 | L121: 100 | M121: 100 | N121: 100 | O121: 100 | P121: 100 | Q121: 100 | R121: 100 | S121: 100 | T121: 100 | U121: 100 | V121: 100 | W121: 100 | X121: 100 | Y121: 100 | Z121: 100 | AA121: 100 | AB121: 100 | AC121: 100 | AD121: 100 | AE121: 100
A122: SIN PROMOCION | B122: 96.31 | C122: 82.37 | D122: 91.16 | E122: 92.68 | F122: 89.71 | G122: 72.87 | H122: 83.35 | I122: 92.67 | J122: 92.05 | K122: 91.99 | L122: 100 | M122: 100 | N122: 100 | O122: 100 | P122: 100 | Q122: 97.69 | R122: 96.69 | S122: 100 | T122: 100 | U122: 100 | V122: 100 | W122: 100 | X122: 100 | Y122: 100 | Z122: 100 | AA122: 100 | AB122: 100 | AC122: 100 | AD122: 100 | AE122: 100
A123: CON PROMOCION | B123: 0 | C123: 0 | D123: 0 | E123: 0 | F123: 2.4 | G123: 0 | H123: 8.91 | I123: 1.5 | J123: 0.89 | K123: 0 | L123: 0 | M123: 0 | N123: 0 | O123: 0 | P123: 0 | Q123: 2.31 | R123: 3.31 | S123: 0 | T123: 0 | U123: 0 | V123: 0 | W123: 0 | X123: 0 | Y123: 0 | Z123: 0 | AA123: 0 | AB123: 0 | AC123: 0 | AD123: 0 | AE123: 0
...

Sheet TAM Automático
D5: {=INDEX('Back data'!$A$4:$BA$4,MAX(IF('Back data'!$A$4:$BA$4<>"",COLUMN('Back data'!$A$4:$BA$4)))-D6)} -> 45839 | E5: {=INDEX('Back data'!$A$4:$BA$4,MAX(IF('Back data'!$A$4:$BA$4<>"",COLUMN('Back data'!$A$4:$BA$4)))-E6)} -> 45870 | F5: {=INDEX('Back data'!$A$4:$BA$4,MAX(IF('Back data'!$A$4:$BA$4<>"",COLUMN('Back data'!$A$4:$BA$4)))-F6)} -> 45901 | G5: {=INDEX('Back data'!$A$4:$BA$4,MAX(IF('Back data'!$A$4:$BA$4<>"",COLUMN('Back data'!$A$4:$BA$4)))-G6)} -> 45931 | H5: {=INDEX('Back data'!$A$4:$BA$4,MAX(IF('Back data'!$A$4:$BA$4<>"",COLUMN('Back data'!$A$4:$BA$4)))-H6)} -> 45962 | I5: {=INDEX('Back data'!$A$4:$BA$4,MAX(IF('Back data'!$A$4:$BA$4<>"",COLUMN('Back data'!$A$4:$BA$4)))-I6)} -> 45992 | J5: {=INDEX('Back data'!$A$4:$BA$4,MAX(IF('Back data'!$A$4:$BA$4<>"",COLUMN('Back data'!$A$4:$BA$4)))-J6)} -> 46023 | K5: {=INDEX('Back data'!$A$4:$BA$4,MAX(IF('Back data'!$A$4:$BA$4<>"",COLUMN('Back data'!$A$4:$BA$4)))-K6)} -> 46054 | ... P5: {=INDEX('Back data'!$A$4:$BA$4,MAX(IF('Back data'!$A$4:$BA$4<>"",COLUMN('Back data'!$A$4:$BA$4)))-P6)} -> 46204
D6: 12 | E6: 11 | F6: 10 | G6: 9 | H6: 8 | I6: 7 | J6: 6 | K6: 5 | L6: 4 | M6: 3 | N6: 2 | O6: 1 | P6: 0
C7: % DECLARADO | D7: {=INDEX('Back data'!$A57:$BM57,,MAX(IF('Back data'!$A57:$BM57<>"",COLUMN('Back data'!$A57:$BM57)))-D$6)+INDEX('Back data'!$A58:$BM58,,MAX(IF('Back data'!$A58:$BM$58<>"",COLUMN('Back data'!$A58:$BM58)))-D$6)} -> 100 | E7: {=INDEX('Back data'!$A57:$BM57,,MAX(IF('Back data'!$A57:$BM57<>"",COLUMN('Back data'!$A57:$BM57)))-E$6)+INDEX('Back data'!$A58:$BM58,,MAX(IF('Back data'!$A58:$BM$58<>"",COLUMN('Back data'!$A58:$BM58)))-E$6)} -> 100 | F7: {=INDEX('Back data'!$A57:$BM57,,MAX(IF('Back data'!$A57:$BM57<>"",COLUMN('Back data'!$A57:$BM57)))-F$6)+INDEX('Back data'!$A58:$BM58,,MAX(IF('Back data'!$A58:$BM$58<>"",COLUMN('Back data'!$A58:$BM58)))-F$6)} -> 100 | G7: {=INDEX('Back data'!$A57:$BM57,,MAX(IF('Back data'!$A57:$BM57<>"",COLUMN('Back data'!$A57:$BM57)))-G$6)+INDEX('Back data'!$A58:$BM58,,MAX(IF('Back data'!$A58:$BM$58<>"",COLUMN('Back data'!$A58:$BM58)))-G$6)} -> 100 | H7: {=INDEX('Back data'!$A57:$BM57,,MAX(IF('Back data'!$A57:$BM57<>"",COLUMN('Back data'!$A57:$BM57)))-H$6)+INDEX('Back data'!$A58:$BM58,,MAX(IF('Back data'!$A58:$BM$58<>"",COLUMN('Back data'!$A58:$BM58)))-H$6)} -> 100 | I7: {=INDEX('Back data'!$A57:$BM57,,MAX(IF('Back data'!$A57:$BM57<>"",COLUMN('Back data'!$A57:$BM57)))-I$6)+INDEX('Back data'!$A58:$BM58,,MAX(IF('Back data'!$A58:$BM$58<>"",COLUMN('Back data'!$A58:$BM58)))-I$6)} -> 100 | J7: {=INDEX('Back data'!$A57:$BM57,,MAX(IF('Back data'!$A57:$BM57<>"",COLUMN('Back data'!$A57:$BM57)))-J$6)+INDEX('Back data'!$A58:$BM58,,MAX(IF('Back data'!$A58:$BM$58<>"",COLUMN('Back data'!$A58:$BM58)))-J$6)} -> 100 | K7: {=INDEX('Back data'!$A57:$BM57,,MAX(IF('Back data'!$A57:$BM57<>"",COLUMN('Back data'!$A57:$BM57)))-K$6)+INDEX('Back data'!$A58:$BM58,,MAX(IF('Back data'!$A58:$BM$58<>"",COLUMN('Back data'!$A58:$BM58)))-K$6)} -> 100 | ... P7: {=INDEX('Back data'!$A57:$BM57,,MAX(IF('Back data'!$A57:$BM57<>"",COLUMN('Back data'!$A57:$BM57)))-P$6)+INDEX('Back data'!$A58:$BM58,,MAX(IF('Back data'!$A58:$BM$58<>"",COLUMN('Back data'!$A58:$BM58)))-P$6)} -> 100
A8: TOTAL ACEITE | B8: TOTAL ACEITE | C8: SIN PROMOCION | D8: {=INDEX('Back data'!$A$57:$BM$57,,MAX(IF('Back data'!$A$57:$BM$57<>"",COLUMN('Back data'!$A$57:$BM$57)))-D$6)/D7} -> 0.9137 | E8: {=INDEX('Back data'!$A$57:$BM$57,,MAX(IF('Back data'!$A$57:$BM$57<>"",COLUMN('Back data'!$A$57:$BM$57)))-E$6)/E7} -> 0.911 | F8: {=INDEX('Back data'!$A$57:$BM$57,,MAX(IF('Back data'!$A$57:$BM$57<>"",COLUMN('Back data'!$A$57:$BM$57)))-F$6)/F7} -> 0.8937 | G8: {=INDEX('Back data'!$A$57:$BM$57,,MAX(IF('Back data'!$A$57:$BM$57<>"",COLUMN('Back data'!$A$57:$BM$57)))-G$6)/G7} -> 0.9278 | H8: {=INDEX('Back data'!$A$57:$BM$57,,MAX(IF('Back data'!$A$57:$BM$57<>"",COLUMN('Back data'!$A$57:$BM$57)))-H$6)/H7} -> 0.9064 | I8: {=INDEX('Back data'!$A$57:$BM$57,,MAX(IF('Back data'!$A$57:$BM$57<>"",COLUMN('Back data'!$A$57:$BM$57)))-I$6)/I7} -> 0.9379 | J8: {=INDEX('Back data'!$A$57:$BM$57,,MAX(IF('Back data'!$A$57:$BM$57<>"",COLUMN('Back data'!$A$57:$BM$57)))-J$6)/J7} -> 0.9226 | K8: {=INDEX('Back data'!$A$57:$BM$57,,MAX(IF('Back data'!$A$57:$BM$57<>"",COLUMN('Back data'!$A$57:$BM$57)))-K$6)/K7} -> 0.8805 | ... P8: {=INDEX('Back data'!$A$57:$BM$57,,MAX(IF('Back data'!$A$57:$BM$57<>"",COLUMN('Back data'!$A$57:$BM$57)))-P$6)/P7} -> 0.969
A9: TOTAL ACEITE | B9: TOTAL ACEITE | C9: CON PROMOCION | D9: {=INDEX('Back data'!$A$58:$BM$58,,MAX(IF('Back data'!$A$58:$BM$58<>"",COLUMN('Back data'!$A$58:$BM$58)))-D$6)/D7} -> 0.0863 | E9: {=INDEX('Back data'!$A$58:$BM$58,,MAX(IF('Back data'!$A$58:$BM$58<>"",COLUMN('Back data'!$A$58:$BM$58)))-E$6)/E7} -> 0.089 | F9: {=INDEX('Back data'!$A$58:$BM$58,,MAX(IF('Back data'!$A$58:$BM$58<>"",COLUMN('Back data'!$A$58:$BM$58)))-F$6)/F7} -> 0.1063 | G9: {=INDEX('Back data'!$A$58:$BM$58,,MAX(IF('Back data'!$A$58:$BM$58<>"",COLUMN('Back data'!$A$58:$BM$58)))-G$6)/G7} -> 0.0722 | H9: {=INDEX('Back data'!$A$58:$BM$58,,MAX(IF('Back data'!$A$58:$BM$58<>"",COLUMN('Back data'!$A$58:$BM$58)))-H$6)/H7} -> 0.0936 | I9: {=INDEX('Back data'!$A$58:$BM$58,,MAX(IF('Back data'!$A$58:$BM$58<>"",COLUMN('Back data'!$A$58:$BM$58)))-I$6)/I7} -> 0.0621 | J9: {=INDEX('Back data'!$A$58:$BM$58,,MAX(IF('Back data'!$A$58:$BM$58<>"",COLUMN('Back data'!$A$58:$BM$58)))-J$6)/J7} -> 0.0774 | K9: {=INDEX('Back data'!$A$58:$BM$58,,MAX(IF('Back data'!$A$58:$BM$58<>"",COLUMN('Back data'!$A$58:$BM$58)))-K$6)/K7} -> 0.1195 | ... P9: {=INDEX('Back data'!$A$58:$BM$58,,MAX(IF('Back data'!$A$58:$BM$58<>"",COLUMN('Back data'!$A$58:$BM$58)))-P$6)/P7} -> 0.031
C12: % DECLARADO | D12: {=INDEX('Back data'!$A$62:$BM$62,,MAX(IF('Back data'!$A$62:$BM$62<>"",COLUMN('Back data'!$A$62:$BM$62)))-D$6)+INDEX('Back data'!$A$63:$BM$63,,MAX(IF('Back data'!$A$63:$BM$63<>"",COLUMN('Back data'!$A$63:$BM$63)))-D$6)} -> 100 | E12: {=INDEX('Back data'!$A$62:$BM$62,,MAX(IF('Back data'!$A$62:$BM$62<>"",COLUMN('Back data'!$A$62:$BM$62)))-E$6)+INDEX('Back data'!$A$63:$BM$63,,MAX(IF('Back data'!$A$63:$BM$63<>"",COLUMN('Back data'!$A$63:$BM$63)))-E$6)} -> 100 | F12: {=INDEX('Back data'!$A$62:$BM$62,,MAX(IF('Back data'!$A$62:$BM$62<>"",COLUMN('Back data'!$A$62:$BM$62)))-F$6)+INDEX('Back data'!$A$63:$BM$63,,MAX(IF('Back data'!$A$63:$BM$63<>"",COLUMN('Back data'!$A$63:$BM$63)))-F$6)} -> 100 | G12: {=INDEX('Back data'!$A$62:$BM$62,,MAX(IF('Back data'!$A$62:$BM$62<>"",COLUMN('Back data'!$A$62:$BM$62)))-G$6)+INDEX('Back data'!$A$63:$BM$63,,MAX(IF('Back data'!$A$63:$BM$63<>"",COLUMN('Back data'!$A$63:$BM$63)))-G$6)} -> 100 | H12: {=INDEX('Back data'!$A$62:$BM$62,,MAX(IF('Back data'!$A$62:$BM$62<>"",COLUMN('Back data'!$A$62:$BM$62)))-H$6)+INDEX('Back data'!$A$63:$BM$63,,MAX(IF('Back data'!$A$63:$BM$63<>"",COLUMN('Back data'!$A$63:$BM$63)))-H$6)} -> 100 | I12: {=INDEX('Back data'!$A$62:$BM$62,,MAX(IF('Back data'!$A$62:$BM$62<>"",COLUMN('Back data'!$A$62:$BM$62)))-I$6)+INDEX('Back data'!$A$63:$BM$63,,MAX(IF('Back data'!$A$63:$BM$63<>"",COLUMN('Back data'!$A$63:$BM$63)))-I$6)} -> 100 | J12: {=INDEX('Back data'!$A$62:$BM$62,,MAX(IF('Back data'!$A$62:$BM$62<>"",COLUMN('Back data'!$A$62:$BM$62)))-J$6)+INDEX('Back data'!$A$63:$BM$63,,MAX(IF('Back data'!$A$63:$BM$63<>"",COLUMN('Back data'!$A$63:$BM$63)))-J$6)} -> 100 | K12: {=INDEX('Back data'!$A$62:$BM$62,,MAX(IF('Back data'!$A$62:$BM$62<>"",COLUMN('Back data'!$A$62:$BM$62)))-K$6)+INDEX('Back data'!$A$63:$BM$63,,MAX(IF('Back data'!$A$63:$BM$63<>"",COLUMN('Back data'!$A$63:$BM$63)))-K$6)} -> 100 | ... P12: {=INDEX('Back data'!$A$62:$BM$62,,MAX(IF('Back data'!$A$62:$BM$62<>"",COLUMN('Back data'!$A$62:$BM$62)))-P$6)+INDEX('Back data'!$A$63:$BM$63,,MAX(IF('Back data'!$A$63:$BM$63<>"",COLUMN('Back data'!$A$63:$BM$63)))-P$6)} -> 100
A13: TOTAL ACEITE | B13: PRINCIPALES FABRICANTE | C13: SIN PROMOCION | D13: {=INDEX('Back data'!$A$62:$BM$62,,MAX(IF('Back data'!$A$62:$BM$62<>"",COLUMN('Back data'!$A$62:$BM$62)))-D$6)/D$12} -> 0.7418 | E13: {=INDEX('Back data'!$A$62:$BM$62,,MAX(IF('Back data'!$A$62:$BM$62<>"",COLUMN('Back data'!$A$62:$BM$62)))-E$6)/E$12} -> 0.6947 | F13: {=INDEX('Back data'!$A$62:$BM$62,,MAX(IF('Back data'!$A$62:$BM$62<>"",COLUMN('Back data'!$A$62:$BM$62)))-F$6)/F$12} -> 0.7 | G13: {=INDEX('Back data'!$A$62:$BM$62,,MAX(IF('Back data'!$A$62:$BM$62<>"",COLUMN('Back data'!$A$62:$BM$62)))-G$6)/G$12} -> 0.7309 | H13: {=INDEX('Back data'!$A$62:$BM$62,,MAX(IF('Back data'!$A$62:$BM$62<>"",COLUMN('Back data'!$A$62:$BM$62)))-H$6)/H$12} -> 0.6591 | I13: {=INDEX('Back data'!$A$62:$BM$62,,MAX(IF('Back data'!$A$62:$BM$62<>"",COLUMN('Back data'!$A$62:$BM$62)))-I$6)/I$12} -> 0.7535 | J13: {=INDEX('Back data'!$A$62:$BM$62,,MAX(IF('Back data'!$A$62:$BM$62<>"",COLUMN('Back data'!$A$62:$BM$62)))-J$6)/J$12} -> 0.6697 | K13: {=INDEX('Back data'!$A$62:$BM$62,,MAX(IF('Back data'!$A$62:$BM$62<>"",COLUMN('Back data'!$A$62:$BM$62)))-K$6)/K$12} -> 0.6254 | ... P13: {=INDEX('Back data'!$A$62:$BM$62,,MAX(IF('Back data'!$A$62:$BM$62<>"",COLUMN('Back data'!$A$62:$BM$62)))-P$6)/P$12} -> 0.8737
A14: TOTAL ACEITE | B14: PRINCIPALES FABRICANTE | C14: CON PROMOCION | D14: {=+INDEX('Back data'!$A$63:$BM$63,,MAX(IF('Back data'!$A$63:$BM$63<>"",COLUMN('Back data'!$A$63:$BM$63)))-D$6)/D12} -> 0.2582 | E14: {=+INDEX('Back data'!$A$63:$BM$63,,MAX(IF('Back data'!$A$63:$BM$63<>"",COLUMN('Back data'!$A$63:$BM$63)))-E$6)/E12} -> 0.3053 | F14: {=+INDEX('Back data'!$A$63:$BM$63,,MAX(IF('Back data'!$A$63:$BM$63<>"",COLUMN('Back data'!$A$63:$BM$63)))-F$6)/F12} -> 0.3 | G14: {=+INDEX('Back data'!$A$63:$BM$63,,MAX(IF('Back data'!$A$63:$BM$63<>"",COLUMN('Back data'!$A$63:$BM$63)))-G$6)/G12} -> 0.2691 | H14: {=+INDEX('Back data'!$A$63:$BM$63,,MAX(IF('Back data'!$A$63:$BM$63<>"",COLUMN('Back data'!$A$63:$BM$63)))-H$6)/H12} -> 0.3409 | I14: {=+INDEX('Back data'!$A$63:$BM$63,,MAX(IF('Back data'!$A$63:$BM$63<>"",COLUMN('Back data'!$A$63:$BM$63)))-I$6)/I12} -> 0.2465 | J14: {=+INDEX('Back data'!$A$63:$BM$63,,MAX(IF('Back data'!$A$63:$BM$63<>"",COLUMN('Back data'!$A$63:$BM$63)))-J$6)/J12} -> 0.3303 | K14: {=+INDEX('Back data'!$A$63:$BM$63,,MAX(IF('Back data'!$A$63:$BM$63<>"",COLUMN('Back data'!$A$63:$BM$63)))-K$6)/K12} -> 0.3746 | ... P14: {=+INDEX('Back data'!$A$63:$BM$63,,MAX(IF('Back data'!$A$63:$BM$63<>"",COLUMN('Back data'!$A$63:$BM$63)))-P$6)/P12} -> 0.1263
C17: % DECLARADO | D17: {=INDEX('Back data'!$A$67:$BM$67,,MAX(IF('Back data'!$A$67:$BM$67<>"",COLUMN('Back data'!$A$67:$BM$67)))-D$6)+INDEX('Back data'!$A$68:$BM$68,,MAX(IF('Back data'!$A$68:$BM$68<>"",COLUMN('Back data'!$A$68:$BM$68)))-D$6)} -> 100 | E17: {=INDEX('Back data'!$A$67:$BM$67,,MAX(IF('Back data'!$A$67:$BM$67<>"",COLUMN('Back data'!$A$67:$BM$67)))-E$6)+INDEX('Back data'!$A$68:$BM$68,,MAX(IF('Back data'!$A$68:$BM$68<>"",COLUMN('Back data'!$A$68:$BM$68)))-E$6)} -> 100 | F17: {=INDEX('Back data'!$A$67:$BM$67,,MAX(IF('Back data'!$A$67:$BM$67<>"",COLUMN('Back data'!$A$67:$BM$67)))-F$6)+INDEX('Back data'!$A$68:$BM$68,,MAX(IF('Back data'!$A$68:$BM$68<>"",COLUMN('Back data'!$A$68:$BM$68)))-F$6)} -> 100 | G17: {=INDEX('Back data'!$A$67:$BM$67,,MAX(IF('Back data'!$A$67:$BM$67<>"",COLUMN('Back data'!$A$67:$BM$67)))-G$6)+INDEX('Back data'!$A$68:$BM$68,,MAX(IF('Back data'!$A$68:$BM$68<>"",COLUMN('Back data'!$A$68:$BM$68)))-G$6)} -> 100 | H17: {=INDEX('Back data'!$A$67:$BM$67,,MAX(IF('Back data'!$A$67:$BM$67<>"",COLUMN('Back data'!$A$67:$BM$67)))-H$6)+INDEX('Back data'!$A$68:$BM$68,,MAX(IF('Back data'!$A$68:$BM$68<>"",COLUMN('Back data'!$A$68:$BM$68)))-H$6)} -> 100 | I17: {=INDEX('Back data'!$A$67:$BM$67,,MAX(IF('Back data'!$A$67:$BM$67<>"",COLUMN('Back data'!$A$67:$BM$67)))-I$6)+INDEX('Back data'!$A$68:$BM$68,,MAX(IF('Back data'!$A$68:$BM$68<>"",COLUMN('Back data'!$A$68:$BM$68)))-I$6)} -> 100 | J17: {=INDEX('Back data'!$A$67:$BM$67,,MAX(IF('Back data'!$A$67:$BM$67<>"",COLUMN('Back data'!$A$67:$BM$67)))-J$6)+INDEX('Back data'!$A$68:$BM$68,,MAX(IF('Back data'!$A$68:$BM$68<>"",COLUMN('Back data'!$A$68:$BM$68)))-J$6)} -> 100 | K17: {=INDEX('Back data'!$A$67:$BM$67,,MAX(IF('Back data'!$A$67:$BM$67<>"",COLUMN('Back data'!$A$67:$BM$67)))-K$6)+INDEX('Back data'!$A$68:$BM$68,,MAX(IF('Back data'!$A$68:$BM$68<>"",COLUMN('Back data'!$A$68:$BM$68)))-K$6)} -> 100 | ... P17: {=INDEX('Back data'!$A$67:$BM$67,,MAX(IF('Back data'!$A$67:$BM$67<>"",COLUMN('Back data'!$A$67:$BM$67)))-P$6)+INDEX('Back data'!$A$68:$BM$68,,MAX(IF('Back data'!$A$68:$BM$68<>"",COLUMN('Back data'!$A$68:$BM$68)))-P$6)} -> 100
A18: TOTAL ACEITE | B18: MARCAS DISTRIBUCION | C18: SIN PROMOCION | D18: {=INDEX('Back data'!$A$67:$BM$67,,MAX(IF('Back data'!$A$67:$BM$67<>"",COLUMN('Back data'!$A$67:$BM$67)))-D$6)/D17} -> 0.9925 | E18: {=INDEX('Back data'!$A$67:$BM$67,,MAX(IF('Back data'!$A$67:$BM$67<>"",COLUMN('Back data'!$A$67:$BM$67)))-E$6)/E17} -> 0.9969 | F18: {=INDEX('Back data'!$A$67:$BM$67,,MAX(IF('Back data'!$A$67:$BM$67<>"",COLUMN('Back data'!$A$67:$BM$67)))-F$6)/F17} -> 0.9818 | G18: {=INDEX('Back data'!$A$67:$BM$67,,MAX(IF('Back data'!$A$67:$BM$67<>"",COLUMN('Back data'!$A$67:$BM$67)))-G$6)/G17} -> 0.9962 | H18: {=INDEX('Back data'!$A$67:$BM$67,,MAX(IF('Back data'!$A$67:$BM$67<>"",COLUMN('Back data'!$A$67:$BM$67)))-H$6)/H17} -> 0.9995 | I18: {=INDEX('Back data'!$A$67:$BM$67,,MAX(IF('Back data'!$A$67:$BM$67<>"",COLUMN('Back data'!$A$67:$BM$67)))-I$6)/I17} -> 0.9997 | J18: {=INDEX('Back data'!$A$67:$BM$67,,MAX(IF('Back data'!$A$67:$BM$67<>"",COLUMN('Back data'!$A$67:$BM$67)))-J$6)/J17} -> 0.9961 | K18: {=INDEX('Back data'!$A$67:$BM$67,,MAX(IF('Back data'!$A$67:$BM$67<>"",COLUMN('Back data'!$A$67:$BM$67)))-K$6)/K17} -> 0.9897 | ... P18: {=INDEX('Back data'!$A$67:$BM$67,,MAX(IF('Back data'!$A$67:$BM$67<>"",COLUMN('Back data'!$A$67:$BM$67)))-P$6)/P17} -> 0.9998
A19: TOTAL ACEITE | B19: MARCAS DISTRIBUCION | C19: CON PROMOCION | D19: {=INDEX('Back data'!$A$68:$BM$68,,MAX(IF('Back data'!$A$68:$BM$68<>"",COLUMN('Back data'!$A$68:$BM$68)))-D$6)/D17} -> 0.0075 | E19: {=INDEX('Back data'!$A$68:$BM$68,,MAX(IF('Back data'!$A$68:$BM$68<>"",COLUMN('Back data'!$A$68:$BM$68)))-E$6)/E17} -> 0.0031 | F19: {=INDEX('Back data'!$A$68:$BM$68,,MAX(IF('Back data'!$A$68:$BM$68<>"",COLUMN('Back data'!$A$68:$BM$68)))-F$6)/F17} -> 0.0182 | G19: {=INDEX('Back data'!$A$68:$BM$68,,MAX(IF('Back data'!$A$68:$BM$68<>"",COLUMN('Back data'!$A$68:$BM$68)))-G$6)/G17} -> 0.0038 | H19: {=INDEX('Back data'!$A$68:$BM$68,,MAX(IF('Back data'!$A$68:$BM$68<>"",COLUMN('Back data'!$A$68:$BM$68)))-H$6)/H17} -> 0.0005 | I19: {=INDEX('Back data'!$A$68:$BM$68,,MAX(IF('Back data'!$A$68:$BM$68<>"",COLUMN('Back data'!$A$68:$BM$68)))-I$6)/I17} -> 0.0003 | J19: {=INDEX('Back data'!$A$68:$BM$68,,MAX(IF('Back data'!$A$68:$BM$68<>"",COLUMN('Back data'!$A$68:$BM$68)))-J$6)/J17} -> 0.0039 | K19: {=INDEX('Back data'!$A$68:$BM$68,,MAX(IF('Back data'!$A$68:$BM$68<>"",COLUMN('Back data'!$A$68:$BM$68)))-K$6)/K17} -> 0.0103 | ... P19: {=INDEX('Back data'!$A$68:$BM$68,,MAX(IF('Back data'!$A$68:$BM$68<>"",COLUMN('Back data'!$A$68:$BM$68)))-P$6)/P17} -> 0.0002
C22: % DECLARADO | D22: {=INDEX('Back data'!$A$257:$BM$257,,MAX(IF('Back data'!$A$257:$BM$257<>"",COLUMN('Back data'!$A$257:$BM$257)))-D$6)+INDEX('Back data'!$A$258:$BM$258,,MAX(IF('Back data'!$A$258:$BM$258<>"",COLUMN('Back data'!$A$258:$BM$258)))-D$6)} -> 100 | E22: {=INDEX('Back data'!$A$257:$BM$257,,MAX(IF('Back data'!$A$257:$BM$257<>"",COLUMN('Back data'!$A$257:$BM$257)))-E$6)+INDEX('Back data'!$A$258:$BM$258,,MAX(IF('Back data'!$A$258:$BM$258<>"",COLUMN('Back data'!$A$258:$BM$258)))-E$6)} -> 100 | F22: {=INDEX('Back data'!$A$257:$BM$257,,MAX(IF('Back data'!$A$257:$BM$257<>"",COLUMN('Back data'!$A$257:$BM$257)))-F$6)+INDEX('Back data'!$A$258:$BM$258,,MAX(IF('Back data'!$A$258:$BM$258<>"",COLUMN('Back data'!$A$258:$BM$258)))-F$6)} -> 100 | G22: {=INDEX('Back data'!$A$257:$BM$257,,MAX(IF('Back data'!$A$257:$BM$257<>"",COLUMN('Back data'!$A$257:$BM$257)))-G$6)+INDEX('Back data'!$A$258:$BM$258,,MAX(IF('Back data'!$A$258:$BM$258<>"",COLUMN('Back data'!$A$258:$BM$258)))-G$6)} -> 100 | H22: {=INDEX('Back data'!$A$257:$BM$257,,MAX(IF('Back data'!$A$257:$BM$257<>"",COLUMN('Back data'!$A$257:$BM$257)))-H$6)+INDEX('Back data'!$A$258:$BM$258,,MAX(IF('Back data'!$A$258:$BM$258<>"",COLUMN('Back data'!$A$258:$BM$258)))-H$6)} -> 100 | I22: {=INDEX('Back data'!$A$257:$BM$257,,MAX(IF('Back data'!$A$257:$BM$257<>"",COLUMN('Back data'!$A$257:$BM$257)))-I$6)+INDEX('Back data'!$A$258:$BM$258,,MAX(IF('Back data'!$A$258:$BM$258<>"",COLUMN('Back data'!$A$258:$BM$258)))-I$6)} -> 100 | J22: {=INDEX('Back data'!$A$257:$BM$257,,MAX(IF('Back data'!$A$257:$BM$257<>"",COLUMN('Back data'!$A$257:$BM$257)))-J$6)+INDEX('Back data'!$A$258:$BM$258,,MAX(IF('Back data'!$A$258:$BM$258<>"",COLUMN('Back data'!$A$258:$BM$258)))-J$6)} -> 100 | K22: {=INDEX('Back data'!$A$257:$BM$257,,MAX(IF('Back data'!$A$257:$BM$257<>"",COLUMN('Back data'!$A$257:$BM$257)))-K$6)+INDEX('Back data'!$A$258:$BM$258,,MAX(IF('Back data'!$A$258:$BM$258<>"",COLUMN('Back data'!$A$258:$BM$258)))-K$6)} -> 100 | ... P22: {=INDEX('Back data'!$A$257:$BM$257,,MAX(IF('Back data'!$A$257:$BM$257<>"",COLUMN('Back data'!$A$257:$BM$257)))-P$6)+INDEX('Back data'!$A$258:$BM$258,,MAX(IF('Back data'!$A$258:$BM$258<>"",COLUMN('Back data'!$A$258:$BM$258)))-P$6)} -> 100
A23: TOTAL ACEITE | B23: HIPERMERCADOS | C23: SIN PROMOCION | D23: {=INDEX('Back data'!$A$257:$BM$257,,MAX(IF('Back data'!$A$257:$BM$257<>"",COLUMN('Back data'!$A$257:$BM$257)))-D$6)/D22} -> 0.7146 | E23: {=INDEX('Back data'!$A$257:$BM$257,,MAX(IF('Back data'!$A$257:$BM$257<>"",COLUMN('Back data'!$A$257:$BM$257)))-E$6)/E22} -> 0.6895 | F23: {=INDEX('Back data'!$A$257:$BM$257,,MAX(IF('Back data'!$A$257:$BM$257<>"",COLUMN('Back data'!$A$257:$BM$257)))-F$6)/F22} -> 0.6858 | G23: {=INDEX('Back data'!$A$257:$BM$257,,MAX(IF('Back data'!$A$257:$BM$257<>"",COLUMN('Back data'!$A$257:$BM$257)))-G$6)/G22} -> 0.7391 | H23: {=INDEX('Back data'!$A$257:$BM$257,,MAX(IF('Back data'!$A$257:$BM$257<>"",COLUMN('Back data'!$A$257:$BM$257)))-H$6)/H22} -> 0.6742 | I23: {=INDEX('Back data'!$A$257:$BM$257,,MAX(IF('Back data'!$A$257:$BM$257<>"",COLUMN('Back data'!$A$257:$BM$257)))-I$6)/I22} -> 0.7842 | J23: {=INDEX('Back data'!$A$257:$BM$257,,MAX(IF('Back data'!$A$257:$BM$257<>"",COLUMN('Back data'!$A$257:$BM$257)))-J$6)/J22} -> 0.7151 | K23: {=INDEX('Back data'!$A$257:$BM$257,,MAX(IF('Back data'!$A$257:$BM$257<>"",COLUMN('Back data'!$A$257:$BM$257)))-K$6)/K22} -> 0.6058 | ... P23: {=INDEX('Back data'!$A$257:$BM$257,,MAX(IF('Back data'!$A$257:$BM$257<>"",COLUMN('Back data'!$A$257:$BM$257)))-P$6)/P22} -> 0.9167
A24: TOTAL ACEITE | B24: HIPERMERCADOS | C24: CON PROMOCION | D24: {=+INDEX('Back data'!$A$258:$BM$258,,MAX(IF('Back data'!$A$258:$BM$258<>"",COLUMN('Back data'!$A$258:$BM$258)))-D$6)/D22} -> 0.2854 | E24: {=+INDEX('Back data'!$A$258:$BM$258,,MAX(IF('Back data'!$A$258:$BM$258<>"",COLUMN('Back data'!$A$258:$BM$258)))-E$6)/E22} -> 0.3105 | F24: {=+INDEX('Back data'!$A$258:$BM$258,,MAX(IF('Back data'!$A$258:$BM$258<>"",COLUMN('Back data'!$A$258:$BM$258)))-F$6)/F22} -> 0.3142 | G24: {=+INDEX('Back data'!$A$258:$BM$258,,MAX(IF('Back data'!$A$258:$BM$258<>"",COLUMN('Back data'!$A$258:$BM$258)))-G$6)/G22} -> 0.2609 | H24: {=+INDEX('Back data'!$A$258:$BM$258,,MAX(IF('Back data'!$A$258:$BM$258<>"",COLUMN('Back data'!$A$258:$BM$258)))-H$6)/H22} -> 0.3258 | I24: {=+INDEX('Back data'!$A$258:$BM$258,,MAX(IF('Back data'!$A$258:$BM$258<>"",COLUMN('Back data'!$A$258:$BM$258)))-I$6)/I22} -> 0.2158 | J24: {=+INDEX('Back data'!$A$258:$BM$258,,MAX(IF('Back data'!$A$258:$BM$258<>"",COLUMN('Back data'!$A$258:$BM$258)))-J$6)/J22} -> 0.2849 | K24: {=+INDEX('Back data'!$A$258:$BM$258,,MAX(IF('Back data'!$A$258:$BM$258<>"",COLUMN('Back data'!$A$258:$BM$258)))-K$6)/K22} -> 0.3942 | ... P24: {=+INDEX('Back data'!$A$258:$BM$258,,MAX(IF('Back data'!$A$258:$BM$258<>"",COLUMN('Back data'!$A$258:$BM$258)))-P$6)/P22} -> 0.0833
C27: % DECLARADO | D27: {=INDEX('Back data'!$A$262:$BM$262,,MAX(IF('Back data'!$A$262:$BM$262<>"",COLUMN('Back data'!$A$262:$BM$262)))-D$6)+INDEX('Back data'!$A$263:$BM$263,,MAX(IF('Back data'!$A$263:$BM$263<>"",COLUMN('Back data'!$A$263:$BM$263)))-D$6)} -> 100 | E27: {=INDEX('Back data'!$A$262:$BM$262,,MAX(IF('Back data'!$A$262:$BM$262<>"",COLUMN('Back data'!$A$262:$BM$262)))-E$6)+INDEX('Back data'!$A$263:$BM$263,,MAX(IF('Back data'!$A$263:$BM$263<>"",COLUMN('Back data'!$A$263:$BM$263)))-E$6)} -> 100 | F27: {=INDEX('Back data'!$A$262:$BM$262,,MAX(IF('Back data'!$A$262:$BM$262<>"",COLUMN('Back data'!$A$262:$BM$262)))-F$6)+INDEX('Back data'!$A$263:$BM$263,,MAX(IF('Back data'!$A$263:$BM$263<>"",COLUMN('Back data'!$A$263:$BM$263)))-F$6)} -> 100 | G27: {=INDEX('Back data'!$A$262:$BM$262,,MAX(IF('Back data'!$A$262:$BM$262<>"",COLUMN('Back data'!$A$262:$BM$262)))-G$6)+INDEX('Back data'!$A$263:$BM$263,,MAX(IF('Back data'!$A$263:$BM$263<>"",COLUMN('Back data'!$A$263:$BM$263)))-G$6)} -> 100 | H27: {=INDEX('Back data'!$A$262:$BM$262,,MAX(IF('Back data'!$A$262:$BM$262<>"",COLUMN('Back data'!$A$262:$BM$262)))-H$6)+INDEX('Back data'!$A$263:$BM$263,,MAX(IF('Back data'!$A$263:$BM$263<>"",COLUMN('Back data'!$A$263:$BM$263)))-H$6)} -> 100 | I27: {=INDEX('Back data'!$A$262:$BM$262,,MAX(IF('Back data'!$A$262:$BM$262<>"",COLUMN('Back data'!$A$262:$BM$262)))-I$6)+INDEX('Back data'!$A$263:$BM$263,,MAX(IF('Back data'!$A$263:$BM$263<>"",COLUMN('Back data'!$A$263:$BM$263)))-I$6)} -> 100 | J27: {=INDEX('Back data'!$A$262:$BM$262,,MAX(IF('Back data'!$A$262:$BM$262<>"",COLUMN('Back data'!$A$262:$BM$262)))-J$6)+INDEX('Back data'!$A$263:$BM$263,,MAX(IF('Back data'!$A$263:$BM$263<>"",COLUMN('Back data'!$A$263:$BM$263)))-J$6)} -> 100 | K27: {=INDEX('Back data'!$A$262:$BM$262,,MAX(IF('Back data'!$A$262:$BM$262<>"",COLUMN('Back data'!$A$262:$BM$262)))-K$6)+INDEX('Back data'!$A$263:$BM$263,,MAX(IF('Back data'!$A$263:$BM$263<>"",COLUMN('Back data'!$A$263:$BM$263)))-K$6)} -> 100 | ... P27: {=INDEX('Back data'!$A$262:$BM$262,,MAX(IF('Back data'!$A$262:$BM$262<>"",COLUMN('Back data'!$A$262:$BM$262)))-P$6)+INDEX('Back data'!$A$263:$BM$263,,MAX(IF('Back data'!$A$263:$BM$263<>"",COLUMN('Back data'!$A$263:$BM$263)))-P$6)} -> 100
A28: TOTAL ACEITE | B28: SUPERMERCADOS | C28: SIN PROMOCION | D28: {=INDEX('Back data'!$A$262:$BM$262,,MAX(IF('Back data'!$A$262:$BM$262<>"",COLUMN('Back data'!$A$262:$BM$262)))-D$6)/D27} -> 0.9649 | E28: {=INDEX('Back data'!$A$262:$BM$262,,MAX(IF('Back data'!$A$262:$BM$262<>"",COLUMN('Back data'!$A$262:$BM$262)))-E$6)/E27} -> 0.9652 | F28: {=INDEX('Back data'!$A$262:$BM$262,,MAX(IF('Back data'!$A$262:$BM$262<>"",COLUMN('Back data'!$A$262:$BM$262)))-F$6)/F27} -> 0.9454 | G28: {=INDEX('Back data'!$A$262:$BM$262,,MAX(IF('Back data'!$A$262:$BM$262<>"",COLUMN('Back data'!$A$262:$BM$262)))-G$6)/G27} -> 0.9738 | H28: {=INDEX('Back data'!$A$262:$BM$262,,MAX(IF('Back data'!$A$262:$BM$262<>"",COLUMN('Back data'!$A$262:$BM$262)))-H$6)/H27} -> 0.9699 | I28: {=INDEX('Back data'!$A$262:$BM$262,,MAX(IF('Back data'!$A$262:$BM$262<>"",COLUMN('Back data'!$A$262:$BM$262)))-I$6)/I27} -> 0.9752 | J28: {=INDEX('Back data'!$A$262:$BM$262,,MAX(IF('Back data'!$A$262:$BM$262<>"",COLUMN('Back data'!$A$262:$BM$262)))-J$6)/J27} -> 0.9716 | K28: {=INDEX('Back data'!$A$262:$BM$262,,MAX(IF('Back data'!$A$262:$BM$262<>"",COLUMN('Back data'!$A$262:$BM$262)))-K$6)/K27} -> 0.957 | ... P28: {=INDEX('Back data'!$A$262:$BM$262,,MAX(IF('Back data'!$A$262:$BM$262<>"",COLUMN('Back data'!$A$262:$BM$262)))-P$6)/P27} -> 0.9806
A29: TOTAL ACEITE | B29: SUPERMERCADOS | C29: CON PROMOCION | D29: {=+INDEX('Back data'!$A$263:$BM$263,,MAX(IF('Back data'!$A$263:$BM$263<>"",COLUMN('Back data'!$A$263:$BM$263)))-D$6)/D27} -> 0.0351 | E29: {=+INDEX('Back data'!$A$263:$BM$263,,MAX(IF('Back data'!$A$263:$BM$263<>"",COLUMN('Back data'!$A$263:$BM$263)))-E$6)/E27} -> 0.0348 | F29: {=+INDEX('Back data'!$A$263:$BM$263,,MAX(IF('Back data'!$A$263:$BM$263<>"",COLUMN('Back data'!$A$263:$BM$263)))-F$6)/F27} -> 0.0546 | G29: {=+INDEX('Back data'!$A$263:$BM$263,,MAX(IF('Back data'!$A$263:$BM$263<>"",COLUMN('Back data'!$A$263:$BM$263)))-G$6)/G27} -> 0.0262 | H29: {=+INDEX('Back data'!$A$263:$BM$263,,MAX(IF('Back data'!$A$263:$BM$263<>"",COLUMN('Back data'!$A$263:$BM$263)))-H$6)/H27} -> 0.0301 | I29: {=+INDEX('Back data'!$A$263:$BM$263,,MAX(IF('Back data'!$A$263:$BM$263<>"",COLUMN('Back data'!$A$263:$BM$263)))-I$6)/I27} -> 0.0248 | J29: {=+INDEX('Back data'!$A$263:$BM$263,,MAX(IF('Back data'!$A$263:$BM$263<>"",COLUMN('Back data'!$A$263:$BM$263)))-J$6)/J27} -> 0.0284 | K29: {=+INDEX('Back data'!$A$263:$BM$263,,MAX(IF('Back data'!$A$263:$BM$263<>"",COLUMN('Back data'!$A$263:$BM$263)))-K$6)/K27} -> 0.043 | ... P29: {=+INDEX('Back data'!$A$263:$BM$263,,MAX(IF('Back data'!$A$263:$BM$263<>"",COLUMN('Back data'!$A$263:$BM$263)))-P$6)/P27} -> 0.0194
C32: % DECLARADO | D32: {=INDEX('Back data'!$A$267:$BM$267,,MAX(IF('Back data'!$A$267:$BM$267<>"",COLUMN('Back data'!$A$267:$BM$267)))-D$6)+INDEX('Back data'!$A$268:$BM$268,,MAX(IF('Back data'!$A$268:$BM$268<>"",COLUMN('Back data'!$A$268:$BM$268)))-D$6)} -> 100 | E32: {=INDEX('Back data'!$A$267:$BM$267,,MAX(IF('Back data'!$A$267:$BM$267<>"",COLUMN('Back data'!$A$267:$BM$267)))-E$6)+INDEX('Back data'!$A$268:$BM$268,,MAX(IF('Back data'!$A$268:$BM$268<>"",COLUMN('Back data'!$A$268:$BM$268)))-E$6)} -> 100 | F32: {=INDEX('Back data'!$A$267:$BM$267,,MAX(IF('Back data'!$A$267:$BM$267<>"",COLUMN('Back data'!$A$267:$BM$267)))-F$6)+INDEX('Back data'!$A$268:$BM$268,,MAX(IF('Back data'!$A$268:$BM$268<>"",COLUMN('Back data'!$A$268:$BM$268)))-F$6)} -> 100 | G32: {=INDEX('Back data'!$A$267:$BM$267,,MAX(IF('Back data'!$A$267:$BM$267<>"",COLUMN('Back data'!$A$267:$BM$267)))-G$6)+INDEX('Back data'!$A$268:$BM$268,,MAX(IF('Back data'!$A$268:$BM$268<>"",COLUMN('Back data'!$A$268:$BM$268)))-G$6)} -> 100 | H32: {=INDEX('Back data'!$A$267:$BM$267,,MAX(IF('Back data'!$A$267:$BM$267<>"",COLUMN('Back data'!$A$267:$BM$267)))-H$6)+INDEX('Back data'!$A$268:$BM$268,,MAX(IF('Back data'!$A$268:$BM$268<>"",COLUMN('Back data'!$A$268:$BM$268)))-H$6)} -> 100 | I32: {=INDEX('Back data'!$A$267:$BM$267,,MAX(IF('Back data'!$A$267:$BM$267<>"",COLUMN('Back data'!$A$267:$BM$267)))-I$6)+INDEX('Back data'!$A$268:$BM$268,,MAX(IF('Back data'!$A$268:$BM$268<>"",COLUMN('Back data'!$A$268:$BM$268)))-I$6)} -> 100 | J32: {=INDEX('Back data'!$A$267:$BM$267,,MAX(IF('Back data'!$A$267:$BM$267<>"",COLUMN('Back data'!$A$267:$BM$267)))-J$6)+INDEX('Back data'!$A$268:$BM$268,,MAX(IF('Back data'!$A$268:$BM$268<>"",COLUMN('Back data'!$A$268:$BM$268)))-J$6)} -> 100 | K32: {=INDEX('Back data'!$A$267:$BM$267,,MAX(IF('Back data'!$A$267:$BM$267<>"",COLUMN('Back data'!$A$267:$BM$267)))-K$6)+INDEX('Back data'!$A$268:$BM$268,,MAX(IF('Back data'!$A$268:$BM$268<>"",COLUMN('Back data'!$A$268:$BM$268)))-K$6)} -> 100 | ... P32: {=INDEX('Back data'!$A$267:$BM$267,,MAX(IF('Back data'!$A$267:$BM$267<>"",COLUMN('Back data'!$A$267:$BM$267)))-P$6)+INDEX('Back data'!$A$268:$BM$268,,MAX(IF('Back data'!$A$268:$BM$268<>"",COLUMN('Back data'!$A$268:$BM$268)))-P$6)} -> 100
A33: TOTAL ACEITE | B33: SUPER+AUTOS | C33: SIN PROMOCION | D33: {=INDEX('Back data'!$A$267:$BM$267,,MAX(IF('Back data'!$A$267:$BM$267<>"",COLUMN('Back data'!$A$267:$BM$267)))-D$6)/D32} -> 0.9768 | E33: {=INDEX('Back data'!$A$267:$BM$267,,MAX(IF('Back data'!$A$267:$BM$267<>"",COLUMN('Back data'!$A$267:$BM$267)))-E$6)/E32} -> 0.9691 | F33: {=INDEX('Back data'!$A$267:$BM$267,,MAX(IF('Back data'!$A$267:$BM$267<>"",COLUMN('Back data'!$A$267:$BM$267)))-F$6)/F32} -> 0.9686 | G33: {=INDEX('Back data'!$A$267:$BM$267,,MAX(IF('Back data'!$A$267:$BM$267<>"",COLUMN('Back data'!$A$267:$BM$267)))-G$6)/G32} -> 0.9822 | H33: {=INDEX('Back data'!$A$267:$BM$267,,MAX(IF('Back data'!$A$267:$BM$267<>"",COLUMN('Back data'!$A$267:$BM$267)))-H$6)/H32} -> 0.9747 | I33: {=INDEX('Back data'!$A$267:$BM$267,,MAX(IF('Back data'!$A$267:$BM$267<>"",COLUMN('Back data'!$A$267:$BM$267)))-I$6)/I32} -> 0.9855 | J33: {=INDEX('Back data'!$A$267:$BM$267,,MAX(IF('Back data'!$A$267:$BM$267<>"",COLUMN('Back data'!$A$267:$BM$267)))-J$6)/J32} -> 0.9708 | K33: {=INDEX('Back data'!$A$267:$BM$267,,MAX(IF('Back data'!$A$267:$BM$267<>"",COLUMN('Back data'!$A$267:$BM$267)))-K$6)/K32} -> 0.9625 | ... P33: {=INDEX('Back data'!$A$267:$BM$267,,MAX(IF('Back data'!$A$267:$BM$267<>"",COLUMN('Back data'!$A$267:$BM$267)))-P$6)/P32} -> 0.9817
A34: TOTAL ACEITE | B34: SUPER+AUTOS | C34: CON PROMOCION | D34: {=+INDEX('Back data'!$A$268:$BM$268,,MAX(IF('Back data'!$A$268:$BM$268<>"",COLUMN('Back data'!$A$268:$BM$268)))-D$6)/D32} -> 0.0232 | E34: {=+INDEX('Back data'!$A$268:$BM$268,,MAX(IF('Back data'!$A$268:$BM$268<>"",COLUMN('Back data'!$A$268:$BM$268)))-E$6)/E32} -> 0.0309 | F34: {=+INDEX('Back data'!$A$268:$BM$268,,MAX(IF('Back data'!$A$268:$BM$268<>"",COLUMN('Back data'!$A$268:$BM$268)))-F$6)/F32} -> 0.0314 | G34: {=+INDEX('Back data'!$A$268:$BM$268,,MAX(IF('Back data'!$A$268:$BM$268<>"",COLUMN('Back data'!$A$268:$BM$268)))-G$6)/G32} -> 0.0178 | H34: {=+INDEX('Back data'!$A$268:$BM$268,,MAX(IF('Back data'!$A$268:$BM$268<>"",COLUMN('Back data'!$A$268:$BM$268)))-H$6)/H32} -> 0.0253 | I34: {=+INDEX('Back data'!$A$268:$BM$268,,MAX(IF('Back data'!$A$268:$BM$268<>"",COLUMN('Back data'!$A$268:$BM$268)))-I$6)/I32} -> 0.0145 | J34: {=+INDEX('Back data'!$A$268:$BM$268,,MAX(IF('Back data'!$A$268:$BM$268<>"",COLUMN('Back data'!$A$268:$BM$268)))-J$6)/J32} -> 0.0292 | K34: {=+INDEX('Back data'!$A$268:$BM$268,,MAX(IF('Back data'!$A$268:$BM$268<>"",COLUMN('Back data'!$A$268:$BM$268)))-K$6)/K32} -> 0.0375 | ... P34: {=+INDEX('Back data'!$A$268:$BM$268,,MAX(IF('Back data'!$A$268:$BM$268<>"",COLUMN('Back data'!$A$268:$BM$268)))-P$6)/P32} -> 0.0183
C37: % DECLARADO | D37: {=INDEX('Back data'!$A$272:$BM$272,,MAX(IF('Back data'!$A$272:$BM$272<>"",COLUMN('Back data'!$A$272:$BM$272)))-D$6)+INDEX('Back data'!$A$273:$BM$273,,MAX(IF('Back data'!$A$273:$BM$273<>"",COLUMN('Back data'!$A$273:$BM$273)))-D$6)} -> 100 | E37: {=INDEX('Back data'!$A$272:$BM$272,,MAX(IF('Back data'!$A$272:$BM$272<>"",COLUMN('Back data'!$A$272:$BM$272)))-E$6)+INDEX('Back data'!$A$273:$BM$273,,MAX(IF('Back data'!$A$273:$BM$273<>"",COLUMN('Back data'!$A$273:$BM$273)))-E$6)} -> 100 | F37: {=INDEX('Back data'!$A$272:$BM$272,,MAX(IF('Back data'!$A$272:$BM$272<>"",COLUMN('Back data'!$A$272:$BM$272)))-F$6)+INDEX('Back data'!$A$273:$BM$273,,MAX(IF('Back data'!$A$273:$BM$273<>"",COLUMN('Back data'!$A$273:$BM$273)))-F$6)} -> 100 | G37: {=INDEX('Back data'!$A$272:$BM$272,,MAX(IF('Back data'!$A$272:$BM$272<>"",COLUMN('Back data'!$A$272:$BM$272)))-G$6)+INDEX('Back data'!$A$273:$BM$273,,MAX(IF('Back data'!$A$273:$BM$273<>"",COLUMN('Back data'!$A$273:$BM$273)))-G$6)} -> 100 | H37: {=INDEX('Back data'!$A$272:$BM$272,,MAX(IF('Back data'!$A$272:$BM$272<>"",COLUMN('Back data'!$A$272:$BM$272)))-H$6)+INDEX('Back data'!$A$273:$BM$273,,MAX(IF('Back data'!$A$273:$BM$273<>"",COLUMN('Back data'!$A$273:$BM$273)))-H$6)} -> 100 | I37: {=INDEX('Back data'!$A$272:$BM$272,,MAX(IF('Back data'!$A$272:$BM$272<>"",COLUMN('Back data'!$A$272:$BM$272)))-I$6)+INDEX('Back data'!$A$273:$BM$273,,MAX(IF('Back data'!$A$273:$BM$273<>"",COLUMN('Back data'!$A$273:$BM$273)))-I$6)} -> 100 | J37: {=INDEX('Back data'!$A$272:$BM$272,,MAX(IF('Back data'!$A$272:$BM$272<>"",COLUMN('Back data'!$A$272:$BM$272)))-J$6)+INDEX('Back data'!$A$273:$BM$273,,MAX(IF('Back data'!$A$273:$BM$273<>"",COLUMN('Back data'!$A$273:$BM$273)))-J$6)} -> 100 | K37: {=INDEX('Back data'!$A$272:$BM$272,,MAX(IF('Back data'!$A$272:$BM$272<>"",COLUMN('Back data'!$A$272:$BM$272)))-K$6)+INDEX('Back data'!$A$273:$BM$273,,MAX(IF('Back data'!$A$273:$BM$273<>"",COLUMN('Back data'!$A$273:$BM$273)))-K$6)} -> 100 | ... P37: {=INDEX('Back data'!$A$272:$BM$272,,MAX(IF('Back data'!$A$272:$BM$272<>"",COLUMN('Back data'!$A$272:$BM$272)))-P$6)+INDEX('Back data'!$A$273:$BM$273,,MAX(IF('Back data'!$A$273:$BM$273<>"",COLUMN('Back data'!$A$273:$BM$273)))-P$6)} -> 100
A38: TOTAL ACEITE | B38: DISCOUNTS | C38: SIN PROMOCION | D38: {=INDEX('Back data'!$A$272:$BM$272,,MAX(IF('Back data'!$A$272:$BM$272<>"",COLUMN('Back data'!$A$272:$BM$272)))-D$6)/D37} -> 0.9205 | E38: {=INDEX('Back data'!$A$272:$BM$272,,MAX(IF('Back data'!$A$272:$BM$272<>"",COLUMN('Back data'!$A$272:$BM$272)))-E$6)/E37} -> 0.9483 | F38: {=INDEX('Back data'!$A$272:$BM$272,,MAX(IF('Back data'!$A$272:$BM$272<>"",COLUMN('Back data'!$A$272:$BM$272)))-F$6)/F37} -> 0.8682 | G38: {=INDEX('Back data'!$A$272:$BM$272,,MAX(IF('Back data'!$A$272:$BM$272<>"",COLUMN('Back data'!$A$272:$BM$272)))-G$6)/G37} -> 0.9456 | H38: {=INDEX('Back data'!$A$272:$BM$272,,MAX(IF('Back data'!$A$272:$BM$272<>"",COLUMN('Back data'!$A$272:$BM$272)))-H$6)/H37} -> 0.9538 | I38: {=INDEX('Back data'!$A$272:$BM$272,,MAX(IF('Back data'!$A$272:$BM$272<>"",COLUMN('Back data'!$A$272:$BM$272)))-I$6)/I37} -> 0.9392 | J38: {=INDEX('Back data'!$A$272:$BM$272,,MAX(IF('Back data'!$A$272:$BM$272<>"",COLUMN('Back data'!$A$272:$BM$272)))-J$6)/J37} -> 0.9741 | K38: {=INDEX('Back data'!$A$272:$BM$272,,MAX(IF('Back data'!$A$272:$BM$272<>"",COLUMN('Back data'!$A$272:$BM$272)))-K$6)/K37} -> 0.9374 | ... P38: {=INDEX('Back data'!$A$272:$BM$272,,MAX(IF('Back data'!$A$272:$BM$272<>"",COLUMN('Back data'!$A$272:$BM$272)))-P$6)/P37} -> 0.9776
A39: TOTAL ACEITE | B39: DISCOUNTS | C39: CON PROMOCION | D39: {=+INDEX('Back data'!$A$273:$BM$273,,MAX(IF('Back data'!$A$273:$BM$273<>"",COLUMN('Back data'!$A$273:$BM$273)))-D$6)/D37} -> 0.0795 | E39: {=+INDEX('Back data'!$A$273:$BM$273,,MAX(IF('Back data'!$A$273:$BM$273<>"",COLUMN('Back data'!$A$273:$BM$273)))-E$6)/E37} -> 0.0517 | F39: {=+INDEX('Back data'!$A$273:$BM$273,,MAX(IF('Back data'!$A$273:$BM$273<>"",COLUMN('Back data'!$A$273:$BM$273)))-F$6)/F37} -> 0.1318 | G39: {=+INDEX('Back data'!$A$273:$BM$273,,MAX(IF('Back data'!$A$273:$BM$273<>"",COLUMN('Back data'!$A$273:$BM$273)))-G$6)/G37} -> 0.0544 | H39: {=+INDEX('Back data'!$A$273:$BM$273,,MAX(IF('Back data'!$A$273:$BM$273<>"",COLUMN('Back data'!$A$273:$BM$273)))-H$6)/H37} -> 0.0462 | I39: {=+INDEX('Back data'!$A$273:$BM$273,,MAX(IF('Back data'!$A$273:$BM$273<>"",COLUMN('Back data'!$A$273:$BM$273)))-I$6)/I37} -> 0.0608 | J39: {=+INDEX('Back data'!$A$273:$BM$273,,MAX(IF('Back data'!$A$273:$BM$273<>"",COLUMN('Back data'!$A$273:$BM$273)))-J$6)/J37} -> 0.0259 | K39: {=+INDEX('Back data'!$A$273:$BM$273,,MAX(IF('Back data'!$A$273:$BM$273<>"",COLUMN('Back data'!$A$273:$BM$273)))-K$6)/K37} -> 0.0626 | ... P39: {=+INDEX('Back data'!$A$273:$BM$273,,MAX(IF('Back data'!$A$273:$BM$273<>"",COLUMN('Back data'!$A$273:$BM$273)))-P$6)/P37} -> 0.0224
C45: % DECLARADO | D45: {=INDEX('Back data'!$A$82:$BM$82,,MAX(IF('Back data'!$A$82:$BM$82<>"",COLUMN('Back data'!$A$82:$BM$82)))-D$6)+INDEX('Back data'!$A$83:$BM$83,,MAX(IF('Back data'!$A$83:$BM$83<>"",COLUMN('Back data'!$A$83:$BM$83)))-D$6)} -> 100 | E45: {=INDEX('Back data'!$A$82:$BM$82,,MAX(IF('Back data'!$A$82:$BM$82<>"",COLUMN('Back data'!$A$82:$BM$82)))-E$6)+INDEX('Back data'!$A$83:$BM$83,,MAX(IF('Back data'!$A$83:$BM$83<>"",COLUMN('Back data'!$A$83:$BM$83)))-E$6)} -> 100 | F45: {=INDEX('Back data'!$A$82:$BM$82,,MAX(IF('Back data'!$A$82:$BM$82<>"",COLUMN('Back data'!$A$82:$BM$82)))-F$6)+INDEX('Back data'!$A$83:$BM$83,,MAX(IF('Back data'!$A$83:$BM$83<>"",COLUMN('Back data'!$A$83:$BM$83)))-F$6)} -> 100 | G45: {=INDEX('Back data'!$A$82:$BM$82,,MAX(IF('Back data'!$A$82:$BM$82<>"",COLUMN('Back data'!$A$82:$BM$82)))-G$6)+INDEX('Back data'!$A$83:$BM$83,,MAX(IF('Back data'!$A$83:$BM$83<>"",COLUMN('Back data'!$A$83:$BM$83)))-G$6)} -> 100 | H45: {=INDEX('Back data'!$A$82:$BM$82,,MAX(IF('Back data'!$A$82:$BM$82<>"",COLUMN('Back data'!$A$82:$BM$82)))-H$6)+INDEX('Back data'!$A$83:$BM$83,,MAX(IF('Back data'!$A$83:$BM$83<>"",COLUMN('Back data'!$A$83:$BM$83)))-H$6)} -> 100 | I45: {=INDEX('Back data'!$A$82:$BM$82,,MAX(IF('Back data'!$A$82:$BM$82<>"",COLUMN('Back data'!$A$82:$BM$82)))-I$6)+INDEX('Back data'!$A$83:$BM$83,,MAX(IF('Back data'!$A$83:$BM$83<>"",COLUMN('Back data'!$A$83:$BM$83)))-I$6)} -> 100 | J45: {=INDEX('Back data'!$A$82:$BM$82,,MAX(IF('Back data'!$A$82:$BM$82<>"",COLUMN('Back data'!$A$82:$BM$82)))-J$6)+INDEX('Back data'!$A$83:$BM$83,,MAX(IF('Back data'!$A$83:$BM$83<>"",COLUMN('Back data'!$A$83:$BM$83)))-J$6)} -> 100 | K45: {=INDEX('Back data'!$A$82:$BM$82,,MAX(IF('Back data'!$A$82:$BM$82<>"",COLUMN('Back data'!$A$82:$BM$82)))-K$6)+INDEX('Back data'!$A$83:$BM$83,,MAX(IF('Back data'!$A$83:$BM$83<>"",COLUMN('Back data'!$A$83:$BM$83)))-K$6)} -> 100 | ... P45: {=INDEX('Back data'!$A$82:$BM$82,,MAX(IF('Back data'!$A$82:$BM$82<>"",COLUMN('Back data'!$A$82:$BM$82)))-P$6)+INDEX('Back data'!$A$83:$BM$83,,MAX(IF('Back data'!$A$83:$BM$83<>"",COLUMN('Back data'!$A$83:$BM$83)))-P$6)} -> 100
A46: A OLIVA VIRGEN Y A OLIVA VIRGEN EXTRA | B46: TOTAL | C46: SIN PROMOCION | D46: {=INDEX('Back data'!$A$82:$BM$82,,MAX(IF('Back data'!$A$82:$BM$82<>"",COLUMN('Back data'!$A$82:$BM$82)))-D$6)/D45} -> 0.8876 | E46: {=INDEX('Back data'!$A$82:$BM$82,,MAX(IF('Back data'!$A$82:$BM$82<>"",COLUMN('Back data'!$A$82:$BM$82)))-E$6)/E45} -> 0.8785 | F46: {=INDEX('Back data'!$A$82:$BM$82,,MAX(IF('Back data'!$A$82:$BM$82<>"",COLUMN('Back data'!$A$82:$BM$82)))-F$6)/F45} -> 0.8551 | G46: {=INDEX('Back data'!$A$82:$BM$82,,MAX(IF('Back data'!$A$82:$BM$82<>"",COLUMN('Back data'!$A$82:$BM$82)))-G$6)/G45} -> 0.9078 | H46: {=INDEX('Back data'!$A$82:$BM$82,,MAX(IF('Back data'!$A$82:$BM$82<>"",COLUMN('Back data'!$A$82:$BM$82)))-H$6)/H45} -> 0.8499 | I46: {=INDEX('Back data'!$A$82:$BM$82,,MAX(IF('Back data'!$A$82:$BM$82<>"",COLUMN('Back data'!$A$82:$BM$82)))-I$6)/I45} -> 0.9204 | J46: {=INDEX('Back data'!$A$82:$BM$82,,MAX(IF('Back data'!$A$82:$BM$82<>"",COLUMN('Back data'!$A$82:$BM$82)))-J$6)/J45} -> 0.8834 | K46: {=INDEX('Back data'!$A$82:$BM$82,,MAX(IF('Back data'!$A$82:$BM$82<>"",COLUMN('Back data'!$A$82:$BM$82)))-K$6)/K45} -> 0.764 | ... P46: {=INDEX('Back data'!$A$82:$BM$82,,MAX(IF('Back data'!$A$82:$BM$82<>"",COLUMN('Back data'!$A$82:$BM$82)))-P$6)/P45} -> 0.9732
A47: A OLIVA VIRGEN Y A OLIVA VIRGEN EXTRA | B47: TOTAL | C47: CON PROMOCION | D47: {=INDEX('Back data'!$A$83:$BM$83,,MAX(IF('Back data'!$A$83:$BM$83<>"",COLUMN('Back data'!$A$83:$BM$83)))-D$6)/D45} -> 0.1124 | E47: {=INDEX('Back data'!$A$83:$BM$83,,MAX(IF('Back data'!$A$83:$BM$83<>"",COLUMN('Back data'!$A$83:$BM$83)))-E$6)/E45} -> 0.1215 | F47: {=INDEX('Back data'!$A$83:$BM$83,,MAX(IF('Back data'!$A$83:$BM$83<>"",COLUMN('Back data'!$A$83:$BM$83)))-F$6)/F45} -> 0.1449 | G47: {=INDEX('Back data'!$A$83:$BM$83,,MAX(IF('Back data'!$A$83:$BM$83<>"",COLUMN('Back data'!$A$83:$BM$83)))-G$6)/G45} -> 0.0922 | H47: {=INDEX('Back data'!$A$83:$BM$83,,MAX(IF('Back data'!$A$83:$BM$83<>"",COLUMN('Back data'!$A$83:$BM$83)))-H$6)/H45} -> 0.1501 | I47: {=INDEX('Back data'!$A$83:$BM$83,,MAX(IF('Back data'!$A$83:$BM$83<>"",COLUMN('Back data'!$A$83:$BM$83)))-I$6)/I45} -> 0.0796 | J47: {=INDEX('Back data'!$A$83:$BM$83,,MAX(IF('Back data'!$A$83:$BM$83<>"",COLUMN('Back data'!$A$83:$BM$83)))-J$6)/J45} -> 0.1166 | K47: {=INDEX('Back data'!$A$83:$BM$83,,MAX(IF('Back data'!$A$83:$BM$83<>"",COLUMN('Back data'!$A$83:$BM$83)))-K$6)/K45} -> 0.236 | ... P47: {=INDEX('Back data'!$A$83:$BM$83,,MAX(IF('Back data'!$A$83:$BM$83<>"",COLUMN('Back data'!$A$83:$BM$83)))-P$6)/P45} -> 0.0268
C50: % DECLARADO | D50: {=INDEX('Back data'!$A$87:$BM$87,,MAX(IF('Back data'!$A$87:$BM$87<>"",COLUMN('Back data'!$A$87:$BM$87)))-D$6)+INDEX('Back data'!$A$88:$BM$88,,MAX(IF('Back data'!$A$88:$BM$88<>"",COLUMN('Back data'!$A$88:$BM$88)))-D$6)} -> 100 | E50: {=INDEX('Back data'!$A$87:$BM$87,,MAX(IF('Back data'!$A$87:$BM$87<>"",COLUMN('Back data'!$A$87:$BM$87)))-E$6)+INDEX('Back data'!$A$88:$BM$88,,MAX(IF('Back data'!$A$88:$BM$88<>"",COLUMN('Back data'!$A$88:$BM$88)))-E$6)} -> 100 | F50: {=INDEX('Back data'!$A$87:$BM$87,,MAX(IF('Back data'!$A$87:$BM$87<>"",COLUMN('Back data'!$A$87:$BM$87)))-F$6)+INDEX('Back data'!$A$88:$BM$88,,MAX(IF('Back data'!$A$88:$BM$88<>"",COLUMN('Back data'!$A$88:$BM$88)))-F$6)} -> 100 | G50: {=INDEX('Back data'!$A$87:$BM$87,,MAX(IF('Back data'!$A$87:$BM$87<>"",COLUMN('Back data'!$A$87:$BM$87)))-G$6)+INDEX('Back data'!$A$88:$BM$88,,MAX(IF('Back data'!$A$88:$BM$88<>"",COLUMN('Back data'!$A$88:$BM$88)))-G$6)} -> 100 | H50: {=INDEX('Back data'!$A$87:$BM$87,,MAX(IF('Back data'!$A$87:$BM$87<>"",COLUMN('Back data'!$A$87:$BM$87)))-H$6)+INDEX('Back data'!$A$88:$BM$88,,MAX(IF('Back data'!$A$88:$BM$88<>"",COLUMN('Back data'!$A$88:$BM$88)))-H$6)} -> 100 | I50: {=INDEX('Back data'!$A$87:$BM$87,,MAX(IF('Back data'!$A$87:$BM$87<>"",COLUMN('Back data'!$A$87:$BM$87)))-I$6)+INDEX('Back data'!$A$88:$BM$88,,MAX(IF('Back data'!$A$88:$BM$88<>"",COLUMN('Back data'!$A$88:$BM$88)))-I$6)} -> 100 | J50: {=INDEX('Back data'!$A$87:$BM$87,,MAX(IF('Back data'!$A$87:$BM$87<>"",COLUMN('Back data'!$A$87:$BM$87)))-J$6)+INDEX('Back data'!$A$88:$BM$88,,MAX(IF('Back data'!$A$88:$BM$88<>"",COLUMN('Back data'!$A$88:$BM$88)))-J$6)} -> 100 | K50: {=INDEX('Back data'!$A$87:$BM$87,,MAX(IF('Back data'!$A$87:$BM$87<>"",COLUMN('Back data'!$A$87:$BM$87)))-K$6)+INDEX('Back data'!$A$88:$BM$88,,MAX(IF('Back data'!$A$88:$BM$88<>"",COLUMN('Back data'!$A$88:$BM$88)))-K$6)} -> 100 | ... P50: {=INDEX('Back data'!$A$87:$BM$87,,MAX(IF('Back data'!$A$87:$BM$87<>"",COLUMN('Back data'!$A$87:$BM$87)))-P$6)+INDEX('Back data'!$A$88:$BM$88,,MAX(IF('Back data'!$A$88:$BM$88<>"",COLUMN('Back data'!$A$88:$BM$88)))-P$6)} -> 100
A51: A OLIVA VIRGEN Y A OLIVA VIRGEN EXTRA | B51: PRINCIPALES FABRICANTE | C51: SIN PROMOCION | D51: {=INDEX('Back data'!$A$87:$BM$87,,MAX(IF('Back data'!$A$87:$BM$87<>"",COLUMN('Back data'!$A$87:$BM$87)))-D$6)/D50} -> 0.7482 | E51: {=INDEX('Back data'!$A$87:$BM$87,,MAX(IF('Back data'!$A$87:$BM$87<>"",COLUMN('Back data'!$A$87:$BM$87)))-E$6)/E50} -> 0.6916 | F51: {=INDEX('Back data'!$A$87:$BM$87,,MAX(IF('Back data'!$A$87:$BM$87<>"",COLUMN('Back data'!$A$87:$BM$87)))-F$6)/F50} -> 0.6882 | G51: {=INDEX('Back data'!$A$87:$BM$87,,MAX(IF('Back data'!$A$87:$BM$87<>"",COLUMN('Back data'!$A$87:$BM$87)))-G$6)/G50} -> 0.7043 | H51: {=INDEX('Back data'!$A$87:$BM$87,,MAX(IF('Back data'!$A$87:$BM$87<>"",COLUMN('Back data'!$A$87:$BM$87)))-H$6)/H50} -> 0.6222 | I51: {=INDEX('Back data'!$A$87:$BM$87,,MAX(IF('Back data'!$A$87:$BM$87<>"",COLUMN('Back data'!$A$87:$BM$87)))-I$6)/I50} -> 0.7804 | J51: {=INDEX('Back data'!$A$87:$BM$87,,MAX(IF('Back data'!$A$87:$BM$87<>"",COLUMN('Back data'!$A$87:$BM$87)))-J$6)/J50} -> 0.5906 | K51: {=INDEX('Back data'!$A$87:$BM$87,,MAX(IF('Back data'!$A$87:$BM$87<>"",COLUMN('Back data'!$A$87:$BM$87)))-K$6)/K50} -> 0.4804 | ... P51: {=INDEX('Back data'!$A$87:$BM$87,,MAX(IF('Back data'!$A$87:$BM$87<>"",COLUMN('Back data'!$A$87:$BM$87)))-P$6)/P50} -> 0.9029
A52: A OLIVA VIRGEN Y A OLIVA VIRGEN EXTRA | B52: PRINCIPALES FABRICANTE | C52: CON PROMOCION | D52: {=INDEX('Back data'!$A$88:$BM$88,,MAX(IF('Back data'!$A$88:$BM$88<>"",COLUMN('Back data'!$A$88:$BM$88)))-D$6)/D50} -> 0.2518 | E52: {=INDEX('Back data'!$A$88:$BM$88,,MAX(IF('Back data'!$A$88:$BM$88<>"",COLUMN('Back data'!$A$88:$BM$88)))-E$6)/E50} -> 0.3084 | F52: {=INDEX('Back data'!$A$88:$BM$88,,MAX(IF('Back data'!$A$88:$BM$88<>"",COLUMN('Back data'!$A$88:$BM$88)))-F$6)/F50} -> 0.3118 | G52: {=INDEX('Back data'!$A$88:$BM$88,,MAX(IF('Back data'!$A$88:$BM$88<>"",COLUMN('Back data'!$A$88:$BM$88)))-G$6)/G50} -> 0.2957 | H52: {=INDEX('Back data'!$A$88:$BM$88,,MAX(IF('Back data'!$A$88:$BM$88<>"",COLUMN('Back data'!$A$88:$BM$88)))-H$6)/H50} -> 0.3778 | I52: {=INDEX('Back data'!$A$88:$BM$88,,MAX(IF('Back data'!$A$88:$BM$88<>"",COLUMN('Back data'!$A$88:$BM$88)))-I$6)/I50} -> 0.2196 | J52: {=INDEX('Back data'!$A$88:$BM$88,,MAX(IF('Back data'!$A$88:$BM$88<>"",COLUMN('Back data'!$A$88:$BM$88)))-J$6)/J50} -> 0.4094 | K52: {=INDEX('Back data'!$A$88:$BM$88,,MAX(IF('Back data'!$A$88:$BM$88<>"",COLUMN('Back data'!$A$88:$BM$88)))-K$6)/K50} -> 0.5196 | ... P52: {=INDEX('Back data'!$A$88:$BM$88,,MAX(IF('Back data'!$A$88:$BM$88<>"",COLUMN('Back data'!$A$88:$BM$88)))-P$6)/P50} -> 0.0971
C55: % DECLARADO | D55: {=INDEX('Back data'!$A$92:$BM$92,,MAX(IF('Back data'!$A$92:$BM$92<>"",COLUMN('Back data'!$A$92:$BM$92)))-D$6)+INDEX('Back data'!$A$93:$BM$93,,MAX(IF('Back data'!$A$93:$BM$93<>"",COLUMN('Back data'!$A$93:$BM$93)))-D$6)} -> 100 | E55: {=INDEX('Back data'!$A$92:$BM$92,,MAX(IF('Back data'!$A$92:$BM$92<>"",COLUMN('Back data'!$A$92:$BM$92)))-E$6)+INDEX('Back data'!$A$93:$BM$93,,MAX(IF('Back data'!$A$93:$BM$93<>"",COLUMN('Back data'!$A$93:$BM$93)))-E$6)} -> 100 | F55: {=INDEX('Back data'!$A$92:$BM$92,,MAX(IF('Back data'!$A$92:$BM$92<>"",COLUMN('Back data'!$A$92:$BM$92)))-F$6)+INDEX('Back data'!$A$93:$BM$93,,MAX(IF('Back data'!$A$93:$BM$93<>"",COLUMN('Back data'!$A$93:$BM$93)))-F$6)} -> 100 | G55: {=INDEX('Back data'!$A$92:$BM$92,,MAX(IF('Back data'!$A$92:$BM$92<>"",COLUMN('Back data'!$A$92:$BM$92)))-G$6)+INDEX('Back data'!$A$93:$BM$93,,MAX(IF('Back data'!$A$93:$BM$93<>"",COLUMN('Back data'!$A$93:$BM$93)))-G$6)} -> 100 | H55: {=INDEX('Back data'!$A$92:$BM$92,,MAX(IF('Back data'!$A$92:$BM$92<>"",COLUMN('Back data'!$A$92:$BM$92)))-H$6)+INDEX('Back data'!$A$93:$BM$93,,MAX(IF('Back data'!$A$93:$BM$93<>"",COLUMN('Back data'!$A$93:$BM$93)))-H$6)} -> 100 | I55: {=INDEX('Back data'!$A$92:$BM$92,,MAX(IF('Back data'!$A$92:$BM$92<>"",COLUMN('Back data'!$A$92:$BM$92)))-I$6)+INDEX('Back data'!$A$93:$BM$93,,MAX(IF('Back data'!$A$93:$BM$93<>"",COLUMN('Back data'!$A$93:$BM$93)))-I$6)} -> 100 | J55: {=INDEX('Back data'!$A$92:$BM$92,,MAX(IF('Back data'!$A$92:$BM$92<>"",COLUMN('Back data'!$A$92:$BM$92)))-J$6)+INDEX('Back data'!$A$93:$BM$93,,MAX(IF('Back data'!$A$93:$BM$93<>"",COLUMN('Back data'!$A$93:$BM$93)))-J$6)} -> 100 | K55: {=INDEX('Back data'!$A$92:$BM$92,,MAX(IF('Back data'!$A$92:$BM$92<>"",COLUMN('Back data'!$A$92:$BM$92)))-K$6)+INDEX('Back data'!$A$93:$BM$93,,MAX(IF('Back data'!$A$93:$BM$93<>"",COLUMN('Back data'!$A$93:$BM$93)))-K$6)} -> 100 | ... P55: {=INDEX('Back data'!$A$92:$BM$92,,MAX(IF('Back data'!$A$92:$BM$92<>"",COLUMN('Back data'!$A$92:$BM$92)))-P$6)+INDEX('Back data'!$A$93:$BM$93,,MAX(IF('Back data'!$A$93:$BM$93<>"",COLUMN('Back data'!$A$93:$BM$93)))-P$6)} -> 100
A56: A OLIVA VIRGEN Y A OLIVA VIRGEN EXTRA | B56: MARCAS DISTRIBUCION | C56: SIN PROMOCION | D56: {=INDEX('Back data'!$A$92:$BM$92,,MAX(IF('Back data'!$A$92:$BM$92<>"",COLUMN('Back data'!$A$92:$BM$92)))-D$6)/D55} -> 0.9844 | E56: {=INDEX('Back data'!$A$92:$BM$92,,MAX(IF('Back data'!$A$92:$BM$92<>"",COLUMN('Back data'!$A$92:$BM$92)))-E$6)/E55} -> 0.9885 | F56: {=INDEX('Back data'!$A$92:$BM$92,,MAX(IF('Back data'!$A$92:$BM$92<>"",COLUMN('Back data'!$A$92:$BM$92)))-F$6)/F55} -> 0.978 | G56: {=INDEX('Back data'!$A$92:$BM$92,,MAX(IF('Back data'!$A$92:$BM$92<>"",COLUMN('Back data'!$A$92:$BM$92)))-G$6)/G55} -> 0.9973 | H56: {=INDEX('Back data'!$A$92:$BM$92,,MAX(IF('Back data'!$A$92:$BM$92<>"",COLUMN('Back data'!$A$92:$BM$92)))-H$6)/H55} -> 1 | I56: {=INDEX('Back data'!$A$92:$BM$92,,MAX(IF('Back data'!$A$92:$BM$92<>"",COLUMN('Back data'!$A$92:$BM$92)))-I$6)/I55} -> 0.9992 | J56: {=INDEX('Back data'!$A$92:$BM$92,,MAX(IF('Back data'!$A$92:$BM$92<>"",COLUMN('Back data'!$A$92:$BM$92)))-J$6)/J55} -> 0.9937 | K56: {=INDEX('Back data'!$A$92:$BM$92,,MAX(IF('Back data'!$A$92:$BM$92<>"",COLUMN('Back data'!$A$92:$BM$92)))-K$6)/K55} -> 0.9598 | ... P56: {=INDEX('Back data'!$A$92:$BM$92,,MAX(IF('Back data'!$A$92:$BM$92<>"",COLUMN('Back data'!$A$92:$BM$92)))-P$6)/P55} -> 1
A57: A OLIVA VIRGEN Y A OLIVA VIRGEN EXTRA | B57: MARCAS DISTRIBUCION | C57: CON PROMOCION | D57: {=INDEX('Back data'!$A$93:$BM$93,,MAX(IF('Back data'!$A$93:$BM$93<>"",COLUMN('Back data'!$A$93:$BM$93)))-D$6)/D55} -> 0.0156 | E57: {=INDEX('Back data'!$A$93:$BM$93,,MAX(IF('Back data'!$A$93:$BM$93<>"",COLUMN('Back data'!$A$93:$BM$93)))-E$6)/E55} -> 0.0115 | F57: {=INDEX('Back data'!$A$93:$BM$93,,MAX(IF('Back data'!$A$93:$BM$93<>"",COLUMN('Back data'!$A$93:$BM$93)))-F$6)/F55} -> 0.022 | G57: {=INDEX('Back data'!$A$93:$BM$93,,MAX(IF('Back data'!$A$93:$BM$93<>"",COLUMN('Back data'!$A$93:$BM$93)))-G$6)/G55} -> 0.0027 | H57: {=INDEX('Back data'!$A$93:$BM$93,,MAX(IF('Back data'!$A$93:$BM$93<>"",COLUMN('Back data'!$A$93:$BM$93)))-H$6)/H55} -> 0 | I57: {=INDEX('Back data'!$A$93:$BM$93,,MAX(IF('Back data'!$A$93:$BM$93<>"",COLUMN('Back data'!$A$93:$BM$93)))-I$6)/I55} -> 0.0008 | J57: {=INDEX('Back data'!$A$93:$BM$93,,MAX(IF('Back data'!$A$93:$BM$93<>"",COLUMN('Back data'!$A$93:$BM$93)))-J$6)/J55} -> 0.0063 | K57: {=INDEX('Back data'!$A$93:$BM$93,,MAX(IF('Back data'!$A$93:$BM$93<>"",COLUMN('Back data'!$A$93:$BM$93)))-K$6)/K55} -> 0.0402 | ... P57: {=INDEX('Back data'!$A$93:$BM$93,,MAX(IF('Back data'!$A$93:$BM$93<>"",COLUMN('Back data'!$A$93:$BM$93)))-P$6)/P55} -> 0
C60: % DECLARADO | D60: {=INDEX('Back data'!$A$282:$BM$282,,MAX(IF('Back data'!$A$282:$BM$282<>"",COLUMN('Back data'!$A$282:$BM$282)))-D$6)+INDEX('Back data'!$A$283:$BM$283,,MAX(IF('Back data'!$A$283:$BM$283<>"",COLUMN('Back data'!$A$283:$BM$283)))-D$6)} -> 100 | E60: {=INDEX('Back data'!$A$282:$BM$282,,MAX(IF('Back data'!$A$282:$BM$282<>"",COLUMN('Back data'!$A$282:$BM$282)))-E$6)+INDEX('Back data'!$A$283:$BM$283,,MAX(IF('Back data'!$A$283:$BM$283<>"",COLUMN('Back data'!$A$283:$BM$283)))-E$6)} -> 100 | F60: {=INDEX('Back data'!$A$282:$BM$282,,MAX(IF('Back data'!$A$282:$BM$282<>"",COLUMN('Back data'!$A$282:$BM$282)))-F$6)+INDEX('Back data'!$A$283:$BM$283,,MAX(IF('Back data'!$A$283:$BM$283<>"",COLUMN('Back data'!$A$283:$BM$283)))-F$6)} -> 100 | G60: {=INDEX('Back data'!$A$282:$BM$282,,MAX(IF('Back data'!$A$282:$BM$282<>"",COLUMN('Back data'!$A$282:$BM$282)))-G$6)+INDEX('Back data'!$A$283:$BM$283,,MAX(IF('Back data'!$A$283:$BM$283<>"",COLUMN('Back data'!$A$283:$BM$283)))-G$6)} -> 100 | H60: {=INDEX('Back data'!$A$282:$BM$282,,MAX(IF('Back data'!$A$282:$BM$282<>"",COLUMN('Back data'!$A$282:$BM$282)))-H$6)+INDEX('Back data'!$A$283:$BM$283,,MAX(IF('Back data'!$A$283:$BM$283<>"",COLUMN('Back data'!$A$283:$BM$283)))-H$6)} -> 100 | I60: {=INDEX('Back data'!$A$282:$BM$282,,MAX(IF('Back data'!$A$282:$BM$282<>"",COLUMN('Back data'!$A$282:$BM$282)))-I$6)+INDEX('Back data'!$A$283:$BM$283,,MAX(IF('Back data'!$A$283:$BM$283<>"",COLUMN('Back data'!$A$283:$BM$283)))-I$6)} -> 100 | J60: {=INDEX('Back data'!$A$282:$BM$282,,MAX(IF('Back data'!$A$282:$BM$282<>"",COLUMN('Back data'!$A$282:$BM$282)))-J$6)+INDEX('Back data'!$A$283:$BM$283,,MAX(IF('Back data'!$A$283:$BM$283<>"",COLUMN('Back data'!$A$283:$BM$283)))-J$6)} -> 100 | K60: {=INDEX('Back data'!$A$282:$BM$282,,MAX(IF('Back data'!$A$282:$BM$282<>"",COLUMN('Back data'!$A$282:$BM$282)))-K$6)+INDEX('Back data'!$A$283:$BM$283,,MAX(IF('Back data'!$A$283:$BM$283<>"",COLUMN('Back data'!$A$283:$BM$283)))-K$6)} -> 100 | ... P60: {=INDEX('Back data'!$A$282:$BM$282,,MAX(IF('Back data'!$A$282:$BM$282<>"",COLUMN('Back data'!$A$282:$BM$282)))-P$6)+INDEX('Back data'!$A$283:$BM$283,,MAX(IF('Back data'!$A$283:$BM$283<>"",COLUMN('Back data'!$A$283:$BM$283)))-P$6)} -> 100
A61: A OLIVA VIRGEN Y A OLIVA VIRGEN EXTRA | B61: HIPERMERCADOS | C61: SIN PROMOCION | D61: {=INDEX('Back data'!$A$282:$BM$282,,MAX(IF('Back data'!$A$282:$BM$282<>"",COLUMN('Back data'!$A$282:$BM$282)))-D$6)/D60} -> 0.6341 | E61: {=INDEX('Back data'!$A$282:$BM$282,,MAX(IF('Back data'!$A$282:$BM$282<>"",COLUMN('Back data'!$A$282:$BM$282)))-E$6)/E60} -> 0.5963 | F61: {=INDEX('Back data'!$A$282:$BM$282,,MAX(IF('Back data'!$A$282:$BM$282<>"",COLUMN('Back data'!$A$282:$BM$282)))-F$6)/F60} -> 0.609 | G61: {=INDEX('Back data'!$A$282:$BM$282,,MAX(IF('Back data'!$A$282:$BM$282<>"",COLUMN('Back data'!$A$282:$BM$282)))-G$6)/G60} -> 0.6943 | H61: {=INDEX('Back data'!$A$282:$BM$282,,MAX(IF('Back data'!$A$282:$BM$282<>"",COLUMN('Back data'!$A$282:$BM$282)))-H$6)/H60} -> 0.5633 | I61: {=INDEX('Back data'!$A$282:$BM$282,,MAX(IF('Back data'!$A$282:$BM$282<>"",COLUMN('Back data'!$A$282:$BM$282)))-I$6)/I60} -> 0.776 | J61: {=INDEX('Back data'!$A$282:$BM$282,,MAX(IF('Back data'!$A$282:$BM$282<>"",COLUMN('Back data'!$A$282:$BM$282)))-J$6)/J60} -> 0.5876 | K61: {=INDEX('Back data'!$A$282:$BM$282,,MAX(IF('Back data'!$A$282:$BM$282<>"",COLUMN('Back data'!$A$282:$BM$282)))-K$6)/K60} -> 0.3929 | ... P61: {=INDEX('Back data'!$A$282:$BM$282,,MAX(IF('Back data'!$A$282:$BM$282<>"",COLUMN('Back data'!$A$282:$BM$282)))-P$6)/P60} -> 0.9541
A62: A OLIVA VIRGEN Y A OLIVA VIRGEN EXTRA | B62: HIPERMERCADOS | C62: CON PROMOCION | D62: {=+INDEX('Back data'!$A$283:$BM$283,,MAX(IF('Back data'!$A$283:$BM$283<>"",COLUMN('Back data'!$A$283:$BM$283)))-D$6)/D60} -> 0.3659 | E62: {=+INDEX('Back data'!$A$283:$BM$283,,MAX(IF('Back data'!$A$283:$BM$283<>"",COLUMN('Back data'!$A$283:$BM$283)))-E$6)/E60} -> 0.4037 | F62: {=+INDEX('Back data'!$A$283:$BM$283,,MAX(IF('Back data'!$A$283:$BM$283<>"",COLUMN('Back data'!$A$283:$BM$283)))-F$6)/F60} -> 0.391 | G62: {=+INDEX('Back data'!$A$283:$BM$283,,MAX(IF('Back data'!$A$283:$BM$283<>"",COLUMN('Back data'!$A$283:$BM$283)))-G$6)/G60} -> 0.3057 | H62: {=+INDEX('Back data'!$A$283:$BM$283,,MAX(IF('Back data'!$A$283:$BM$283<>"",COLUMN('Back data'!$A$283:$BM$283)))-H$6)/H60} -> 0.4367 | I62: {=+INDEX('Back data'!$A$283:$BM$283,,MAX(IF('Back data'!$A$283:$BM$283<>"",COLUMN('Back data'!$A$283:$BM$283)))-I$6)/I60} -> 0.224 | J62: {=+INDEX('Back data'!$A$283:$BM$283,,MAX(IF('Back data'!$A$283:$BM$283<>"",COLUMN('Back data'!$A$283:$BM$283)))-J$6)/J60} -> 0.4124 | K62: {=+INDEX('Back data'!$A$283:$BM$283,,MAX(IF('Back data'!$A$283:$BM$283<>"",COLUMN('Back data'!$A$283:$BM$283)))-K$6)/K60} -> 0.6071 | ... P62: {=+INDEX('Back data'!$A$283:$BM$283,,MAX(IF('Back data'!$A$283:$BM$283<>"",COLUMN('Back data'!$A$283:$BM$283)))-P$6)/P60} -> 0.0459
C65: % DECLARADO | D65: {=INDEX('Back data'!$A$287:$BM$287,,MAX(IF('Back data'!$A$287:$BM$287<>"",COLUMN('Back data'!$A$287:$BM$287)))-D$6)+INDEX('Back data'!$A$288:$BM$288,,MAX(IF('Back data'!$A$288:$BM$288<>"",COLUMN('Back data'!$A$288:$BM$288)))-D$6)} -> 100 | E65: {=INDEX('Back data'!$A$287:$BM$287,,MAX(IF('Back data'!$A$287:$BM$287<>"",COLUMN('Back data'!$A$287:$BM$287)))-E$6)+INDEX('Back data'!$A$288:$BM$288,,MAX(IF('Back data'!$A$288:$BM$288<>"",COLUMN('Back data'!$A$288:$BM$288)))-E$6)} -> 100 | F65: {=INDEX('Back data'!$A$287:$BM$287,,MAX(IF('Back data'!$A$287:$BM$287<>"",COLUMN('Back data'!$A$287:$BM$287)))-F$6)+INDEX('Back data'!$A$288:$BM$288,,MAX(IF('Back data'!$A$288:$BM$288<>"",COLUMN('Back data'!$A$288:$BM$288)))-F$6)} -> 100 | G65: {=INDEX('Back data'!$A$287:$BM$287,,MAX(IF('Back data'!$A$287:$BM$287<>"",COLUMN('Back data'!$A$287:$BM$287)))-G$6)+INDEX('Back data'!$A$288:$BM$288,,MAX(IF('Back data'!$A$288:$BM$288<>"",COLUMN('Back data'!$A$288:$BM$288)))-G$6)} -> 100 | H65: {=INDEX('Back data'!$A$287:$BM$287,,MAX(IF('Back data'!$A$287:$BM$287<>"",COLUMN('Back data'!$A$287:$BM$287)))-H$6)+INDEX('Back data'!$A$288:$BM$288,,MAX(IF('Back data'!$A$288:$BM$288<>"",COLUMN('Back data'!$A$288:$BM$288)))-H$6)} -> 100 | I65: {=INDEX('Back data'!$A$287:$BM$287,,MAX(IF('Back data'!$A$287:$BM$287<>"",COLUMN('Back data'!$A$287:$BM$287)))-I$6)+INDEX('Back data'!$A$288:$BM$288,,MAX(IF('Back data'!$A$288:$BM$288<>"",COLUMN('Back data'!$A$288:$BM$288)))-I$6)} -> 100 | J65: {=INDEX('Back data'!$A$287:$BM$287,,MAX(IF('Back data'!$A$287:$BM$287<>"",COLUMN('Back data'!$A$287:$BM$287)))-J$6)+INDEX('Back data'!$A$288:$BM$288,,MAX(IF('Back data'!$A$288:$BM$288<>"",COLUMN('Back data'!$A$288:$BM$288)))-J$6)} -> 100 | K65: {=INDEX('Back data'!$A$287:$BM$287,,MAX(IF('Back data'!$A$287:$BM$287<>"",COLUMN('Back data'!$A$287:$BM$287)))-K$6)+INDEX('Back data'!$A$288:$BM$288,,MAX(IF('Back data'!$A$288:$BM$288<>"",COLUMN('Back data'!$A$288:$BM$288)))-K$6)} -> 100 | ... P65: {=INDEX('Back data'!$A$287:$BM$287,,MAX(IF('Back data'!$A$287:$BM$287<>"",COLUMN('Back data'!$A$287:$BM$287)))-P$6)+INDEX('Back data'!$A$288:$BM$288,,MAX(IF('Back data'!$A$288:$BM$288<>"",COLUMN('Back data'!$A$288:$BM$288)))-P$6)} -> 100
A66: A OLIVA VIRGEN Y A OLIVA VIRGEN EXTRA | B66: SUPERMERCADOS | C66: SIN PROMOCION | D66: {=INDEX('Back data'!$A$287:$BM$287,,MAX(IF('Back data'!$A$287:$BM$287<>"",COLUMN('Back data'!$A$287:$BM$287)))-D$6)/D65} -> 0.9689 | E66: {=INDEX('Back data'!$A$287:$BM$287,,MAX(IF('Back data'!$A$287:$BM$287<>"",COLUMN('Back data'!$A$287:$BM$287)))-E$6)/E65} -> 0.9697 | F66: {=INDEX('Back data'!$A$287:$BM$287,,MAX(IF('Back data'!$A$287:$BM$287<>"",COLUMN('Back data'!$A$287:$BM$287)))-F$6)/F65} -> 0.933 | G66: {=INDEX('Back data'!$A$287:$BM$287,,MAX(IF('Back data'!$A$287:$BM$287<>"",COLUMN('Back data'!$A$287:$BM$287)))-G$6)/G65} -> 0.9726 | H66: {=INDEX('Back data'!$A$287:$BM$287,,MAX(IF('Back data'!$A$287:$BM$287<>"",COLUMN('Back data'!$A$287:$BM$287)))-H$6)/H65} -> 0.9479 | I66: {=INDEX('Back data'!$A$287:$BM$287,,MAX(IF('Back data'!$A$287:$BM$287<>"",COLUMN('Back data'!$A$287:$BM$287)))-I$6)/I65} -> 0.9612 | J66: {=INDEX('Back data'!$A$287:$BM$287,,MAX(IF('Back data'!$A$287:$BM$287<>"",COLUMN('Back data'!$A$287:$BM$287)))-J$6)/J65} -> 0.9591 | K66: {=INDEX('Back data'!$A$287:$BM$287,,MAX(IF('Back data'!$A$287:$BM$287<>"",COLUMN('Back data'!$A$287:$BM$287)))-K$6)/K65} -> 0.9246 | ... P66: {=INDEX('Back data'!$A$287:$BM$287,,MAX(IF('Back data'!$A$287:$BM$287<>"",COLUMN('Back data'!$A$287:$BM$287)))-P$6)/P65} -> 0.9783
A67: A OLIVA VIRGEN Y A OLIVA VIRGEN EXTRA | B67: SUPERMERCADOS | C67: CON PROMOCION | D67: {=+INDEX('Back data'!$A$288:$BM$288,,MAX(IF('Back data'!$A$288:$BM$288<>"",COLUMN('Back data'!$A$288:$BM$288)))-D$6)/D65} -> 0.0311 | E67: {=+INDEX('Back data'!$A$288:$BM$288,,MAX(IF('Back data'!$A$288:$BM$288<>"",COLUMN('Back data'!$A$288:$BM$288)))-E$6)/E65} -> 0.0303 | F67: {=+INDEX('Back data'!$A$288:$BM$288,,MAX(IF('Back data'!$A$288:$BM$288<>"",COLUMN('Back data'!$A$288:$BM$288)))-F$6)/F65} -> 0.067 | G67: {=+INDEX('Back data'!$A$288:$BM$288,,MAX(IF('Back data'!$A$288:$BM$288<>"",COLUMN('Back data'!$A$288:$BM$288)))-G$6)/G65} -> 0.0274 | H67: {=+INDEX('Back data'!$A$288:$BM$288,,MAX(IF('Back data'!$A$288:$BM$288<>"",COLUMN('Back data'!$A$288:$BM$288)))-H$6)/H65} -> 0.0521 | I67: {=+INDEX('Back data'!$A$288:$BM$288,,MAX(IF('Back data'!$A$288:$BM$288<>"",COLUMN('Back data'!$A$288:$BM$288)))-I$6)/I65} -> 0.0388 | J67: {=+INDEX('Back data'!$A$288:$BM$288,,MAX(IF('Back data'!$A$288:$BM$288<>"",COLUMN('Back data'!$A$288:$BM$288)))-J$6)/J65} -> 0.0409 | K67: {=+INDEX('Back data'!$A$288:$BM$288,,MAX(IF('Back data'!$A$288:$BM$288<>"",COLUMN('Back data'!$A$288:$BM$288)))-K$6)/K65} -> 0.0754 | ... P67: {=+INDEX('Back data'!$A$288:$BM$288,,MAX(IF('Back data'!$A$288:$BM$288<>"",COLUMN('Back data'!$A$288:$BM$288)))-P$6)/P65} -> 0.0217
C70: % DECLARADO | D70: {=INDEX('Back data'!$A$292:$BM$292,,MAX(IF('Back data'!$A$292:$BM$292<>"",COLUMN('Back data'!$A$292:$BM$292)))-D$6)+INDEX('Back data'!$A$293:$BM$293,,MAX(IF('Back data'!$A$293:$BM$293<>"",COLUMN('Back data'!$A$293:$BM$293)))-D$6)} -> 100 | E70: {=INDEX('Back data'!$A$292:$BM$292,,MAX(IF('Back data'!$A$292:$BM$292<>"",COLUMN('Back data'!$A$292:$BM$292)))-E$6)+INDEX('Back data'!$A$293:$BM$293,,MAX(IF('Back data'!$A$293:$BM$293<>"",COLUMN('Back data'!$A$293:$BM$293)))-E$6)} -> 100 | F70: {=INDEX('Back data'!$A$292:$BM$292,,MAX(IF('Back data'!$A$292:$BM$292<>"",COLUMN('Back data'!$A$292:$BM$292)))-F$6)+INDEX('Back data'!$A$293:$BM$293,,MAX(IF('Back data'!$A$293:$BM$293<>"",COLUMN('Back data'!$A$293:$BM$293)))-F$6)} -> 100 | G70: {=INDEX('Back data'!$A$292:$BM$292,,MAX(IF('Back data'!$A$292:$BM$292<>"",COLUMN('Back data'!$A$292:$BM$292)))-G$6)+INDEX('Back data'!$A$293:$BM$293,,MAX(IF('Back data'!$A$293:$BM$293<>"",COLUMN('Back data'!$A$293:$BM$293)))-G$6)} -> 100 | H70: {=INDEX('Back data'!$A$292:$BM$292,,MAX(IF('Back data'!$A$292:$BM$292<>"",COLUMN('Back data'!$A$292:$BM$292)))-H$6)+INDEX('Back data'!$A$293:$BM$293,,MAX(IF('Back data'!$A$293:$BM$293<>"",COLUMN('Back data'!$A$293:$BM$293)))-H$6)} -> 100 | I70: {=INDEX('Back data'!$A$292:$BM$292,,MAX(IF('Back data'!$A$292:$BM$292<>"",COLUMN('Back data'!$A$292:$BM$292)))-I$6)+INDEX('Back data'!$A$293:$BM$293,,MAX(IF('Back data'!$A$293:$BM$293<>"",COLUMN('Back data'!$A$293:$BM$293)))-I$6)} -> 100 | J70: {=INDEX('Back data'!$A$292:$BM$292,,MAX(IF('Back data'!$A$292:$BM$292<>"",COLUMN('Back data'!$A$292:$BM$292)))-J$6)+INDEX('Back data'!$A$293:$BM$293,,MAX(IF('Back data'!$A$293:$BM$293<>"",COLUMN('Back data'!$A$293:$BM$293)))-J$6)} -> 100 | K70: {=INDEX('Back data'!$A$292:$BM$292,,MAX(IF('Back data'!$A$292:$BM$292<>"",COLUMN('Back data'!$A$292:$BM$292)))-K$6)+INDEX('Back data'!$A$293:$BM$293,,MAX(IF('Back data'!$A$293:$BM$293<>"",COLUMN('Back data'!$A$293:$BM$293)))-K$6)} -> 100 | ... P70: {=INDEX('Back data'!$A$292:$BM$292,,MAX(IF('Back data'!$A$292:$BM$292<>"",COLUMN('Back data'!$A$292:$BM$292)))-P$6)+INDEX('Back data'!$A$293:$BM$293,,MAX(IF('Back data'!$A$293:$BM$293<>"",COLUMN('Back data'!$A$293:$BM$293)))-P$6)} -> 100
A71: A OLIVA VIRGEN Y A OLIVA VIRGEN EXTRA | B71: SUPER+AUTOS | C71: SIN PROMOCION | D71: {=INDEX('Back data'!$A$292:$BM$292,,MAX(IF('Back data'!$A$292:$BM$292<>"",COLUMN('Back data'!$A$292:$BM$292)))-D$6)/D70} -> 0.9745 | E71: {=INDEX('Back data'!$A$292:$BM$292,,MAX(IF('Back data'!$A$292:$BM$292<>"",COLUMN('Back data'!$A$292:$BM$292)))-E$6)/E70} -> 0.965 | F71: {=INDEX('Back data'!$A$292:$BM$292,,MAX(IF('Back data'!$A$292:$BM$292<>"",COLUMN('Back data'!$A$292:$BM$292)))-F$6)/F70} -> 0.9566 | G71: {=INDEX('Back data'!$A$292:$BM$292,,MAX(IF('Back data'!$A$292:$BM$292<>"",COLUMN('Back data'!$A$292:$BM$292)))-G$6)/G70} -> 0.9781 | H71: {=INDEX('Back data'!$A$292:$BM$292,,MAX(IF('Back data'!$A$292:$BM$292<>"",COLUMN('Back data'!$A$292:$BM$292)))-H$6)/H70} -> 0.9542 | I71: {=INDEX('Back data'!$A$292:$BM$292,,MAX(IF('Back data'!$A$292:$BM$292<>"",COLUMN('Back data'!$A$292:$BM$292)))-I$6)/I70} -> 0.9721 | J71: {=INDEX('Back data'!$A$292:$BM$292,,MAX(IF('Back data'!$A$292:$BM$292<>"",COLUMN('Back data'!$A$292:$BM$292)))-J$6)/J70} -> 0.9601 | K71: {=INDEX('Back data'!$A$292:$BM$292,,MAX(IF('Back data'!$A$292:$BM$292<>"",COLUMN('Back data'!$A$292:$BM$292)))-K$6)/K70} -> 0.9326 | ... P71: {=INDEX('Back data'!$A$292:$BM$292,,MAX(IF('Back data'!$A$292:$BM$292<>"",COLUMN('Back data'!$A$292:$BM$292)))-P$6)/P70} -> 0.9782
A72: A OLIVA VIRGEN Y A OLIVA VIRGEN EXTRA | B72: SUPER+AUTOS | C72: CON PROMOCION | D72: {=INDEX('Back data'!$A$293:$BM$293,,MAX(IF('Back data'!$A$293:$BM$293<>"",COLUMN('Back data'!$A$293:$BM$293)))-D$6)/D70} -> 0.0255 | E72: {=INDEX('Back data'!$A$293:$BM$293,,MAX(IF('Back data'!$A$293:$BM$293<>"",COLUMN('Back data'!$A$293:$BM$293)))-E$6)/E70} -> 0.035 | F72: {=INDEX('Back data'!$A$293:$BM$293,,MAX(IF('Back data'!$A$293:$BM$293<>"",COLUMN('Back data'!$A$293:$BM$293)))-F$6)/F70} -> 0.0434 | G72: {=INDEX('Back data'!$A$293:$BM$293,,MAX(IF('Back data'!$A$293:$BM$293<>"",COLUMN('Back data'!$A$293:$BM$293)))-G$6)/G70} -> 0.0219 | H72: {=INDEX('Back data'!$A$293:$BM$293,,MAX(IF('Back data'!$A$293:$BM$293<>"",COLUMN('Back data'!$A$293:$BM$293)))-H$6)/H70} -> 0.0458 | I72: {=INDEX('Back data'!$A$293:$BM$293,,MAX(IF('Back data'!$A$293:$BM$293<>"",COLUMN('Back data'!$A$293:$BM$293)))-I$6)/I70} -> 0.0279 | J72: {=INDEX('Back data'!$A$293:$BM$293,,MAX(IF('Back data'!$A$293:$BM$293<>"",COLUMN('Back data'!$A$293:$BM$293)))-J$6)/J70} -> 0.0399 | K72: {=INDEX('Back data'!$A$293:$BM$293,,MAX(IF('Back data'!$A$293:$BM$293<>"",COLUMN('Back data'!$A$293:$BM$293)))-K$6)/K70} -> 0.0674 | ... P72: {=INDEX('Back data'!$A$293:$BM$293,,MAX(IF('Back data'!$A$293:$BM$293<>"",COLUMN('Back data'!$A$293:$BM$293)))-P$6)/P70} -> 0.0218
C75: % DECLARADO | D75: {=INDEX('Back data'!$A$297:$BM$297,,MAX(IF('Back data'!$A$297:$BM$297<>"",COLUMN('Back data'!$A$297:$BM$297)))-D$6)+INDEX('Back data'!$A$298:$BM$298,,MAX(IF('Back data'!$A$298:$BM$298<>"",COLUMN('Back data'!$A$298:$BM$298)))-D$6)} -> 100 | E75: {=INDEX('Back data'!$A$297:$BM$297,,MAX(IF('Back data'!$A$297:$BM$297<>"",COLUMN('Back data'!$A$297:$BM$297)))-E$6)+INDEX('Back data'!$A$298:$BM$298,,MAX(IF('Back data'!$A$298:$BM$298<>"",COLUMN('Back data'!$A$298:$BM$298)))-E$6)} -> 100 | F75: {=INDEX('Back data'!$A$297:$BM$297,,MAX(IF('Back data'!$A$297:$BM$297<>"",COLUMN('Back data'!$A$297:$BM$297)))-F$6)+INDEX('Back data'!$A$298:$BM$298,,MAX(IF('Back data'!$A$298:$BM$298<>"",COLUMN('Back data'!$A$298:$BM$298)))-F$6)} -> 100 | G75: {=INDEX('Back data'!$A$297:$BM$297,,MAX(IF('Back data'!$A$297:$BM$297<>"",COLUMN('Back data'!$A$297:$BM$297)))-G$6)+INDEX('Back data'!$A$298:$BM$298,,MAX(IF('Back data'!$A$298:$BM$298<>"",COLUMN('Back data'!$A$298:$BM$298)))-G$6)} -> 100 | H75: {=INDEX('Back data'!$A$297:$BM$297,,MAX(IF('Back data'!$A$297:$BM$297<>"",COLUMN('Back data'!$A$297:$BM$297)))-H$6)+INDEX('Back data'!$A$298:$BM$298,,MAX(IF('Back data'!$A$298:$BM$298<>"",COLUMN('Back data'!$A$298:$BM$298)))-H$6)} -> 100 | I75: {=INDEX('Back data'!$A$297:$BM$297,,MAX(IF('Back data'!$A$297:$BM$297<>"",COLUMN('Back data'!$A$297:$BM$297)))-I$6)+INDEX('Back data'!$A$298:$BM$298,,MAX(IF('Back data'!$A$298:$BM$298<>"",COLUMN('Back data'!$A$298:$BM$298)))-I$6)} -> 100 | J75: {=INDEX('Back data'!$A$297:$BM$297,,MAX(IF('Back data'!$A$297:$BM$297<>"",COLUMN('Back data'!$A$297:$BM$297)))-J$6)+INDEX('Back data'!$A$298:$BM$298,,MAX(IF('Back data'!$A$298:$BM$298<>"",COLUMN('Back data'!$A$298:$BM$298)))-J$6)} -> 100 | K75: {=INDEX('Back data'!$A$297:$BM$297,,MAX(IF('Back data'!$A$297:$BM$297<>"",COLUMN('Back data'!$A$297:$BM$297)))-K$6)+INDEX('Back data'!$A$298:$BM$298,,MAX(IF('Back data'!$A$298:$BM$298<>"",COLUMN('Back data'!$A$298:$BM$298)))-K$6)} -> 100 | ... P75: {=INDEX('Back data'!$A$297:$BM$297,,MAX(IF('Back data'!$A$297:$BM$297<>"",COLUMN('Back data'!$A$297:$BM$297)))-P$6)+INDEX('Back data'!$A$298:$BM$298,,MAX(IF('Back data'!$A$298:$BM$298<>"",COLUMN('Back data'!$A$298:$BM$298)))-P$6)} -> 100
A76: A OLIVA VIRGEN Y A OLIVA VIRGEN EXTRA | B76: DISCOUNTS | C76: SIN PROMOCION | D76: {=INDEX('Back data'!$A$297:$BM$297,,MAX(IF('Back data'!$A$297:$BM$297<>"",COLUMN('Back data'!$A$297:$BM$297)))-D$6)/D75} -> 0.945 | E76: {=INDEX('Back data'!$A$297:$BM$297,,MAX(IF('Back data'!$A$297:$BM$297<>"",COLUMN('Back data'!$A$297:$BM$297)))-E$6)/E75} -> 0.9917 | F76: {=INDEX('Back data'!$A$297:$BM$297,,MAX(IF('Back data'!$A$297:$BM$297<>"",COLUMN('Back data'!$A$297:$BM$297)))-F$6)/F75} -> 0.8465 | G76: {=INDEX('Back data'!$A$297:$BM$297,,MAX(IF('Back data'!$A$297:$BM$297<>"",COLUMN('Back data'!$A$297:$BM$297)))-G$6)/G75} -> 0.9527 | H76: {=INDEX('Back data'!$A$297:$BM$297,,MAX(IF('Back data'!$A$297:$BM$297<>"",COLUMN('Back data'!$A$297:$BM$297)))-H$6)/H75} -> 0.9275 | I76: {=INDEX('Back data'!$A$297:$BM$297,,MAX(IF('Back data'!$A$297:$BM$297<>"",COLUMN('Back data'!$A$297:$BM$297)))-I$6)/I75} -> 0.9193 | J76: {=INDEX('Back data'!$A$297:$BM$297,,MAX(IF('Back data'!$A$297:$BM$297<>"",COLUMN('Back data'!$A$297:$BM$297)))-J$6)/J75} -> 0.9554 | K76: {=INDEX('Back data'!$A$297:$BM$297,,MAX(IF('Back data'!$A$297:$BM$297<>"",COLUMN('Back data'!$A$297:$BM$297)))-K$6)/K75} -> 0.8925 | ... P76: {=INDEX('Back data'!$A$297:$BM$297,,MAX(IF('Back data'!$A$297:$BM$297<>"",COLUMN('Back data'!$A$297:$BM$297)))-P$6)/P75} -> 0.9785
A77: A OLIVA VIRGEN Y A OLIVA VIRGEN EXTRA | B77: DISCOUNTS | C77: CON PROMOCION | D77: {=+INDEX('Back data'!$A$298:$BM$298,,MAX(IF('Back data'!$A$298:$BM$298<>"",COLUMN('Back data'!$A$298:$BM$298)))-D$6)/D75} -> 0.055 | E77: {=+INDEX('Back data'!$A$298:$BM$298,,MAX(IF('Back data'!$A$298:$BM$298<>"",COLUMN('Back data'!$A$298:$BM$298)))-E$6)/E75} -> 0.0083 | F77: {=+INDEX('Back data'!$A$298:$BM$298,,MAX(IF('Back data'!$A$298:$BM$298<>"",COLUMN('Back data'!$A$298:$BM$298)))-F$6)/F75} -> 0.1535 | G77: {=+INDEX('Back data'!$A$298:$BM$298,,MAX(IF('Back data'!$A$298:$BM$298<>"",COLUMN('Back data'!$A$298:$BM$298)))-G$6)/G75} -> 0.0473 | H77: {=+INDEX('Back data'!$A$298:$BM$298,,MAX(IF('Back data'!$A$298:$BM$298<>"",COLUMN('Back data'!$A$298:$BM$298)))-H$6)/H75} -> 0.0725 | I77: {=+INDEX('Back data'!$A$298:$BM$298,,MAX(IF('Back data'!$A$298:$BM$298<>"",COLUMN('Back data'!$A$298:$BM$298)))-I$6)/I75} -> 0.0807 | J77: {=+INDEX('Back data'!$A$298:$BM$298,,MAX(IF('Back data'!$A$298:$BM$298<>"",COLUMN('Back data'!$A$298:$BM$298)))-J$6)/J75} -> 0.0446 | K77: {=+INDEX('Back data'!$A$298:$BM$298,,MAX(IF('Back data'!$A$298:$BM$298<>"",COLUMN('Back data'!$A$298:$BM$298)))-K$6)/K75} -> 0.1075 | ... P77: {=+INDEX('Back data'!$A$298:$BM$298,,MAX(IF('Back data'!$A$298:$BM$298<>"",COLUMN('Back data'!$A$298:$BM$298)))-P$6)/P75} -> 0.0215
C83: % DECLARADO | D83: {=INDEX('Back data'!$A$157:$BM$157,,MAX(IF('Back data'!$A$157:$BM$157<>"",COLUMN('Back data'!$A$157:$BM$157)))-D$6)+INDEX('Back data'!$A$158:$BM$158,,MAX(IF('Back data'!$A$158:$BM$158<>"",COLUMN('Back data'!$A$158:$BM$158)))-D$6)} -> 100 | E83: {=INDEX('Back data'!$A$157:$BM$157,,MAX(IF('Back data'!$A$157:$BM$157<>"",COLUMN('Back data'!$A$157:$BM$157)))-E$6)+INDEX('Back data'!$A$158:$BM$158,,MAX(IF('Back data'!$A$158:$BM$158<>"",COLUMN('Back data'!$A$158:$BM$158)))-E$6)} -> 100 | F83: {=INDEX('Back data'!$A$157:$BM$157,,MAX(IF('Back data'!$A$157:$BM$157<>"",COLUMN('Back data'!$A$157:$BM$157)))-F$6)+INDEX('Back data'!$A$158:$BM$158,,MAX(IF('Back data'!$A$158:$BM$158<>"",COLUMN('Back data'!$A$158:$BM$158)))-F$6)} -> 100 | G83: {=INDEX('Back data'!$A$157:$BM$157,,MAX(IF('Back data'!$A$157:$BM$157<>"",COLUMN('Back data'!$A$157:$BM$157)))-G$6)+INDEX('Back data'!$A$158:$BM$158,,MAX(IF('Back data'!$A$158:$BM$158<>"",COLUMN('Back data'!$A$158:$BM$158)))-G$6)} -> 100 | H83: {=INDEX('Back data'!$A$157:$BM$157,,MAX(IF('Back data'!$A$157:$BM$157<>"",COLUMN('Back data'!$A$157:$BM$157)))-H$6)+INDEX('Back data'!$A$158:$BM$158,,MAX(IF('Back data'!$A$158:$BM$158<>"",COLUMN('Back data'!$A$158:$BM$158)))-H$6)} -> 100 | I83: {=INDEX('Back data'!$A$157:$BM$157,,MAX(IF('Back data'!$A$157:$BM$157<>"",COLUMN('Back data'!$A$157:$BM$157)))-I$6)+INDEX('Back data'!$A$158:$BM$158,,MAX(IF('Back data'!$A$158:$BM$158<>"",COLUMN('Back data'!$A$158:$BM$158)))-I$6)} -> 100 | J83: {=INDEX('Back data'!$A$157:$BM$157,,MAX(IF('Back data'!$A$157:$BM$157<>"",COLUMN('Back data'!$A$157:$BM$157)))-J$6)+INDEX('Back data'!$A$158:$BM$158,,MAX(IF('Back data'!$A$158:$BM$158<>"",COLUMN('Back data'!$A$158:$BM$158)))-J$6)} -> 100 | K83: {=INDEX('Back data'!$A$157:$BM$157,,MAX(IF('Back data'!$A$157:$BM$157<>"",COLUMN('Back data'!$A$157:$BM$157)))-K$6)+INDEX('Back data'!$A$158:$BM$158,,MAX(IF('Back data'!$A$158:$BM$158<>"",COLUMN('Back data'!$A$158:$BM$158)))-K$6)} -> 100 | ... P83: {=INDEX('Back data'!$A$157:$BM$157,,MAX(IF('Back data'!$A$157:$BM$157<>"",COLUMN('Back data'!$A$157:$BM$157)))-P$6)+INDEX('Back data'!$A$158:$BM$158,,MAX(IF('Back data'!$A$158:$BM$158<>"",COLUMN('Back data'!$A$158:$BM$158)))-P$6)} -> 100
A84: ACEITE DE OLIVA | B84: TOTAL | C84: SIN PROMOCION | D84: {=INDEX('Back data'!$A$157:$BM$157,,MAX(IF('Back data'!$A$157:$BM$157<>"",COLUMN('Back data'!$A$157:$BM$157)))-D$6)/D83} -> 0.8771 | E84: {=INDEX('Back data'!$A$157:$BM$157,,MAX(IF('Back data'!$A$157:$BM$157<>"",COLUMN('Back data'!$A$157:$BM$157)))-E$6)/E83} -> 0.8537 | F84: {=INDEX('Back data'!$A$157:$BM$157,,MAX(IF('Back data'!$A$157:$BM$157<>"",COLUMN('Back data'!$A$157:$BM$157)))-F$6)/F83} -> 0.8555 | G84: {=INDEX('Back data'!$A$157:$BM$157,,MAX(IF('Back data'!$A$157:$BM$157<>"",COLUMN('Back data'!$A$157:$BM$157)))-G$6)/G83} -> 0.889 | H84: {=INDEX('Back data'!$A$157:$BM$157,,MAX(IF('Back data'!$A$157:$BM$157<>"",COLUMN('Back data'!$A$157:$BM$157)))-H$6)/H83} -> 0.871 | I84: {=INDEX('Back data'!$A$157:$BM$157,,MAX(IF('Back data'!$A$157:$BM$157<>"",COLUMN('Back data'!$A$157:$BM$157)))-I$6)/I83} -> 0.9031 | J84: {=INDEX('Back data'!$A$157:$BM$157,,MAX(IF('Back data'!$A$157:$BM$157<>"",COLUMN('Back data'!$A$157:$BM$157)))-J$6)/J83} -> 0.8819 | K84: {=INDEX('Back data'!$A$157:$BM$157,,MAX(IF('Back data'!$A$157:$BM$157<>"",COLUMN('Back data'!$A$157:$BM$157)))-K$6)/K83} -> 0.8615 | ... P84: {=INDEX('Back data'!$A$157:$BM$157,,MAX(IF('Back data'!$A$157:$BM$157<>"",COLUMN('Back data'!$A$157:$BM$157)))-P$6)/P83} -> 0.9442
A85: ACEITE DE OLIVA | B85: TOTAL | C85: CON PROMOCION | D85: {=INDEX('Back data'!$A$158:$BM$158,,MAX(IF('Back data'!$A$158:$BM$158<>"",COLUMN('Back data'!$A$158:$BM$158)))-D$6)/D83} -> 0.1229 | E85: {=INDEX('Back data'!$A$158:$BM$158,,MAX(IF('Back data'!$A$158:$BM$158<>"",COLUMN('Back data'!$A$158:$BM$158)))-E$6)/E83} -> 0.1463 | F85: {=INDEX('Back data'!$A$158:$BM$158,,MAX(IF('Back data'!$A$158:$BM$158<>"",COLUMN('Back data'!$A$158:$BM$158)))-F$6)/F83} -> 0.1445 | G85: {=INDEX('Back data'!$A$158:$BM$158,,MAX(IF('Back data'!$A$158:$BM$158<>"",COLUMN('Back data'!$A$158:$BM$158)))-G$6)/G83} -> 0.111 | H85: {=INDEX('Back data'!$A$158:$BM$158,,MAX(IF('Back data'!$A$158:$BM$158<>"",COLUMN('Back data'!$A$158:$BM$158)))-H$6)/H83} -> 0.129 | I85: {=INDEX('Back data'!$A$158:$BM$158,,MAX(IF('Back data'!$A$158:$BM$158<>"",COLUMN('Back data'!$A$158:$BM$158)))-I$6)/I83} -> 0.0969 | J85: {=INDEX('Back data'!$A$158:$BM$158,,MAX(IF('Back data'!$A$158:$BM$158<>"",COLUMN('Back data'!$A$158:$BM$158)))-J$6)/J83} -> 0.1181 | K85: {=INDEX('Back data'!$A$158:$BM$158,,MAX(IF('Back data'!$A$158:$BM$158<>"",COLUMN('Back data'!$A$158:$BM$158)))-K$6)/K83} -> 0.1385 | ... P85: {=INDEX('Back data'!$A$158:$BM$158,,MAX(IF('Back data'!$A$158:$BM$158<>"",COLUMN('Back data'!$A$158:$BM$158)))-P$6)/P83} -> 0.0558
C88: % DECLARADO | D88: {=INDEX('Back data'!$A$162:$BM$162,,MAX(IF('Back data'!$A$162:$BM$162<>"",COLUMN('Back data'!$A$162:$BM$162)))-D$6)+INDEX('Back data'!$A$163:$BM$163,,MAX(IF('Back data'!$A$163:$BM$163<>"",COLUMN('Back data'!$A$163:$BM$163)))-D$6)} -> 100 | E88: {=INDEX('Back data'!$A$162:$BM$162,,MAX(IF('Back data'!$A$162:$BM$162<>"",COLUMN('Back data'!$A$162:$BM$162)))-E$6)+INDEX('Back data'!$A$163:$BM$163,,MAX(IF('Back data'!$A$163:$BM$163<>"",COLUMN('Back data'!$A$163:$BM$163)))-E$6)} -> 100 | F88: {=INDEX('Back data'!$A$162:$BM$162,,MAX(IF('Back data'!$A$162:$BM$162<>"",COLUMN('Back data'!$A$162:$BM$162)))-F$6)+INDEX('Back data'!$A$163:$BM$163,,MAX(IF('Back data'!$A$163:$BM$163<>"",COLUMN('Back data'!$A$163:$BM$163)))-F$6)} -> 100 | G88: {=INDEX('Back data'!$A$162:$BM$162,,MAX(IF('Back data'!$A$162:$BM$162<>"",COLUMN('Back data'!$A$162:$BM$162)))-G$6)+INDEX('Back data'!$A$163:$BM$163,,MAX(IF('Back data'!$A$163:$BM$163<>"",COLUMN('Back data'!$A$163:$BM$163)))-G$6)} -> 100 | H88: {=INDEX('Back data'!$A$162:$BM$162,,MAX(IF('Back data'!$A$162:$BM$162<>"",COLUMN('Back data'!$A$162:$BM$162)))-H$6)+INDEX('Back data'!$A$163:$BM$163,,MAX(IF('Back data'!$A$163:$BM$163<>"",COLUMN('Back data'!$A$163:$BM$163)))-H$6)} -> 100 | I88: {=INDEX('Back data'!$A$162:$BM$162,,MAX(IF('Back data'!$A$162:$BM$162<>"",COLUMN('Back data'!$A$162:$BM$162)))-I$6)+INDEX('Back data'!$A$163:$BM$163,,MAX(IF('Back data'!$A$163:$BM$163<>"",COLUMN('Back data'!$A$163:$BM$163)))-I$6)} -> 100 | J88: {=INDEX('Back data'!$A$162:$BM$162,,MAX(IF('Back data'!$A$162:$BM$162<>"",COLUMN('Back data'!$A$162:$BM$162)))-J$6)+INDEX('Back data'!$A$163:$BM$163,,MAX(IF('Back data'!$A$163:$BM$163<>"",COLUMN('Back data'!$A$163:$BM$163)))-J$6)} -> 100 | K88: {=INDEX('Back data'!$A$162:$BM$162,,MAX(IF('Back data'!$A$162:$BM$162<>"",COLUMN('Back data'!$A$162:$BM$162)))-K$6)+INDEX('Back data'!$A$163:$BM$163,,MAX(IF('Back data'!$A$163:$BM$163<>"",COLUMN('Back data'!$A$163:$BM$163)))-K$6)} -> 100 | ... P88: {=INDEX('Back data'!$A$162:$BM$162,,MAX(IF('Back data'!$A$162:$BM$162<>"",COLUMN('Back data'!$A$162:$BM$162)))-P$6)+INDEX('Back data'!$A$163:$BM$163,,MAX(IF('Back data'!$A$163:$BM$163<>"",COLUMN('Back data'!$A$163:$BM$163)))-P$6)} -> 100
A89: ACEITE DE OLIVA | B89: PRINCIPALES FABRICANTE | C89: SIN PROMOCION | D89: {=INDEX('Back data'!$A$162:$BM$162,,MAX(IF('Back data'!$A$162:$BM$162<>"",COLUMN('Back data'!$A$162:$BM$162)))-D$6)/D88} -> 0.677 | E89: {=INDEX('Back data'!$A$162:$BM$162,,MAX(IF('Back data'!$A$162:$BM$162<>"",COLUMN('Back data'!$A$162:$BM$162)))-E$6)/E88} -> 0.6048 | F89: {=INDEX('Back data'!$A$162:$BM$162,,MAX(IF('Back data'!$A$162:$BM$162<>"",COLUMN('Back data'!$A$162:$BM$162)))-F$6)/F88} -> 0.6569 | G89: {=INDEX('Back data'!$A$162:$BM$162,,MAX(IF('Back data'!$A$162:$BM$162<>"",COLUMN('Back data'!$A$162:$BM$162)))-G$6)/G88} -> 0.6618 | H89: {=INDEX('Back data'!$A$162:$BM$162,,MAX(IF('Back data'!$A$162:$BM$162<>"",COLUMN('Back data'!$A$162:$BM$162)))-H$6)/H88} -> 0.59 | I89: {=INDEX('Back data'!$A$162:$BM$162,,MAX(IF('Back data'!$A$162:$BM$162<>"",COLUMN('Back data'!$A$162:$BM$162)))-I$6)/I88} -> 0.6379 | J89: {=INDEX('Back data'!$A$162:$BM$162,,MAX(IF('Back data'!$A$162:$BM$162<>"",COLUMN('Back data'!$A$162:$BM$162)))-J$6)/J88} -> 0.6449 | K89: {=INDEX('Back data'!$A$162:$BM$162,,MAX(IF('Back data'!$A$162:$BM$162<>"",COLUMN('Back data'!$A$162:$BM$162)))-K$6)/K88} -> 0.6459 | ... P89: {=INDEX('Back data'!$A$162:$BM$162,,MAX(IF('Back data'!$A$162:$BM$162<>"",COLUMN('Back data'!$A$162:$BM$162)))-P$6)/P88} -> 0.834
A90: ACEITE DE OLIVA | B90: PRINCIPALES FABRICANTE | C90: CON PROMOCION | D90: {=INDEX('Back data'!$A$163:$BM$163,,MAX(IF('Back data'!$A$163:$BM$163<>"",COLUMN('Back data'!$A$163:$BM$163)))-D$6)/D88} -> 0.323 | E90: {=INDEX('Back data'!$A$163:$BM$163,,MAX(IF('Back data'!$A$163:$BM$163<>"",COLUMN('Back data'!$A$163:$BM$163)))-E$6)/E88} -> 0.3952 | F90: {=INDEX('Back data'!$A$163:$BM$163,,MAX(IF('Back data'!$A$163:$BM$163<>"",COLUMN('Back data'!$A$163:$BM$163)))-F$6)/F88} -> 0.3431 | G90: {=INDEX('Back data'!$A$163:$BM$163,,MAX(IF('Back data'!$A$163:$BM$163<>"",COLUMN('Back data'!$A$163:$BM$163)))-G$6)/G88} -> 0.3382 | H90: {=INDEX('Back data'!$A$163:$BM$163,,MAX(IF('Back data'!$A$163:$BM$163<>"",COLUMN('Back data'!$A$163:$BM$163)))-H$6)/H88} -> 0.41 | I90: {=INDEX('Back data'!$A$163:$BM$163,,MAX(IF('Back data'!$A$163:$BM$163<>"",COLUMN('Back data'!$A$163:$BM$163)))-I$6)/I88} -> 0.3621 | J90: {=INDEX('Back data'!$A$163:$BM$163,,MAX(IF('Back data'!$A$163:$BM$163<>"",COLUMN('Back data'!$A$163:$BM$163)))-J$6)/J88} -> 0.3551 | K90: {=INDEX('Back data'!$A$163:$BM$163,,MAX(IF('Back data'!$A$163:$BM$163<>"",COLUMN('Back data'!$A$163:$BM$163)))-K$6)/K88} -> 0.3541 | ... P90: {=INDEX('Back data'!$A$163:$BM$163,,MAX(IF('Back data'!$A$163:$BM$163<>"",COLUMN('Back data'!$A$163:$BM$163)))-P$6)/P88} -> 0.166
C93: % DECLARADO | D93: {=INDEX('Back data'!$A$167:$BM$167,,MAX(IF('Back data'!$A$167:$BM$167<>"",COLUMN('Back data'!$A$167:$BM$167)))-D$6)+INDEX('Back data'!$A$168:$BM$168,,MAX(IF('Back data'!$A$168:$BM$168<>"",COLUMN('Back data'!$A$168:$BM$168)))-D$6)} -> 100 | E93: {=INDEX('Back data'!$A$167:$BM$167,,MAX(IF('Back data'!$A$167:$BM$167<>"",COLUMN('Back data'!$A$167:$BM$167)))-E$6)+INDEX('Back data'!$A$168:$BM$168,,MAX(IF('Back data'!$A$168:$BM$168<>"",COLUMN('Back data'!$A$168:$BM$168)))-E$6)} -> 100 | F93: {=INDEX('Back data'!$A$167:$BM$167,,MAX(IF('Back data'!$A$167:$BM$167<>"",COLUMN('Back data'!$A$167:$BM$167)))-F$6)+INDEX('Back data'!$A$168:$BM$168,,MAX(IF('Back data'!$A$168:$BM$168<>"",COLUMN('Back data'!$A$168:$BM$168)))-F$6)} -> 100 | G93: {=INDEX('Back data'!$A$167:$BM$167,,MAX(IF('Back data'!$A$167:$BM$167<>"",COLUMN('Back data'!$A$167:$BM$167)))-G$6)+INDEX('Back data'!$A$168:$BM$168,,MAX(IF('Back data'!$A$168:$BM$168<>"",COLUMN('Back data'!$A$168:$BM$168)))-G$6)} -> 100 | H93: {=INDEX('Back data'!$A$167:$BM$167,,MAX(IF('Back data'!$A$167:$BM$167<>"",COLUMN('Back data'!$A$167:$BM$167)))-H$6)+INDEX('Back data'!$A$168:$BM$168,,MAX(IF('Back data'!$A$168:$BM$168<>"",COLUMN('Back data'!$A$168:$BM$168)))-H$6)} -> 100 | I93: {=INDEX('Back data'!$A$167:$BM$167,,MAX(IF('Back data'!$A$167:$BM$167<>"",COLUMN('Back data'!$A$167:$BM$167)))-I$6)+INDEX('Back data'!$A$168:$BM$168,,MAX(IF('Back data'!$A$168:$BM$168<>"",COLUMN('Back data'!$A$168:$BM$168)))-I$6)} -> 100 | J93: {=INDEX('Back data'!$A$167:$BM$167,,MAX(IF('Back data'!$A$167:$BM$167<>"",COLUMN('Back data'!$A$167:$BM$167)))-J$6)+INDEX('Back data'!$A$168:$BM$168,,MAX(IF('Back data'!$A$168:$BM$168<>"",COLUMN('Back data'!$A$168:$BM$168)))-J$6)} -> 100 | K93: {=INDEX('Back data'!$A$167:$BM$167,,MAX(IF('Back data'!$A$167:$BM$167<>"",COLUMN('Back data'!$A$167:$BM$167)))-K$6)+INDEX('Back data'!$A$168:$BM$168,,MAX(IF('Back data'!$A$168:$BM$168<>"",COLUMN('Back data'!$A$168:$BM$168)))-K$6)} -> 100 | ... P93: {=INDEX('Back data'!$A$167:$BM$167,,MAX(IF('Back data'!$A$167:$BM$167<>"",COLUMN('Back data'!$A$167:$BM$167)))-P$6)+INDEX('Back data'!$A$168:$BM$168,,MAX(IF('Back data'!$A$168:$BM$168<>"",COLUMN('Back data'!$A$168:$BM$168)))-P$6)} -> 100
A94: ACEITE DE OLIVA | B94: MARCAS DISTRIBUCION | C94: SIN PROMOCION | D94: {=INDEX('Back data'!$A$167:$BM$167,,MAX(IF('Back data'!$A$167:$BM$167<>"",COLUMN('Back data'!$A$167:$BM$167)))-D$6)/D93} -> 0.9877 | E94: {=INDEX('Back data'!$A$167:$BM$167,,MAX(IF('Back data'!$A$167:$BM$167<>"",COLUMN('Back data'!$A$167:$BM$167)))-E$6)/E93} -> 1 | F94: {=INDEX('Back data'!$A$167:$BM$167,,MAX(IF('Back data'!$A$167:$BM$167<>"",COLUMN('Back data'!$A$167:$BM$167)))-F$6)/F93} -> 0.9662 | G94: {=INDEX('Back data'!$A$167:$BM$167,,MAX(IF('Back data'!$A$167:$BM$167<>"",COLUMN('Back data'!$A$167:$BM$167)))-G$6)/G93} -> 0.9947 | H94: {=INDEX('Back data'!$A$167:$BM$167,,MAX(IF('Back data'!$A$167:$BM$167<>"",COLUMN('Back data'!$A$167:$BM$167)))-H$6)/H93} -> 0.9977 | I94: {=INDEX('Back data'!$A$167:$BM$167,,MAX(IF('Back data'!$A$167:$BM$167<>"",COLUMN('Back data'!$A$167:$BM$167)))-I$6)/I93} -> 1 | J94: {=INDEX('Back data'!$A$167:$BM$167,,MAX(IF('Back data'!$A$167:$BM$167<>"",COLUMN('Back data'!$A$167:$BM$167)))-J$6)/J93} -> 1 | K94: {=INDEX('Back data'!$A$167:$BM$167,,MAX(IF('Back data'!$A$167:$BM$167<>"",COLUMN('Back data'!$A$167:$BM$167)))-K$6)/K93} -> 1 | ... P94: {=INDEX('Back data'!$A$167:$BM$167,,MAX(IF('Back data'!$A$167:$BM$167<>"",COLUMN('Back data'!$A$167:$BM$167)))-P$6)/P93} -> 1
A95: ACEITE DE OLIVA | B95: MARCAS DISTRIBUCION | C95: CON PROMOCION | D95: {=+INDEX('Back data'!$A$168:$BM$168,,MAX(IF('Back data'!$A$168:$BM$168<>"",COLUMN('Back data'!$A$168:$BM$168)))-D$6)/D93} -> 0.0123 | E95: {=+INDEX('Back data'!$A$168:$BM$168,,MAX(IF('Back data'!$A$168:$BM$168<>"",COLUMN('Back data'!$A$168:$BM$168)))-E$6)/E93} -> 0 | F95: {=+INDEX('Back data'!$A$168:$BM$168,,MAX(IF('Back data'!$A$168:$BM$168<>"",COLUMN('Back data'!$A$168:$BM$168)))-F$6)/F93} -> 0.0338 | G95: {=+INDEX('Back data'!$A$168:$BM$168,,MAX(IF('Back data'!$A$168:$BM$168<>"",COLUMN('Back data'!$A$168:$BM$168)))-G$6)/G93} -> 0.0053 | H95: {=+INDEX('Back data'!$A$168:$BM$168,,MAX(IF('Back data'!$A$168:$BM$168<>"",COLUMN('Back data'!$A$168:$BM$168)))-H$6)/H93} -> 0.0023 | I95: {=+INDEX('Back data'!$A$168:$BM$168,,MAX(IF('Back data'!$A$168:$BM$168<>"",COLUMN('Back data'!$A$168:$BM$168)))-I$6)/I93} -> 0 | J95: {=+INDEX('Back data'!$A$168:$BM$168,,MAX(IF('Back data'!$A$168:$BM$168<>"",COLUMN('Back data'!$A$168:$BM$168)))-J$6)/J93} -> 0 | K95: {=+INDEX('Back data'!$A$168:$BM$168,,MAX(IF('Back data'!$A$168:$BM$168<>"",COLUMN('Back data'!$A$168:$BM$168)))-K$6)/K93} -> 0 | ... P95: {=+INDEX('Back data'!$A$168:$BM$168,,MAX(IF('Back data'!$A$168:$BM$168<>"",COLUMN('Back data'!$A$168:$BM$168)))-P$6)/P93} -> 0
C97: % DECLARADO | D97: {=INDEX('Back data'!$A$357:$BM$357,,MAX(IF('Back data'!$A$357:$BM$357<>"",COLUMN('Back data'!$A$357:$BM$357)))-D$6)+INDEX('Back data'!$A$358:$BM$358,,MAX(IF('Back data'!$A$358:$BM$358<>"",COLUMN('Back data'!$A$358:$BM$358)))-D$6)} -> 100 | E97: {=INDEX('Back data'!$A$357:$BM$357,,MAX(IF('Back data'!$A$357:$BM$357<>"",COLUMN('Back data'!$A$357:$BM$357)))-E$6)+INDEX('Back data'!$A$358:$BM$358,,MAX(IF('Back data'!$A$358:$BM$358<>"",COLUMN('Back data'!$A$358:$BM$358)))-E$6)} -> 100 | F97: {=INDEX('Back data'!$A$357:$BM$357,,MAX(IF('Back data'!$A$357:$BM$357<>"",COLUMN('Back data'!$A$357:$BM$357)))-F$6)+INDEX('Back data'!$A$358:$BM$358,,MAX(IF('Back data'!$A$358:$BM$358<>"",COLUMN('Back data'!$A$358:$BM$358)))-F$6)} -> 100 | G97: {=INDEX('Back data'!$A$357:$BM$357,,MAX(IF('Back data'!$A$357:$BM$357<>"",COLUMN('Back data'!$A$357:$BM$357)))-G$6)+INDEX('Back data'!$A$358:$BM$358,,MAX(IF('Back data'!$A$358:$BM$358<>"",COLUMN('Back data'!$A$358:$BM$358)))-G$6)} -> 100 | H97: {=INDEX('Back data'!$A$357:$BM$357,,MAX(IF('Back data'!$A$357:$BM$357<>"",COLUMN('Back data'!$A$357:$BM$357)))-H$6)+INDEX('Back data'!$A$358:$BM$358,,MAX(IF('Back data'!$A$358:$BM$358<>"",COLUMN('Back data'!$A$358:$BM$358)))-H$6)} -> 100 | I97: {=INDEX('Back data'!$A$357:$BM$357,,MAX(IF('Back data'!$A$357:$BM$357<>"",COLUMN('Back data'!$A$357:$BM$357)))-I$6)+INDEX('Back data'!$A$358:$BM$358,,MAX(IF('Back data'!$A$358:$BM$358<>"",COLUMN('Back data'!$A$358:$BM$358)))-I$6)} -> 100 | J97: {=INDEX('Back data'!$A$357:$BM$357,,MAX(IF('Back data'!$A$357:$BM$357<>"",COLUMN('Back data'!$A$357:$BM$357)))-J$6)+INDEX('Back data'!$A$358:$BM$358,,MAX(IF('Back data'!$A$358:$BM$358<>"",COLUMN('Back data'!$A$358:$BM$358)))-J$6)} -> 100 | K97: {=INDEX('Back data'!$A$357:$BM$357,,MAX(IF('Back data'!$A$357:$BM$357<>"",COLUMN('Back data'!$A$357:$BM$357)))-K$6)+INDEX('Back data'!$A$358:$BM$358,,MAX(IF('Back data'!$A$358:$BM$358<>"",COLUMN('Back data'!$A$358:$BM$358)))-K$6)} -> 100 | ... P97: {=INDEX('Back data'!$A$357:$BM$357,,MAX(IF('Back data'!$A$357:$BM$357<>"",COLUMN('Back data'!$A$357:$BM$357)))-P$6)+INDEX('Back data'!$A$358:$BM$358,,MAX(IF('Back data'!$A$358:$BM$358<>"",COLUMN('Back data'!$A$358:$BM$358)))-P$6)} -> 100
A98: ACEITE DE OLIVA | B98: HIPERMERCADOS | C98: SIN PROMOCION | D98: {=INDEX('Back data'!$A$357:$BM$357,,MAX(IF('Back data'!$A$357:$BM$357<>"",COLUMN('Back data'!$A$357:$BM$357)))-D$6)/D97} -> 0.653 | E98: {=INDEX('Back data'!$A$357:$BM$357,,MAX(IF('Back data'!$A$357:$BM$357<>"",COLUMN('Back data'!$A$357:$BM$357)))-E$6)/E97} -> 0.6146 | F98: {=INDEX('Back data'!$A$357:$BM$357,,MAX(IF('Back data'!$A$357:$BM$357<>"",COLUMN('Back data'!$A$357:$BM$357)))-F$6)/F97} -> 0.6229 | G98: {=INDEX('Back data'!$A$357:$BM$357,,MAX(IF('Back data'!$A$357:$BM$357<>"",COLUMN('Back data'!$A$357:$BM$357)))-G$6)/G97} -> 0.6898 | H98: {=INDEX('Back data'!$A$357:$BM$357,,MAX(IF('Back data'!$A$357:$BM$357<>"",COLUMN('Back data'!$A$357:$BM$357)))-H$6)/H97} -> 0.5703 | I98: {=INDEX('Back data'!$A$357:$BM$357,,MAX(IF('Back data'!$A$357:$BM$357<>"",COLUMN('Back data'!$A$357:$BM$357)))-I$6)/I97} -> 0.6752 | J98: {=INDEX('Back data'!$A$357:$BM$357,,MAX(IF('Back data'!$A$357:$BM$357<>"",COLUMN('Back data'!$A$357:$BM$357)))-J$6)/J97} -> 0.6304 | K98: {=INDEX('Back data'!$A$357:$BM$357,,MAX(IF('Back data'!$A$357:$BM$357<>"",COLUMN('Back data'!$A$357:$BM$357)))-K$6)/K97} -> 0.6003 | ... P98: {=INDEX('Back data'!$A$357:$BM$357,,MAX(IF('Back data'!$A$357:$BM$357<>"",COLUMN('Back data'!$A$357:$BM$357)))-P$6)/P97} -> 0.8524
A99: ACEITE DE OLIVA | B99: HIPERMERCADOS | C99: CON PROMOCION | D99: {=+INDEX('Back data'!$A$358:$BM$358,,MAX(IF('Back data'!$A$358:$BM$358<>"",COLUMN('Back data'!$A$358:$BM$358)))-D$6)/D97} -> 0.347 | E99: {=+INDEX('Back data'!$A$358:$BM$358,,MAX(IF('Back data'!$A$358:$BM$358<>"",COLUMN('Back data'!$A$358:$BM$358)))-E$6)/E97} -> 0.3854 | F99: {=+INDEX('Back data'!$A$358:$BM$358,,MAX(IF('Back data'!$A$358:$BM$358<>"",COLUMN('Back data'!$A$358:$BM$358)))-F$6)/F97} -> 0.3771 | G99: {=+INDEX('Back data'!$A$358:$BM$358,,MAX(IF('Back data'!$A$358:$BM$358<>"",COLUMN('Back data'!$A$358:$BM$358)))-G$6)/G97} -> 0.3102 | H99: {=+INDEX('Back data'!$A$358:$BM$358,,MAX(IF('Back data'!$A$358:$BM$358<>"",COLUMN('Back data'!$A$358:$BM$358)))-H$6)/H97} -> 0.4297 | I99: {=+INDEX('Back data'!$A$358:$BM$358,,MAX(IF('Back data'!$A$358:$BM$358<>"",COLUMN('Back data'!$A$358:$BM$358)))-I$6)/I97} -> 0.3248 | J99: {=+INDEX('Back data'!$A$358:$BM$358,,MAX(IF('Back data'!$A$358:$BM$358<>"",COLUMN('Back data'!$A$358:$BM$358)))-J$6)/J97} -> 0.3696 | K99: {=+INDEX('Back data'!$A$358:$BM$358,,MAX(IF('Back data'!$A$358:$BM$358<>"",COLUMN('Back data'!$A$358:$BM$358)))-K$6)/K97} -> 0.3997 | ... P99: {=+INDEX('Back data'!$A$358:$BM$358,,MAX(IF('Back data'!$A$358:$BM$358<>"",COLUMN('Back data'!$A$358:$BM$358)))-P$6)/P97} -> 0.1476
C102: % DECLARADO | D102: {=INDEX('Back data'!$A$362:$BM$362,,MAX(IF('Back data'!$A$362:$BM$362<>"",COLUMN('Back data'!$A$362:$BM$362)))-D$6)+INDEX('Back data'!$A$363:$BM$363,,MAX(IF('Back data'!$A$363:$BM$363<>"",COLUMN('Back data'!$A$363:$BM$363)))-D$6)} -> 100 | E102: {=INDEX('Back data'!$A$362:$BM$362,,MAX(IF('Back data'!$A$362:$BM$362<>"",COLUMN('Back data'!$A$362:$BM$362)))-E$6)+INDEX('Back data'!$A$363:$BM$363,,MAX(IF('Back data'!$A$363:$BM$363<>"",COLUMN('Back data'!$A$363:$BM$363)))-E$6)} -> 100 | F102: {=INDEX('Back data'!$A$362:$BM$362,,MAX(IF('Back data'!$A$362:$BM$362<>"",COLUMN('Back data'!$A$362:$BM$362)))-F$6)+INDEX('Back data'!$A$363:$BM$363,,MAX(IF('Back data'!$A$363:$BM$363<>"",COLUMN('Back data'!$A$363:$BM$363)))-F$6)} -> 100 | G102: {=INDEX('Back data'!$A$362:$BM$362,,MAX(IF('Back data'!$A$362:$BM$362<>"",COLUMN('Back data'!$A$362:$BM$362)))-G$6)+INDEX('Back data'!$A$363:$BM$363,,MAX(IF('Back data'!$A$363:$BM$363<>"",COLUMN('Back data'!$A$363:$BM$363)))-G$6)} -> 100 | H102: {=INDEX('Back data'!$A$362:$BM$362,,MAX(IF('Back data'!$A$362:$BM$362<>"",COLUMN('Back data'!$A$362:$BM$362)))-H$6)+INDEX('Back data'!$A$363:$BM$363,,MAX(IF('Back data'!$A$363:$BM$363<>"",COLUMN('Back data'!$A$363:$BM$363)))-H$6)} -> 100 | I102: {=INDEX('Back data'!$A$362:$BM$362,,MAX(IF('Back data'!$A$362:$BM$362<>"",COLUMN('Back data'!$A$362:$BM$362)))-I$6)+INDEX('Back data'!$A$363:$BM$363,,MAX(IF('Back data'!$A$363:$BM$363<>"",COLUMN('Back data'!$A$363:$BM$363)))-I$6)} -> 100 | J102: {=INDEX('Back data'!$A$362:$BM$362,,MAX(IF('Back data'!$A$362:$BM$362<>"",COLUMN('Back data'!$A$362:$BM$362)))-J$6)+INDEX('Back data'!$A$363:$BM$363,,MAX(IF('Back data'!$A$363:$BM$363<>"",COLUMN('Back data'!$A$363:$BM$363)))-J$6)} -> 100 | K102: {=INDEX('Back data'!$A$362:$BM$362,,MAX(IF('Back data'!$A$362:$BM$362<>"",COLUMN('Back data'!$A$362:$BM$362)))-K$6)+INDEX('Back data'!$A$363:$BM$363,,MAX(IF('Back data'!$A$363:$BM$363<>"",COLUMN('Back data'!$A$363:$BM$363)))-K$6)} -> 100 | ... P102: {=INDEX('Back data'!$A$362:$BM$362,,MAX(IF('Back data'!$A$362:$BM$362<>"",COLUMN('Back data'!$A$362:$BM$362)))-P$6)+INDEX('Back data'!$A$363:$BM$363,,MAX(IF('Back data'!$A$363:$BM$363<>"",COLUMN('Back data'!$A$363:$BM$363)))-P$6)} -> 100
A103: ACEITE DE OLIVA | B103: SUPERMERCADOS | C103: SIN PROMOCION | D103: {=INDEX('Back data'!$A$362:$BM$362,,MAX(IF('Back data'!$A$362:$BM$362<>"",COLUMN('Back data'!$A$362:$BM$362)))-D$6)/D102} -> 0.941 | E103: {=INDEX('Back data'!$A$362:$BM$362,,MAX(IF('Back data'!$A$362:$BM$362<>"",COLUMN('Back data'!$A$362:$BM$362)))-E$6)/E102} -> 0.9208 | F103: {=INDEX('Back data'!$A$362:$BM$362,,MAX(IF('Back data'!$A$362:$BM$362<>"",COLUMN('Back data'!$A$362:$BM$362)))-F$6)/F102} -> 0.924 | G103: {=INDEX('Back data'!$A$362:$BM$362,,MAX(IF('Back data'!$A$362:$BM$362<>"",COLUMN('Back data'!$A$362:$BM$362)))-G$6)/G102} -> 0.9473 | H103: {=INDEX('Back data'!$A$362:$BM$362,,MAX(IF('Back data'!$A$362:$BM$362<>"",COLUMN('Back data'!$A$362:$BM$362)))-H$6)/H102} -> 0.97 | I103: {=INDEX('Back data'!$A$362:$BM$362,,MAX(IF('Back data'!$A$362:$BM$362<>"",COLUMN('Back data'!$A$362:$BM$362)))-I$6)/I102} -> 0.9682 | J103: {=INDEX('Back data'!$A$362:$BM$362,,MAX(IF('Back data'!$A$362:$BM$362<>"",COLUMN('Back data'!$A$362:$BM$362)))-J$6)/J102} -> 0.9602 | K103: {=INDEX('Back data'!$A$362:$BM$362,,MAX(IF('Back data'!$A$362:$BM$362<>"",COLUMN('Back data'!$A$362:$BM$362)))-K$6)/K102} -> 0.9374 | ... P103: {=INDEX('Back data'!$A$362:$BM$362,,MAX(IF('Back data'!$A$362:$BM$362<>"",COLUMN('Back data'!$A$362:$BM$362)))-P$6)/P102} -> 0.9701
A104: ACEITE DE OLIVA | B104: SUPERMERCADOS | C104: CON PROMOCION | D104: {=+INDEX('Back data'!$A$363:$BM$363,,MAX(IF('Back data'!$A$363:$BM$363<>"",COLUMN('Back data'!$A$363:$BM$363)))-D$6)/D102} -> 0.059 | E104: {=+INDEX('Back data'!$A$363:$BM$363,,MAX(IF('Back data'!$A$363:$BM$363<>"",COLUMN('Back data'!$A$363:$BM$363)))-E$6)/E102} -> 0.0792 | F104: {=+INDEX('Back data'!$A$363:$BM$363,,MAX(IF('Back data'!$A$363:$BM$363<>"",COLUMN('Back data'!$A$363:$BM$363)))-F$6)/F102} -> 0.076 | G104: {=+INDEX('Back data'!$A$363:$BM$363,,MAX(IF('Back data'!$A$363:$BM$363<>"",COLUMN('Back data'!$A$363:$BM$363)))-G$6)/G102} -> 0.0527 | H104: {=+INDEX('Back data'!$A$363:$BM$363,,MAX(IF('Back data'!$A$363:$BM$363<>"",COLUMN('Back data'!$A$363:$BM$363)))-H$6)/H102} -> 0.03 | I104: {=+INDEX('Back data'!$A$363:$BM$363,,MAX(IF('Back data'!$A$363:$BM$363<>"",COLUMN('Back data'!$A$363:$BM$363)))-I$6)/I102} -> 0.0318 | J104: {=+INDEX('Back data'!$A$363:$BM$363,,MAX(IF('Back data'!$A$363:$BM$363<>"",COLUMN('Back data'!$A$363:$BM$363)))-J$6)/J102} -> 0.0398 | K104: {=+INDEX('Back data'!$A$363:$BM$363,,MAX(IF('Back data'!$A$363:$BM$363<>"",COLUMN('Back data'!$A$363:$BM$363)))-K$6)/K102} -> 0.0626 | ... P104: {=+INDEX('Back data'!$A$363:$BM$363,,MAX(IF('Back data'!$A$363:$BM$363<>"",COLUMN('Back data'!$A$363:$BM$363)))-P$6)/P102} -> 0.0299
C107: % DECLARADO | D107: {=INDEX('Back data'!$A$367:$BM$367,,MAX(IF('Back data'!$A$367:$BM$367<>"",COLUMN('Back data'!$A$367:$BM$367)))-D$6)+INDEX('Back data'!$A$368:$BM$368,,MAX(IF('Back data'!$A$368:$BM$368<>"",COLUMN('Back data'!$A$368:$BM$368)))-D$6)} -> 100 | E107: {=INDEX('Back data'!$A$367:$BM$367,,MAX(IF('Back data'!$A$367:$BM$367<>"",COLUMN('Back data'!$A$367:$BM$367)))-E$6)+INDEX('Back data'!$A$368:$BM$368,,MAX(IF('Back data'!$A$368:$BM$368<>"",COLUMN('Back data'!$A$368:$BM$368)))-E$6)} -> 100 | F107: {=INDEX('Back data'!$A$367:$BM$367,,MAX(IF('Back data'!$A$367:$BM$367<>"",COLUMN('Back data'!$A$367:$BM$367)))-F$6)+INDEX('Back data'!$A$368:$BM$368,,MAX(IF('Back data'!$A$368:$BM$368<>"",COLUMN('Back data'!$A$368:$BM$368)))-F$6)} -> 100 | G107: {=INDEX('Back data'!$A$367:$BM$367,,MAX(IF('Back data'!$A$367:$BM$367<>"",COLUMN('Back data'!$A$367:$BM$367)))-G$6)+INDEX('Back data'!$A$368:$BM$368,,MAX(IF('Back data'!$A$368:$BM$368<>"",COLUMN('Back data'!$A$368:$BM$368)))-G$6)} -> 100 | H107: {=INDEX('Back data'!$A$367:$BM$367,,MAX(IF('Back data'!$A$367:$BM$367<>"",COLUMN('Back data'!$A$367:$BM$367)))-H$6)+INDEX('Back data'!$A$368:$BM$368,,MAX(IF('Back data'!$A$368:$BM$368<>"",COLUMN('Back data'!$A$368:$BM$368)))-H$6)} -> 100 | I107: {=INDEX('Back data'!$A$367:$BM$367,,MAX(IF('Back data'!$A$367:$BM$367<>"",COLUMN('Back data'!$A$367:$BM$367)))-I$6)+INDEX('Back data'!$A$368:$BM$368,,MAX(IF('Back data'!$A$368:$BM$368<>"",COLUMN('Back data'!$A$368:$BM$368)))-I$6)} -> 100 | J107: {=INDEX('Back data'!$A$367:$BM$367,,MAX(IF('Back data'!$A$367:$BM$367<>"",COLUMN('Back data'!$A$367:$BM$367)))-J$6)+INDEX('Back data'!$A$368:$BM$368,,MAX(IF('Back data'!$A$368:$BM$368<>"",COLUMN('Back data'!$A$368:$BM$368)))-J$6)} -> 100 | K107: {=INDEX('Back data'!$A$367:$BM$367,,MAX(IF('Back data'!$A$367:$BM$367<>"",COLUMN('Back data'!$A$367:$BM$367)))-K$6)+INDEX('Back data'!$A$368:$BM$368,,MAX(IF('Back data'!$A$368:$BM$368<>"",COLUMN('Back data'!$A$368:$BM$368)))-K$6)} -> 100 | ... P107: {=INDEX('Back data'!$A$367:$BM$367,,MAX(IF('Back data'!$A$367:$BM$367<>"",COLUMN('Back data'!$A$367:$BM$367)))-P$6)+INDEX('Back data'!$A$368:$BM$368,,MAX(IF('Back data'!$A$368:$BM$368<>"",COLUMN('Back data'!$A$368:$BM$368)))-P$6)} -> 100
A108: ACEITE DE OLIVA | B108: SUPER+AUTOS | C108: SIN PROMOCION | D108: {=INDEX('Back data'!$A$367:$BM$367,,MAX(IF('Back data'!$A$367:$BM$367<>"",COLUMN('Back data'!$A$367:$BM$367)))-D$6)/D107} -> 0.9583 | E108: {=INDEX('Back data'!$A$367:$BM$367,,MAX(IF('Back data'!$A$367:$BM$367<>"",COLUMN('Back data'!$A$367:$BM$367)))-E$6)/E107} -> 0.9285 | F108: {=INDEX('Back data'!$A$367:$BM$367,,MAX(IF('Back data'!$A$367:$BM$367<>"",COLUMN('Back data'!$A$367:$BM$367)))-F$6)/F107} -> 0.9485 | G108: {=INDEX('Back data'!$A$367:$BM$367,,MAX(IF('Back data'!$A$367:$BM$367<>"",COLUMN('Back data'!$A$367:$BM$367)))-G$6)/G107} -> 0.9682 | H108: {=INDEX('Back data'!$A$367:$BM$367,,MAX(IF('Back data'!$A$367:$BM$367<>"",COLUMN('Back data'!$A$367:$BM$367)))-H$6)/H107} -> 0.9696 | I108: {=INDEX('Back data'!$A$367:$BM$367,,MAX(IF('Back data'!$A$367:$BM$367<>"",COLUMN('Back data'!$A$367:$BM$367)))-I$6)/I107} -> 0.984 | J108: {=INDEX('Back data'!$A$367:$BM$367,,MAX(IF('Back data'!$A$367:$BM$367<>"",COLUMN('Back data'!$A$367:$BM$367)))-J$6)/J107} -> 0.9533 | K108: {=INDEX('Back data'!$A$367:$BM$367,,MAX(IF('Back data'!$A$367:$BM$367<>"",COLUMN('Back data'!$A$367:$BM$367)))-K$6)/K107} -> 0.946 | ... P108: {=INDEX('Back data'!$A$367:$BM$367,,MAX(IF('Back data'!$A$367:$BM$367<>"",COLUMN('Back data'!$A$367:$BM$367)))-P$6)/P107} -> 0.9658
A109: ACEITE DE OLIVA | B109: SUPER+AUTOS | C109: CON PROMOCION | D109: {=+INDEX('Back data'!$A$368:$BM$368,,MAX(IF('Back data'!$A$368:$BM$368<>"",COLUMN('Back data'!$A$368:$BM$368)))-D$6)/D107} -> 0.0417 | E109: {=+INDEX('Back data'!$A$368:$BM$368,,MAX(IF('Back data'!$A$368:$BM$368<>"",COLUMN('Back data'!$A$368:$BM$368)))-E$6)/E107} -> 0.0715 | F109: {=+INDEX('Back data'!$A$368:$BM$368,,MAX(IF('Back data'!$A$368:$BM$368<>"",COLUMN('Back data'!$A$368:$BM$368)))-F$6)/F107} -> 0.0515 | G109: {=+INDEX('Back data'!$A$368:$BM$368,,MAX(IF('Back data'!$A$368:$BM$368<>"",COLUMN('Back data'!$A$368:$BM$368)))-G$6)/G107} -> 0.0318 | H109: {=+INDEX('Back data'!$A$368:$BM$368,,MAX(IF('Back data'!$A$368:$BM$368<>"",COLUMN('Back data'!$A$368:$BM$368)))-H$6)/H107} -> 0.0304 | I109: {=+INDEX('Back data'!$A$368:$BM$368,,MAX(IF('Back data'!$A$368:$BM$368<>"",COLUMN('Back data'!$A$368:$BM$368)))-I$6)/I107} -> 0.016 | J109: {=+INDEX('Back data'!$A$368:$BM$368,,MAX(IF('Back data'!$A$368:$BM$368<>"",COLUMN('Back data'!$A$368:$BM$368)))-J$6)/J107} -> 0.0467 | K109: {=+INDEX('Back data'!$A$368:$BM$368,,MAX(IF('Back data'!$A$368:$BM$368<>"",COLUMN('Back data'!$A$368:$BM$368)))-K$6)/K107} -> 0.054 | ... P109: {=+INDEX('Back data'!$A$368:$BM$368,,MAX(IF('Back data'!$A$368:$BM$368<>"",COLUMN('Back data'!$A$368:$BM$368)))-P$6)/P107} -> 0.0342
C112: % DECLARADO | D112: {=INDEX('Back data'!$A$372:$BM$372,,MAX(IF('Back data'!$A$372:$BM$372<>"",COLUMN('Back data'!$A$372:$BM$372)))-D$6)+INDEX('Back data'!$A$373:$BM$373,,MAX(IF('Back data'!$A$373:$BM$373<>"",COLUMN('Back data'!$A$373:$BM$373)))-D$6)} -> 100 | E112: {=INDEX('Back data'!$A$372:$BM$372,,MAX(IF('Back data'!$A$372:$BM$372<>"",COLUMN('Back data'!$A$372:$BM$372)))-E$6)+INDEX('Back data'!$A$373:$BM$373,,MAX(IF('Back data'!$A$373:$BM$373<>"",COLUMN('Back data'!$A$373:$BM$373)))-E$6)} -> 100 | F112: {=INDEX('Back data'!$A$372:$BM$372,,MAX(IF('Back data'!$A$372:$BM$372<>"",COLUMN('Back data'!$A$372:$BM$372)))-F$6)+INDEX('Back data'!$A$373:$BM$373,,MAX(IF('Back data'!$A$373:$BM$373<>"",COLUMN('Back data'!$A$373:$BM$373)))-F$6)} -> 100 | G112: {=INDEX('Back data'!$A$372:$BM$372,,MAX(IF('Back data'!$A$372:$BM$372<>"",COLUMN('Back data'!$A$372:$BM$372)))-G$6)+INDEX('Back data'!$A$373:$BM$373,,MAX(IF('Back data'!$A$373:$BM$373<>"",COLUMN('Back data'!$A$373:$BM$373)))-G$6)} -> 100 | H112: {=INDEX('Back data'!$A$372:$BM$372,,MAX(IF('Back data'!$A$372:$BM$372<>"",COLUMN('Back data'!$A$372:$BM$372)))-H$6)+INDEX('Back data'!$A$373:$BM$373,,MAX(IF('Back data'!$A$373:$BM$373<>"",COLUMN('Back data'!$A$373:$BM$373)))-H$6)} -> 100 | I112: {=INDEX('Back data'!$A$372:$BM$372,,MAX(IF('Back data'!$A$372:$BM$372<>"",COLUMN('Back data'!$A$372:$BM$372)))-I$6)+INDEX('Back data'!$A$373:$BM$373,,MAX(IF('Back data'!$A$373:$BM$373<>"",COLUMN('Back data'!$A$373:$BM$373)))-I$6)} -> 100 | J112: {=INDEX('Back data'!$A$372:$BM$372,,MAX(IF('Back data'!$A$372:$BM$372<>"",COLUMN('Back data'!$A$372:$BM$372)))-J$6)+INDEX('Back data'!$A$373:$BM$373,,MAX(IF('Back data'!$A$373:$BM$373<>"",COLUMN('Back data'!$A$373:$BM$373)))-J$6)} -> 100 | K112: {=INDEX('Back data'!$A$372:$BM$372,,MAX(IF('Back data'!$A$372:$BM$372<>"",COLUMN('Back data'!$A$372:$BM$372)))-K$6)+INDEX('Back data'!$A$373:$BM$373,,MAX(IF('Back data'!$A$373:$BM$373<>"",COLUMN('Back data'!$A$373:$BM$373)))-K$6)} -> 100 | ... P112: {=INDEX('Back data'!$A$372:$BM$372,,MAX(IF('Back data'!$A$372:$BM$372<>"",COLUMN('Back data'!$A$372:$BM$372)))-P$6)+INDEX('Back data'!$A$373:$BM$373,,MAX(IF('Back data'!$A$373:$BM$373<>"",COLUMN('Back data'!$A$373:$BM$373)))-P$6)} -> 100
A113: ACEITE DE OLIVA | B113: DISCOUNTS | C113: SIN PROMOCION | D113: {=INDEX('Back data'!$A$372:$BM$372,,MAX(IF('Back data'!$A$372:$BM$372<>"",COLUMN('Back data'!$A$372:$BM$372)))-D$6)/D112} -> 0.8718 | E113: {=INDEX('Back data'!$A$372:$BM$372,,MAX(IF('Back data'!$A$372:$BM$372<>"",COLUMN('Back data'!$A$372:$BM$372)))-E$6)/E112} -> 0.8837 | F113: {=INDEX('Back data'!$A$372:$BM$372,,MAX(IF('Back data'!$A$372:$BM$372<>"",COLUMN('Back data'!$A$372:$BM$372)))-F$6)/F112} -> 0.8288 | G113: {=INDEX('Back data'!$A$372:$BM$372,,MAX(IF('Back data'!$A$372:$BM$372<>"",COLUMN('Back data'!$A$372:$BM$372)))-G$6)/G112} -> 0.8572 | H113: {=INDEX('Back data'!$A$372:$BM$372,,MAX(IF('Back data'!$A$372:$BM$372<>"",COLUMN('Back data'!$A$372:$BM$372)))-H$6)/H112} -> 0.9717 | I113: {=INDEX('Back data'!$A$372:$BM$372,,MAX(IF('Back data'!$A$372:$BM$372<>"",COLUMN('Back data'!$A$372:$BM$372)))-I$6)/I112} -> 0.9066 | J113: {=INDEX('Back data'!$A$372:$BM$372,,MAX(IF('Back data'!$A$372:$BM$372<>"",COLUMN('Back data'!$A$372:$BM$372)))-J$6)/J112} -> 0.9909 | K113: {=INDEX('Back data'!$A$372:$BM$372,,MAX(IF('Back data'!$A$372:$BM$372<>"",COLUMN('Back data'!$A$372:$BM$372)))-K$6)/K112} -> 0.9024 | ... P113: {=INDEX('Back data'!$A$372:$BM$372,,MAX(IF('Back data'!$A$372:$BM$372<>"",COLUMN('Back data'!$A$372:$BM$372)))-P$6)/P112} -> 0.9852
A114: ACEITE DE OLIVA | B114: DISCOUNTS | C114: CON PROMOCION | D114: {=INDEX('Back data'!$A$373:$BM$373,,MAX(IF('Back data'!$A$373:$BM$373<>"",COLUMN('Back data'!$A$373:$BM$373)))-D$6)/D112} -> 0.1282 | E114: {=INDEX('Back data'!$A$373:$BM$373,,MAX(IF('Back data'!$A$373:$BM$373<>"",COLUMN('Back data'!$A$373:$BM$373)))-E$6)/E112} -> 0.1163 | F114: {=INDEX('Back data'!$A$373:$BM$373,,MAX(IF('Back data'!$A$373:$BM$373<>"",COLUMN('Back data'!$A$373:$BM$373)))-F$6)/F112} -> 0.1712 | G114: {=INDEX('Back data'!$A$373:$BM$373,,MAX(IF('Back data'!$A$373:$BM$373<>"",COLUMN('Back data'!$A$373:$BM$373)))-G$6)/G112} -> 0.1428 | H114: {=INDEX('Back data'!$A$373:$BM$373,,MAX(IF('Back data'!$A$373:$BM$373<>"",COLUMN('Back data'!$A$373:$BM$373)))-H$6)/H112} -> 0.0283 | I114: {=INDEX('Back data'!$A$373:$BM$373,,MAX(IF('Back data'!$A$373:$BM$373<>"",COLUMN('Back data'!$A$373:$BM$373)))-I$6)/I112} -> 0.0934 | J114: {=INDEX('Back data'!$A$373:$BM$373,,MAX(IF('Back data'!$A$373:$BM$373<>"",COLUMN('Back data'!$A$373:$BM$373)))-J$6)/J112} -> 0.0091 | K114: {=INDEX('Back data'!$A$373:$BM$373,,MAX(IF('Back data'!$A$373:$BM$373<>"",COLUMN('Back data'!$A$373:$BM$373)))-K$6)/K112} -> 0.0976 | ... P114: {=INDEX('Back data'!$A$373:$BM$373,,MAX(IF('Back data'!$A$373:$BM$373<>"",COLUMN('Back data'!$A$373:$BM$373)))-P$6)/P112} -> 0.0148
C119: % DECLARADO | D119: {=INDEX('Back data'!$A$132:$BM$132,,MAX(IF('Back data'!$A$132:$BM$132<>"",COLUMN('Back data'!$A$132:$BM$132)))-D$6)+INDEX('Back data'!$A$133:$BM$133,,MAX(IF('Back data'!$A$133:$BM$133<>"",COLUMN('Back data'!$A$133:$BM$133)))-D$6)} -> 100 | E119: {=INDEX('Back data'!$A$132:$BM$132,,MAX(IF('Back data'!$A$132:$BM$132<>"",COLUMN('Back data'!$A$132:$BM$132)))-E$6)+INDEX('Back data'!$A$133:$BM$133,,MAX(IF('Back data'!$A$133:$BM$133<>"",COLUMN('Back data'!$A$133:$BM$133)))-E$6)} -> 100 | F119: {=INDEX('Back data'!$A$132:$BM$132,,MAX(IF('Back data'!$A$132:$BM$132<>"",COLUMN('Back data'!$A$132:$BM$132)))-F$6)+INDEX('Back data'!$A$133:$BM$133,,MAX(IF('Back data'!$A$133:$BM$133<>"",COLUMN('Back data'!$A$133:$BM$133)))-F$6)} -> 100 | G119: {=INDEX('Back data'!$A$132:$BM$132,,MAX(IF('Back data'!$A$132:$BM$132<>"",COLUMN('Back data'!$A$132:$BM$132)))-G$6)+INDEX('Back data'!$A$133:$BM$133,,MAX(IF('Back data'!$A$133:$BM$133<>"",COLUMN('Back data'!$A$133:$BM$133)))-G$6)} -> 100 | H119: {=INDEX('Back data'!$A$132:$BM$132,,MAX(IF('Back data'!$A$132:$BM$132<>"",COLUMN('Back data'!$A$132:$BM$132)))-H$6)+INDEX('Back data'!$A$133:$BM$133,,MAX(IF('Back data'!$A$133:$BM$133<>"",COLUMN('Back data'!$A$133:$BM$133)))-H$6)} -> 100 | I119: {=INDEX('Back data'!$A$132:$BM$132,,MAX(IF('Back data'!$A$132:$BM$132<>"",COLUMN('Back data'!$A$132:$BM$132)))-I$6)+INDEX('Back data'!$A$133:$BM$133,,MAX(IF('Back data'!$A$133:$BM$133<>"",COLUMN('Back data'!$A$133:$BM$133)))-I$6)} -> 100 | J119: {=INDEX('Back data'!$A$132:$BM$132,,MAX(IF('Back data'!$A$132:$BM$132<>"",COLUMN('Back data'!$A$132:$BM$132)))-J$6)+INDEX('Back data'!$A$133:$BM$133,,MAX(IF('Back data'!$A$133:$BM$133<>"",COLUMN('Back data'!$A$133:$BM$133)))-J$6)} -> 100 | K119: {=INDEX('Back data'!$A$132:$BM$132,,MAX(IF('Back data'!$A$132:$BM$132<>"",COLUMN('Back data'!$A$132:$BM$132)))-K$6)+INDEX('Back data'!$A$133:$BM$133,,MAX(IF('Back data'!$A$133:$BM$133<>"",COLUMN('Back data'!$A$133:$BM$133)))-K$6)} -> 100 | ... P119: {=INDEX('Back data'!$A$132:$BM$132,,MAX(IF('Back data'!$A$132:$BM$132<>"",COLUMN('Back data'!$A$132:$BM$132)))-P$6)+INDEX('Back data'!$A$133:$BM$133,,MAX(IF('Back data'!$A$133:$BM$133<>"",COLUMN('Back data'!$A$133:$BM$133)))-P$6)} -> 100
A120: ACEITE OLIVA VIRGEN EXTRA | B120: TOTAL | C120: SIN PROMOCION | D120: {=INDEX('Back data'!$A$132:$BM$132,,MAX(IF('Back data'!$A$132:$BM$132<>"",COLUMN('Back data'!$A$132:$BM$132)))-D$6)/D119} -> 0.8747 | E120: {=INDEX('Back data'!$A$132:$BM$132,,MAX(IF('Back data'!$A$132:$BM$132<>"",COLUMN('Back data'!$A$132:$BM$132)))-E$6)/E119} -> 0.8806 | F120: {=INDEX('Back data'!$A$132:$BM$132,,MAX(IF('Back data'!$A$132:$BM$132<>"",COLUMN('Back data'!$A$132:$BM$132)))-F$6)/F119} -> 0.8463 | G120: {=INDEX('Back data'!$A$132:$BM$132,,MAX(IF('Back data'!$A$132:$BM$132<>"",COLUMN('Back data'!$A$132:$BM$132)))-G$6)/G119} -> 0.8958 | H120: {=INDEX('Back data'!$A$132:$BM$132,,MAX(IF('Back data'!$A$132:$BM$132<>"",COLUMN('Back data'!$A$132:$BM$132)))-H$6)/H119} -> 0.8201 | I120: {=INDEX('Back data'!$A$132:$BM$132,,MAX(IF('Back data'!$A$132:$BM$132<>"",COLUMN('Back data'!$A$132:$BM$132)))-I$6)/I119} -> 0.903 | J120: {=INDEX('Back data'!$A$132:$BM$132,,MAX(IF('Back data'!$A$132:$BM$132<>"",COLUMN('Back data'!$A$132:$BM$132)))-J$6)/J119} -> 0.8804 | K120: {=INDEX('Back data'!$A$132:$BM$132,,MAX(IF('Back data'!$A$132:$BM$132<>"",COLUMN('Back data'!$A$132:$BM$132)))-K$6)/K119} -> 0.7208 | ... P120: {=INDEX('Back data'!$A$132:$BM$132,,MAX(IF('Back data'!$A$132:$BM$132<>"",COLUMN('Back data'!$A$132:$BM$132)))-P$6)/P119} -> 0.9747
A121: ACEITE OLIVA VIRGEN EXTRA | B121: TOTAL | C121: CON PROMOCION | D121: {=+INDEX('Back data'!$A$133:$BM$133,,MAX(IF('Back data'!$A$133:$BM$133<>"",COLUMN('Back data'!$A$133:$BM$133)))-D$6)/D119} -> 0.1253 | E121: {=+INDEX('Back data'!$A$133:$BM$133,,MAX(IF('Back data'!$A$133:$BM$133<>"",COLUMN('Back data'!$A$133:$BM$133)))-E$6)/E119} -> 0.1194 | F121: {=+INDEX('Back data'!$A$133:$BM$133,,MAX(IF('Back data'!$A$133:$BM$133<>"",COLUMN('Back data'!$A$133:$BM$133)))-F$6)/F119} -> 0.1537 | G121: {=+INDEX('Back data'!$A$133:$BM$133,,MAX(IF('Back data'!$A$133:$BM$133<>"",COLUMN('Back data'!$A$133:$BM$133)))-G$6)/G119} -> 0.1042 | H121: {=+INDEX('Back data'!$A$133:$BM$133,,MAX(IF('Back data'!$A$133:$BM$133<>"",COLUMN('Back data'!$A$133:$BM$133)))-H$6)/H119} -> 0.1799 | I121: {=+INDEX('Back data'!$A$133:$BM$133,,MAX(IF('Back data'!$A$133:$BM$133<>"",COLUMN('Back data'!$A$133:$BM$133)))-I$6)/I119} -> 0.097 | J121: {=+INDEX('Back data'!$A$133:$BM$133,,MAX(IF('Back data'!$A$133:$BM$133<>"",COLUMN('Back data'!$A$133:$BM$133)))-J$6)/J119} -> 0.1196 | K121: {=+INDEX('Back data'!$A$133:$BM$133,,MAX(IF('Back data'!$A$133:$BM$133<>"",COLUMN('Back data'!$A$133:$BM$133)))-K$6)/K119} -> 0.2792 | ... P121: {=+INDEX('Back data'!$A$133:$BM$133,,MAX(IF('Back data'!$A$133:$BM$133<>"",COLUMN('Back data'!$A$133:$BM$133)))-P$6)/P119} -> 0.0253
C124: % DECLARADO | D124: {=INDEX('Back data'!$A$137:$BM$137,,MAX(IF('Back data'!$A$137:$BM$137<>"",COLUMN('Back data'!$A$137:$BM$137)))-D$6)+INDEX('Back data'!$A$138:$BM$138,,MAX(IF('Back data'!$A$138:$BM$138<>"",COLUMN('Back data'!$A$138:$BM$138)))-D$6)} -> 100 | E124: {=INDEX('Back data'!$A$137:$BM$137,,MAX(IF('Back data'!$A$137:$BM$137<>"",COLUMN('Back data'!$A$137:$BM$137)))-E$6)+INDEX('Back data'!$A$138:$BM$138,,MAX(IF('Back data'!$A$138:$BM$138<>"",COLUMN('Back data'!$A$138:$BM$138)))-E$6)} -> 100 | F124: {=INDEX('Back data'!$A$137:$BM$137,,MAX(IF('Back data'!$A$137:$BM$137<>"",COLUMN('Back data'!$A$137:$BM$137)))-F$6)+INDEX('Back data'!$A$138:$BM$138,,MAX(IF('Back data'!$A$138:$BM$138<>"",COLUMN('Back data'!$A$138:$BM$138)))-F$6)} -> 100 | G124: {=INDEX('Back data'!$A$137:$BM$137,,MAX(IF('Back data'!$A$137:$BM$137<>"",COLUMN('Back data'!$A$137:$BM$137)))-G$6)+INDEX('Back data'!$A$138:$BM$138,,MAX(IF('Back data'!$A$138:$BM$138<>"",COLUMN('Back data'!$A$138:$BM$138)))-G$6)} -> 100 | H124: {=INDEX('Back data'!$A$137:$BM$137,,MAX(IF('Back data'!$A$137:$BM$137<>"",COLUMN('Back data'!$A$137:$BM$137)))-H$6)+INDEX('Back data'!$A$138:$BM$138,,MAX(IF('Back data'!$A$138:$BM$138<>"",COLUMN('Back data'!$A$138:$BM$138)))-H$6)} -> 100 | I124: {=INDEX('Back data'!$A$137:$BM$137,,MAX(IF('Back data'!$A$137:$BM$137<>"",COLUMN('Back data'!$A$137:$BM$137)))-I$6)+INDEX('Back data'!$A$138:$BM$138,,MAX(IF('Back data'!$A$138:$BM$138<>"",COLUMN('Back data'!$A$138:$BM$138)))-I$6)} -> 100 | J124: {=INDEX('Back data'!$A$137:$BM$137,,MAX(IF('Back data'!$A$137:$BM$137<>"",COLUMN('Back data'!$A$137:$BM$137)))-J$6)+INDEX('Back data'!$A$138:$BM$138,,MAX(IF('Back data'!$A$138:$BM$138<>"",COLUMN('Back data'!$A$138:$BM$138)))-J$6)} -> 100 | K124: {=INDEX('Back data'!$A$137:$BM$137,,MAX(IF('Back data'!$A$137:$BM$137<>"",COLUMN('Back data'!$A$137:$BM$137)))-K$6)+INDEX('Back data'!$A$138:$BM$138,,MAX(IF('Back data'!$A$138:$BM$138<>"",COLUMN('Back data'!$A$138:$BM$138)))-K$6)} -> 100 | ... P124: {=INDEX('Back data'!$A$137:$BM$137,,MAX(IF('Back data'!$A$137:$BM$137<>"",COLUMN('Back data'!$A$137:$BM$137)))-P$6)+INDEX('Back data'!$A$138:$BM$138,,MAX(IF('Back data'!$A$138:$BM$138<>"",COLUMN('Back data'!$A$138:$BM$138)))-P$6)} -> 100
A125: ACEITE OLIVA VIRGEN EXTRA | B125: PRINCIPALES FABRICANTE | C125: SIN PROMOCION | D125: {=INDEX('Back data'!$A$137:$BM$137,,MAX(IF('Back data'!$A$137:$BM$137<>"",COLUMN('Back data'!$A$137:$BM$137)))-D$6)/D124} -> 0.7503 | E125: {=INDEX('Back data'!$A$137:$BM$137,,MAX(IF('Back data'!$A$137:$BM$137<>"",COLUMN('Back data'!$A$137:$BM$137)))-E$6)/E124} -> 0.7205 | F125: {=INDEX('Back data'!$A$137:$BM$137,,MAX(IF('Back data'!$A$137:$BM$137<>"",COLUMN('Back data'!$A$137:$BM$137)))-F$6)/F124} -> 0.7071 | G125: {=INDEX('Back data'!$A$137:$BM$137,,MAX(IF('Back data'!$A$137:$BM$137<>"",COLUMN('Back data'!$A$137:$BM$137)))-G$6)/G124} -> 0.6785 | H125: {=INDEX('Back data'!$A$137:$BM$137,,MAX(IF('Back data'!$A$137:$BM$137<>"",COLUMN('Back data'!$A$137:$BM$137)))-H$6)/H124} -> 0.5946 | I125: {=INDEX('Back data'!$A$137:$BM$137,,MAX(IF('Back data'!$A$137:$BM$137<>"",COLUMN('Back data'!$A$137:$BM$137)))-I$6)/I124} -> 0.7643 | J125: {=INDEX('Back data'!$A$137:$BM$137,,MAX(IF('Back data'!$A$137:$BM$137<>"",COLUMN('Back data'!$A$137:$BM$137)))-J$6)/J124} -> 0.62 | K125: {=INDEX('Back data'!$A$137:$BM$137,,MAX(IF('Back data'!$A$137:$BM$137<>"",COLUMN('Back data'!$A$137:$BM$137)))-K$6)/K124} -> 0.4365 | ... P125: {=INDEX('Back data'!$A$137:$BM$137,,MAX(IF('Back data'!$A$137:$BM$137<>"",COLUMN('Back data'!$A$137:$BM$137)))-P$6)/P124} -> 0.9152
A126: ACEITE OLIVA VIRGEN EXTRA | B126: PRINCIPALES FABRICANTE | C126: CON PROMOCION | D126: {=+INDEX('Back data'!$A$138:$BM$138,,MAX(IF('Back data'!$A$138:$BM$138<>"",COLUMN('Back data'!$A$138:$BM$138)))-D$6)/D124} -> 0.2497 | E126: {=+INDEX('Back data'!$A$138:$BM$138,,MAX(IF('Back data'!$A$138:$BM$138<>"",COLUMN('Back data'!$A$138:$BM$138)))-E$6)/E124} -> 0.2795 | F126: {=+INDEX('Back data'!$A$138:$BM$138,,MAX(IF('Back data'!$A$138:$BM$138<>"",COLUMN('Back data'!$A$138:$BM$138)))-F$6)/F124} -> 0.2929 | G126: {=+INDEX('Back data'!$A$138:$BM$138,,MAX(IF('Back data'!$A$138:$BM$138<>"",COLUMN('Back data'!$A$138:$BM$138)))-G$6)/G124} -> 0.3215 | H126: {=+INDEX('Back data'!$A$138:$BM$138,,MAX(IF('Back data'!$A$138:$BM$138<>"",COLUMN('Back data'!$A$138:$BM$138)))-H$6)/H124} -> 0.4054 | I126: {=+INDEX('Back data'!$A$138:$BM$138,,MAX(IF('Back data'!$A$138:$BM$138<>"",COLUMN('Back data'!$A$138:$BM$138)))-I$6)/I124} -> 0.2357 | J126: {=+INDEX('Back data'!$A$138:$BM$138,,MAX(IF('Back data'!$A$138:$BM$138<>"",COLUMN('Back data'!$A$138:$BM$138)))-J$6)/J124} -> 0.38 | K126: {=+INDEX('Back data'!$A$138:$BM$138,,MAX(IF('Back data'!$A$138:$BM$138<>"",COLUMN('Back data'!$A$138:$BM$138)))-K$6)/K124} -> 0.5635 | ... P126: {=+INDEX('Back data'!$A$138:$BM$138,,MAX(IF('Back data'!$A$138:$BM$138<>"",COLUMN('Back data'!$A$138:$BM$138)))-P$6)/P124} -> 0.0848
C129: % DECLARADO | D129: {=INDEX('Back data'!$A$142:$BM$142,,MAX(IF('Back data'!$A$142:$BM$142<>"",COLUMN('Back data'!$A$142:$BM$142)))-D$6)+INDEX('Back data'!$A$143:$BM$143,,MAX(IF('Back data'!$A$143:$BM$143<>"",COLUMN('Back data'!$A$143:$BM$143)))-D$6)} -> 100 | E129: {=INDEX('Back data'!$A$142:$BM$142,,MAX(IF('Back data'!$A$142:$BM$142<>"",COLUMN('Back data'!$A$142:$BM$142)))-E$6)+INDEX('Back data'!$A$143:$BM$143,,MAX(IF('Back data'!$A$143:$BM$143<>"",COLUMN('Back data'!$A$143:$BM$143)))-E$6)} -> 100 | F129: {=INDEX('Back data'!$A$142:$BM$142,,MAX(IF('Back data'!$A$142:$BM$142<>"",COLUMN('Back data'!$A$142:$BM$142)))-F$6)+INDEX('Back data'!$A$143:$BM$143,,MAX(IF('Back data'!$A$143:$BM$143<>"",COLUMN('Back data'!$A$143:$BM$143)))-F$6)} -> 100 | G129: {=INDEX('Back data'!$A$142:$BM$142,,MAX(IF('Back data'!$A$142:$BM$142<>"",COLUMN('Back data'!$A$142:$BM$142)))-G$6)+INDEX('Back data'!$A$143:$BM$143,,MAX(IF('Back data'!$A$143:$BM$143<>"",COLUMN('Back data'!$A$143:$BM$143)))-G$6)} -> 100 | H129: {=INDEX('Back data'!$A$142:$BM$142,,MAX(IF('Back data'!$A$142:$BM$142<>"",COLUMN('Back data'!$A$142:$BM$142)))-H$6)+INDEX('Back data'!$A$143:$BM$143,,MAX(IF('Back data'!$A$143:$BM$143<>"",COLUMN('Back data'!$A$143:$BM$143)))-H$6)} -> 100 | I129: {=INDEX('Back data'!$A$142:$BM$142,,MAX(IF('Back data'!$A$142:$BM$142<>"",COLUMN('Back data'!$A$142:$BM$142)))-I$6)+INDEX('Back data'!$A$143:$BM$143,,MAX(IF('Back data'!$A$143:$BM$143<>"",COLUMN('Back data'!$A$143:$BM$143)))-I$6)} -> 100 | J129: {=INDEX('Back data'!$A$142:$BM$142,,MAX(IF('Back data'!$A$142:$BM$142<>"",COLUMN('Back data'!$A$142:$BM$142)))-J$6)+INDEX('Back data'!$A$143:$BM$143,,MAX(IF('Back data'!$A$143:$BM$143<>"",COLUMN('Back data'!$A$143:$BM$143)))-J$6)} -> 100 | K129: {=INDEX('Back data'!$A$142:$BM$142,,MAX(IF('Back data'!$A$142:$BM$142<>"",COLUMN('Back data'!$A$142:$BM$142)))-K$6)+INDEX('Back data'!$A$143:$BM$143,,MAX(IF('Back data'!$A$143:$BM$143<>"",COLUMN('Back data'!$A$143:$BM$143)))-K$6)} -> 100 | ... P129: {=INDEX('Back data'!$A$142:$BM$142,,MAX(IF('Back data'!$A$142:$BM$142<>"",COLUMN('Back data'!$A$142:$BM$142)))-P$6)+INDEX('Back data'!$A$143:$BM$143,,MAX(IF('Back data'!$A$143:$BM$143<>"",COLUMN('Back data'!$A$143:$BM$143)))-P$6)} -> 100
A130: ACEITE OLIVA VIRGEN EXTRA | B130: MARCAS DISTRIBUCION | C130: SIN PROMOCION | D130: {=INDEX('Back data'!$A$142:$BM$142,,MAX(IF('Back data'!$A$142:$BM$142<>"",COLUMN('Back data'!$A$142:$BM$142)))-D$6)/D129} -> 0.9831 | E130: {=INDEX('Back data'!$A$142:$BM$142,,MAX(IF('Back data'!$A$142:$BM$142<>"",COLUMN('Back data'!$A$142:$BM$142)))-E$6)/E129} -> 0.9845 | F130: {=INDEX('Back data'!$A$142:$BM$142,,MAX(IF('Back data'!$A$142:$BM$142<>"",COLUMN('Back data'!$A$142:$BM$142)))-F$6)/F129} -> 0.9681 | G130: {=INDEX('Back data'!$A$142:$BM$142,,MAX(IF('Back data'!$A$142:$BM$142<>"",COLUMN('Back data'!$A$142:$BM$142)))-G$6)/G129} -> 0.9961 | H130: {=INDEX('Back data'!$A$142:$BM$142,,MAX(IF('Back data'!$A$142:$BM$142<>"",COLUMN('Back data'!$A$142:$BM$142)))-H$6)/H129} -> 1 | I130: {=INDEX('Back data'!$A$142:$BM$142,,MAX(IF('Back data'!$A$142:$BM$142<>"",COLUMN('Back data'!$A$142:$BM$142)))-I$6)/I129} -> 0.9988 | J130: {=INDEX('Back data'!$A$142:$BM$142,,MAX(IF('Back data'!$A$142:$BM$142<>"",COLUMN('Back data'!$A$142:$BM$142)))-J$6)/J129} -> 0.9899 | K130: {=INDEX('Back data'!$A$142:$BM$142,,MAX(IF('Back data'!$A$142:$BM$142<>"",COLUMN('Back data'!$A$142:$BM$142)))-K$6)/K129} -> 0.9451 | ... P130: {=INDEX('Back data'!$A$142:$BM$142,,MAX(IF('Back data'!$A$142:$BM$142<>"",COLUMN('Back data'!$A$142:$BM$142)))-P$6)/P129} -> 1
A131: ACEITE OLIVA VIRGEN EXTRA | B131: MARCAS DISTRIBUCION | C131: CON PROMOCION | D131: {=+INDEX('Back data'!$A$143:$BM$143,,MAX(IF('Back data'!$A$143:$BM$143<>"",COLUMN('Back data'!$A$143:$BM$143)))-D$6)/D129} -> 0.0169 | E131: {=+INDEX('Back data'!$A$143:$BM$143,,MAX(IF('Back data'!$A$143:$BM$143<>"",COLUMN('Back data'!$A$143:$BM$143)))-E$6)/E129} -> 0.0155 | F131: {=+INDEX('Back data'!$A$143:$BM$143,,MAX(IF('Back data'!$A$143:$BM$143<>"",COLUMN('Back data'!$A$143:$BM$143)))-F$6)/F129} -> 0.0319 | G131: {=+INDEX('Back data'!$A$143:$BM$143,,MAX(IF('Back data'!$A$143:$BM$143<>"",COLUMN('Back data'!$A$143:$BM$143)))-G$6)/G129} -> 0.0039 | H131: {=+INDEX('Back data'!$A$143:$BM$143,,MAX(IF('Back data'!$A$143:$BM$143<>"",COLUMN('Back data'!$A$143:$BM$143)))-H$6)/H129} -> 0 | I131: {=+INDEX('Back data'!$A$143:$BM$143,,MAX(IF('Back data'!$A$143:$BM$143<>"",COLUMN('Back data'!$A$143:$BM$143)))-I$6)/I129} -> 0.0012 | J131: {=+INDEX('Back data'!$A$143:$BM$143,,MAX(IF('Back data'!$A$143:$BM$143<>"",COLUMN('Back data'!$A$143:$BM$143)))-J$6)/J129} -> 0.0101 | K131: {=+INDEX('Back data'!$A$143:$BM$143,,MAX(IF('Back data'!$A$143:$BM$143<>"",COLUMN('Back data'!$A$143:$BM$143)))-K$6)/K129} -> 0.0549 | ... P131: {=+INDEX('Back data'!$A$143:$BM$143,,MAX(IF('Back data'!$A$143:$BM$143<>"",COLUMN('Back data'!$A$143:$BM$143)))-P$6)/P129} -> 0
C134: % DECLARADO | D134: {=INDEX('Back data'!$A$332:$BM$332,,MAX(IF('Back data'!$A$332:$BM$332<>"",COLUMN('Back data'!$A$332:$BM$332)))-D$6)+INDEX('Back data'!$A$333:$BM$333,,MAX(IF('Back data'!$A$333:$BM$333<>"",COLUMN('Back data'!$A$333:$BM$333)))-D$6)} -> 100 | E134: {=INDEX('Back data'!$A$332:$BM$332,,MAX(IF('Back data'!$A$332:$BM$332<>"",COLUMN('Back data'!$A$332:$BM$332)))-E$6)+INDEX('Back data'!$A$333:$BM$333,,MAX(IF('Back data'!$A$333:$BM$333<>"",COLUMN('Back data'!$A$333:$BM$333)))-E$6)} -> 100 | F134: {=INDEX('Back data'!$A$332:$BM$332,,MAX(IF('Back data'!$A$332:$BM$332<>"",COLUMN('Back data'!$A$332:$BM$332)))-F$6)+INDEX('Back data'!$A$333:$BM$333,,MAX(IF('Back data'!$A$333:$BM$333<>"",COLUMN('Back data'!$A$333:$BM$333)))-F$6)} -> 100 | G134: {=INDEX('Back data'!$A$332:$BM$332,,MAX(IF('Back data'!$A$332:$BM$332<>"",COLUMN('Back data'!$A$332:$BM$332)))-G$6)+INDEX('Back data'!$A$333:$BM$333,,MAX(IF('Back data'!$A$333:$BM$333<>"",COLUMN('Back data'!$A$333:$BM$333)))-G$6)} -> 100 | H134: {=INDEX('Back data'!$A$332:$BM$332,,MAX(IF('Back data'!$A$332:$BM$332<>"",COLUMN('Back data'!$A$332:$BM$332)))-H$6)+INDEX('Back data'!$A$333:$BM$333,,MAX(IF('Back data'!$A$333:$BM$333<>"",COLUMN('Back data'!$A$333:$BM$333)))-H$6)} -> 100 | I134: {=INDEX('Back data'!$A$332:$BM$332,,MAX(IF('Back data'!$A$332:$BM$332<>"",COLUMN('Back data'!$A$332:$BM$332)))-I$6)+INDEX('Back data'!$A$333:$BM$333,,MAX(IF('Back data'!$A$333:$BM$333<>"",COLUMN('Back data'!$A$333:$BM$333)))-I$6)} -> 100 | J134: {=INDEX('Back data'!$A$332:$BM$332,,MAX(IF('Back data'!$A$332:$BM$332<>"",COLUMN('Back data'!$A$332:$BM$332)))-J$6)+INDEX('Back data'!$A$333:$BM$333,,MAX(IF('Back data'!$A$333:$BM$333<>"",COLUMN('Back data'!$A$333:$BM$333)))-J$6)} -> 100 | K134: {=INDEX('Back data'!$A$332:$BM$332,,MAX(IF('Back data'!$A$332:$BM$332<>"",COLUMN('Back data'!$A$332:$BM$332)))-K$6)+INDEX('Back data'!$A$333:$BM$333,,MAX(IF('Back data'!$A$333:$BM$333<>"",COLUMN('Back data'!$A$333:$BM$333)))-K$6)} -> 100 | ... P134: {=INDEX('Back data'!$A$332:$BM$332,,MAX(IF('Back data'!$A$332:$BM$332<>"",COLUMN('Back data'!$A$332:$BM$332)))-P$6)+INDEX('Back data'!$A$333:$BM$333,,MAX(IF('Back data'!$A$333:$BM$333<>"",COLUMN('Back data'!$A$333:$BM$333)))-P$6)} -> 100
A135: ACEITE OLIVA VIRGEN EXTRA | B135: HIPERMERCADOS | C135: SIN PROMOCION | D135: {=INDEX('Back data'!$A$332:$BM$332,,MAX(IF('Back data'!$A$332:$BM$332<>"",COLUMN('Back data'!$A$332:$BM$332)))-D$6)/D134} -> 0.6313 | E135: {=INDEX('Back data'!$A$332:$BM$332,,MAX(IF('Back data'!$A$332:$BM$332<>"",COLUMN('Back data'!$A$332:$BM$332)))-E$6)/E134} -> 0.6294 | F135: {=INDEX('Back data'!$A$332:$BM$332,,MAX(IF('Back data'!$A$332:$BM$332<>"",COLUMN('Back data'!$A$332:$BM$332)))-F$6)/F134} -> 0.6163 | G135: {=INDEX('Back data'!$A$332:$BM$332,,MAX(IF('Back data'!$A$332:$BM$332<>"",COLUMN('Back data'!$A$332:$BM$332)))-G$6)/G134} -> 0.7045 | H135: {=INDEX('Back data'!$A$332:$BM$332,,MAX(IF('Back data'!$A$332:$BM$332<>"",COLUMN('Back data'!$A$332:$BM$332)))-H$6)/H134} -> 0.5348 | I135: {=INDEX('Back data'!$A$332:$BM$332,,MAX(IF('Back data'!$A$332:$BM$332<>"",COLUMN('Back data'!$A$332:$BM$332)))-I$6)/I134} -> 0.7481 | J135: {=INDEX('Back data'!$A$332:$BM$332,,MAX(IF('Back data'!$A$332:$BM$332<>"",COLUMN('Back data'!$A$332:$BM$332)))-J$6)/J134} -> 0.5967 | K135: {=INDEX('Back data'!$A$332:$BM$332,,MAX(IF('Back data'!$A$332:$BM$332<>"",COLUMN('Back data'!$A$332:$BM$332)))-K$6)/K134} -> 0.3725 | ... P135: {=INDEX('Back data'!$A$332:$BM$332,,MAX(IF('Back data'!$A$332:$BM$332<>"",COLUMN('Back data'!$A$332:$BM$332)))-P$6)/P134} -> 0.9517
A136: ACEITE OLIVA VIRGEN EXTRA | B136: HIPERMERCADOS | C136: CON PROMOCION | D136: {=+INDEX('Back data'!$A$333:$BM$333,,MAX(IF('Back data'!$A$333:$BM$333<>"",COLUMN('Back data'!$A$333:$BM$333)))-D$6)/D134} -> 0.3687 | E136: {=+INDEX('Back data'!$A$333:$BM$333,,MAX(IF('Back data'!$A$333:$BM$333<>"",COLUMN('Back data'!$A$333:$BM$333)))-E$6)/E134} -> 0.3706 | F136: {=+INDEX('Back data'!$A$333:$BM$333,,MAX(IF('Back data'!$A$333:$BM$333<>"",COLUMN('Back data'!$A$333:$BM$333)))-F$6)/F134} -> 0.3837 | G136: {=+INDEX('Back data'!$A$333:$BM$333,,MAX(IF('Back data'!$A$333:$BM$333<>"",COLUMN('Back data'!$A$333:$BM$333)))-G$6)/G134} -> 0.2955 | H136: {=+INDEX('Back data'!$A$333:$BM$333,,MAX(IF('Back data'!$A$333:$BM$333<>"",COLUMN('Back data'!$A$333:$BM$333)))-H$6)/H134} -> 0.4652 | I136: {=+INDEX('Back data'!$A$333:$BM$333,,MAX(IF('Back data'!$A$333:$BM$333<>"",COLUMN('Back data'!$A$333:$BM$333)))-I$6)/I134} -> 0.2519 | J136: {=+INDEX('Back data'!$A$333:$BM$333,,MAX(IF('Back data'!$A$333:$BM$333<>"",COLUMN('Back data'!$A$333:$BM$333)))-J$6)/J134} -> 0.4033 | K136: {=+INDEX('Back data'!$A$333:$BM$333,,MAX(IF('Back data'!$A$333:$BM$333<>"",COLUMN('Back data'!$A$333:$BM$333)))-K$6)/K134} -> 0.6275 | ... P136: {=+INDEX('Back data'!$A$333:$BM$333,,MAX(IF('Back data'!$A$333:$BM$333<>"",COLUMN('Back data'!$A$333:$BM$333)))-P$6)/P134} -> 0.0483
C139: % DECLARADO | D139: {=INDEX('Back data'!$A$337:$BM$337,,MAX(IF('Back data'!$A$337:$BM$337<>"",COLUMN('Back data'!$A$337:$BM$337)))-D$6)+INDEX('Back data'!$A$338:$BM$338,,MAX(IF('Back data'!$A$338:$BM$338<>"",COLUMN('Back data'!$A$338:$BM$338)))-D$6)} -> 100 | E139: {=INDEX('Back data'!$A$337:$BM$337,,MAX(IF('Back data'!$A$337:$BM$337<>"",COLUMN('Back data'!$A$337:$BM$337)))-E$6)+INDEX('Back data'!$A$338:$BM$338,,MAX(IF('Back data'!$A$338:$BM$338<>"",COLUMN('Back data'!$A$338:$BM$338)))-E$6)} -> 100 | F139: {=INDEX('Back data'!$A$337:$BM$337,,MAX(IF('Back data'!$A$337:$BM$337<>"",COLUMN('Back data'!$A$337:$BM$337)))-F$6)+INDEX('Back data'!$A$338:$BM$338,,MAX(IF('Back data'!$A$338:$BM$338<>"",COLUMN('Back data'!$A$338:$BM$338)))-F$6)} -> 100 | G139: {=INDEX('Back data'!$A$337:$BM$337,,MAX(IF('Back data'!$A$337:$BM$337<>"",COLUMN('Back data'!$A$337:$BM$337)))-G$6)+INDEX('Back data'!$A$338:$BM$338,,MAX(IF('Back data'!$A$338:$BM$338<>"",COLUMN('Back data'!$A$338:$BM$338)))-G$6)} -> 100 | H139: {=INDEX('Back data'!$A$337:$BM$337,,MAX(IF('Back data'!$A$337:$BM$337<>"",COLUMN('Back data'!$A$337:$BM$337)))-H$6)+INDEX('Back data'!$A$338:$BM$338,,MAX(IF('Back data'!$A$338:$BM$338<>"",COLUMN('Back data'!$A$338:$BM$338)))-H$6)} -> 100 | I139: {=INDEX('Back data'!$A$337:$BM$337,,MAX(IF('Back data'!$A$337:$BM$337<>"",COLUMN('Back data'!$A$337:$BM$337)))-I$6)+INDEX('Back data'!$A$338:$BM$338,,MAX(IF('Back data'!$A$338:$BM$338<>"",COLUMN('Back data'!$A$338:$BM$338)))-I$6)} -> 100 | J139: {=INDEX('Back data'!$A$337:$BM$337,,MAX(IF('Back data'!$A$337:$BM$337<>"",COLUMN('Back data'!$A$337:$BM$337)))-J$6)+INDEX('Back data'!$A$338:$BM$338,,MAX(IF('Back data'!$A$338:$BM$338<>"",COLUMN('Back data'!$A$338:$BM$338)))-J$6)} -> 100 | K139: {=INDEX('Back data'!$A$337:$BM$337,,MAX(IF('Back data'!$A$337:$BM$337<>"",COLUMN('Back data'!$A$337:$BM$337)))-K$6)+INDEX('Back data'!$A$338:$BM$338,,MAX(IF('Back data'!$A$338:$BM$338<>"",COLUMN('Back data'!$A$338:$BM$338)))-K$6)} -> 100 | ... P139: {=INDEX('Back data'!$A$337:$BM$337,,MAX(IF('Back data'!$A$337:$BM$337<>"",COLUMN('Back data'!$A$337:$BM$337)))-P$6)+INDEX('Back data'!$A$338:$BM$338,,MAX(IF('Back data'!$A$338:$BM$338<>"",COLUMN('Back data'!$A$338:$BM$338)))-P$6)} -> 100
A140: ACEITE OLIVA VIRGEN EXTRA | B140: SUPERMERCADOS | C140: SIN PROMOCION | D140: {=INDEX('Back data'!$A$337:$BM$337,,MAX(IF('Back data'!$A$337:$BM$337<>"",COLUMN('Back data'!$A$337:$BM$337)))-D$6)/D139} -> 0.9688 | E140: {=INDEX('Back data'!$A$337:$BM$337,,MAX(IF('Back data'!$A$337:$BM$337<>"",COLUMN('Back data'!$A$337:$BM$337)))-E$6)/E139} -> 0.9683 | F140: {=INDEX('Back data'!$A$337:$BM$337,,MAX(IF('Back data'!$A$337:$BM$337<>"",COLUMN('Back data'!$A$337:$BM$337)))-F$6)/F139} -> 0.93 | G140: {=INDEX('Back data'!$A$337:$BM$337,,MAX(IF('Back data'!$A$337:$BM$337<>"",COLUMN('Back data'!$A$337:$BM$337)))-G$6)/G139} -> 0.965 | H140: {=INDEX('Back data'!$A$337:$BM$337,,MAX(IF('Back data'!$A$337:$BM$337<>"",COLUMN('Back data'!$A$337:$BM$337)))-H$6)/H139} -> 0.9393 | I140: {=INDEX('Back data'!$A$337:$BM$337,,MAX(IF('Back data'!$A$337:$BM$337<>"",COLUMN('Back data'!$A$337:$BM$337)))-I$6)/I139} -> 0.9522 | J140: {=INDEX('Back data'!$A$337:$BM$337,,MAX(IF('Back data'!$A$337:$BM$337<>"",COLUMN('Back data'!$A$337:$BM$337)))-J$6)/J139} -> 0.9663 | K140: {=INDEX('Back data'!$A$337:$BM$337,,MAX(IF('Back data'!$A$337:$BM$337<>"",COLUMN('Back data'!$A$337:$BM$337)))-K$6)/K139} -> 0.9145 | ... P140: {=INDEX('Back data'!$A$337:$BM$337,,MAX(IF('Back data'!$A$337:$BM$337<>"",COLUMN('Back data'!$A$337:$BM$337)))-P$6)/P139} -> 0.9819
A141: ACEITE OLIVA VIRGEN EXTRA | B141: SUPERMERCADOS | C141: CON PROMOCION | D141: {=+INDEX('Back data'!$A$338:$BM$338,,MAX(IF('Back data'!$A$338:$BM$338<>"",COLUMN('Back data'!$A$338:$BM$338)))-D$6)/D139} -> 0.0312 | E141: {=+INDEX('Back data'!$A$338:$BM$338,,MAX(IF('Back data'!$A$338:$BM$338<>"",COLUMN('Back data'!$A$338:$BM$338)))-E$6)/E139} -> 0.0317 | F141: {=+INDEX('Back data'!$A$338:$BM$338,,MAX(IF('Back data'!$A$338:$BM$338<>"",COLUMN('Back data'!$A$338:$BM$338)))-F$6)/F139} -> 0.07 | G141: {=+INDEX('Back data'!$A$338:$BM$338,,MAX(IF('Back data'!$A$338:$BM$338<>"",COLUMN('Back data'!$A$338:$BM$338)))-G$6)/G139} -> 0.035 | H141: {=+INDEX('Back data'!$A$338:$BM$338,,MAX(IF('Back data'!$A$338:$BM$338<>"",COLUMN('Back data'!$A$338:$BM$338)))-H$6)/H139} -> 0.0607 | I141: {=+INDEX('Back data'!$A$338:$BM$338,,MAX(IF('Back data'!$A$338:$BM$338<>"",COLUMN('Back data'!$A$338:$BM$338)))-I$6)/I139} -> 0.0478 | J141: {=+INDEX('Back data'!$A$338:$BM$338,,MAX(IF('Back data'!$A$338:$BM$338<>"",COLUMN('Back data'!$A$338:$BM$338)))-J$6)/J139} -> 0.0337 | K141: {=+INDEX('Back data'!$A$338:$BM$338,,MAX(IF('Back data'!$A$338:$BM$338<>"",COLUMN('Back data'!$A$338:$BM$338)))-K$6)/K139} -> 0.0855 | ... P141: {=+INDEX('Back data'!$A$338:$BM$338,,MAX(IF('Back data'!$A$338:$BM$338<>"",COLUMN('Back data'!$A$338:$BM$338)))-P$6)/P139} -> 0.0181
C144: % DECLARADO | D144: {=INDEX('Back data'!$A$342:$BM$342,,MAX(IF('Back data'!$A$342:$BM$342<>"",COLUMN('Back data'!$A$342:$BM$342)))-D$6)+INDEX('Back data'!$A$343:$BM$343,,MAX(IF('Back data'!$A$343:$BM$343<>"",COLUMN('Back data'!$A$343:$BM$343)))-D$6)} -> 100 | E144: {=INDEX('Back data'!$A$342:$BM$342,,MAX(IF('Back data'!$A$342:$BM$342<>"",COLUMN('Back data'!$A$342:$BM$342)))-E$6)+INDEX('Back data'!$A$343:$BM$343,,MAX(IF('Back data'!$A$343:$BM$343<>"",COLUMN('Back data'!$A$343:$BM$343)))-E$6)} -> 100 | F144: {=INDEX('Back data'!$A$342:$BM$342,,MAX(IF('Back data'!$A$342:$BM$342<>"",COLUMN('Back data'!$A$342:$BM$342)))-F$6)+INDEX('Back data'!$A$343:$BM$343,,MAX(IF('Back data'!$A$343:$BM$343<>"",COLUMN('Back data'!$A$343:$BM$343)))-F$6)} -> 100 | G144: {=INDEX('Back data'!$A$342:$BM$342,,MAX(IF('Back data'!$A$342:$BM$342<>"",COLUMN('Back data'!$A$342:$BM$342)))-G$6)+INDEX('Back data'!$A$343:$BM$343,,MAX(IF('Back data'!$A$343:$BM$343<>"",COLUMN('Back data'!$A$343:$BM$343)))-G$6)} -> 100 | H144: {=INDEX('Back data'!$A$342:$BM$342,,MAX(IF('Back data'!$A$342:$BM$342<>"",COLUMN('Back data'!$A$342:$BM$342)))-H$6)+INDEX('Back data'!$A$343:$BM$343,,MAX(IF('Back data'!$A$343:$BM$343<>"",COLUMN('Back data'!$A$343:$BM$343)))-H$6)} -> 100 | I144: {=INDEX('Back data'!$A$342:$BM$342,,MAX(IF('Back data'!$A$342:$BM$342<>"",COLUMN('Back data'!$A$342:$BM$342)))-I$6)+INDEX('Back data'!$A$343:$BM$343,,MAX(IF('Back data'!$A$343:$BM$343<>"",COLUMN('Back data'!$A$343:$BM$343)))-I$6)} -> 100 | J144: {=INDEX('Back data'!$A$342:$BM$342,,MAX(IF('Back data'!$A$342:$BM$342<>"",COLUMN('Back data'!$A$342:$BM$342)))-J$6)+INDEX('Back data'!$A$343:$BM$343,,MAX(IF('Back data'!$A$343:$BM$343<>"",COLUMN('Back data'!$A$343:$BM$343)))-J$6)} -> 100 | K144: {=INDEX('Back data'!$A$342:$BM$342,,MAX(IF('Back data'!$A$342:$BM$342<>"",COLUMN('Back data'!$A$342:$BM$342)))-K$6)+INDEX('Back data'!$A$343:$BM$343,,MAX(IF('Back data'!$A$343:$BM$343<>"",COLUMN('Back data'!$A$343:$BM$343)))-K$6)} -> 100 | ... P144: {=INDEX('Back data'!$A$342:$BM$342,,MAX(IF('Back data'!$A$342:$BM$342<>"",COLUMN('Back data'!$A$342:$BM$342)))-P$6)+INDEX('Back data'!$A$343:$BM$343,,MAX(IF('Back data'!$A$343:$BM$343<>"",COLUMN('Back data'!$A$343:$BM$343)))-P$6)} -> 100
A145: ACEITE OLIVA VIRGEN EXTRA | B145: SUPER+AUTOS | C145: SIN PROMOCION | D145: {=INDEX('Back data'!$A$342:$BM$342,,MAX(IF('Back data'!$A$342:$BM$342<>"",COLUMN('Back data'!$A$342:$BM$342)))-D$6)/D144} -> 0.9746 | E145: {=INDEX('Back data'!$A$342:$BM$342,,MAX(IF('Back data'!$A$342:$BM$342<>"",COLUMN('Back data'!$A$342:$BM$342)))-E$6)/E144} -> 0.964 | F145: {=INDEX('Back data'!$A$342:$BM$342,,MAX(IF('Back data'!$A$342:$BM$342<>"",COLUMN('Back data'!$A$342:$BM$342)))-F$6)/F144} -> 0.952 | G145: {=INDEX('Back data'!$A$342:$BM$342,,MAX(IF('Back data'!$A$342:$BM$342<>"",COLUMN('Back data'!$A$342:$BM$342)))-G$6)/G144} -> 0.9741 | H145: {=INDEX('Back data'!$A$342:$BM$342,,MAX(IF('Back data'!$A$342:$BM$342<>"",COLUMN('Back data'!$A$342:$BM$342)))-H$6)/H144} -> 0.952 | I145: {=INDEX('Back data'!$A$342:$BM$342,,MAX(IF('Back data'!$A$342:$BM$342<>"",COLUMN('Back data'!$A$342:$BM$342)))-I$6)/I144} -> 0.969 | J145: {=INDEX('Back data'!$A$342:$BM$342,,MAX(IF('Back data'!$A$342:$BM$342<>"",COLUMN('Back data'!$A$342:$BM$342)))-J$6)/J144} -> 0.9639 | K145: {=INDEX('Back data'!$A$342:$BM$342,,MAX(IF('Back data'!$A$342:$BM$342<>"",COLUMN('Back data'!$A$342:$BM$342)))-K$6)/K144} -> 0.9132 | ... P145: {=INDEX('Back data'!$A$342:$BM$342,,MAX(IF('Back data'!$A$342:$BM$342<>"",COLUMN('Back data'!$A$342:$BM$342)))-P$6)/P144} -> 0.9778
A146: ACEITE OLIVA VIRGEN EXTRA | B146: SUPER+AUTOS | C146: CON PROMOCION | D146: {=+INDEX('Back data'!$A$343:$BM$343,,MAX(IF('Back data'!$A$343:$BM$343<>"",COLUMN('Back data'!$A$343:$BM$343)))-D$6)/D144} -> 0.0254 | E146: {=+INDEX('Back data'!$A$343:$BM$343,,MAX(IF('Back data'!$A$343:$BM$343<>"",COLUMN('Back data'!$A$343:$BM$343)))-E$6)/E144} -> 0.036 | F146: {=+INDEX('Back data'!$A$343:$BM$343,,MAX(IF('Back data'!$A$343:$BM$343<>"",COLUMN('Back data'!$A$343:$BM$343)))-F$6)/F144} -> 0.048 | G146: {=+INDEX('Back data'!$A$343:$BM$343,,MAX(IF('Back data'!$A$343:$BM$343<>"",COLUMN('Back data'!$A$343:$BM$343)))-G$6)/G144} -> 0.0259 | H146: {=+INDEX('Back data'!$A$343:$BM$343,,MAX(IF('Back data'!$A$343:$BM$343<>"",COLUMN('Back data'!$A$343:$BM$343)))-H$6)/H144} -> 0.048 | I146: {=+INDEX('Back data'!$A$343:$BM$343,,MAX(IF('Back data'!$A$343:$BM$343<>"",COLUMN('Back data'!$A$343:$BM$343)))-I$6)/I144} -> 0.031 | J146: {=+INDEX('Back data'!$A$343:$BM$343,,MAX(IF('Back data'!$A$343:$BM$343<>"",COLUMN('Back data'!$A$343:$BM$343)))-J$6)/J144} -> 0.0361 | K146: {=+INDEX('Back data'!$A$343:$BM$343,,MAX(IF('Back data'!$A$343:$BM$343<>"",COLUMN('Back data'!$A$343:$BM$343)))-K$6)/K144} -> 0.0868 | ... P146: {=+INDEX('Back data'!$A$343:$BM$343,,MAX(IF('Back data'!$A$343:$BM$343<>"",COLUMN('Back data'!$A$343:$BM$343)))-P$6)/P144} -> 0.0222
C149: % DECLARADO | D149: {=INDEX('Back data'!$A$347:$BM$347,,MAX(IF('Back data'!$A$347:$BM$347<>"",COLUMN('Back data'!$A$347:$BM$347)))-D$6)+INDEX('Back data'!$A$348:$BM$348,,MAX(IF('Back data'!$A$348:$BM$348<>"",COLUMN('Back data'!$A$348:$BM$348)))-D$6)} -> 100 | E149: {=INDEX('Back data'!$A$347:$BM$347,,MAX(IF('Back data'!$A$347:$BM$347<>"",COLUMN('Back data'!$A$347:$BM$347)))-E$6)+INDEX('Back data'!$A$348:$BM$348,,MAX(IF('Back data'!$A$348:$BM$348<>"",COLUMN('Back data'!$A$348:$BM$348)))-E$6)} -> 100 | F149: {=INDEX('Back data'!$A$347:$BM$347,,MAX(IF('Back data'!$A$347:$BM$347<>"",COLUMN('Back data'!$A$347:$BM$347)))-F$6)+INDEX('Back data'!$A$348:$BM$348,,MAX(IF('Back data'!$A$348:$BM$348<>"",COLUMN('Back data'!$A$348:$BM$348)))-F$6)} -> 100 | G149: {=INDEX('Back data'!$A$347:$BM$347,,MAX(IF('Back data'!$A$347:$BM$347<>"",COLUMN('Back data'!$A$347:$BM$347)))-G$6)+INDEX('Back data'!$A$348:$BM$348,,MAX(IF('Back data'!$A$348:$BM$348<>"",COLUMN('Back data'!$A$348:$BM$348)))-G$6)} -> 100 | H149: {=INDEX('Back data'!$A$347:$BM$347,,MAX(IF('Back data'!$A$347:$BM$347<>"",COLUMN('Back data'!$A$347:$BM$347)))-H$6)+INDEX('Back data'!$A$348:$BM$348,,MAX(IF('Back data'!$A$348:$BM$348<>"",COLUMN('Back data'!$A$348:$BM$348)))-H$6)} -> 100 | I149: {=INDEX('Back data'!$A$347:$BM$347,,MAX(IF('Back data'!$A$347:$BM$347<>"",COLUMN('Back data'!$A$347:$BM$347)))-I$6)+INDEX('Back data'!$A$348:$BM$348,,MAX(IF('Back data'!$A$348:$BM$348<>"",COLUMN('Back data'!$A$348:$BM$348)))-I$6)} -> 100 | J149: {=INDEX('Back data'!$A$347:$BM$347,,MAX(IF('Back data'!$A$347:$BM$347<>"",COLUMN('Back data'!$A$347:$BM$347)))-J$6)+INDEX('Back data'!$A$348:$BM$348,,MAX(IF('Back data'!$A$348:$BM$348<>"",COLUMN('Back data'!$A$348:$BM$348)))-J$6)} -> 100 | K149: {=INDEX('Back data'!$A$347:$BM$347,,MAX(IF('Back data'!$A$347:$BM$347<>"",COLUMN('Back data'!$A$347:$BM$347)))-K$6)+INDEX('Back data'!$A$348:$BM$348,,MAX(IF('Back data'!$A$348:$BM$348<>"",COLUMN('Back data'!$A$348:$BM$348)))-K$6)} -> 100 | ... P149: {=INDEX('Back data'!$A$347:$BM$347,,MAX(IF('Back data'!$A$347:$BM$347<>"",COLUMN('Back data'!$A$347:$BM$347)))-P$6)+INDEX('Back data'!$A$348:$BM$348,,MAX(IF('Back data'!$A$348:$BM$348<>"",COLUMN('Back data'!$A$348:$BM$348)))-P$6)} -> 100
A150: ACEITE OLIVA VIRGEN EXTRA | B150: DISCOUNTS | C150: SIN PROMOCION | D150: {=INDEX('Back data'!$A$347:$BM$347,,MAX(IF('Back data'!$A$347:$BM$347<>"",COLUMN('Back data'!$A$347:$BM$347)))-D$6)/D149} -> 0.9432 | E150: {=INDEX('Back data'!$A$347:$BM$347,,MAX(IF('Back data'!$A$347:$BM$347<>"",COLUMN('Back data'!$A$347:$BM$347)))-E$6)/E149} -> 0.9888 | F150: {=INDEX('Back data'!$A$347:$BM$347,,MAX(IF('Back data'!$A$347:$BM$347<>"",COLUMN('Back data'!$A$347:$BM$347)))-F$6)/F149} -> 0.8372 | G150: {=INDEX('Back data'!$A$347:$BM$347,,MAX(IF('Back data'!$A$347:$BM$347<>"",COLUMN('Back data'!$A$347:$BM$347)))-G$6)/G149} -> 0.9313 | H150: {=INDEX('Back data'!$A$347:$BM$347,,MAX(IF('Back data'!$A$347:$BM$347<>"",COLUMN('Back data'!$A$347:$BM$347)))-H$6)/H149} -> 0.9006 | I150: {=INDEX('Back data'!$A$347:$BM$347,,MAX(IF('Back data'!$A$347:$BM$347<>"",COLUMN('Back data'!$A$347:$BM$347)))-I$6)/I149} -> 0.8856 | J150: {=INDEX('Back data'!$A$347:$BM$347,,MAX(IF('Back data'!$A$347:$BM$347<>"",COLUMN('Back data'!$A$347:$BM$347)))-J$6)/J149} -> 0.9751 | K150: {=INDEX('Back data'!$A$347:$BM$347,,MAX(IF('Back data'!$A$347:$BM$347<>"",COLUMN('Back data'!$A$347:$BM$347)))-K$6)/K149} -> 0.9206 | ... P150: {=INDEX('Back data'!$A$347:$BM$347,,MAX(IF('Back data'!$A$347:$BM$347<>"",COLUMN('Back data'!$A$347:$BM$347)))-P$6)/P149} -> 0.9971
A151: ACEITE OLIVA VIRGEN EXTRA | B151: DISCOUNTS | C151: CON PROMOCION | D151: {=+INDEX('Back data'!$A$348:$BM$348,,MAX(IF('Back data'!$A$348:$BM$348<>"",COLUMN('Back data'!$A$348:$BM$348)))-D$6)/D149} -> 0.0568 | E151: {=+INDEX('Back data'!$A$348:$BM$348,,MAX(IF('Back data'!$A$348:$BM$348<>"",COLUMN('Back data'!$A$348:$BM$348)))-E$6)/E149} -> 0.0112 | F151: {=+INDEX('Back data'!$A$348:$BM$348,,MAX(IF('Back data'!$A$348:$BM$348<>"",COLUMN('Back data'!$A$348:$BM$348)))-F$6)/F149} -> 0.1628 | G151: {=+INDEX('Back data'!$A$348:$BM$348,,MAX(IF('Back data'!$A$348:$BM$348<>"",COLUMN('Back data'!$A$348:$BM$348)))-G$6)/G149} -> 0.0687 | H151: {=+INDEX('Back data'!$A$348:$BM$348,,MAX(IF('Back data'!$A$348:$BM$348<>"",COLUMN('Back data'!$A$348:$BM$348)))-H$6)/H149} -> 0.0994 | I151: {=+INDEX('Back data'!$A$348:$BM$348,,MAX(IF('Back data'!$A$348:$BM$348<>"",COLUMN('Back data'!$A$348:$BM$348)))-I$6)/I149} -> 0.1144 | J151: {=+INDEX('Back data'!$A$348:$BM$348,,MAX(IF('Back data'!$A$348:$BM$348<>"",COLUMN('Back data'!$A$348:$BM$348)))-J$6)/J149} -> 0.0249 | K151: {=+INDEX('Back data'!$A$348:$BM$348,,MAX(IF('Back data'!$A$348:$BM$348<>"",COLUMN('Back data'!$A$348:$BM$348)))-K$6)/K149} -> 0.0794 | ... P151: {=+INDEX('Back data'!$A$348:$BM$348,,MAX(IF('Back data'!$A$348:$BM$348<>"",COLUMN('Back data'!$A$348:$BM$348)))-P$6)/P149} -> 0.0029
C156: % DECLARADO | D156: {=INDEX('Back data'!$A$107:$BM$107,,MAX(IF('Back data'!$A$107:$BM$107<>"",COLUMN('Back data'!$A$107:$BM$107)))-D$6)+INDEX('Back data'!$A$108:$BM$108,,MAX(IF('Back data'!$A$108:$BM$108<>"",COLUMN('Back data'!$A$108:$BM$108)))-D$6)} -> 100 | E156: {=INDEX('Back data'!$A$107:$BM$107,,MAX(IF('Back data'!$A$107:$BM$107<>"",COLUMN('Back data'!$A$107:$BM$107)))-E$6)+INDEX('Back data'!$A$108:$BM$108,,MAX(IF('Back data'!$A$108:$BM$108<>"",COLUMN('Back data'!$A$108:$BM$108)))-E$6)} -> 100 | F156: {=INDEX('Back data'!$A$107:$BM$107,,MAX(IF('Back data'!$A$107:$BM$107<>"",COLUMN('Back data'!$A$107:$BM$107)))-F$6)+INDEX('Back data'!$A$108:$BM$108,,MAX(IF('Back data'!$A$108:$BM$108<>"",COLUMN('Back data'!$A$108:$BM$108)))-F$6)} -> 100 | G156: {=INDEX('Back data'!$A$107:$BM$107,,MAX(IF('Back data'!$A$107:$BM$107<>"",COLUMN('Back data'!$A$107:$BM$107)))-G$6)+INDEX('Back data'!$A$108:$BM$108,,MAX(IF('Back data'!$A$108:$BM$108<>"",COLUMN('Back data'!$A$108:$BM$108)))-G$6)} -> 100 | H156: {=INDEX('Back data'!$A$107:$BM$107,,MAX(IF('Back data'!$A$107:$BM$107<>"",COLUMN('Back data'!$A$107:$BM$107)))-H$6)+INDEX('Back data'!$A$108:$BM$108,,MAX(IF('Back data'!$A$108:$BM$108<>"",COLUMN('Back data'!$A$108:$BM$108)))-H$6)} -> 100 | I156: {=INDEX('Back data'!$A$107:$BM$107,,MAX(IF('Back data'!$A$107:$BM$107<>"",COLUMN('Back data'!$A$107:$BM$107)))-I$6)+INDEX('Back data'!$A$108:$BM$108,,MAX(IF('Back data'!$A$108:$BM$108<>"",COLUMN('Back data'!$A$108:$BM$108)))-I$6)} -> 100 | J156: {=INDEX('Back data'!$A$107:$BM$107,,MAX(IF('Back data'!$A$107:$BM$107<>"",COLUMN('Back data'!$A$107:$BM$107)))-J$6)+INDEX('Back data'!$A$108:$BM$108,,MAX(IF('Back data'!$A$108:$BM$108<>"",COLUMN('Back data'!$A$108:$BM$108)))-J$6)} -> 100 | K156: {=INDEX('Back data'!$A$107:$BM$107,,MAX(IF('Back data'!$A$107:$BM$107<>"",COLUMN('Back data'!$A$107:$BM$107)))-K$6)+INDEX('Back data'!$A$108:$BM$108,,MAX(IF('Back data'!$A$108:$BM$108<>"",COLUMN('Back data'!$A$108:$BM$108)))-K$6)} -> 100 | ... P156: {=INDEX('Back data'!$A$107:$BM$107,,MAX(IF('Back data'!$A$107:$BM$107<>"",COLUMN('Back data'!$A$107:$BM$107)))-P$6)+INDEX('Back data'!$A$108:$BM$108,,MAX(IF('Back data'!$A$108:$BM$108<>"",COLUMN('Back data'!$A$108:$BM$108)))-P$6)} -> 100
A157: ACEITE OLIVA VIRGEN | B157: TOTAL | C157: SIN PROMOCION | D157: {=INDEX('Back data'!$A$107:$BM$107,,MAX(IF('Back data'!$A$107:$BM$107<>"",COLUMN('Back data'!$A$107:$BM$107)))-D$6)/D156} -> 0.9301 | E157: {=INDEX('Back data'!$A$107:$BM$107,,MAX(IF('Back data'!$A$107:$BM$107<>"",COLUMN('Back data'!$A$107:$BM$107)))-E$6)/E156} -> 0.8713 | F157: {=INDEX('Back data'!$A$107:$BM$107,,MAX(IF('Back data'!$A$107:$BM$107<>"",COLUMN('Back data'!$A$107:$BM$107)))-F$6)/F156} -> 0.8807 | G157: {=INDEX('Back data'!$A$107:$BM$107,,MAX(IF('Back data'!$A$107:$BM$107<>"",COLUMN('Back data'!$A$107:$BM$107)))-G$6)/G156} -> 0.9416 | H157: {=INDEX('Back data'!$A$107:$BM$107,,MAX(IF('Back data'!$A$107:$BM$107<>"",COLUMN('Back data'!$A$107:$BM$107)))-H$6)/H156} -> 0.9316 | I157: {=INDEX('Back data'!$A$107:$BM$107,,MAX(IF('Back data'!$A$107:$BM$107<>"",COLUMN('Back data'!$A$107:$BM$107)))-I$6)/I156} -> 0.9701 | J157: {=INDEX('Back data'!$A$107:$BM$107,,MAX(IF('Back data'!$A$107:$BM$107<>"",COLUMN('Back data'!$A$107:$BM$107)))-J$6)/J156} -> 0.89 | K157: {=INDEX('Back data'!$A$107:$BM$107,,MAX(IF('Back data'!$A$107:$BM$107<>"",COLUMN('Back data'!$A$107:$BM$107)))-K$6)/K156} -> 0.8844 | ... P157: {=INDEX('Back data'!$A$107:$BM$107,,MAX(IF('Back data'!$A$107:$BM$107<>"",COLUMN('Back data'!$A$107:$BM$107)))-P$6)/P156} -> 0.9678
A158: ACEITE OLIVA VIRGEN | B158: TOTAL | C158: CON PROMOCION | D158: {=+INDEX('Back data'!$A$108:$BM$108,,MAX(IF('Back data'!$A$108:$BM$108<>"",COLUMN('Back data'!$A$108:$BM$108)))-D$6)/D156} -> 0.0699 | E158: {=+INDEX('Back data'!$A$108:$BM$108,,MAX(IF('Back data'!$A$108:$BM$108<>"",COLUMN('Back data'!$A$108:$BM$108)))-E$6)/E156} -> 0.1287 | F158: {=+INDEX('Back data'!$A$108:$BM$108,,MAX(IF('Back data'!$A$108:$BM$108<>"",COLUMN('Back data'!$A$108:$BM$108)))-F$6)/F156} -> 0.1193 | G158: {=+INDEX('Back data'!$A$108:$BM$108,,MAX(IF('Back data'!$A$108:$BM$108<>"",COLUMN('Back data'!$A$108:$BM$108)))-G$6)/G156} -> 0.0584 | H158: {=+INDEX('Back data'!$A$108:$BM$108,,MAX(IF('Back data'!$A$108:$BM$108<>"",COLUMN('Back data'!$A$108:$BM$108)))-H$6)/H156} -> 0.0684 | I158: {=+INDEX('Back data'!$A$108:$BM$108,,MAX(IF('Back data'!$A$108:$BM$108<>"",COLUMN('Back data'!$A$108:$BM$108)))-I$6)/I156} -> 0.0299 | J158: {=+INDEX('Back data'!$A$108:$BM$108,,MAX(IF('Back data'!$A$108:$BM$108<>"",COLUMN('Back data'!$A$108:$BM$108)))-J$6)/J156} -> 0.11 | K158: {=+INDEX('Back data'!$A$108:$BM$108,,MAX(IF('Back data'!$A$108:$BM$108<>"",COLUMN('Back data'!$A$108:$BM$108)))-K$6)/K156} -> 0.1156 | ... P158: {=+INDEX('Back data'!$A$108:$BM$108,,MAX(IF('Back data'!$A$108:$BM$108<>"",COLUMN('Back data'!$A$108:$BM$108)))-P$6)/P156} -> 0.0322
C161: % DECLARADO | D161: {=INDEX('Back data'!$A$112:$BM$112,,MAX(IF('Back data'!$A$112:$BM$112<>"",COLUMN('Back data'!$A$112:$BM$112)))-D$6)+INDEX('Back data'!$A$113:$BM$113,,MAX(IF('Back data'!$A$113:$BM$113<>"",COLUMN('Back data'!$A$113:$BM$113)))-D$6)} -> 100 | E161: {=INDEX('Back data'!$A$112:$BM$112,,MAX(IF('Back data'!$A$112:$BM$112<>"",COLUMN('Back data'!$A$112:$BM$112)))-E$6)+INDEX('Back data'!$A$113:$BM$113,,MAX(IF('Back data'!$A$113:$BM$113<>"",COLUMN('Back data'!$A$113:$BM$113)))-E$6)} -> 100 | F161: {=INDEX('Back data'!$A$112:$BM$112,,MAX(IF('Back data'!$A$112:$BM$112<>"",COLUMN('Back data'!$A$112:$BM$112)))-F$6)+INDEX('Back data'!$A$113:$BM$113,,MAX(IF('Back data'!$A$113:$BM$113<>"",COLUMN('Back data'!$A$113:$BM$113)))-F$6)} -> 100 | G161: {=INDEX('Back data'!$A$112:$BM$112,,MAX(IF('Back data'!$A$112:$BM$112<>"",COLUMN('Back data'!$A$112:$BM$112)))-G$6)+INDEX('Back data'!$A$113:$BM$113,,MAX(IF('Back data'!$A$113:$BM$113<>"",COLUMN('Back data'!$A$113:$BM$113)))-G$6)} -> 100 | H161: {=INDEX('Back data'!$A$112:$BM$112,,MAX(IF('Back data'!$A$112:$BM$112<>"",COLUMN('Back data'!$A$112:$BM$112)))-H$6)+INDEX('Back data'!$A$113:$BM$113,,MAX(IF('Back data'!$A$113:$BM$113<>"",COLUMN('Back data'!$A$113:$BM$113)))-H$6)} -> 100 | I161: {=INDEX('Back data'!$A$112:$BM$112,,MAX(IF('Back data'!$A$112:$BM$112<>"",COLUMN('Back data'!$A$112:$BM$112)))-I$6)+INDEX('Back data'!$A$113:$BM$113,,MAX(IF('Back data'!$A$113:$BM$113<>"",COLUMN('Back data'!$A$113:$BM$113)))-I$6)} -> 100 | J161: {=INDEX('Back data'!$A$112:$BM$112,,MAX(IF('Back data'!$A$112:$BM$112<>"",COLUMN('Back data'!$A$112:$BM$112)))-J$6)+INDEX('Back data'!$A$113:$BM$113,,MAX(IF('Back data'!$A$113:$BM$113<>"",COLUMN('Back data'!$A$113:$BM$113)))-J$6)} -> 100 | K161: {=INDEX('Back data'!$A$112:$BM$112,,MAX(IF('Back data'!$A$112:$BM$112<>"",COLUMN('Back data'!$A$112:$BM$112)))-K$6)+INDEX('Back data'!$A$113:$BM$113,,MAX(IF('Back data'!$A$113:$BM$113<>"",COLUMN('Back data'!$A$113:$BM$113)))-K$6)} -> 100 | ... P161: {=INDEX('Back data'!$A$112:$BM$112,,MAX(IF('Back data'!$A$112:$BM$112<>"",COLUMN('Back data'!$A$112:$BM$112)))-P$6)+INDEX('Back data'!$A$113:$BM$113,,MAX(IF('Back data'!$A$113:$BM$113<>"",COLUMN('Back data'!$A$113:$BM$113)))-P$6)} -> 100
A162: ACEITE OLIVA VIRGEN | B162: PRINCIPALES FABRICANTE | C162: SIN PROMOCION | D162: {=INDEX('Back data'!$A$112:$BM$112,,MAX(IF('Back data'!$A$112:$BM$112<>"",COLUMN('Back data'!$A$112:$BM$112)))-D$6)/D161} -> 0.7372 | E162: {=INDEX('Back data'!$A$112:$BM$112,,MAX(IF('Back data'!$A$112:$BM$112<>"",COLUMN('Back data'!$A$112:$BM$112)))-E$6)/E161} -> 0.5914 | F162: {=INDEX('Back data'!$A$112:$BM$112,,MAX(IF('Back data'!$A$112:$BM$112<>"",COLUMN('Back data'!$A$112:$BM$112)))-F$6)/F161} -> 0.6273 | G162: {=INDEX('Back data'!$A$112:$BM$112,,MAX(IF('Back data'!$A$112:$BM$112<>"",COLUMN('Back data'!$A$112:$BM$112)))-G$6)/G161} -> 0.7839 | H162: {=INDEX('Back data'!$A$112:$BM$112,,MAX(IF('Back data'!$A$112:$BM$112<>"",COLUMN('Back data'!$A$112:$BM$112)))-H$6)/H161} -> 0.7397 | I162: {=INDEX('Back data'!$A$112:$BM$112,,MAX(IF('Back data'!$A$112:$BM$112<>"",COLUMN('Back data'!$A$112:$BM$112)))-I$6)/I161} -> 0.8505 | J162: {=INDEX('Back data'!$A$112:$BM$112,,MAX(IF('Back data'!$A$112:$BM$112<>"",COLUMN('Back data'!$A$112:$BM$112)))-J$6)/J161} -> 0.5068 | K162: {=INDEX('Back data'!$A$112:$BM$112,,MAX(IF('Back data'!$A$112:$BM$112<>"",COLUMN('Back data'!$A$112:$BM$112)))-K$6)/K161} -> 0.6491 | ... P162: {=INDEX('Back data'!$A$112:$BM$112,,MAX(IF('Back data'!$A$112:$BM$112<>"",COLUMN('Back data'!$A$112:$BM$112)))-P$6)/P161} -> 0.832
A163: ACEITE OLIVA VIRGEN | B163: PRINCIPALES FABRICANTE | C163: CON PROMOCION | D163: {=+INDEX('Back data'!$A$113:$BM$113,,MAX(IF('Back data'!$A$113:$BM$113<>"",COLUMN('Back data'!$A$113:$BM$113)))-D$6)/D161} -> 0.2628 | E163: {=+INDEX('Back data'!$A$113:$BM$113,,MAX(IF('Back data'!$A$113:$BM$113<>"",COLUMN('Back data'!$A$113:$BM$113)))-E$6)/E161} -> 0.4086 | F163: {=+INDEX('Back data'!$A$113:$BM$113,,MAX(IF('Back data'!$A$113:$BM$113<>"",COLUMN('Back data'!$A$113:$BM$113)))-F$6)/F161} -> 0.3727 | G163: {=+INDEX('Back data'!$A$113:$BM$113,,MAX(IF('Back data'!$A$113:$BM$113<>"",COLUMN('Back data'!$A$113:$BM$113)))-G$6)/G161} -> 0.2161 | H163: {=+INDEX('Back data'!$A$113:$BM$113,,MAX(IF('Back data'!$A$113:$BM$113<>"",COLUMN('Back data'!$A$113:$BM$113)))-H$6)/H161} -> 0.2603 | I163: {=+INDEX('Back data'!$A$113:$BM$113,,MAX(IF('Back data'!$A$113:$BM$113<>"",COLUMN('Back data'!$A$113:$BM$113)))-I$6)/I161} -> 0.1495 | J163: {=+INDEX('Back data'!$A$113:$BM$113,,MAX(IF('Back data'!$A$113:$BM$113<>"",COLUMN('Back data'!$A$113:$BM$113)))-J$6)/J161} -> 0.4932 | K163: {=+INDEX('Back data'!$A$113:$BM$113,,MAX(IF('Back data'!$A$113:$BM$113<>"",COLUMN('Back data'!$A$113:$BM$113)))-K$6)/K161} -> 0.3509 | ... P163: {=+INDEX('Back data'!$A$113:$BM$113,,MAX(IF('Back data'!$A$113:$BM$113<>"",COLUMN('Back data'!$A$113:$BM$113)))-P$6)/P161} -> 0.168
C166: % DECLARADO | D166: {=INDEX('Back data'!$A$117:$BM$117,,MAX(IF('Back data'!$A$117:$BM$117<>"",COLUMN('Back data'!$A$117:$BM$117)))-D$6)+INDEX('Back data'!$A$118:$BM$118,,MAX(IF('Back data'!$A$118:$BM$118<>"",COLUMN('Back data'!$A$118:$BM$118)))-D$6)} -> 100 | E166: {=INDEX('Back data'!$A$117:$BM$117,,MAX(IF('Back data'!$A$117:$BM$117<>"",COLUMN('Back data'!$A$117:$BM$117)))-E$6)+INDEX('Back data'!$A$118:$BM$118,,MAX(IF('Back data'!$A$118:$BM$118<>"",COLUMN('Back data'!$A$118:$BM$118)))-E$6)} -> 100 | F166: {=INDEX('Back data'!$A$117:$BM$117,,MAX(IF('Back data'!$A$117:$BM$117<>"",COLUMN('Back data'!$A$117:$BM$117)))-F$6)+INDEX('Back data'!$A$118:$BM$118,,MAX(IF('Back data'!$A$118:$BM$118<>"",COLUMN('Back data'!$A$118:$BM$118)))-F$6)} -> 100 | G166: {=INDEX('Back data'!$A$117:$BM$117,,MAX(IF('Back data'!$A$117:$BM$117<>"",COLUMN('Back data'!$A$117:$BM$117)))-G$6)+INDEX('Back data'!$A$118:$BM$118,,MAX(IF('Back data'!$A$118:$BM$118<>"",COLUMN('Back data'!$A$118:$BM$118)))-G$6)} -> 100 | H166: {=INDEX('Back data'!$A$117:$BM$117,,MAX(IF('Back data'!$A$117:$BM$117<>"",COLUMN('Back data'!$A$117:$BM$117)))-H$6)+INDEX('Back data'!$A$118:$BM$118,,MAX(IF('Back data'!$A$118:$BM$118<>"",COLUMN('Back data'!$A$118:$BM$118)))-H$6)} -> 100 | I166: {=INDEX('Back data'!$A$117:$BM$117,,MAX(IF('Back data'!$A$117:$BM$117<>"",COLUMN('Back data'!$A$117:$BM$117)))-I$6)+INDEX('Back data'!$A$118:$BM$118,,MAX(IF('Back data'!$A$118:$BM$118<>"",COLUMN('Back data'!$A$118:$BM$118)))-I$6)} -> 100 | J166: {=INDEX('Back data'!$A$117:$BM$117,,MAX(IF('Back data'!$A$117:$BM$117<>"",COLUMN('Back data'!$A$117:$BM$117)))-J$6)+INDEX('Back data'!$A$118:$BM$118,,MAX(IF('Back data'!$A$118:$BM$118<>"",COLUMN('Back data'!$A$118:$BM$118)))-J$6)} -> 100 | K166: {=INDEX('Back data'!$A$117:$BM$117,,MAX(IF('Back data'!$A$117:$BM$117<>"",COLUMN('Back data'!$A$117:$BM$117)))-K$6)+INDEX('Back data'!$A$118:$BM$118,,MAX(IF('Back data'!$A$118:$BM$118<>"",COLUMN('Back data'!$A$118:$BM$118)))-K$6)} -> 100 | ... P166: {=INDEX('Back data'!$A$117:$BM$117,,MAX(IF('Back data'!$A$117:$BM$117<>"",COLUMN('Back data'!$A$117:$BM$117)))-P$6)+INDEX('Back data'!$A$118:$BM$118,,MAX(IF('Back data'!$A$118:$BM$118<>"",COLUMN('Back data'!$A$118:$BM$118)))-P$6)} -> 100
A167: ACEITE OLIVA VIRGEN | B167: MARCAS DISTRIBUCION | C167: SIN PROMOCION | D167: {=INDEX('Back data'!$A$117:$BM$117,,MAX(IF('Back data'!$A$117:$BM$117<>"",COLUMN('Back data'!$A$117:$BM$117)))-D$6)/D166} -> 0.9872 | E167: {=INDEX('Back data'!$A$117:$BM$117,,MAX(IF('Back data'!$A$117:$BM$117<>"",COLUMN('Back data'!$A$117:$BM$117)))-E$6)/E166} -> 1 | F167: {=INDEX('Back data'!$A$117:$BM$117,,MAX(IF('Back data'!$A$117:$BM$117<>"",COLUMN('Back data'!$A$117:$BM$117)))-F$6)/F166} -> 1 | G167: {=INDEX('Back data'!$A$117:$BM$117,,MAX(IF('Back data'!$A$117:$BM$117<>"",COLUMN('Back data'!$A$117:$BM$117)))-G$6)/G166} -> 1 | H167: {=INDEX('Back data'!$A$117:$BM$117,,MAX(IF('Back data'!$A$117:$BM$117<>"",COLUMN('Back data'!$A$117:$BM$117)))-H$6)/H166} -> 1 | I167: {=INDEX('Back data'!$A$117:$BM$117,,MAX(IF('Back data'!$A$117:$BM$117<>"",COLUMN('Back data'!$A$117:$BM$117)))-I$6)/I166} -> 1 | J167: {=INDEX('Back data'!$A$117:$BM$117,,MAX(IF('Back data'!$A$117:$BM$117<>"",COLUMN('Back data'!$A$117:$BM$117)))-J$6)/J166} -> 1 | K167: {=INDEX('Back data'!$A$117:$BM$117,,MAX(IF('Back data'!$A$117:$BM$117<>"",COLUMN('Back data'!$A$117:$BM$117)))-K$6)/K166} -> 0.9871 | ... P167: {=INDEX('Back data'!$A$117:$BM$117,,MAX(IF('Back data'!$A$117:$BM$117<>"",COLUMN('Back data'!$A$117:$BM$117)))-P$6)/P166} -> 1
A168: ACEITE OLIVA VIRGEN | B168: MARCAS DISTRIBUCION | C168: CON PROMOCION | D168: {=+INDEX('Back data'!$A$118:$BM$118,,MAX(IF('Back data'!$A$118:$BM$118<>"",COLUMN('Back data'!$A$118:$BM$118)))-D$6)/D166} -> 0.0128 | E168: {=+INDEX('Back data'!$A$118:$BM$118,,MAX(IF('Back data'!$A$118:$BM$118<>"",COLUMN('Back data'!$A$118:$BM$118)))-E$6)/E166} -> 0 | F168: {=+INDEX('Back data'!$A$118:$BM$118,,MAX(IF('Back data'!$A$118:$BM$118<>"",COLUMN('Back data'!$A$118:$BM$118)))-F$6)/F166} -> 0 | G168: {=+INDEX('Back data'!$A$118:$BM$118,,MAX(IF('Back data'!$A$118:$BM$118<>"",COLUMN('Back data'!$A$118:$BM$118)))-G$6)/G166} -> 0 | H168: {=+INDEX('Back data'!$A$118:$BM$118,,MAX(IF('Back data'!$A$118:$BM$118<>"",COLUMN('Back data'!$A$118:$BM$118)))-H$6)/H166} -> 0 | I168: {=+INDEX('Back data'!$A$118:$BM$118,,MAX(IF('Back data'!$A$118:$BM$118<>"",COLUMN('Back data'!$A$118:$BM$118)))-I$6)/I166} -> 0 | J168: {=+INDEX('Back data'!$A$118:$BM$118,,MAX(IF('Back data'!$A$118:$BM$118<>"",COLUMN('Back data'!$A$118:$BM$118)))-J$6)/J166} -> 0 | K168: {=+INDEX('Back data'!$A$118:$BM$118,,MAX(IF('Back data'!$A$118:$BM$118<>"",COLUMN('Back data'!$A$118:$BM$118)))-K$6)/K166} -> 0.0129 | ... P168: {=+INDEX('Back data'!$A$118:$BM$118,,MAX(IF('Back data'!$A$118:$BM$118<>"",COLUMN('Back data'!$A$118:$BM$118)))-P$6)/P166} -> 0
C171: % DECLARADO | D171: {=INDEX('Back data'!$A$307:$BM$307,,MAX(IF('Back data'!$A$307:$BM$307<>"",COLUMN('Back data'!$A$307:$BM$307)))-D$6)+INDEX('Back data'!$A$308:$BM$308,,MAX(IF('Back data'!$A$308:$BM$308<>"",COLUMN('Back data'!$A$308:$BM$308)))-D$6)} -> 100 | E171: {=INDEX('Back data'!$A$307:$BM$307,,MAX(IF('Back data'!$A$307:$BM$307<>"",COLUMN('Back data'!$A$307:$BM$307)))-E$6)+INDEX('Back data'!$A$308:$BM$308,,MAX(IF('Back data'!$A$308:$BM$308<>"",COLUMN('Back data'!$A$308:$BM$308)))-E$6)} -> 100 | F171: {=INDEX('Back data'!$A$307:$BM$307,,MAX(IF('Back data'!$A$307:$BM$307<>"",COLUMN('Back data'!$A$307:$BM$307)))-F$6)+INDEX('Back data'!$A$308:$BM$308,,MAX(IF('Back data'!$A$308:$BM$308<>"",COLUMN('Back data'!$A$308:$BM$308)))-F$6)} -> 100 | G171: {=INDEX('Back data'!$A$307:$BM$307,,MAX(IF('Back data'!$A$307:$BM$307<>"",COLUMN('Back data'!$A$307:$BM$307)))-G$6)+INDEX('Back data'!$A$308:$BM$308,,MAX(IF('Back data'!$A$308:$BM$308<>"",COLUMN('Back data'!$A$308:$BM$308)))-G$6)} -> 100 | H171: {=INDEX('Back data'!$A$307:$BM$307,,MAX(IF('Back data'!$A$307:$BM$307<>"",COLUMN('Back data'!$A$307:$BM$307)))-H$6)+INDEX('Back data'!$A$308:$BM$308,,MAX(IF('Back data'!$A$308:$BM$308<>"",COLUMN('Back data'!$A$308:$BM$308)))-H$6)} -> 100 | I171: {=INDEX('Back data'!$A$307:$BM$307,,MAX(IF('Back data'!$A$307:$BM$307<>"",COLUMN('Back data'!$A$307:$BM$307)))-I$6)+INDEX('Back data'!$A$308:$BM$308,,MAX(IF('Back data'!$A$308:$BM$308<>"",COLUMN('Back data'!$A$308:$BM$308)))-I$6)} -> 100 | J171: {=INDEX('Back data'!$A$307:$BM$307,,MAX(IF('Back data'!$A$307:$BM$307<>"",COLUMN('Back data'!$A$307:$BM$307)))-J$6)+INDEX('Back data'!$A$308:$BM$308,,MAX(IF('Back data'!$A$308:$BM$308<>"",COLUMN('Back data'!$A$308:$BM$308)))-J$6)} -> 100 | K171: {=INDEX('Back data'!$A$307:$BM$307,,MAX(IF('Back data'!$A$307:$BM$307<>"",COLUMN('Back data'!$A$307:$BM$307)))-K$6)+INDEX('Back data'!$A$308:$BM$308,,MAX(IF('Back data'!$A$308:$BM$308<>"",COLUMN('Back data'!$A$308:$BM$308)))-K$6)} -> 100 | ... P171: {=INDEX('Back data'!$A$307:$BM$307,,MAX(IF('Back data'!$A$307:$BM$307<>"",COLUMN('Back data'!$A$307:$BM$307)))-P$6)+INDEX('Back data'!$A$308:$BM$308,,MAX(IF('Back data'!$A$308:$BM$308<>"",COLUMN('Back data'!$A$308:$BM$308)))-P$6)} -> 100
A172: ACEITE OLIVA VIRGEN | B172: HIPERMERCADOS | C172: SIN PROMOCION | D172: {=INDEX('Back data'!$A$307:$BM$307,,MAX(IF('Back data'!$A$307:$BM$307<>"",COLUMN('Back data'!$A$307:$BM$307)))-D$6)/D171} -> 0.655 | E172: {=INDEX('Back data'!$A$307:$BM$307,,MAX(IF('Back data'!$A$307:$BM$307<>"",COLUMN('Back data'!$A$307:$BM$307)))-E$6)/E171} -> 0.4509 | F172: {=INDEX('Back data'!$A$307:$BM$307,,MAX(IF('Back data'!$A$307:$BM$307<>"",COLUMN('Back data'!$A$307:$BM$307)))-F$6)/F171} -> 0.5739 | G172: {=INDEX('Back data'!$A$307:$BM$307,,MAX(IF('Back data'!$A$307:$BM$307<>"",COLUMN('Back data'!$A$307:$BM$307)))-G$6)/G171} -> 0.6394 | H172: {=INDEX('Back data'!$A$307:$BM$307,,MAX(IF('Back data'!$A$307:$BM$307<>"",COLUMN('Back data'!$A$307:$BM$307)))-H$6)/H171} -> 0.7214 | I172: {=INDEX('Back data'!$A$307:$BM$307,,MAX(IF('Back data'!$A$307:$BM$307<>"",COLUMN('Back data'!$A$307:$BM$307)))-I$6)/I171} -> 0.8953 | J172: {=INDEX('Back data'!$A$307:$BM$307,,MAX(IF('Back data'!$A$307:$BM$307<>"",COLUMN('Back data'!$A$307:$BM$307)))-J$6)/J171} -> 0.5541 | K172: {=INDEX('Back data'!$A$307:$BM$307,,MAX(IF('Back data'!$A$307:$BM$307<>"",COLUMN('Back data'!$A$307:$BM$307)))-K$6)/K171} -> 0.5305 | ... P172: {=INDEX('Back data'!$A$307:$BM$307,,MAX(IF('Back data'!$A$307:$BM$307<>"",COLUMN('Back data'!$A$307:$BM$307)))-P$6)/P171} -> 0.9758
A173: ACEITE OLIVA VIRGEN | B173: HIPERMERCADOS | C173: CON PROMOCION | D173: {=+INDEX('Back data'!$A$308:$BM$308,,MAX(IF('Back data'!$A$308:$BM$308<>"",COLUMN('Back data'!$A$308:$BM$308)))-D$6)/D171} -> 0.345 | E173: {=+INDEX('Back data'!$A$308:$BM$308,,MAX(IF('Back data'!$A$308:$BM$308<>"",COLUMN('Back data'!$A$308:$BM$308)))-E$6)/E171} -> 0.5491 | F173: {=+INDEX('Back data'!$A$308:$BM$308,,MAX(IF('Back data'!$A$308:$BM$308<>"",COLUMN('Back data'!$A$308:$BM$308)))-F$6)/F171} -> 0.4261 | G173: {=+INDEX('Back data'!$A$308:$BM$308,,MAX(IF('Back data'!$A$308:$BM$308<>"",COLUMN('Back data'!$A$308:$BM$308)))-G$6)/G171} -> 0.3606 | H173: {=+INDEX('Back data'!$A$308:$BM$308,,MAX(IF('Back data'!$A$308:$BM$308<>"",COLUMN('Back data'!$A$308:$BM$308)))-H$6)/H171} -> 0.2786 | I173: {=+INDEX('Back data'!$A$308:$BM$308,,MAX(IF('Back data'!$A$308:$BM$308<>"",COLUMN('Back data'!$A$308:$BM$308)))-I$6)/I171} -> 0.1047 | J173: {=+INDEX('Back data'!$A$308:$BM$308,,MAX(IF('Back data'!$A$308:$BM$308<>"",COLUMN('Back data'!$A$308:$BM$308)))-J$6)/J171} -> 0.4459 | K173: {=+INDEX('Back data'!$A$308:$BM$308,,MAX(IF('Back data'!$A$308:$BM$308<>"",COLUMN('Back data'!$A$308:$BM$308)))-K$6)/K171} -> 0.4695 | ... P173: {=+INDEX('Back data'!$A$308:$BM$308,,MAX(IF('Back data'!$A$308:$BM$308<>"",COLUMN('Back data'!$A$308:$BM$308)))-P$6)/P171} -> 0.0242
C176: % DECLARADO | D176: {=INDEX('Back data'!$A$312:$BM$312,,MAX(IF('Back data'!$A$312:$BM$312<>"",COLUMN('Back data'!$A$312:$BM$312)))-D$6)+INDEX('Back data'!$A$313:$BM$313,,MAX(IF('Back data'!$A$313:$BM$313<>"",COLUMN('Back data'!$A$313:$BM$313)))-D$6)} -> 100 | E176: {=INDEX('Back data'!$A$312:$BM$312,,MAX(IF('Back data'!$A$312:$BM$312<>"",COLUMN('Back data'!$A$312:$BM$312)))-E$6)+INDEX('Back data'!$A$313:$BM$313,,MAX(IF('Back data'!$A$313:$BM$313<>"",COLUMN('Back data'!$A$313:$BM$313)))-E$6)} -> 100 | F176: {=INDEX('Back data'!$A$312:$BM$312,,MAX(IF('Back data'!$A$312:$BM$312<>"",COLUMN('Back data'!$A$312:$BM$312)))-F$6)+INDEX('Back data'!$A$313:$BM$313,,MAX(IF('Back data'!$A$313:$BM$313<>"",COLUMN('Back data'!$A$313:$BM$313)))-F$6)} -> 100 | G176: {=INDEX('Back data'!$A$312:$BM$312,,MAX(IF('Back data'!$A$312:$BM$312<>"",COLUMN('Back data'!$A$312:$BM$312)))-G$6)+INDEX('Back data'!$A$313:$BM$313,,MAX(IF('Back data'!$A$313:$BM$313<>"",COLUMN('Back data'!$A$313:$BM$313)))-G$6)} -> 100 | H176: {=INDEX('Back data'!$A$312:$BM$312,,MAX(IF('Back data'!$A$312:$BM$312<>"",COLUMN('Back data'!$A$312:$BM$312)))-H$6)+INDEX('Back data'!$A$313:$BM$313,,MAX(IF('Back data'!$A$313:$BM$313<>"",COLUMN('Back data'!$A$313:$BM$313)))-H$6)} -> 100 | I176: {=INDEX('Back data'!$A$312:$BM$312,,MAX(IF('Back data'!$A$312:$BM$312<>"",COLUMN('Back data'!$A$312:$BM$312)))-I$6)+INDEX('Back data'!$A$313:$BM$313,,MAX(IF('Back data'!$A$313:$BM$313<>"",COLUMN('Back data'!$A$313:$BM$313)))-I$6)} -> 100 | J176: {=INDEX('Back data'!$A$312:$BM$312,,MAX(IF('Back data'!$A$312:$BM$312<>"",COLUMN('Back data'!$A$312:$BM$312)))-J$6)+INDEX('Back data'!$A$313:$BM$313,,MAX(IF('Back data'!$A$313:$BM$313<>"",COLUMN('Back data'!$A$313:$BM$313)))-J$6)} -> 100 | K176: {=INDEX('Back data'!$A$312:$BM$312,,MAX(IF('Back data'!$A$312:$BM$312<>"",COLUMN('Back data'!$A$312:$BM$312)))-K$6)+INDEX('Back data'!$A$313:$BM$313,,MAX(IF('Back data'!$A$313:$BM$313<>"",COLUMN('Back data'!$A$313:$BM$313)))-K$6)} -> 100 | ... P176: {=INDEX('Back data'!$A$312:$BM$312,,MAX(IF('Back data'!$A$312:$BM$312<>"",COLUMN('Back data'!$A$312:$BM$312)))-P$6)+INDEX('Back data'!$A$313:$BM$313,,MAX(IF('Back data'!$A$313:$BM$313<>"",COLUMN('Back data'!$A$313:$BM$313)))-P$6)} -> 100
A177: ACEITE OLIVA VIRGEN | B177: SUPERMERCADOS | C177: SIN PROMOCION | D177: {=INDEX('Back data'!$A$312:$BM$312,,MAX(IF('Back data'!$A$312:$BM$312<>"",COLUMN('Back data'!$A$312:$BM$312)))-D$6)/D176} -> 0.9693 | E177: {=INDEX('Back data'!$A$312:$BM$312,,MAX(IF('Back data'!$A$312:$BM$312<>"",COLUMN('Back data'!$A$312:$BM$312)))-E$6)/E176} -> 0.974 | F177: {=INDEX('Back data'!$A$312:$BM$312,,MAX(IF('Back data'!$A$312:$BM$312<>"",COLUMN('Back data'!$A$312:$BM$312)))-F$6)/F176} -> 0.9403 | G177: {=INDEX('Back data'!$A$312:$BM$312,,MAX(IF('Back data'!$A$312:$BM$312<>"",COLUMN('Back data'!$A$312:$BM$312)))-G$6)/G176} -> 0.9906 | H177: {=INDEX('Back data'!$A$312:$BM$312,,MAX(IF('Back data'!$A$312:$BM$312<>"",COLUMN('Back data'!$A$312:$BM$312)))-H$6)/H176} -> 0.9673 | I177: {=INDEX('Back data'!$A$312:$BM$312,,MAX(IF('Back data'!$A$312:$BM$312<>"",COLUMN('Back data'!$A$312:$BM$312)))-I$6)/I176} -> 0.9844 | J177: {=INDEX('Back data'!$A$312:$BM$312,,MAX(IF('Back data'!$A$312:$BM$312<>"",COLUMN('Back data'!$A$312:$BM$312)))-J$6)/J176} -> 0.9447 | K177: {=INDEX('Back data'!$A$312:$BM$312,,MAX(IF('Back data'!$A$312:$BM$312<>"",COLUMN('Back data'!$A$312:$BM$312)))-K$6)/K176} -> 0.9456 | ... P177: {=INDEX('Back data'!$A$312:$BM$312,,MAX(IF('Back data'!$A$312:$BM$312<>"",COLUMN('Back data'!$A$312:$BM$312)))-P$6)/P176} -> 0.967
...

Sheet Back Data graficos
C2: TOTAL ACEITE
C4: TOTAL CATEGORIA
D5: ='TAM Automático'!D5 -> 45839 | E5: ='TAM Automático'!E5 -> 45870 | F5: ='TAM Automático'!F5 -> 45901 | G5: ='TAM Automático'!G5 -> 45931 | H5: ='TAM Automático'!H5 -> 45962 | I5: ='TAM Automático'!I5 -> 45992 | J5: ='TAM Automático'!J5 -> 46023 | K5: ='TAM Automático'!K5 -> 46054 | ... P5: ='TAM Automático'!P5 -> 46204
C6: SIN PROMOCION | D6: ='TAM Automático'!D8 -> 0.9137 | E6: ='TAM Automático'!E8 -> 0.911 | F6: ='TAM Automático'!F8 -> 0.8937 | G6: ='TAM Automático'!G8 -> 0.9278 | H6: ='TAM Automático'!H8 -> 0.9064 | I6: ='TAM Automático'!I8 -> 0.9379 | J6: ='TAM Automático'!J8 -> 0.9226 | K6: ='TAM Automático'!K8 -> 0.8805 | ... P6: ='TAM Automático'!P8 -> 0.969
C7: CON PROMOCION | D7: ='TAM Automático'!D9 -> 0.0863 | E7: ='TAM Automático'!E9 -> 0.089 | F7: ='TAM Automático'!F9 -> 0.1063 | G7: ='TAM Automático'!G9 -> 0.0722 | H7: ='TAM Automático'!H9 -> 0.0936 | I7: ='TAM Automático'!I9 -> 0.0621 | J7: ='TAM Automático'!J9 -> 0.0774 | K7: ='TAM Automático'!K9 -> 0.1195 | ... P7: ='TAM Automático'!P9 -> 0.031
C9: MARCA
D10: =D5 -> 45839 | E10: =E5 -> 45870 | F10: =F5 -> 45901 | G10: =G5 -> 45931 | H10: =H5 -> 45962 | I10: =I5 -> 45992 | J10: =J5 -> 46023 | K10: =K5 -> 46054 | ... P10: =P5 -> 46204
C11: SIN PROMOCION | D11: =IF('Total Aceite'!$D$29=$R$11,'TAM Automático'!D13,'TAM Automático'!D18) -> 0.9925 | E11: =IF('Total Aceite'!$D$29=$R$11,'TAM Automático'!E13,'TAM Automático'!E18) -> 0.9969 | F11: =IF('Total Aceite'!$D$29=$R$11,'TAM Automático'!F13,'TAM Automático'!F18) -> 0.9818 | G11: =IF('Total Aceite'!$D$29=$R$11,'TAM Automático'!G13,'TAM Automático'!G18) -> 0.9962 | H11: =IF('Total Aceite'!$D$29=$R$11,'TAM Automático'!H13,'TAM Automático'!H18) -> 0.9995 | I11: =IF('Total Aceite'!$D$29=$R$11,'TAM Automático'!I13,'TAM Automático'!I18) -> 0.9997 | J11: =IF('Total Aceite'!$D$29=$R$11,'TAM Automático'!J13,'TAM Automático'!J18) -> 0.9961 | K11: =IF('Total Aceite'!$D$29=$R$11,'TAM Automático'!K13,'TAM Automático'!K18) -> 0.9897 | ... P11: =IF('Total Aceite'!$D$29=$R$11,'TAM Automático'!P13,'TAM Automático'!P18) -> 0.9998 | R11: 1 | S11: MDF
C12: CON PROMOCION | D12: =IF('Total Aceite'!$D$29=$R$11,'TAM Automático'!D14,'TAM Automático'!D19) -> 0.0075 | E12: =IF('Total Aceite'!$D$29=$R$11,'TAM Automático'!E14,'TAM Automático'!E19) -> 0.0031 | F12: =IF('Total Aceite'!$D$29=$R$11,'TAM Automático'!F14,'TAM Automático'!F19) -> 0.0182 | G12: =IF('Total Aceite'!$D$29=$R$11,'TAM Automático'!G14,'TAM Automático'!G19) -> 0.0038 | H12: =IF('Total Aceite'!$D$29=$R$11,'TAM Automático'!H14,'TAM Automático'!H19) -> 0.0005 | I12: =IF('Total Aceite'!$D$29=$R$11,'TAM Automático'!I14,'TAM Automático'!I19) -> 0.0003 | J12: =IF('Total Aceite'!$D$29=$R$11,'TAM Automático'!J14,'TAM Automático'!J19) -> 0.0039 | K12: =IF('Total Aceite'!$D$29=$R$11,'TAM Automático'!K14,'TAM Automático'!K19) -> 0.0103 | ... P12: =IF('Total Aceite'!$D$29=$R$11,'TAM Automático'!P14,'TAM Automático'!P19) -> 0.0002 | R12: 2 | S12: MDD
C14: CANAL
D15: =D10 -> 45839 | E15: =E10 -> 45870 | F15: =F10 -> 45901 | G15: =G10 -> 45931 | H15: =H10 -> 45962 | I15: =I10 -> 45992 | J15: =J10 -> 46023 | K15: =K10 -> 46054 | ... P15: =P10 -> 46204 | R15: 1 | S15: HIPERMERCADOS
C16: SIN PROMOCION | D16: =IF('Total Aceite'!$N$29=$R$15,'TAM Automático'!D23,IF('Total Aceite'!$N$29=$R$17,'TAM Automático'!D33,IF('Total Aceite'!$N$29=$R$16,'TAM Automático'!D28,'TAM Automático'!D38))) -> 0.9649 | E16: =IF('Total Aceite'!$N$29=$R$15,'TAM Automático'!E23,IF('Total Aceite'!$N$29=$R$17,'TAM Automático'!E33,IF('Total Aceite'!$N$29=$R$16,'TAM Automático'!E28,'TAM Automático'!E38))) -> 0.9652 | F16: =IF('Total Aceite'!$N$29=$R$15,'TAM Automático'!F23,IF('Total Aceite'!$N$29=$R$17,'TAM Automático'!F33,IF('Total Aceite'!$N$29=$R$16,'TAM Automático'!F28,'TAM Automático'!F38))) -> 0.9454 | G16: =IF('Total Aceite'!$N$29=$R$15,'TAM Automático'!G23,IF('Total Aceite'!$N$29=$R$17,'TAM Automático'!G33,IF('Total Aceite'!$N$29=$R$16,'TAM Automático'!G28,'TAM Automático'!G38))) -> 0.9738 | H16: =IF('Total Aceite'!$N$29=$R$15,'TAM Automático'!H23,IF('Total Aceite'!$N$29=$R$17,'TAM Automático'!H33,IF('Total Aceite'!$N$29=$R$16,'TAM Automático'!H28,'TAM Automático'!H38))) -> 0.9699 | I16: =IF('Total Aceite'!$N$29=$R$15,'TAM Automático'!I23,IF('Total Aceite'!$N$29=$R$17,'TAM Automático'!I33,IF('Total Aceite'!$N$29=$R$16,'TAM Automático'!I28,'TAM Automático'!I38))) -> 0.9752 | J16: =IF('Total Aceite'!$N$29=$R$15,'TAM Automático'!J23,IF('Total Aceite'!$N$29=$R$17,'TAM Automático'!J33,IF('Total Aceite'!$N$29=$R$16,'TAM Automático'!J28,'TAM Automático'!J38))) -> 0.9716 | K16: =IF('Total Aceite'!$N$29=$R$15,'TAM Automático'!K23,IF('Total Aceite'!$N$29=$R$17,'TAM Automático'!K33,IF('Total Aceite'!$N$29=$R$16,'TAM Automático'!K28,'TAM Automático'!K38))) -> 0.957 | ... P16: =IF('Total Aceite'!$N$29=$R$15,'TAM Automático'!P23,IF('Total Aceite'!$N$29=$R$17,'TAM Automático'!P33,IF('Total Aceite'!$N$29=$R$16,'TAM Automático'!P28,'TAM Automático'!P38))) -> 0.9806 | R16: 2 | S16: SUPERMERCADOS
C17: CON PROMOCION | D17: =IF('Total Aceite'!$N$29=$R$15,'TAM Automático'!D24,IF('Total Aceite'!$N$29=$R$17,'TAM Automático'!D34,IF('Total Aceite'!$N$29=$R$16,'TAM Automático'!D29,'TAM Automático'!D39))) -> 0.0351 | E17: =IF('Total Aceite'!$N$29=$R$15,'TAM Automático'!E24,IF('Total Aceite'!$N$29=$R$17,'TAM Automático'!E34,IF('Total Aceite'!$N$29=$R$16,'TAM Automático'!E29,'TAM Automático'!E39))) -> 0.0348 | F17: =IF('Total Aceite'!$N$29=$R$15,'TAM Automático'!F24,IF('Total Aceite'!$N$29=$R$17,'TAM Automático'!F34,IF('Total Aceite'!$N$29=$R$16,'TAM Automático'!F29,'TAM Automático'!F39))) -> 0.0546 | G17: =IF('Total Aceite'!$N$29=$R$15,'TAM Automático'!G24,IF('Total Aceite'!$N$29=$R$17,'TAM Automático'!G34,IF('Total Aceite'!$N$29=$R$16,'TAM Automático'!G29,'TAM Automático'!G39))) -> 0.0262 | H17: =IF('Total Aceite'!$N$29=$R$15,'TAM Automático'!H24,IF('Total Aceite'!$N$29=$R$17,'TAM Automático'!H34,IF('Total Aceite'!$N$29=$R$16,'TAM Automático'!H29,'TAM Automático'!H39))) -> 0.0301 | I17: =IF('Total Aceite'!$N$29=$R$15,'TAM Automático'!I24,IF('Total Aceite'!$N$29=$R$17,'TAM Automático'!I34,IF('Total Aceite'!$N$29=$R$16,'TAM Automático'!I29,'TAM Automático'!I39))) -> 0.0248 | J17: =IF('Total Aceite'!$N$29=$R$15,'TAM Automático'!J24,IF('Total Aceite'!$N$29=$R$17,'TAM Automático'!J34,IF('Total Aceite'!$N$29=$R$16,'TAM Automático'!J29,'TAM Automático'!J39))) -> 0.0284 | K17: =IF('Total Aceite'!$N$29=$R$15,'TAM Automático'!K24,IF('Total Aceite'!$N$29=$R$17,'TAM Automático'!K34,IF('Total Aceite'!$N$29=$R$16,'TAM Automático'!K29,'TAM Automático'!K39))) -> 0.043 | ... P17: =IF('Total Aceite'!$N$29=$R$15,'TAM Automático'!P24,IF('Total Aceite'!$N$29=$R$17,'TAM Automático'!P34,IF('Total Aceite'!$N$29=$R$16,'TAM Automático'!P29,'TAM Automático'!P39))) -> 0.0194 | R17: 3 | S17: SUPER+AUTOS
S18: DISCOUNT
C24: A OLIVA VIRGEN Y A OLIVA VIRGEN EXTRA
C27: TOTAL CATEGORIA
D28: =D5 -> 45839 | E28: =E5 -> 45870 | F28: =F5 -> 45901 | G28: =G5 -> 45931 | H28: =H5 -> 45962 | I28: =I5 -> 45992 | J28: =J5 -> 46023 | K28: =K5 -> 46054 | ... P28: =P5 -> 46204
C29: SIN PROMOCION | D29: ='TAM Automático'!D46 -> 0.8876 | E29: ='TAM Automático'!E46 -> 0.8785 | F29: ='TAM Automático'!F46 -> 0.8551 | G29: ='TAM Automático'!G46 -> 0.9078 | H29: ='TAM Automático'!H46 -> 0.8499 | I29: ='TAM Automático'!I46 -> 0.9204 | J29: ='TAM Automático'!J46 -> 0.8834 | K29: ='TAM Automático'!K46 -> 0.764 | ... P29: ='TAM Automático'!P46 -> 0.9732
C30: CON PROMOCION | D30: ='TAM Automático'!D47 -> 0.1124 | E30: ='TAM Automático'!E47 -> 0.1215 | F30: ='TAM Automático'!F47 -> 0.1449 | G30: ='TAM Automático'!G47 -> 0.0922 | H30: ='TAM Automático'!H47 -> 0.1501 | I30: ='TAM Automático'!I47 -> 0.0796 | J30: ='TAM Automático'!J47 -> 0.1166 | K30: ='TAM Automático'!K47 -> 0.236 | ... P30: ='TAM Automático'!P47 -> 0.0268
C32: MARCA
D33: =D28 -> 45839 | E33: =E28 -> 45870 | F33: =F28 -> 45901 | G33: =G28 -> 45931 | H33: =H28 -> 45962 | I33: =I28 -> 45992 | J33: =J28 -> 46023 | K33: =K28 -> 46054 | ... P33: =P28 -> 46204
C34: SIN PROMOCION | D34: =IF('O. Virgen + Extra'!$D$29=$R$34,'TAM Automático'!D51,'TAM Automático'!D56) -> 0.9844 | E34: =IF('O. Virgen + Extra'!$D$29=$R$34,'TAM Automático'!E51,'TAM Automático'!E56) -> 0.9885 | F34: =IF('O. Virgen + Extra'!$D$29=$R$34,'TAM Automático'!F51,'TAM Automático'!F56) -> 0.978 | G34: =IF('O. Virgen + Extra'!$D$29=$R$34,'TAM Automático'!G51,'TAM Automático'!G56) -> 0.9973 | H34: =IF('O. Virgen + Extra'!$D$29=$R$34,'TAM Automático'!H51,'TAM Automático'!H56) -> 1 | I34: =IF('O. Virgen + Extra'!$D$29=$R$34,'TAM Automático'!I51,'TAM Automático'!I56) -> 0.9992 | J34: =IF('O. Virgen + Extra'!$D$29=$R$34,'TAM Automático'!J51,'TAM Automático'!J56) -> 0.9937 | K34: =IF('O. Virgen + Extra'!$D$29=$R$34,'TAM Automático'!K51,'TAM Automático'!K56) -> 0.9598 | ... P34: =IF('O. Virgen + Extra'!$D$29=$R$34,'TAM Automático'!P51,'TAM Automático'!P56) -> 1 | R34: 1 | S34: MDF
C35: CON PROMOCION | D35: =IF('O. Virgen + Extra'!$D$29=$R$34,'TAM Automático'!D52,'TAM Automático'!D57) -> 0.0156 | E35: =IF('O. Virgen + Extra'!$D$29=$R$34,'TAM Automático'!E52,'TAM Automático'!E57) -> 0.0115 | F35: =IF('O. Virgen + Extra'!$D$29=$R$34,'TAM Automático'!F52,'TAM Automático'!F57) -> 0.022 | G35: =IF('O. Virgen + Extra'!$D$29=$R$34,'TAM Automático'!G52,'TAM Automático'!G57) -> 0.0027 | H35: =IF('O. Virgen + Extra'!$D$29=$R$34,'TAM Automático'!H52,'TAM Automático'!H57) -> 0 | I35: =IF('O. Virgen + Extra'!$D$29=$R$34,'TAM Automático'!I52,'TAM Automático'!I57) -> 0.0008 | J35: =IF('O. Virgen + Extra'!$D$29=$R$34,'TAM Automático'!J52,'TAM Automático'!J57) -> 0.0063 | K35: =IF('O. Virgen + Extra'!$D$29=$R$34,'TAM Automático'!K52,'TAM Automático'!K57) -> 0.0402 | ... P35: =IF('O. Virgen + Extra'!$D$29=$R$34,'TAM Automático'!P52,'TAM Automático'!P57) -> 0 | R35: 2 | S35: MDD
C37: CANAL
D38: =D33 -> 45839 | E38: =E33 -> 45870 | F38: =F33 -> 45901 | G38: =G33 -> 45931 | H38: =H33 -> 45962 | I38: =I33 -> 45992 | J38: =J33 -> 46023 | K38: =K33 -> 46054 | ... P38: =P33 -> 46204 | R38: 1 | S38: HIPERMERCADOS
