Workbook

Sheet Portada

Sheet Contenido

Sheet Total Aceite
A28: Marca | K28: Canal
D29: 2 | N29: 2
B30: Seleccionar: | K30: Seleccionar:

Sheet A. Oliva
A28: Marca | K28: Canal
D29: 1 | N29: 1
B30: Seleccionar: | K30: Seleccionar:

Sheet O. Virgen
A1: 25
A28: Marca | K28: Canal
D29: 1 | N29: 2
B30: Seleccionar: | K30: Seleccionar:

Sheet O. Virgen Extra
A28: Marca | K28: Canal
D29: 1 | N29: 1
B30: Seleccionar: | K30: Seleccionar:

Sheet O. Virgen + Extra
A28: Marca | K28: Canal
D29: 2 | N29: 2
B30: Seleccionar: | K30: Seleccionar:

Sheet Conclusiones
B6: Conclusiones
B8: La actividad promocional de aceite se contrae con fuerza en julio de 2026. El aceite cede la dinámica promocional: todas las categorías reducen actividad y la distribución deja de ser un actor relevante. La presión promocional se reduce en todas las variedades de aceite analizadas en este informe. Los fabricantes continúan impulsando la mayor parte de las promociones, pese a reducir significativamente su intensidad frente al mes de julio de 2025. Los hipermercados concentran la mayor caída, mientras que las marcas de distribución prácticamente abandonan la actividad promocional. • La actividad promocional en aceite de oliva continúa disminuyendo en el séptimo del año, reduciéndose del 12,3 % al 5,6 %. El descenso está encabezado por los principales fabricantes, que reducen su actividad del 32,3 % al 16,6 %, mientras que las marcas de distribución eliminan completamente la promoción. Los hipermercados siguen concentrando la mayor caída, pasando del 34,7 % al 14,8 %. • El aceite de oliva virgen extra es la variedad que registra la mayor reducción promocional del mercado. Su peso en promoción pasa del 12,5 % al 2,5 %, impulsado por una fuerte reducción tanto en las marcas de fabricantes como en el canal hipermercado. Destaca especialmente el descenso de este canal, que pasa del 36,9 % al 4,8 %. • El aceite de oliva virgen, presenta la evolución más estable a pesar de que también reduce su actividad promocional, pasando del 7,0 % al 3,2 %. Las marcas de fabricantes y los hipermercados disminuyen significativamente su presencia promocional, mientras que los supermercados constituyen la única excepción del mercado al incrementar ligeramente su actividad, del 3,1 % al 3,3 %.

Sheet Back data
A1: Measures = Weighted PURCHS Vert %
A2: CANA2 = Total CANA2
A3: PRODS = LECHE ENVASADA\Total PRODS
A4: S360MAPA - PROMO - 21/10/2025 13:56:24 | B4: 45323 | C4: 45352 | D4: 45383 | E4: 45413 | F4: 45444 | G4: 45474 | H4: 45505 | I4: 45536 | J4: 45566 | K4: 45597 | L4: 45627 | M4: 45658 | N4: 45689 | O4: 45717 | P4: 45748 | Q4: 45778 | R4: 45809 | S4: 45839 | T4: 45870 | U4: 45901 | V4: 45931 | W4: 45962 | X4: 45992 | Y4: 46023 | Z4: 46054 | AA4: 46082 | AB4: 46113 | AC4: 46143 | AD4: 46174 | AE4: 46204
A5: T.ALIMENTACIÓN MAPA
A6: TOTAL | B6: 100 | C6: 100 | D6: 100 | E6: 100 | F6: 100 | G6: 100 | H6: 100 | I6: 100 | J6: 100 | K6: 100 | L6: 100 | M6: 100 | N6: 100 | O6: 100 | P6: 100 | Q6: 100 | R6: 100 | S6: 100 | T6: 100 | U6: 100 | V6: 100 | W6: 100 | X6: 100 | Y6: 100 | Z6: 100 | AA6: 100 | AB6: 100 | AC6: 100 | AD6: 100 | AE6: 100
A7: SIN PROMOCION | B7: 83.41 | C7: 82.91 | D7: 82.88 | E7: 83.86 | F7: 84.55 | G7: 87.08 | H7: 88.73 | I7: 89.32 | J7: 91.83 | K7: 92.81 | L7: 98.59 | M7: 98.62 | N7: 97.75 | O7: 98.42 | P7: 98.34 | Q7: 98.21 | R7: 97.38 | S7: 97.86 | T7: 97.87 | U7: 97.39 | V7: 97.68 | W7: 97.46 | X7: 97.88 | Y7: 97.11 | Z7: 96.94 | AA7: 97.07 | AB7: 96.94 | AC7: 96.92 | AD7: 97.17 | AE7: 96.67
A8: CON PROMOCION | B8: 1.66 | C8: 1.72 | D8: 2.45 | E8: 1.98 | F8: 1.97 | G8: 1.81 | H8: 1.8 | I8: 3.18 | J8: 1.97 | K8: 1.92 | L8: 1.41 | M8: 1.38 | N8: 2.25 | O8: 1.58 | P8: 1.66 | Q8: 1.79 | R8: 2.62 | S8: 2.14 | T8: 2.13 | U8: 2.61 | V8: 2.32 | W8: 2.54 | X8: 2.12 | Y8: 2.89 | Z8: 3.06 | AA8: 2.93 | AB8: 3.06 | AC8: 3.08 | AD8: 2.83 | AE8: 3.33
A10: PRINCIPALES FABRICANTE
A11: TOTAL | B11: 100 | C11: 100 | D11: 100 | E11: 100 | F11: 100 | G11: 100 | H11: 100 | I11: 100 | J11: 100 | K11: 100 | L11: 100 | M11: 100 | N11: 100 | O11: 100 | P11: 100 | Q11: 100 | R11: 100 | S11: 100 | T11: 100 | U11: 100 | V11: 100 | W11: 100 | X11: 100 | Y11: 100 | Z11: 100 | AA11: 100 | AB11: 100 | AC11: 100 | AD11: 100 | AE11: 100
A12: SIN PROMOCION | B12: 77.54 | C12: 77.01 | D12: 79.09 | E12: 78.79 | F12: 79.74 | G12: 83.82 | H12: 85.55 | I12: 84.11 | J12: 86.6 | K12: 87.59 | L12: 93.54 | M12: 94.45 | N12: 93.7 | O12: 92.46 | P12: 92.29 | Q12: 92.26 | R12: 90.2 | S12: 90.51 | T12: 92.42 | U12: 91.74 | V12: 90.78 | W12: 92.14 | X12: 92.79 | Y12: 91.84 | Z12: 92.75 | AA12: 90.75 | AB12: 91.67 | AC12: 91.41 | AD12: 91.75 | AE12: 90.87
A13: CON PROMOCION | B13: 5.62 | C13: 5.6 | D13: 5.8 | E13: 5.26 | F13: 5.48 | G13: 4.36 | H13: 4.3 | I13: 6.94 | J13: 5.92 | K13: 5.59 | L13: 6.46 | M13: 5.55 | N13: 6.3 | O13: 7.54 | P13: 7.71 | Q13: 7.74 | R13: 9.8 | S13: 9.49 | T13: 7.58 | U13: 8.26 | V13: 9.22 | W13: 7.86 | X13: 7.21 | Y13: 8.16 | Z13: 7.25 | AA13: 9.25 | AB13: 8.33 | AC13: 8.59 | AD13: 8.25 | AE13: 9.13
A15: MARCAS DISTRIBUCION
A16: TOTAL | B16: 100 | C16: 100 | D16: 100 | E16: 100 | F16: 100 | G16: 100 | H16: 100 | I16: 100 | J16: 100 | K16: 100 | L16: 100 | M16: 100 | N16: 100 | O16: 100 | P16: 100 | Q16: 100 | R16: 100 | S16: 100 | T16: 100 | U16: 100 | V16: 100 | W16: 100 | X16: 100 | Y16: 100 | Z16: 100 | AA16: 100 | AB16: 100 | AC16: 100 | AD16: 100 | AE16: 100
A17: SIN PROMOCION | B17: 85.26 | C17: 84.8 | D17: 84.09 | E17: 85.14 | F17: 86.03 | G17: 88.27 | H17: 90.22 | I17: 91.47 | J17: 93.7 | K17: 94.62 | L17: 99.78 | M17: 99.72 | N17: 99.82 | O17: 99.69 | P17: 99.8 | Q17: 99.49 | R17: 98.96 | S17: 99.81 | T17: 99.01 | U17: 98.81 | V17: 99.8 | W17: 99.26 | X17: 99.31 | Y17: 99.46 | Z17: 98.14 | AA17: 98.71 | AB17: 98.67 | AC17: 98.1 | AD17: 98.37 | AE17: 98.08
A18: CON PROMOCION | B18: 0.58 | C18: 0.55 | D18: 1.53 | E18: 1.07 | F18: 0.88 | G18: 0.9 | H18: 0.72 | I18: 1.78 | J18: 0.61 | K18: 0.78 | L18: 0.22 | M18: 0.28 | N18: 0.18 | O18: 0.31 | P18: 0.2 | Q18: 0.51 | R18: 1.04 | S18: 0.19 | T18: 0.99 | U18: 1.19 | V18: 0.2 | W18: 0.74 | X18: 0.69 | Y18: 0.54 | Z18: 1.86 | AA18: 1.29 | AB18: 1.33 | AC18: 1.9 | AD18: 1.63 | AE18: 1.92
A20: OTROS FABRICANTES
A21: TOTAL | B21: 100 | C21: 100 | D21: 100 | E21: 100 | F21: 100 | G21: 100 | H21: 100 | I21: 100 | J21: 100 | K21: 100 | L21: 100 | M21: 100 | N21: 100 | O21: 100 | P21: 100 | Q21: 100 | R21: 100 | S21: 100 | T21: 100 | U21: 100 | V21: 100 | W21: 100 | X21: 100 | Y21: 100 | Z21: 100 | AA21: 100 | AB21: 100 | AC21: 100 | AD21: 100 | AE21: 100
A22: SIN PROMOCION | B22: 81.16 | C22: 80.97 | D22: 81.11 | E22: 84.2 | F22: 82.93 | G22: 85.2 | H22: 84.82 | I22: 84.8 | J22: 88.57 | K22: 89.72 | L22: 99.67 | M22: 98.13 | N22: 90.92 | O22: 99.48 | P22: 98.43 | Q22: 99.67 | R22: 98.75 | S22: 97.64 | T22: 99.42 | U22: 97.26 | V22: 94.58 | W22: 93.99 | X22: 96.45 | Y22: 90.66 | Z22: 95.63 | AA22: 96.5 | AB22: 94.01 | AC22: 97.84 | AD22: 97.89 | AE22: 96.65
A23: CON PROMOCION | B23: 2.09 | C23: 2.56 | D23: 3.05 | E23: 2.35 | F23: 3.2 | G23: 3.17 | H23: 4.28 | I23: 5.54 | J23: 4.16 | K23: 3.23 | L23: 0.33 | M23: 1.87 | N23: 9.08 | O23: 0.52 | P23: 1.57 | Q23: 0.33 | R23: 1.25 | S23: 2.36 | T23: 0.58 | U23: 2.74 | V23: 5.42 | W23: 6.01 | X23: 3.55 | Y23: 9.34 | Z23: 4.37 | AA23: 3.5 | AB23: 5.99 | AC23: 2.16 | AD23: 2.11 | AE23: 3.35
A26: Measures = Weighted PURCHS Vert %
A27: CANA2 = Total CANA2
A28: PRODS = DERIVADOS LACTEOS\LECHE ENVASADA\Total PRODS
A29: S360MAPA - PROMO - 21/10/2025 13:56:24 | B29: 45323 | C29: 45352 | D29: 45383 | E29: 45413 | F29: 45444 | G29: 45474 | H29: 45505 | I29: 45536 | J29: 45566 | K29: 45597 | L29: 45627 | M29: 45658 | N29: 45689 | O29: 45717 | P29: 45748 | Q29: 45778 | R29: 45809 | S29: 45839 | T29: 45870 | U29: 45901 | V29: 45931 | W29: 45962 | X29: 45992 | Y29: 46023 | Z29: 46054 | AA29: 46082 | AB29: 46113 | AC29: 46143 | AD29: 46174 | AE29: 46204
A30: T.ALIMENTACIÓN MAPA
A31: TOTAL | B31: 100 | C31: 100 | D31: 100 | E31: 100 | F31: 100 | G31: 100 | H31: 100 | I31: 100 | J31: 100 | K31: 100 | L31: 100 | M31: 100 | N31: 100 | O31: 100 | P31: 100 | Q31: 100 | R31: 100 | S31: 100 | T31: 100 | U31: 100 | V31: 100 | W31: 100 | X31: 100 | Y31: 100 | Z31: 100 | AA31: 100 | AB31: 100 | AC31: 100 | AD31: 100 | AE31: 100
A32: SIN PROMOCION | B32: 81.07 | C32: 80.46 | D32: 81.31 | E32: 81.09 | F32: 82.74 | G32: 85.11 | H32: 87.41 | I32: 89.25 | J32: 90.31 | K32: 91.51 | L32: 95.05 | M32: 94.8 | N32: 94.38 | O32: 93.47 | P32: 94.31 | Q32: 93.97 | R32: 93.87 | S32: 93.83 | T32: 93.78 | U32: 93.38 | V32: 93.77 | W32: 94.43 | X32: 95 | Y32: 93.63 | Z32: 93.83 | AA32: 94.22 | AB32: 94.22 | AC32: 93.58 | AD32: 93.95 | AE32: 93.97
A33: CON PROMOCION | B33: 3.2 | C33: 3.14 | D33: 3.12 | E33: 3.33 | F33: 3.05 | G33: 3.25 | H33: 3.07 | I33: 3.51 | J33: 3.5 | K33: 3.41 | L33: 4.95 | M33: 5.2 | N33: 5.62 | O33: 6.53 | P33: 5.69 | Q33: 6.03 | R33: 6.13 | S33: 6.17 | T33: 6.22 | U33: 6.62 | V33: 6.23 | W33: 5.57 | X33: 5 | Y33: 6.37 | Z33: 6.17 | AA33: 5.78 | AB33: 5.78 | AC33: 6.42 | AD33: 6.05 | AE33: 6.03
A35: PRINCIPALES FABRICANTE
A36: TOTAL | B36: 100 | C36: 100 | D36: 100 | E36: 100 | F36: 100 | G36: 100 | H36: 100 | I36: 100 | J36: 100 | K36: 100 | L36: 100 | M36: 100 | N36: 100 | O36: 100 | P36: 100 | Q36: 100 | R36: 100 | S36: 100 | T36: 100 | U36: 100 | V36: 100 | W36: 100 | X36: 100 | Y36: 100 | Z36: 100 | AA36: 100 | AB36: 100 | AC36: 100 | AD36: 100 | AE36: 100
A37: SIN PROMOCION | B37: 76.9 | C37: 75.2 | D37: 76.77 | E37: 75.44 | F37: 77.68 | G37: 80.29 | H37: 82.2 | I37: 83.77 | J37: 85.55 | K37: 86.58 | L37: 81.74 | M37: 81.24 | N37: 78.96 | O37: 79.55 | P37: 78.28 | Q37: 76.22 | R37: 77.06 | S37: 77.31 | T37: 76.53 | U37: 75.94 | V37: 78.57 | W37: 80.02 | X37: 82.22 | Y37: 79.52 | Z37: 79.41 | AA37: 79.68 | AB37: 77.61 | AC37: 75.32 | AD37: 74.97 | AE37: 76.32
A38: CON PROMOCION | B38: 7.42 | C38: 7.43 | D38: 7.47 | E38: 8.13 | F38: 7.19 | G38: 7.39 | H38: 7.19 | I38: 8.27 | J38: 8.17 | K38: 7.41 | L38: 18.26 | M38: 18.76 | N38: 21.04 | O38: 20.45 | P38: 21.72 | Q38: 23.78 | R38: 22.94 | S38: 22.69 | T38: 23.47 | U38: 24.06 | V38: 21.43 | W38: 19.98 | X38: 17.78 | Y38: 20.48 | Z38: 20.59 | AA38: 20.32 | AB38: 22.39 | AC38: 24.68 | AD38: 25.03 | AE38: 23.68
A40: MARCAS DISTRIBUCION
A41: TOTAL | B41: 100 | C41: 100 | D41: 100 | E41: 100 | F41: 100 | G41: 100 | H41: 100 | I41: 100 | J41: 100 | K41: 100 | L41: 100 | M41: 100 | N41: 100 | O41: 100 | P41: 100 | Q41: 100 | R41: 100 | S41: 100 | T41: 100 | U41: 100 | V41: 100 | W41: 100 | X41: 100 | Y41: 100 | Z41: 100 | AA41: 100 | AB41: 100 | AC41: 100 | AD41: 100 | AE41: 100
A42: SIN PROMOCION | B42: 81.92 | C42: 81.4 | D42: 82.02 | E42: 82.16 | F42: 83.62 | G42: 86 | H42: 88.32 | I42: 90.44 | J42: 91.39 | K42: 92.43 | L42: 98.05 | M42: 97.96 | N42: 97.59 | O42: 96.14 | P42: 97.5 | Q42: 97.54 | R42: 97 | S42: 97.07 | T42: 97.15 | U42: 96.71 | V42: 96.76 | W42: 97.22 | X42: 97.62 | Y42: 96.71 | Z42: 96.59 | AA42: 96.91 | AB42: 97.29 | AC42: 96.89 | AD42: 97.47 | AE42: 97.23
A43: CON PROMOCION | B43: 2.19 | C43: 2.12 | D43: 2.16 | E43: 2.22 | F43: 2.14 | G43: 2.32 | H43: 2.18 | I43: 2.47 | J43: 2.47 | K43: 2.63 | L43: 1.95 | M43: 2.04 | N43: 2.41 | O43: 3.86 | P43: 2.5 | Q43: 2.46 | R43: 3 | S43: 2.93 | T43: 2.85 | U43: 3.29 | V43: 3.24 | W43: 2.78 | X43: 2.38 | Y43: 3.29 | Z43: 3.41 | AA43: 3.09 | AB43: 2.71 | AC43: 3.11 | AD43: 2.53 | AE43: 2.77
A45: OTROS FABRICANTES
A46: TOTAL | B46: 100 | C46: 100 | D46: 100 | E46: 100 | F46: 100 | G46: 100 | H46: 100 | I46: 100 | J46: 100 | K46: 100 | L46: 100 | M46: 100 | N46: 100 | O46: 100 | P46: 100 | Q46: 100 | R46: 100 | S46: 100 | T46: 100 | U46: 100 | V46: 100 | W46: 100 | X46: 100 | Y46: 100 | Z46: 100 | AA46: 100 | AB46: 100 | AC46: 100 | AD46: 100 | AE46: 100
A47: SIN PROMOCION | B47: 82.09 | C47: 82.57 | D47: 83.49 | E47: 82.59 | F47: 84.27 | G47: 85.92 | H47: 88.54 | I47: 89.7 | J47: 90.44 | K47: 92.75 | L47: 95.95 | M47: 94.62 | N47: 96.06 | O47: 96.62 | P47: 96.54 | Q47: 95.83 | R47: 94.9 | S47: 94.25 | T47: 94.66 | U47: 95.55 | V47: 95.31 | W47: 95.67 | X47: 95.69 | Y47: 93.19 | Z47: 94.82 | AA47: 95.67 | AB47: 96.16 | AC47: 95.43 | AD47: 94.85 | AE47: 93.87
A48: CON PROMOCION | B48: 3.15 | C48: 3.07 | D48: 2.88 | E48: 3.37 | F48: 3.15 | G48: 3.71 | H48: 3.24 | I48: 3.11 | J48: 3.15 | K48: 2.63 | L48: 4.05 | M48: 5.38 | N48: 3.94 | O48: 3.38 | P48: 3.46 | Q48: 4.17 | R48: 5.1 | S48: 5.75 | T48: 5.34 | U48: 4.45 | V48: 4.69 | W48: 4.33 | X48: 4.31 | Y48: 6.81 | Z48: 5.18 | AA48: 4.33 | AB48: 3.84 | AC48: 4.57 | AD48: 5.15 | AE48: 6.13
...

Sheet TAM Automático
D5: {=INDEX('Back data'!$A$4:$BA$4,MAX(IF('Back data'!$A$4:$BA$4<>"",COLUMN('Back data'!$A$4:$BA$4)))-D6)} -> 45839 | E5: {=INDEX('Back data'!$A$4:$BA$4,MAX(IF('Back data'!$A$4:$BA$4<>"",COLUMN('Back data'!$A$4:$BA$4)))-E6)} -> 45870 | F5: {=INDEX('Back data'!$A$4:$BA$4,MAX(IF('Back data'!$A$4:$BA$4<>"",COLUMN('Back data'!$A$4:$BA$4)))-F6)} -> 45901 | G5: {=INDEX('Back data'!$A$4:$BA$4,MAX(IF('Back data'!$A$4:$BA$4<>"",COLUMN('Back data'!$A$4:$BA$4)))-G6)} -> 45931 | H5: {=INDEX('Back data'!$A$4:$BA$4,MAX(IF('Back data'!$A$4:$BA$4<>"",COLUMN('Back data'!$A$4:$BA$4)))-H6)} -> 45962 | I5: {=INDEX('Back data'!$A$4:$BA$4,MAX(IF('Back data'!$A$4:$BA$4<>"",COLUMN('Back data'!$A$4:$BA$4)))-I6)} -> 45992 | J5: {=INDEX('Back data'!$A$4:$BA$4,MAX(IF('Back data'!$A$4:$BA$4<>"",COLUMN('Back data'!$A$4:$BA$4)))-J6)} -> 46023 | K5: {=INDEX('Back data'!$A$4:$BA$4,MAX(IF('Back data'!$A$4:$BA$4<>"",COLUMN('Back data'!$A$4:$BA$4)))-K6)} -> 46054 | ... P5: {=INDEX('Back data'!$A$4:$BA$4,MAX(IF('Back data'!$A$4:$BA$4<>"",COLUMN('Back data'!$A$4:$BA$4)))-P6)} -> 46204
D6: 12 | E6: 11 | F6: 10 | G6: 9 | H6: 8 | I6: 7 | J6: 6 | K6: 5 | L6: 4 | M6: 3 | N6: 2 | O6: 1 | P6: 0
C7: % DECLARADO | D7: {=INDEX('Back data'!$A57:$BM57,,MAX(IF('Back data'!$A57:$BM57<>"",COLUMN('Back data'!$A57:$BM57)))-D$6)+INDEX('Back data'!$A58:$BM58,,MAX(IF('Back data'!$A58:$BM$58<>"",COLUMN('Back data'!$A58:$BM58)))-D$6)} -> 100 | E7: {=INDEX('Back data'!$A57:$BM57,,MAX(IF('Back data'!$A57:$BM57<>"",COLUMN('Back data'!$A57:$BM57)))-E$6)+INDEX('Back data'!$A58:$BM58,,MAX(IF('Back data'!$A58:$BM$58<>"",COLUMN('Back data'!$A58:$BM58)))-E$6)} -> 100 | F7: {=INDEX('Back data'!$A57:$BM57,,MAX(IF('Back data'!$A57:$BM57<>"",COLUMN('Back data'!$A57:$BM57)))-F$6)+INDEX('Back data'!$A58:$BM58,,MAX(IF('Back data'!$A58:$BM$58<>"",COLUMN('Back data'!$A58:$BM58)))-F$6)} -> 100 | G7: {=INDEX('Back data'!$A57:$BM57,,MAX(IF('Back data'!$A57:$BM57<>"",COLUMN('Back data'!$A57:$BM57)))-G$6)+INDEX('Back data'!$A58:$BM58,,MAX(IF('Back data'!$A58:$BM$58<>"",COLUMN('Back data'!$A58:$BM58)))-G$6)} -> 100 | H7: {=INDEX('Back data'!$A57:$BM57,,MAX(IF('Back data'!$A57:$BM57<>"",COLUMN('Back data'!$A57:$BM57)))-H$6)+INDEX('Back data'!$A58:$BM58,,MAX(IF('Back data'!$A58:$BM$58<>"",COLUMN('Back data'!$A58:$BM58)))-H$6)} -> 100 | I7: {=INDEX('Back data'!$A57:$BM57,,MAX(IF('Back data'!$A57:$BM57<>"",COLUMN('Back data'!$A57:$BM57)))-I$6)+INDEX('Back data'!$A58:$BM58,,MAX(IF('Back data'!$A58:$BM$58<>"",COLUMN('Back data'!$A58:$BM58)))-I$6)} -> 100 | J7: {=INDEX('Back data'!$A57:$BM57,,MAX(IF('Back data'!$A57:$BM57<>"",COLUMN('Back data'!$A57:$BM57)))-J$6)+INDEX('Back data'!$A58:$BM58,,MAX(IF('Back data'!$A58:$BM$58<>"",COLUMN('Back data'!$A58:$BM58)))-J$6)} -> 100 | K7: {=INDEX('Back data'!$A57:$BM57,,MAX(IF('Back data'!$A57:$BM57<>"",COLUMN('Back data'!$A57:$BM57)))-K$6)+INDEX('Back data'!$A58:$BM58,,MAX(IF('Back data'!$A58:$BM$58<>"",COLUMN('Back data'!$A58:$BM58)))-K$6)} -> 100 | ... P7: {=INDEX('Back data'!$A57:$BM57,,MAX(IF('Back data'!$A57:$BM57<>"",COLUMN('Back data'!$A57:$BM57)))-P$6)+INDEX('Back data'!$A58:$BM58,,MAX(IF('Back data'!$A58:$BM$58<>"",COLUMN('Back data'!$A58:$BM58)))-P$6)} -> 100
A8: TOTAL ACEITE | B8: TOTAL ACEITE | C8: SIN PROMOCION | D8: {=INDEX('Back data'!$A$57:$BM$57,,MAX(IF('Back data'!$A$57:$BM$57<>"",COLUMN('Back data'!$A$57:$BM$57)))-D$6)/D7} -> 0.9137 | E8: {=INDEX('Back data'!$A$57:$BM$57,,MAX(IF('Back data'!$A$57:$BM$57<>"",COLUMN('Back data'!$A$57:$BM$57)))-E$6)/E7} -> 0.911 | F8: {=INDEX('Back data'!$A$57:$BM$57,,MAX(IF('Back data'!$A$57:$BM$57<>"",COLUMN('Back data'!$A$57:$BM$57)))-F$6)/F7} -> 0.8937 | G8: {=INDEX('Back data'!$A$57:$BM$57,,MAX(IF('Back data'!$A$57:$BM$57<>"",COLUMN('Back data'!$A$57:$BM$57)))-G$6)/G7} -> 0.9278 | H8: {=INDEX('Back data'!$A$57:$BM$57,,MAX(IF('Back data'!$A$57:$BM$57<>"",COLUMN('Back data'!$A$57:$BM$57)))-H$6)/H7} -> 0.9064 | I8: {=INDEX('Back data'!$A$57:$BM$57,,MAX(IF('Back data'!$A$57:$BM$57<>"",COLUMN('Back data'!$A$57:$BM$57)))-I$6)/I7} -> 0.9379 | J8: {=INDEX('Back data'!$A$57:$BM$57,,MAX(IF('Back data'!$A$57:$BM$57<>"",COLUMN('Back data'!$A$57:$BM$57)))-J$6)/J7} -> 0.9226 | K8: {=INDEX('Back data'!$A$57:$BM$57,,MAX(IF('Back data'!$A$57:$BM$57<>"",COLUMN('Back data'!$A$57:$BM$57)))-K$6)/K7} -> 0.8805 | ... P8: {=INDEX('Back data'!$A$57:$BM$57,,MAX(IF('Back data'!$A$57:$BM$57<>"",COLUMN('Back data'!$A$57:$BM$57)))-P$6)/P7} -> 0.969
A9: TOTAL ACEITE | B9: TOTAL ACEITE | C9: CON PROMOCION | D9: {=INDEX('Back data'!$A$58:$BM$58,,MAX(IF('Back data'!$A$58:$BM$58<>"",COLUMN('Back data'!$A$58:$BM$58)))-D$6)/D7} -> 0.0863 | E9: {=INDEX('Back data'!$A$58:$BM$58,,MAX(IF('Back data'!$A$58:$BM$58<>"",COLUMN('Back data'!$A$58:$BM$58)))-E$6)/E7} -> 0.089 | F9: {=INDEX('Back data'!$A$58:$BM$58,,MAX(IF('Back data'!$A$58:$BM$58<>"",COLUMN('Back data'!$A$58:$BM$58)))-F$6)/F7} -> 0.1063 | G9: {=INDEX('Back data'!$A$58:$BM$58,,MAX(IF('Back data'!$A$58:$BM$58<>"",COLUMN('Back data'!$A$58:$BM$58)))-G$6)/G7} -> 0.0722 | H9: {=INDEX('Back data'!$A$58:$BM$58,,MAX(IF('Back data'!$A$58:$BM$58<>"",COLUMN('Back data'!$A$58:$BM$58)))-H$6)/H7} -> 0.0936 | I9: {=INDEX('Back data'!$A$58:$BM$58,,MAX(IF('Back data'!$A$58:$BM$58<>"",COLUMN('Back data'!$A$58:$BM$58)))-I$6)/I7} -> 0.0621 | J9: {=INDEX('Back data'!$A$58:$BM$58,,MAX(IF('Back data'!$A$58:$BM$58<>"",COLUMN('Back data'!$A$58:$BM$58)))-J$6)/J7} -> 0.0774 | K9: {=INDEX('Back data'!$A$58:$BM$58,,MAX(IF('Back data'!$A$58:$BM$58<>"",COLUMN('Back data'!$A$58:$BM$58)))-K$6)/K7} -> 0.1195 | ... P9: {=INDEX('Back data'!$A$58:$BM$58,,MAX(IF('Back data'!$A$58:$BM$58<>"",COLUMN('Back data'!$A$58:$BM$58)))-P$6)/P7} -> 0.031
C12: % DECLARADO | D12: {=INDEX('Back data'!$A$62:$BM$62,,MAX(IF('Back data'!$A$62:$BM$62<>"",COLUMN('Back data'!$A$62:$BM$62)))-D$6)+INDEX('Back data'!$A$63:$BM$63,,MAX(IF('Back data'!$A$63:$BM$63<>"",COLUMN('Back data'!$A$63:$BM$63)))-D$6)} -> 100 | E12: {=INDEX('Back data'!$A$62:$BM$62,,MAX(IF('Back data'!$A$62:$BM$62<>"",COLUMN('Back data'!$A$62:$BM$62)))-E$6)+INDEX('Back data'!$A$63:$BM$63,,MAX(IF('Back data'!$A$63:$BM$63<>"",COLUMN('Back data'!$A$63:$BM$63)))-E$6)} -> 100 | F12: {=INDEX('Back data'!$A$62:$BM$62,,MAX(IF('Back data'!$A$62:$BM$62<>"",COLUMN('Back data'!$A$62:$BM$62)))-F$6)+INDEX('Back data'!$A$63:$BM$63,,MAX(IF('Back data'!$A$63:$BM$63<>"",COLUMN('Back data'!$A$63:$BM$63)))-F$6)} -> 100 | G12: {=INDEX('Back data'!$A$62:$BM$62,,MAX(IF('Back data'!$A$62:$BM$62<>"",COLUMN('Back data'!$A$62:$BM$62)))-G$6)+INDEX('Back data'!$A$63:$BM$63,,MAX(IF('Back data'!$A$63:$BM$63<>"",COLUMN('Back data'!$A$63:$BM$63)))-G$6)} -> 100 | H12: {=INDEX('Back data'!$A$62:$BM$62,,MAX(IF('Back data'!$A$62:$BM$62<>"",COLUMN('Back data'!$A$62:$BM$62)))-H$6)+INDEX('Back data'!$A$63:$BM$63,,MAX(IF('Back data'!$A$63:$BM$63<>"",COLUMN('Back data'!$A$63:$BM$63)))-H$6)} -> 100 | I12: {=INDEX('Back data'!$A$62:$BM$62,,MAX(IF('Back data'!$A$62:$BM$62<>"",COLUMN('Back data'!$A$62:$BM$62)))-I$6)+INDEX('Back data'!$A$63:$BM$63,,MAX(IF('Back data'!$A$63:$BM$63<>"",COLUMN('Back data'!$A$63:$BM$63)))-I$6)} -> 100 | J12: {=INDEX('Back data'!$A$62:$BM$62,,MAX(IF('Back data'!$A$62:$BM$62<>"",COLUMN('Back data'!$A$62:$BM$62)))-J$6)+INDEX('Back data'!$A$63:$BM$63,,MAX(IF('Back data'!$A$63:$BM$63<>"",COLUMN('Back data'!$A$63:$BM$63)))-J$6)} -> 100 | K12: {=INDEX('Back data'!$A$62:$BM$62,,MAX(IF('Back data'!$A$62:$BM$62<>"",COLUMN('Back data'!$A$62:$BM$62)))-K$6)+INDEX('Back data'!$A$63:$BM$63,,MAX(IF('Back data'!$A$63:$BM$63<>"",COLUMN('Back data'!$A$63:$BM$63)))-K$6)} -> 100 | ... P12: {=INDEX('Back data'!$A$62:$BM$62,,MAX(IF('Back data'!$A$62:$BM$62<>"",COLUMN('Back data'!$A$62:$BM$62)))-P$6)+INDEX('Back data'!$A$63:$BM$63,,MAX(IF('Back data'!$A$63:$BM$63<>"",COLUMN('Back data'!$A$63:$BM$63)))-P$6)} -> 100
A13: TOTAL ACEITE | B13: PRINCIPALES FABRICANTE | C13: SIN PROMOCION | D13: {=INDEX('Back data'!$A$62:$BM$62,,MAX(IF('Back data'!$A$62:$BM$62<>"",COLUMN('Back data'!$A$62:$BM$62)))-D$6)/D$12} -> 0.7418 | E13: {=INDEX('Back data'!$A$62:$BM$62,,MAX(IF('Back data'!$A$62:$BM$62<>"",COLUMN('Back data'!$A$62:$BM$62)))-E$6)/E$12} -> 0.6947 | F13: {=INDEX('Back data'!$A$62:$BM$62,,MAX(IF('Back data'!$A$62:$BM$62<>"",COLUMN('Back data'!$A$62:$BM$62)))-F$6)/F$12} -> 0.7 | G13: {=INDEX('Back data'!$A$62:$BM$62,,MAX(IF('Back data'!$A$62:$BM$62<>"",COLUMN('Back data'!$A$62:$BM$62)))-G$6)/G$12} -> 0.7309 | H13: {=INDEX('Back data'!$A$62:$BM$62,,MAX(IF('Back data'!$A$62:$BM$62<>"",COLUMN('Back data'!$A$62:$BM$62)))-H$6)/H$12} -> 0.6591 | I13: {=INDEX('Back data'!$A$62:$BM$62,,MAX(IF('Back data'!$A$62:$BM$62<>"",COLUMN('Back data'!$A$62:$BM$62)))-I$6)/I$12} -> 0.7535 | J13: {=INDEX('Back data'!$A$62:$BM$62,,MAX(IF('Back data'!$A$62:$BM$62<>"",COLUMN('Back data'!$A$62:$BM$62)))-J$6)/J$12} -> 0.6697 | K13: {=INDEX('Back data'!$A$62:$BM$62,,MAX(IF('Back data'!$A$62:$BM$62<>"",COLUMN('Back data'!$A$62:$BM$62)))-K$6)/K$12} -> 0.6254 | ... P13: {=INDEX('Back data'!$A$62:$BM$62,,MAX(IF('Back data'!$A$62:$BM$62<>"",COLUMN('Back data'!$A$62:$BM$62)))-P$6)/P$12} -> 0.8737
A14: TOTAL ACEITE | B14: PRINCIPALES FABRICANTE | C14: CON PROMOCION | D14: {=+INDEX('Back data'!$A$63:$BM$63,,MAX(IF('Back data'!$A$63:$BM$63<>"",COLUMN('Back data'!$A$63:$BM$63)))-D$6)/D12} -> 0.2582 | E14: {=+INDEX('Back data'!$A$63:$BM$63,,MAX(IF('Back data'!$A$63:$BM$63<>"",COLUMN('Back data'!$A$63:$BM$63)))-E$6)/E12} -> 0.3053 | F14: {=+INDEX('Back data'!$A$63:$BM$63,,MAX(IF('Back data'!$A$63:$BM$63<>"",COLUMN('Back data'!$A$63:$BM$63)))-F$6)/F12} -> 0.3 | G14: {=+INDEX('Back data'!$A$63:$BM$63,,MAX(IF('Back data'!$A$63:$BM$63<>"",COLUMN('Back data'!$A$63:$BM$63)))-G$6)/G12} -> 0.2691 | H14: {=+INDEX('Back data'!$A$63:$BM$63,,MAX(IF('Back data'!$A$63:$BM$63<>"",COLUMN('Back data'!$A$63:$BM$63)))-H$6)/H12} -> 0.3409 | I14: {=+INDEX('Back data'!$A$63:$BM$63,,MAX(IF('Back data'!$A$63:$BM$63<>"",COLUMN('Back data'!$A$63:$BM$63)))-I$6)/I12} -> 0.2465 | J14: {=+INDEX('Back data'!$A$63:$BM$63,,MAX(IF('Back data'!$A$63:$BM$63<>"",COLUMN('Back data'!$A$63:$BM$63)))-J$6)/J12} -> 0.3303 | K14: {=+INDEX('Back data'!$A$63:$BM$63,,MAX(IF('Back data'!$A$63:$BM$63<>"",COLUMN('Back data'!$A$63:$BM$63)))-K$6)/K12} -> 0.3746 | ... P14: {=+INDEX('Back data'!$A$63:$BM$63,,MAX(IF('Back data'!$A$63:$BM$63<>"",COLUMN('Back data'!$A$63:$BM$63)))-P$6)/P12} -> 0.1263
C17: % DECLARADO | D17: {=INDEX('Back data'!$A$67:$BM$67,,MAX(IF('Back data'!$A$67:$BM$67<>"",COLUMN('Back data'!$A$67:$BM$67)))-D$6)+INDEX('Back data'!$A$68:$BM$68,,MAX(IF('Back data'!$A$68:$BM$68<>"",COLUMN('Back data'!$A$68:$BM$68)))-D$6)} -> 100 | E17: {=INDEX('Back data'!$A$67:$BM$67,,MAX(IF('Back data'!$A$67:$BM$67<>"",COLUMN('Back data'!$A$67:$BM$67)))-E$6)+INDEX('Back data'!$A$68:$BM$68,,MAX(IF('Back data'!$A$68:$BM$68<>"",COLUMN('Back data'!$A$68:$BM$68)))-E$6)} -> 100 | F17: {=INDEX('Back data'!$A$67:$BM$67,,MAX(IF('Back data'!$A$67:$BM$67<>"",COLUMN('Back data'!$A$67:$BM$67)))-F$6)+INDEX('Back data'!$A$68:$BM$68,,MAX(IF('Back data'!$A$68:$BM$68<>"",COLUMN('Back data'!$A$68:$BM$68)))-F$6)} -> 100 | G17: {=INDEX('Back data'!$A$67:$BM$67,,MAX(IF('Back data'!$A$67:$BM$67<>"",COLUMN('Back data'!$A$67:$BM$67)))-G$6)+INDEX('Back data'!$A$68:$BM$68,,MAX(IF('Back data'!$A$68:$BM$68<>"",COLUMN('Back data'!$A$68:$BM$68)))-G$6)} -> 100 | H17: {=INDEX('Back data'!$A$67:$BM$67,,MAX(IF('Back data'!$A$67:$BM$67<>"",COLUMN('Back data'!$A$67:$BM$67)))-H$6)+INDEX('Back data'!$A$68:$BM$68,,MAX(IF('Back data'!$A$68:$BM$68<>"",COLUMN('Back data'!$A$68:$BM$68)))-H$6)} -> 100 | I17: {=INDEX('Back data'!$A$67:$BM$67,,MAX(IF('Back data'!$A$67:$BM$67<>"",COLUMN('Back data'!$A$67:$BM$67)))-I$6)+INDEX('Back data'!$A$68:$BM$68,,MAX(IF('Back data'!$A$68:$BM$68<>"",COLUMN('Back data'!$A$68:$BM$68)))-I$6)} -> 100 | J17: {=INDEX('Back data'!$A$67:$BM$67,,MAX(IF('Back data'!$A$67:$BM$67<>"",COLUMN('Back data'!$A$67:$BM$67)))-J$6)+INDEX('Back data'!$A$68:$BM$68,,MAX(IF('Back data'!$A$68:$BM$68<>"",COLUMN('Back data'!$A$68:$BM$68)))-J$6)} -> 100 | K17: {=INDEX('Back data'!$A$67:$BM$67,,MAX(IF('Back data'!$A$67:$BM$67<>"",COLUMN('Back data'!$A$67:$BM$67)))-K$6)+INDEX('Back data'!$A$68:$BM$68,,MAX(IF('Back data'!$A$68:$BM$68<>"",COLUMN('Back data'!$A$68:$BM$68)))-K$6)} -> 100 | ... P17: {=INDEX('Back data'!$A$67:$BM$67,,MAX(IF('Back data'!$A$67:$BM$67<>"",COLUMN('Back data'!$A$67:$BM$67)))-P$6)+INDEX('Back data'!$A$68:$BM$68,,MAX(IF('Back data'!$A$68:$BM$68<>"",COLUMN('Back data'!$A$68:$BM$68)))-P$6)} -> 100
A18: TOTAL ACEITE | B18: MARCAS DISTRIBUCION | C18: SIN PROMOCION | D18: {=INDEX('Back data'!$A$67:$BM$67,,MAX(IF('Back data'!$A$67:$BM$67<>"",COLUMN('Back data'!$A$67:$BM$67)))-D$6)/D17} -> 0.9925 | E18: {=INDEX('Back data'!$A$67:$BM$67,,MAX(IF('Back data'!$A$67:$BM$67<>"",COLUMN('Back data'!$A$67:$BM$67)))-E$6)/E17} -> 0.9969 | F18: {=INDEX('Back data'!$A$67:$BM$67,,MAX(IF('Back data'!$A$67:$BM$67<>"",COLUMN('Back data'!$A$67:$BM$67)))-F$6)/F17} -> 0.9818 | G18: {=INDEX('Back data'!$A$67:$BM$67,,MAX(IF('Back data'!$A$67:$BM$67<>"",COLUMN('Back data'!$A$67:$BM$67)))-G$6)/G17} -> 0.9962 | H18: {=INDEX('Back data'!$A$67:$BM$67,,MAX(IF('Back data'!$A$67:$BM$67<>"",COLUMN('Back data'!$A$67:$BM$67)))-H$6)/H17} -> 0.9995 | I18: {=INDEX('Back data'!$A$67:$BM$67,,MAX(IF('Back data'!$A$67:$BM$67<>"",COLUMN('Back data'!$A$67:$BM$67)))-I$6)/I17} -> 0.9997 | J18: {=INDEX('Back data'!$A$67:$BM$67,,MAX(IF('Back data'!$A$67:$BM$67<>"",COLUMN('Back data'!$A$67:$BM$67)))-J$6)/J17} -> 0.9961 | K18: {=INDEX('Back data'!$A$67:$BM$67,,MAX(IF('Back data'!$A$67:$BM$67<>"",COLUMN('Back data'!$A$67:$BM$67)))-K$6)/K17} -> 0.9897 | ... P18: {=INDEX('Back data'!$A$67:$BM$67,,MAX(IF('Back data'!$A$67:$BM$67<>"",COLUMN('Back data'!$A$67:$BM$67)))-P$6)/P17} -> 0.9998
A19: TOTAL ACEITE | B19: MARCAS DISTRIBUCION | C19: CON PROMOCION | D19: {=INDEX('Back data'!$A$68:$BM$68,,MAX(IF('Back data'!$A$68:$BM$68<>"",COLUMN('Back data'!$A$68:$BM$68)))-D$6)/D17} -> 0.0075 | E19: {=INDEX('Back data'!$A$68:$BM$68,,MAX(IF('Back data'!$A$68:$BM$68<>"",COLUMN('Back data'!$A$68:$BM$68)))-E$6)/E17} -> 0.0031 | F19: {=INDEX('Back data'!$A$68:$BM$68,,MAX(IF('Back data'!$A$68:$BM$68<>"",COLUMN('Back data'!$A$68:$BM$68)))-F$6)/F17} -> 0.0182 | G19: {=INDEX('Back data'!$A$68:$BM$68,,MAX(IF('Back data'!$A$68:$BM$68<>"",COLUMN('Back data'!$A$68:$BM$68)))-G$6)/G17} -> 0.0038 | H19: {=INDEX('Back data'!$A$68:$BM$68,,MAX(IF('Back data'!$A$68:$BM$68<>"",COLUMN('Back data'!$A$68:$BM$68)))-H$6)/H17} -> 0.0005 | I19: {=INDEX('Back data'!$A$68:$BM$68,,MAX(IF('Back data'!$A$68:$BM$68<>"",COLUMN('Back data'!$A$68:$BM$68)))-I$6)/I17} -> 0.0003 | J19: {=INDEX('Back data'!$A$68:$BM$68,,MAX(IF('Back data'!$A$68:$BM$68<>"",COLUMN('Back data'!$A$68:$BM$68)))-J$6)/J17} -> 0.0039 | K19: {=INDEX('Back data'!$A$68:$BM$68,,MAX(IF('Back data'!$A$68:$BM$68<>"",COLUMN('Back data'!$A$68:$BM$68)))-K$6)/K17} -> 0.0103 | ... P19: {=INDEX('Back data'!$A$68:$BM$68,,MAX(IF('Back data'!$A$68:$BM$68<>"",COLUMN('Back data'!$A$68:$BM$68)))-P$6)/P17} -> 0.0002
C22: % DECLARADO | D22: {=INDEX('Back data'!$A$257:$BM$257,,MAX(IF('Back data'!$A$257:$BM$257<>"",COLUMN('Back data'!$A$257:$BM$257)))-D$6)+INDEX('Back data'!$A$258:$BM$258,,MAX(IF('Back data'!$A$258:$BM$258<>"",COLUMN('Back data'!$A$258:$BM$258)))-D$6)} -> 100 | E22: {=INDEX('Back data'!$A$257:$BM$257,,MAX(IF('Back data'!$A$257:$BM$257<>"",COLUMN('Back data'!$A$257:$BM$257)))-E$6)+INDEX('Back data'!$A$258:$BM$258,,MAX(IF('Back data'!$A$258:$BM$258<>"",COLUMN('Back data'!$A$258:$BM$258)))-E$6)} -> 100 | F22: {=INDEX('Back data'!$A$257:$BM$257,,MAX(IF('Back data'!$A$257:$BM$257<>"",COLUMN('Back data'!$A$257:$BM$257)))-F$6)+INDEX('Back data'!$A$258:$BM$258,,MAX(IF('Back data'!$A$258:$BM$258<>"",COLUMN('Back data'!$A$258:$BM$258)))-F$6)} -> 100 | G22: {=INDEX('Back data'!$A$257:$BM$257,,MAX(IF('Back data'!$A$257:$BM$257<>"",COLUMN('Back data'!$A$257:$BM$257)))-G$6)+INDEX('Back data'!$A$258:$BM$258,,MAX(IF('Back data'!$A$258:$BM$258<>"",COLUMN('Back data'!$A$258:$BM$258)))-G$6)} -> 100 | H22: {=INDEX('Back data'!$A$257:$BM$257,,MAX(IF('Back data'!$A$257:$BM$257<>"",COLUMN('Back data'!$A$257:$BM$257)))-H$6)+INDEX('Back data'!$A$258:$BM$258,,MAX(IF('Back data'!$A$258:$BM$258<>"",COLUMN('Back data'!$A$258:$BM$258)))-H$6)} -> 100 | I22: {=INDEX('Back data'!$A$257:$BM$257,,MAX(IF('Back data'!$A$257:$BM$257<>"",COLUMN('Back data'!$A$257:$BM$257)))-I$6)+INDEX('Back data'!$A$258:$BM$258,,MAX(IF('Back data'!$A$258:$BM$258<>"",COLUMN('Back data'!$A$258:$BM$258)))-I$6)} -> 100 | J22: {=INDEX('Back data'!$A$257:$BM$257,,MAX(IF('Back data'!$A$257:$BM$257<>"",COLUMN('Back data'!$A$257:$BM$257)))-J$6)+INDEX('Back data'!$A$258:$BM$258,,MAX(IF('Back data'!$A$258:$BM$258<>"",COLUMN('Back data'!$A$258:$BM$258)))-J$6)} -> 100 | K22: {=INDEX('Back data'!$A$257:$BM$257,,MAX(IF('Back data'!$A$257:$BM$257<>"",COLUMN('Back data'!$A$257:$BM$257)))-K$6)+INDEX('Back data'!$A$258:$BM$258,,MAX(IF('Back data'!$A$258:$BM$258<>"",COLUMN('Back data'!$A$258:$BM$258)))-K$6)} -> 100 | ... P22: {=INDEX('Back data'!$A$257:$BM$257,,MAX(IF('Back data'!$A$257:$BM$257<>"",COLUMN('Back data'!$A$257:$BM$257)))-P$6)+INDEX('Back data'!$A$258:$BM$258,,MAX(IF('Back data'!$A$258:$BM$258<>"",COLUMN('Back data'!$A$258:$BM$258)))-P$6)} -> 100
A23: TOTAL ACEITE | B23: HIPERMERCADOS | C23: SIN PROMOCION | D23: {=INDEX('Back data'!$A$257:$BM$257,,MAX(IF('Back data'!$A$257:$BM$257<>"",COLUMN('Back data'!$A$257:$BM$257)))-D$6)/D22} -> 0.7146 | E23: {=INDEX('Back data'!$A$257:$BM$257,,MAX(IF('Back data'!$A$257:$BM$257<>"",COLUMN('Back data'!$A$257:$BM$257)))-E$6)/E22} -> 0.6895 | F23: {=INDEX('Back data'!$A$257:$BM$257,,MAX(IF('Back data'!$A$257:$BM$257<>"",COLUMN('Back data'!$A$257:$BM$257)))-F$6)/F22} -> 0.6858 | G23: {=INDEX('Back data'!$A$257:$BM$257,,MAX(IF('Back data'!$A$257:$BM$257<>"",COLUMN('Back data'!$A$257:$BM$257)))-G$6)/G22} -> 0.7391 | H23: {=INDEX('Back data'!$A$257:$BM$257,,MAX(IF('Back data'!$A$257:$BM$257<>"",COLUMN('Back data'!$A$257:$BM$257)))-H$6)/H22} -> 0.6742 | I23: {=INDEX('Back data'!$A$257:$BM$257,,MAX(IF('Back data'!$A$257:$BM$257<>"",COLUMN('Back data'!$A$257:$BM$257)))-I$6)/I22} -> 0.7842 | J23: {=INDEX('Back data'!$A$257:$BM$257,,MAX(IF('Back data'!$A$257:$BM$257<>"",COLUMN('Back data'!$A$257:$BM$257)))-J$6)/J22} -> 0.7151 | K23: {=INDEX('Back data'!$A$257:$BM$257,,MAX(IF('Back data'!$A$257:$BM$257<>"",COLUMN('Back data'!$A$257:$BM$257)))-K$6)/K22} -> 0.6058 | ... P23: {=INDEX('Back data'!$A$257:$BM$257,,MAX(IF('Back data'!$A$257:$BM$257<>"",COLUMN('Back data'!$A$257:$BM$257)))-P$6)/P22} -> 0.9167
A24: TOTAL ACEITE | B24: HIPERMERCADOS | C24: CON PROMOCION | D24: {=+INDEX('Back data'!$A$258:$BM$258,,MAX(IF('Back data'!$A$258:$BM$258<>"",COLUMN('Back data'!$A$258:$BM$258)))-D$6)/D22} -> 0.2854 | E24: {=+INDEX('Back data'!$A$258:$BM$258,,MAX(IF('Back data'!$A$258:$BM$258<>"",COLUMN('Back data'!$A$258:$BM$258)))-E$6)/E22} -> 0.3105 | F24: {=+INDEX('Back data'!$A$258:$BM$258,,MAX(IF('Back data'!$A$258:$BM$258<>"",COLUMN('Back data'!$A$258:$BM$258)))-F$6)/F22} -> 0.3142 | G24: {=+INDEX('Back data'!$A$258:$BM$258,,MAX(IF('Back data'!$A$258:$BM$258<>"",COLUMN('Back data'!$A$258:$BM$258)))-G$6)/G22} -> 0.2609 | H24: {=+INDEX('Back data'!$A$258:$BM$258,,MAX(IF('Back data'!$A$258:$BM$258<>"",COLUMN('Back data'!$A$258:$BM$258)))-H$6)/H22} -> 0.3258 | I24: {=+INDEX('Back data'!$A$258:$BM$258,,MAX(IF('Back data'!$A$258:$BM$258<>"",COLUMN('Back data'!$A$258:$BM$258)))-I$6)/I22} -> 0.2158 | J24: {=+INDEX('Back data'!$A$258:$BM$258,,MAX(IF('Back data'!$A$258:$BM$258<>"",COLUMN('Back data'!$A$258:$BM$258)))-J$6)/J22} -> 0.2849 | K24: {=+INDEX('Back data'!$A$258:$BM$258,,MAX(IF('Back data'!$A$258:$BM$258<>"",COLUMN('Back data'!$A$258:$BM$258)))-K$6)/K22} -> 0.3942 | ... P24: {=+INDEX('Back data'!$A$258:$BM$258,,MAX(IF('Back data'!$A$258:$BM$258<>"",COLUMN('Back data'!$A$258:$BM$258)))-P$6)/P22} -> 0.0833
C27: % DECLARADO | D27: {=INDEX('Back data'!$A$262:$BM$262,,MAX(IF('Back data'!$A$262:$BM$262<>"",COLUMN('Back data'!$A$262:$BM$262)))-D$6)+INDEX('Back data'!$A$263:$BM$263,,MAX(IF('Back data'!$A$263:$BM$263<>"",COLUMN('Back data'!$A$263:$BM$263)))-D$6)} -> 100 | E27: {=INDEX('Back data'!$A$262:$BM$262,,MAX(IF('Back data'!$A$262:$BM$262<>"",COLUMN('Back data'!$A$262:$BM$262)))-E$6)+INDEX('Back data'!$A$263:$BM$263,,MAX(IF('Back data'!$A$263:$BM$263<>"",COLUMN('Back data'!$A$263:$BM$263)))-E$6)} -> 100 | F27: {=INDEX('Back data'!$A$262:$BM$262,,MAX(IF('Back data'!$A$262:$BM$262<>"",COLUMN('Back data'!$A$262:$BM$262)))-F$6)+INDEX('Back data'!$A$263:$BM$263,,MAX(IF('Back data'!$A$263:$BM$263<>"",COLUMN('Back data'!$A$263:$BM$263)))-F$6)} -> 100 | G27: {=INDEX('Back data'!$A$262:$BM$262,,MAX(IF('Back data'!$A$262:$BM$262<>"",COLUMN('Back data'!$A$262:$BM$262)))-G$6)+INDEX('Back data'!$A$263:$BM$263,,MAX(IF('Back data'!$A$263:$BM$263<>"",COLUMN('Back data'!$A$263:$BM$263)))-G$6)} -> 100 | H27: {=INDEX('Back data'!$A$262:$BM$262,,MAX(IF('Back data'!$A$262:$BM$262<>"",COLUMN('Back data'!$A$262:$BM$262)))-H$6)+INDEX('Back data'!$A$263:$BM$263,,MAX(IF('Back data'!$A$263:$BM$263<>"",COLUMN('Back data'!$A$263:$BM$263)))-H$6)} -> 100 | I27: {=INDEX('Back data'!$A$262:$BM$262,,MAX(IF('Back data'!$A$262:$BM$262<>"",COLUMN('Back data'!$A$262:$BM$262)))-I$6)+INDEX('Back data'!$A$263:$BM$263,,MAX(IF('Back data'!$A$263:$BM$263<>"",COLUMN('Back data'!$A$263:$BM$263)))-I$6)} -> 100 | J27: {=INDEX('Back data'!$A$262:$BM$262,,MAX(IF('Back data'!$A$262:$BM$262<>"",COLUMN('Back data'!$A$262:$BM$262)))-J$6)+INDEX('Back data'!$A$263:$BM$263,,MAX(IF('Back data'!$A$263:$BM$263<>"",COLUMN('Back data'!$A$263:$BM$263)))-J$6)} -> 100 | K27: {=INDEX('Back data'!$A$262:$BM$262,,MAX(IF('Back data'!$A$262:$BM$262<>"",COLUMN('Back data'!$A$262:$BM$262)))-K$6)+INDEX('Back data'!$A$263:$BM$263,,MAX(IF('Back data'!$A$263:$BM$263<>"",COLUMN('Back data'!$A$263:$BM$263)))-K$6)} -> 100 | ... P27: {=INDEX('Back data'!$A$262:$BM$262,,MAX(IF('Back data'!$A$262:$BM$262<>"",COLUMN('Back data'!$A$262:$BM$262)))-P$6)+INDEX('Back data'!$A$263:$BM$263,,MAX(IF('Back data'!$A$263:$BM$263<>"",COLUMN('Back data'!$A$263:$BM$263)))-P$6)} -> 100
A28: TOTAL ACEITE | B28: SUPERMERCADOS | C28: SIN PROMOCION | D28: {=INDEX('Back data'!$A$262:$BM$262,,MAX(IF('Back data'!$A$262:$BM$262<>"",COLUMN('Back data'!$A$262:$BM$262)))-D$6)/D27} -> 0.9649 | E28: {=INDEX('Back data'!$A$262:$BM$262,,MAX(IF('Back data'!$A$262:$BM$262<>"",COLUMN('Back data'!$A$262:$BM$262)))-E$6)/E27} -> 0.9652 | F28: {=INDEX('Back data'!$A$262:$BM$262,,MAX(IF('Back data'!$A$262:$BM$262<>"",COLUMN('Back data'!$A$262:$BM$262)))-F$6)/F27} -> 0.9454 | G28: {=INDEX('Back data'!$A$262:$BM$262,,MAX(IF('Back data'!$A$262:$BM$262<>"",COLUMN('Back data'!$A$262:$BM$262)))-G$6)/G27} -> 0.9738 | H28: {=INDEX('Back data'!$A$262:$BM$262,,MAX(IF('Back data'!$A$262:$BM$262<>"",COLUMN('Back data'!$A$262:$BM$262)))-H$6)/H27} -> 0.9699 | I28: {=INDEX('Back data'!$A$262:$BM$262,,MAX(IF('Back data'!$A$262:$BM$262<>"",COLUMN('Back data'!$A$262:$BM$262)))-I$6)/I27} -> 0.9752 | J28: {=INDEX('Back data'!$A$262:$BM$262,,MAX(IF('Back data'!$A$262:$BM$262<>"",COLUMN('Back data'!$A$262:$BM$262)))-J$6)/J27} -> 0.9716 | K28: {=INDEX('Back data'!$A$262:$BM$262,,MAX(IF('Back data'!$A$262:$BM$262<>"",COLUMN('Back data'!$A$262:$BM$262)))-K$6)/K27} -> 0.957 | ... P28: {=INDEX('Back data'!$A$262:$BM$262,,MAX(IF('Back data'!$A$262:$BM$262<>"",COLUMN('Back data'!$A$262:$BM$262)))-P$6)/P27} -> 0.9806
A29: TOTAL ACEITE | B29: SUPERMERCADOS | C29: CON PROMOCION | D29: {=+INDEX('Back data'!$A$263:$BM$263,,MAX(IF('Back data'!$A$263:$BM$263<>"",COLUMN('Back data'!$A$263:$BM$263)))-D$6)/D27} -> 0.0351 | E29: {=+INDEX('Back data'!$A$263:$BM$263,,MAX(IF('Back data'!$A$263:$BM$263<>"",COLUMN('Back data'!$A$263:$BM$263)))-E$6)/E27} -> 0.0348 | F29: {=+INDEX('Back data'!$A$263:$BM$263,,MAX(IF('Back data'!$A$263:$BM$263<>"",COLUMN('Back data'!$A$263:$BM$263)))-F$6)/F27} -> 0.0546 | G29: {=+INDEX('Back data'!$A$263:$BM$263,,MAX(IF('Back data'!$A$263:$BM$263<>"",COLUMN('Back data'!$A$263:$BM$263)))-G$6)/G27} -> 0.0262 | H29: {=+INDEX('Back data'!$A$263:$BM$263,,MAX(IF('Back data'!$A$263:$BM$263<>"",COLUMN('Back data'!$A$263:$BM$263)))-H$6)/H27} -> 0.0301 | I29: {=+INDEX('Back data'!$A$263:$BM$263,,MAX(IF('Back data'!$A$263:$BM$263<>"",COLUMN('Back data'!$A$263:$BM$263)))-I$6)/I27} -> 0.0248 | J29: {=+INDEX('Back data'!$A$263:$BM$263,,MAX(IF('Back data'!$A$263:$BM$263<>"",COLUMN('Back data'!$A$263:$BM$263)))-J$6)/J27} -> 0.0284 | K29: {=+INDEX('Back data'!$A$263:$BM$263,,MAX(IF('Back data'!$A$263:$BM$263<>"",COLUMN('Back data'!$A$263:$BM$263)))-K$6)/K27} -> 0.043 | ... P29: {=+INDEX('Back data'!$A$263:$BM$263,,MAX(IF('Back data'!$A$263:$BM$263<>"",COLUMN('Back data'!$A$263:$BM$263)))-P$6)/P27} -> 0.0194
C32: % DECLARADO | D32: {=INDEX('Back data'!$A$267:$BM$267,,MAX(IF('Back data'!$A$267:$BM$267<>"",COLUMN('Back data'!$A$267:$BM$267)))-D$6)+INDEX('Back data'!$A$268:$BM$268,,MAX(IF('Back data'!$A$268:$BM$268<>"",COLUMN('Back data'!$A$268:$BM$268)))-D$6)} -> 100 | E32: {=INDEX('Back data'!$A$267:$BM$267,,MAX(IF('Back data'!$A$267:$BM$267<>"",COLUMN('Back data'!$A$267:$BM$267)))-E$6)+INDEX('Back data'!$A$268:$BM$268,,MAX(IF('Back data'!$A$268:$BM$268<>"",COLUMN('Back data'!$A$268:$BM$268)))-E$6)} -> 100 | F32: {=INDEX('Back data'!$A$267:$BM$267,,MAX(IF('Back data'!$A$267:$BM$267<>"",COLUMN('Back data'!$A$267:$BM$267)))-F$6)+INDEX('Back data'!$A$268:$BM$268,,MAX(IF('Back data'!$A$268:$BM$268<>"",COLUMN('Back data'!$A$268:$BM$268)))-F$6)} -> 100 | G32: {=INDEX('Back data'!$A$267:$BM$267,,MAX(IF('Back data'!$A$267:$BM$267<>"",COLUMN('Back data'!$A$267:$BM$267)))-G$6)+INDEX('Back data'!$A$268:$BM$268,,MAX(IF('Back data'!$A$268:$BM$268<>"",COLUMN('Back data'!$A$268:$BM$268)))-G$6)} -> 100 | H32: {=INDEX('Back data'!$A$267:$BM$267,,MAX(IF('Back data'!$A$267:$BM$267<>"",COLUMN('Back data'!$A$267:$BM$267)))-H$6)+INDEX('Back data'!$A$268:$BM$268,,MAX(IF('Back data'!$A$268:$BM$268<>"",COLUMN('Back data'!$A$268:$BM$268)))-H$6)} -> 100 | I32: {=INDEX('Back data'!$A$267:$BM$267,,MAX(IF('Back data'!$A$267:$BM$267<>"",COLUMN('Back data'!$A$267:$BM$267)))-I$6)+INDEX('Back data'!$A$268:$BM$268,,MAX(IF('Back data'!$A$268:$BM$268<>"",COLUMN('Back data'!$A$268:$BM$268)))-I$6)} -> 100 | J32: {=INDEX('Back data'!$A$267:$BM$267,,MAX(IF('Back data'!$A$267:$BM$267<>"",COLUMN('Back data'!$A$267:$BM$267)))-J$6)+INDEX('Back data'!$A$268:$BM$268,,MAX(IF('Back data'!$A$268:$BM$268<>"",COLUMN('Back data'!$A$268:$BM$268)))-J$6)} -> 100 | K32: {=INDEX('Back data'!$A$267:$BM$267,,MAX(IF('Back data'!$A$267:$BM$267<>"",COLUMN('Back data'!$A$267:$BM$267)))-K$6)+INDEX('Back data'!$A$268:$BM$268,,MAX(IF('Back data'!$A$268:$BM$268<>"",COLUMN('Back data'!$A$268:$BM$268)))-K$6)} -> 100 | ... P32: {=INDEX('Back data'!$A$267:$BM$267,,MAX(IF('Back data'!$A$267:$BM$267<>"",COLUMN('Back data'!$A$267:$BM$267)))-P$6)+INDEX('Back data'!$A$268:$BM$268,,MAX(IF('Back data'!$A$268:$BM$268<>"",COLUMN('Back data'!$A$268:$BM$268)))-P$6)} -> 100
A33: TOTAL ACEITE | B33: SUPER+AUTOS | C33: SIN PROMOCION | D33: {=INDEX('Back data'!$A$267:$BM$267,,MAX(IF('Back data'!$A$267:$BM$267<>"",COLUMN('Back data'!$A$267:$BM$267)))-D$6)/D32} -> 0.9768 | E33: {=INDEX('Back data'!$A$267:$BM$267,,MAX(IF('Back data'!$A$267:$BM$267<>"",COLUMN('Back data'!$A$267:$BM$267)))-E$6)/E32} -> 0.9691 | F33: {=INDEX('Back data'!$A$267:$BM$267,,MAX(IF('Back data'!$A$267:$BM$267<>"",COLUMN('Back data'!$A$267:$BM$267)))-F$6)/F32} -> 0.9686 | G33: {=INDEX('Back data'!$A$267:$BM$267,,MAX(IF('Back data'!$A$267:$BM$267<>"",COLUMN('Back data'!$A$267:$BM$267)))-G$6)/G32} -> 0.9822 | H33: {=INDEX('Back data'!$A$267:$BM$267,,MAX(IF('Back data'!$A$267:$BM$267<>"",COLUMN('Back data'!$A$267:$BM$267)))-H$6)/H32} -> 0.9747 | I33: {=INDEX('Back data'!$A$267:$BM$267,,MAX(IF('Back data'!$A$267:$BM$267<>"",COLUMN('Back data'!$A$267:$BM$267)))-I$6)/I32} -> 0.9855 | J33: {=INDEX('Back data'!$A$267:$BM$267,,MAX(IF('Back data'!$A$267:$BM$267<>"",COLUMN('Back data'!$A$267:$BM$267)))-J$6)/J32} -> 0.9708 | K33: {=INDEX('Back data'!$A$267:$BM$267,,MAX(IF('Back data'!$A$267:$BM$267<>"",COLUMN('Back data'!$A$267:$BM$267)))-K$6)/K32} -> 0.9625 | ... P33: {=INDEX('Back data'!$A$267:$BM$267,,MAX(IF('Back data'!$A$267:$BM$267<>"",COLUMN('Back data'!$A$267:$BM$267)))-P$6)/P32} -> 0.9817
A34: TOTAL ACEITE | B34: SUPER+AUTOS | C34: CON PROMOCION | D34: {=+INDEX('Back data'!$A$268:$BM$268,,MAX(IF('Back data'!$A$268:$BM$268<>"",COLUMN('Back data'!$A$268:$BM$268)))-D$6)/D32} -> 0.0232 | E34: {=+INDEX('Back data'!$A$268:$BM$268,,MAX(IF('Back data'!$A$268:$BM$268<>"",COLUMN('Back data'!$A$268:$BM$268)))-E$6)/E32} -> 0.0309 | F34: {=+INDEX('Back data'!$A$268:$BM$268,,MAX(IF('Back data'!$A$268:$BM$268<>"",COLUMN('Back data'!$A$268:$BM$268)))-F$6)/F32} -> 0.0314 | G34: {=+INDEX('Back data'!$A$268:$BM$268,,MAX(IF('Back data'!$A$268:$BM$268<>"",COLUMN('Back data'!$A$268:$BM$268)))-G$6)/G32} -> 0.0178 | H34: {=+INDEX('Back data'!$A$268:$BM$268,,MAX(IF('Back data'!$A$268:$BM$268<>"",COLUMN('Back data'!$A$268:$BM$268)))-H$6)/H32} -> 0.0253 | I34: {=+INDEX('Back data'!$A$268:$BM$268,,MAX(IF('Back data'!$A$268:$BM$268<>"",COLUMN('Back data'!$A$268:$BM$268)))-I$6)/I32} -> 0.0145 | J34: {=+INDEX('Back data'!$A$268:$BM$268,,MAX(IF('Back data'!$A$268:$BM$268<>"",COLUMN('Back data'!$A$268:$BM$268)))-J$6)/J32} -> 0.0292 | K34: {=+INDEX('Back data'!$A$268:$BM$268,,MAX(IF('Back data'!$A$268:$BM$268<>"",COLUMN('Back data'!$A$268:$BM$268)))-K$6)/K32} -> 0.0375 | ... P34: {=+INDEX('Back data'!$A$268:$BM$268,,MAX(IF('Back data'!$A$268:$BM$268<>"",COLUMN('Back data'!$A$268:$BM$268)))-P$6)/P32} -> 0.0183
C37: % DECLARADO | D37: {=INDEX('Back data'!$A$272:$BM$272,,MAX(IF('Back data'!$A$272:$BM$272<>"",COLUMN('Back data'!$A$272:$BM$272)))-D$6)+INDEX('Back data'!$A$273:$BM$273,,MAX(IF('Back data'!$A$273:$BM$273<>"",COLUMN('Back data'!$A$273:$BM$273)))-D$6)} -> 100 | E37: {=INDEX('Back data'!$A$272:$BM$272,,MAX(IF('Back data'!$A$272:$BM$272<>"",COLUMN('Back data'!$A$272:$BM$272)))-E$6)+INDEX('Back data'!$A$273:$BM$273,,MAX(IF('Back data'!$A$273:$BM$273<>"",COLUMN('Back data'!$A$273:$BM$273)))-E$6)} -> 100 | F37: {=INDEX('Back data'!$A$272:$BM$272,,MAX(IF('Back data'!$A$272:$BM$272<>"",COLUMN('Back data'!$A$272:$BM$272)))-F$6)+INDEX('Back data'!$A$273:$BM$273,,MAX(IF('Back data'!$A$273:$BM$273<>"",COLUMN('Back data'!$A$273:$BM$273)))-F$6)} -> 100 | G37: {=INDEX('Back data'!$A$272:$BM$272,,MAX(IF('Back data'!$A$272:$BM$272<>"",COLUMN('Back data'!$A$272:$BM$272)))-G$6)+INDEX('Back data'!$A$273:$BM$273,,MAX(IF('Back data'!$A$273:$BM$273<>"",COLUMN('Back data'!$A$273:$BM$273)))-G$6)} -> 100 | H37: {=INDEX('Back data'!$A$272:$BM$272,,MAX(IF('Back data'!$A$272:$BM$272<>"",COLUMN('Back data'!$A$272:$BM$272)))-H$6)+INDEX('Back data'!$A$273:$BM$273,,MAX(IF('Back data'!$A$273:$BM$273<>"",COLUMN('Back data'!$A$273:$BM$273)))-H$6)} -> 100 | I37: {=INDEX('Back data'!$A$272:$BM$272,,MAX(IF('Back data'!$A$272:$BM$272<>"",COLUMN('Back data'!$A$272:$BM$272)))-I$6)+INDEX('Back data'!$A$273:$BM$273,,MAX(IF('Back data'!$A$273:$BM$273<>"",COLUMN('Back data'!$A$273:$BM$273)))-I$6)} -> 100 | J37: {=INDEX('Back data'!$A$272:$BM$272,,MAX(IF('Back data'!$A$272:$BM$272<>"",COLUMN('Back data'!$A$272:$BM$272)))-J$6)+INDEX('Back data'!$A$273:$BM$273,,MAX(IF('Back data'!$A$273:$BM$273<>"",COLUMN('Back data'!$A$273:$BM$273)))-J$6)} -> 100 | K37: {=INDEX('Back data'!$A$272:$BM$272,,MAX(IF('Back data'!$A$272:$BM$272<>"",COLUMN('Back data'!$A$272:$BM$272)))-K$6)+INDEX('Back data'!$A$273:$BM$273,,MAX(IF('Back data'!$A$273:$BM$273<>"",COLUMN('Back data'!$A$273:$BM$273)))-K$6)} -> 100 | ... P37: {=INDEX('Back data'!$A$272:$BM$272,,MAX(IF('Back data'!$A$272:$BM$272<>"",COLUMN('Back data'!$A$272:$BM$272)))-P$6)+INDEX('Back data'!$A$273:$BM$273,,MAX(IF('Back data'!$A$273:$BM$273<>"",COLUMN('Back data'!$A$273:$BM$273)))-P$6)} -> 100
A38: TOTAL ACEITE | B38: DISCOUNTS | C38: SIN PROMOCION | D38: {=INDEX('Back data'!$A$272:$BM$272,,MAX(IF('Back data'!$A$272:$BM$272<>"",COLUMN('Back data'!$A$272:$BM$272)))-D$6)/D37} -> 0.9205 | E38: {=INDEX('Back data'!$A$272:$BM$272,,MAX(IF('Back data'!$A$272:$BM$272<>"",COLUMN('Back data'!$A$272:$BM$272)))-E$6)/E37} -> 0.9483 | F38: {=INDEX('Back data'!$A$272:$BM$272,,MAX(IF('Back data'!$A$272:$BM$272<>"",COLUMN('Back data'!$A$272:$BM$272)))-F$6)/F37} -> 0.8682 | G38: {=INDEX('Back data'!$A$272:$BM$272,,MAX(IF('Back data'!$A$272:$BM$272<>"",COLUMN('Back data'!$A$272:$BM$272)))-G$6)/G37} -> 0.9456 | H38: {=INDEX('Back data'!$A$272:$BM$272,,MAX(IF('Back data'!$A$272:$BM$272<>"",COLUMN('Back data'!$A$272:$BM$272)))-H$6)/H37} -> 0.9538 | I38: {=INDEX('Back data'!$A$272:$BM$272,,MAX(IF('Back data'!$A$272:$BM$272<>"",COLUMN('Back data'!$A$272:$BM$272)))-I$6)/I37} -> 0.9392 | J38: {=INDEX('Back data'!$A$272:$BM$272,,MAX(IF('Back data'!$A$272:$BM$272<>"",COLUMN('Back data'!$A$272:$BM$272)))-J$6)/J37} -> 0.9741 | K38: {=INDEX('Back data'!$A$272:$BM$272,,MAX(IF('Back data'!$A$272:$BM$272<>"",COLUMN('Back data'!$A$272:$BM$272)))-K$6)/K37} -> 0.9374 | ... P38: {=INDEX('Back data'!$A$272:$BM$272,,MAX(IF('Back data'!$A$272:$BM$272<>"",COLUMN('Back data'!$A$272:$BM$272)))-P$6)/P37} -> 0.9776
A39: TOTAL ACEITE | B39: DISCOUNTS | C39: CON PROMOCION | D39: {=+INDEX('Back data'!$A$273:$BM$273,,MAX(IF('Back data'!$A$273:$BM$273<>"",COLUMN('Back data'!$A$273:$BM$273)))-D$6)/D37} -> 0.0795 | E39: {=+INDEX('Back data'!$A$273:$BM$273,,MAX(IF('Back data'!$A$273:$BM$273<>"",COLUMN('Back data'!$A$273:$BM$273)))-E$6)/E37} -> 0.0517 | F39: {=+INDEX('Back data'!$A$273:$BM$273,,MAX(IF('Back data'!$A$273:$BM$273<>"",COLUMN('Back data'!$A$273:$BM$273)))-F$6)/F37} -> 0.1318 | G39: {=+INDEX('Back data'!$A$273:$BM$273,,MAX(IF('Back data'!$A$273:$BM$273<>"",COLUMN('Back data'!$A$273:$BM$273)))-G$6)/G37} -> 0.0544 | H39: {=+INDEX('Back data'!$A$273:$BM$273,,MAX(IF('Back data'!$A$273:$BM$273<>"",COLUMN('Back data'!$A$273:$BM$273)))-H$6)/H37} -> 0.0462 | I39: {=+INDEX('Back data'!$A$273:$BM$273,,MAX(IF('Back data'!$A$273:$BM$273<>"",COLUMN('Back data'!$A$273:$BM$273)))-I$6)/I37} -> 0.0608 | J39: {=+INDEX('Back data'!$A$273:$BM$273,,MAX(IF('Back data'!$A$273:$BM$273<>"",COLUMN('Back data'!$A$273:$BM$273)))-J$6)/J37} -> 0.0259 | K39: {=+INDEX('Back data'!$A$273:$BM$273,,MAX(IF('Back data'!$A$273:$BM$273<>"",COLUMN('Back data'!$A$273:$BM$273)))-K$6)/K37} -> 0.0626 | ... P39: {=+INDEX('Back data'!$A$273:$BM$273,,MAX(IF('Back data'!$A$273:$BM$273<>"",COLUMN('Back data'!$A$273:$BM$273)))-P$6)/P37} -> 0.0224
C45: % DECLARADO | D45: {=INDEX('Back data'!$A$82:$BM$82,,MAX(IF('Back data'!$A$82:$BM$82<>"",COLUMN('Back data'!$A$82:$BM$82)))-D$6)+INDEX('Back data'!$A$83:$BM$83,,MAX(IF('Back data'!$A$83:$BM$83<>"",COLUMN('Back data'!$A$83:$BM$83)))-D$6)} -> 100 | E45: {=INDEX('Back data'!$A$82:$BM$82,,MAX(IF('Back data'!$A$82:$BM$82<>"",COLUMN('Back data'!$A$82:$BM$82)))-E$6)+INDEX('Back data'!$A$83:$BM$83,,MAX(IF('Back data'!$A$83:$BM$83<>"",COLUMN('Back data'!$A$83:$BM$83)))-E$6)} -> 100 | F45: {=INDEX('Back data'!$A$82:$BM$82,,MAX(IF('Back data'!$A$82:$BM$82<>"",COLUMN('Back data'!$A$82:$BM$82)))-F$6)+INDEX('Back data'!$A$83:$BM$83,,MAX(IF('Back data'!$A$83:$BM$83<>"",COLUMN('Back data'!$A$83:$BM$83)))-F$6)} -> 100 | G45: {=INDEX('Back data'!$A$82:$BM$82,,MAX(IF('Back data'!$A$82:$BM$82<>"",COLUMN('Back data'!$A$82:$BM$82)))-G$6)+INDEX('Back data'!$A$83:$BM$83,,MAX(IF('Back data'!$A$83:$BM$83<>"",COLUMN('Back data'!$A$83:$BM$83)))-G$6)} -> 100 | H45: {=INDEX('Back data'!$A$82:$BM$82,,MAX(IF('Back data'!$A$82:$BM$82<>"",COLUMN('Back data'!$A$82:$BM$82)))-H$6)+INDEX('Back data'!$A$83:$BM$83,,MAX(IF('Back data'!$A$83:$BM$83<>"",COLUMN('Back data'!$A$83:$BM$83)))-H$6)} -> 100 | I45: {=INDEX('Back data'!$A$82:$BM$82,,MAX(IF('Back data'!$A$82:$BM$82<>"",COLUMN('Back data'!$A$82:$BM$82)))-I$6)+INDEX('Back data'!$A$83:$BM$83,,MAX(IF('Back data'!$A$83:$BM$83<>"",COLUMN('Back data'!$A$83:$BM$83)))-I$6)} -> 100 | J45: {=INDEX('Back data'!$A$82:$BM$82,,MAX(IF('Back data'!$A$82:$BM$82<>"",COLUMN('Back data'!$A$82:$BM$82)))-J$6)+INDEX('Back data'!$A$83:$BM$83,,MAX(IF('Back data'!$A$83:$BM$83<>"",COLUMN('Back data'!$A$83:$BM$83)))-J$6)} -> 100 | K45: {=INDEX('Back data'!$A$82:$BM$82,,MAX(IF('Back data'!$A$82:$BM$82<>"",COLUMN('Back data'!$A$82:$BM$82)))-K$6)+INDEX('Back data'!$A$83:$BM$83,,MAX(IF('Back data'!$A$83:$BM$83<>"",COLUMN('Back data'!$A$83:$BM$83)))-K$6)} -> 100 | ... P45: {=INDEX('Back data'!$A$82:$BM$82,,MAX(IF('Back data'!$A$82:$BM$82<>"",COLUMN('Back data'!$A$82:$BM$82)))-P$6)+INDEX('Back data'!$A$83:$BM$83,,MAX(IF('Back data'!$A$83:$BM$83<>"",COLUMN('Back data'!$A$83:$BM$83)))-P$6)} -> 100
A46: A OLIVA VIRGEN Y A OLIVA VIRGEN EXTRA | B46: TOTAL | C46: SIN PROMOCION | D46: {=INDEX('Back data'!$A$82:$BM$82,,MAX(IF('Back data'!$A$82:$BM$82<>"",COLUMN('Back data'!$A$82:$BM$82)))-D$6)/D45} -> 0.8876 | E46: {=INDEX('Back data'!$A$82:$BM$82,,MAX(IF('Back data'!$A$82:$BM$82<>"",COLUMN('Back data'!$A$82:$BM$82)))-E$6)/E45} -> 0.8785 | F46: {=INDEX('Back data'!$A$82:$BM$82,,MAX(IF('Back data'!$A$82:$BM$82<>"",COLUMN('Back data'!$A$82:$BM$82)))-F$6)/F45} -> 0.8551 | G46: {=INDEX('Back data'!$A$82:$BM$82,,MAX(IF('Back data'!$A$82:$BM$82<>"",COLUMN('Back data'!$A$82:$BM$82)))-G$6)/G45} -> 0.9078 | H46: {=INDEX('Back data'!$A$82:$BM$82,,MAX(IF('Back data'!$A$82:$BM$82<>"",COLUMN('Back data'!$A$82:$BM$82)))-H$6)/H45} -> 0.8499 | I46: {=INDEX('Back data'!$A$82:$BM$82,,MAX(IF('Back data'!$A$82:$BM$82<>"",COLUMN('Back data'!$A$82:$BM$82)))-I$6)/I45} -> 0.9204 | J46: {=INDEX('Back data'!$A$82:$BM$82,,MAX(IF('Back data'!$A$82:$BM$82<>"",COLUMN('Back data'!$A$82:$BM$82)))-J$6)/J45} -> 0.8834 | K46: {=INDEX('Back data'!$A$82:$BM$82,,MAX(IF('Back data'!$A$82:$BM$82<>"",COLUMN('Back data'!$A$82:$BM$82)))-K$6)/K45} -> 0.764 | ... P46: {=INDEX('Back data'!$A$82:$BM$82,,MAX(IF('Back data'!$A$82:$BM$82<>"",COLUMN('Back data'!$A$82:$BM$82)))-P$6)/P45} -> 0.9732
A47: A OLIVA VIRGEN Y A OLIVA VIRGEN EXTRA | B47: TOTAL | C47: CON PROMOCION | D47: {=INDEX('Back data'!$A$83:$BM$83,,MAX(IF('Back data'!$A$83:$BM$83<>"",COLUMN('Back data'!$A$83:$BM$83)))-D$6)/D45} -> 0.1124 | E47: {=INDEX('Back data'!$A$83:$BM$83,,MAX(IF('Back data'!$A$83:$BM$83<>"",COLUMN('Back data'!$A$83:$BM$83)))-E$6)/E45} -> 0.1215 | F47: {=INDEX('Back data'!$A$83:$BM$83,,MAX(IF('Back data'!$A$83:$BM$83<>"",COLUMN('Back data'!$A$83:$BM$83)))-F$6)/F45} -> 0.1449 | G47: {=INDEX('Back data'!$A$83:$BM$83,,MAX(IF('Back data'!$A$83:$BM$83<>"",COLUMN('Back data'!$A$83:$BM$83)))-G$6)/G45} -> 0.0922 | H47: {=INDEX('Back data'!$A$83:$BM$83,,MAX(IF('Back data'!$A$83:$BM$83<>"",COLUMN('Back data'!$A$83:$BM$83)))-H$6)/H45} -> 0.1501 | I47: {=INDEX('Back data'!$A$83:$BM$83,,MAX(IF('Back data'!$A$83:$BM$83<>"",COLUMN('Back data'!$A$83:$BM$83)))-I$6)/I45} -> 0.0796 | J47: {=INDEX('Back data'!$A$83:$BM$83,,MAX(IF('Back data'!$A$83:$BM$83<>"",COLUMN('Back data'!$A$83:$BM$83)))-J$6)/J45} -> 0.1166 | K47: {=INDEX('Back data'!$A$83:$BM$83,,MAX(IF('Back data'!$A$83:$BM$83<>"",COLUMN('Back data'!$A$83:$BM$83)))-K$6)/K45} -> 0.236 | ... P47: {=INDEX('Back data'!$A$83:$BM$83,,MAX(IF('Back data'!$A$83:$BM$83<>"",COLUMN('Back data'!$A$83:$BM$83)))-P$6)/P45} -> 0.0268
C50: % DECLARADO | D50: {=INDEX('Back data'!$A$87:$BM$87,,MAX(IF('Back data'!$A$87:$BM$87<>"",COLUMN('Back data'!$A$87:$BM$87)))-D$6)+INDEX('Back data'!$A$88:$BM$88,,MAX(IF('Back data'!$A$88:$BM$88<>"",COLUMN('Back data'!$A$88:$BM$88)))-D$6)} -> 100 | E50: {=INDEX('Back data'!$A$87:$BM$87,,MAX(IF('Back data'!$A$87:$BM$87<>"",COLUMN('Back data'!$A$87:$BM$87)))-E$6)+INDEX('Back data'!$A$88:$BM$88,,MAX(IF('Back data'!$A$88:$BM$88<>"",COLUMN('Back data'!$A$88:$BM$88)))-E$6)} -> 100 | F50: {=INDEX('Back data'!$A$87:$BM$87,,MAX(IF('Back data'!$A$87:$BM$87<>"",COLUMN('Back data'!$A$87:$BM$87)))-F$6)+INDEX('Back data'!$A$88:$BM$88,,MAX(IF('Back data'!$A$88:$BM$88<>"",COLUMN('Back data'!$A$88:$BM$88)))-F$6)} -> 100 | G50: {=INDEX('Back data'!$A$87:$BM$87,,MAX(IF('Back data'!$A$87:$BM$87<>"",COLUMN('Back data'!$A$87:$BM$87)))-G$6)+INDEX('Back data'!$A$88:$BM$88,,MAX(IF('Back data'!$A$88:$BM$88<>"",COLUMN('Back data'!$A$88:$BM$88)))-G$6)} -> 100 | H50: {=INDEX('Back data'!$A$87:$BM$87,,MAX(IF('Back data'!$A$87:$BM$87<>"",COLUMN('Back data'!$A$87:$BM$87)))-H$6)+INDEX('Back data'!$A$88:$BM$88,,MAX(IF('Back data'!$A$88:$BM$88<>"",COLUMN('Back data'!$A$88:$BM$88)))-H$6)} -> 100 | I50: {=INDEX('Back data'!$A$87:$BM$87,,MAX(IF('Back data'!$A$87:$BM$87<>"",COLUMN('Back data'!$A$87:$BM$87)))-I$6)+INDEX('Back data'!$A$88:$BM$88,,MAX(IF('Back data'!$A$88:$BM$88<>"",COLUMN('Back data'!$A$88:$BM$88)))-I$6)} -> 100 | J50: {=INDEX('Back data'!$A$87:$BM$87,,MAX(IF('Back data'!$A$87:$BM$87<>"",COLUMN('Back data'!$A$87:$BM$87)))-J$6)+INDEX('Back data'!$A$88:$BM$88,,MAX(IF('Back data'!$A$88:$BM$88<>"",COLUMN('Back data'!$A$88:$BM$88)))-J$6)} -> 100 | K50: {=INDEX('Back data'!$A$87:$BM$87,,MAX(IF('Back data'!$A$87:$BM$87<>"",COLUMN('Back data'!$A$87:$BM$87)))-K$6)+INDEX('Back data'!$A$88:$BM$88,,MAX(IF('Back data'!$A$88:$BM$88<>"",COLUMN('Back data'!$A$88:$BM$88)))-K$6)} -> 100 | ... P50: {=INDEX('Back data'!$A$87:$BM$87,,MAX(IF('Back data'!$A$87:$BM$87<>"",COLUMN('Back data'!$A$87:$BM$87)))-P$6)+INDEX('Back data'!$A$88:$BM$88,,MAX(IF('Back data'!$A$88:$BM$88<>"",COLUMN('Back data'!$A$88:$BM$88)))-P$6)} -> 100
A51: A OLIVA VIRGEN Y A OLIVA VIRGEN EXTRA | B51: PRINCIPALES FABRICANTE | C51: SIN PROMOCION | D51: {=INDEX('Back data'!$A$87:$BM$87,,MAX(IF('Back data'!$A$87:$BM$87<>"",COLUMN('Back data'!$A$87:$BM$87)))-D$6)/D50} -> 0.7482 | E51: {=INDEX('Back data'!$A$87:$BM$87,,MAX(IF('Back data'!$A$87:$BM$87<>"",COLUMN('Back data'!$A$87:$BM$87)))-E$6)/E50} -> 0.6916 | F51: {=INDEX('Back data'!$A$87:$BM$87,,MAX(IF('Back data'!$A$87:$BM$87<>"",COLUMN('Back data'!$A$87:$BM$87)))-F$6)/F50} -> 0.6882 | G51: {=INDEX('Back data'!$A$87:$BM$87,,MAX(IF('Back data'!$A$87:$BM$87<>"",COLUMN('Back data'!$A$87:$BM$87)))-G$6)/G50} -> 0.7043 | H51: {=INDEX('Back data'!$A$87:$BM$87,,MAX(IF('Back data'!$A$87:$BM$87<>"",COLUMN('Back data'!$A$87:$BM$87)))-H$6)/H50} -> 0.6222 | I51: {=INDEX('Back data'!$A$87:$BM$87,,MAX(IF('Back data'!$A$87:$BM$87<>"",COLUMN('Back data'!$A$87:$BM$87)))-I$6)/I50} -> 0.7804 | J51: {=INDEX('Back data'!$A$87:$BM$87,,MAX(IF('Back data'!$A$87:$BM$87<>"",COLUMN('Back data'!$A$87:$BM$87)))-J$6)/J50} -> 0.5906 | K51: {=INDEX('Back data'!$A$87:$BM$87,,MAX(IF('Back data'!$A$87:$BM$87<>"",COLUMN('Back data'!$A$87:$BM$87)))-K$6)/K50} -> 0.4804 | ... P51: {=INDEX('Back data'!$A$87:$BM$87,,MAX(IF('Back data'!$A$87:$BM$87<>"",COLUMN('Back data'!$A$87:$BM$87)))-P$6)/P50} -> 0.9029
A52: A OLIVA VIRGEN Y A OLIVA VIRGEN EXTRA | B52: PRINCIPALES FABRICANTE | C52: CON PROMOCION | D52: {=INDEX('Back data'!$A$88:$BM$88,,MAX(IF('Back data'!$A$88:$BM$88<>"",COLUMN('Back data'!$A$88:$BM$88)))-D$6)/D50} -> 0.2518 | E52: {=INDEX('Back data'!$A$88:$BM$88,,MAX(IF('Back data'!$A$88:$BM$88<>"",COLUMN('Back data'!$A$88:$BM$88)))-E$6)/E50} -> 0.3084 | F52: {=INDEX('Back data'!$A$88:$BM$88,,MAX(IF('Back data'!$A$88:$BM$88<>"",COLUMN('Back data'!$A$88:$BM$88)))-F$6)/F50} -> 0.3118 | G52: {=INDEX('Back data'!$A$88:$BM$88,,MAX(IF('Back data'!$A$88:$BM$88<>"",COLUMN('Back data'!$A$88:$BM$88)))-G$6)/G50} -> 0.2957 | H52: {=INDEX('Back data'!$A$88:$BM$88,,MAX(IF('Back data'!$A$88:$BM$88<>"",COLUMN('Back data'!$A$88:$BM$88)))-H$6)/H50} -> 0.3778 | I52: {=INDEX('Back data'!$A$88:$BM$88,,MAX(IF('Back data'!$A$88:$BM$88<>"",COLUMN('Back data'!$A$88:$BM$88)))-I$6)/I50} -> 0.2196 | J52: {=INDEX('Back data'!$A$88:$BM$88,,MAX(IF('Back data'!$A$88:$BM$88<>"",COLUMN('Back data'!$A$88:$BM$88)))-J$6)/J50} -> 0.4094 | K52: {=INDEX('Back data'!$A$88:$BM$88,,MAX(IF('Back data'!$A$88:$BM$88<>"",COLUMN('Back data'!$A$88:$BM$88)))-K$6)/K50} -> 0.5196 | ... P52: {=INDEX('Back data'!$A$88:$BM$88,,MAX(IF('Back data'!$A$88:$BM$88<>"",COLUMN('Back data'!$A$88:$BM$88)))-P$6)/P50} -> 0.0971
C55: % DECLARADO | D55: {=INDEX('Back data'!$A$92:$BM$92,,MAX(IF('Back data'!$A$92:$BM$92<>"",COLUMN('Back data'!$A$92:$BM$92)))-D$6)+INDEX('Back data'!$A$93:$BM$93,,MAX(IF('Back data'!$A$93:$BM$93<>"",COLUMN('Back data'!$A$93:$BM$93)))-D$6)} -> 100 | E55: {=INDEX('Back data'!$A$92:$BM$92,,MAX(IF('Back data'!$A$92:$BM$92<>"",COLUMN('Back data'!$A$92:$BM$92)))-E$6)+INDEX('Back data'!$A$93:$BM$93,,MAX(IF('Back data'!$A$93:$BM$93<>"",COLUMN('Back data'!$A$93:$BM$93)))-E$6)} -> 100 | F55: {=INDEX('Back data'!$A$92:$BM$92,,MAX(IF('Back data'!$A$92:$BM$92<>"",COLUMN('Back data'!$A$92:$BM$92)))-F$6)+INDEX('Back data'!$A$93:$BM$93,,MAX(IF('Back data'!$A$93:$BM$93<>"",COLUMN('Back data'!$A$93:$BM$93)))-F$6)} -> 100 | G55: {=INDEX('Back data'!$A$92:$BM$92,,MAX(IF('Back data'!$A$92:$BM$92<>"",COLUMN('Back data'!$A$92:$BM$92)))-G$6)+INDEX('Back data'!$A$93:$BM$93,,MAX(IF('Back data'!$A$93:$BM$93<>"",COLUMN('Back data'!$A$93:$BM$93)))-G$6)} -> 100 | H55: {=INDEX('Back data'!$A$92:$BM$92,,MAX(IF('Back data'!$A$92:$BM$92<>"",COLUMN('Back data'!$A$92:$BM$92)))-H$6)+INDEX('Back data'!$A$93:$BM$93,,MAX(IF('Back data'!$A$93:$BM$93<>"",COLUMN('Back data'!$A$93:$BM$93)))-H$6)} -> 100 | I55: {=INDEX('Back data'!$A$92:$BM$92,,MAX(IF('Back data'!$A$92:$BM$92<>"",COLUMN('Back data'!$A$92:$BM$92)))-I$6)+INDEX('Back data'!$A$93:$BM$93,,MAX(IF('Back data'!$A$93:$BM$93<>"",COLUMN('Back data'!$A$93:$BM$93)))-I$6)} -> 100 | J55: {=INDEX('Back data'!$A$92:$BM$92,,MAX(IF('Back data'!$A$92:$BM$92<>"",COLUMN('Back data'!$A$92:$BM$92)))-J$6)+INDEX('Back data'!$A$93:$BM$93,,MAX(IF('Back data'!$A$93:$BM$93<>"",COLUMN('Back data'!$A$93:$BM$93)))-J$6)} -> 100 | K55: {=INDEX('Back data'!$A$92:$BM$92,,MAX(IF('Back data'!$A$92:$BM$92<>"",COLUMN('Back data'!$A$92:$BM$92)))-K$6)+INDEX('Back data'!$A$93:$BM$93,,MAX(IF('Back data'!$A$93:$BM$93<>"",COLUMN('Back data'!$A$93:$BM$93)))-K$6)} -> 100 | ... P55: {=INDEX('Back data'!$A$92:$BM$92,,MAX(IF('Back data'!$A$92:$BM$92<>"",COLUMN('Back data'!$A$92:$BM$92)))-P$6)+INDEX('Back data'!$A$93:$BM$93,,MAX(IF('Back data'!$A$93:$BM$93<>"",COLUMN('Back data'!$A$93:$BM$93)))-P$6)} -> 100
A56: A OLIVA VIRGEN Y A OLIVA VIRGEN EXTRA | B56: MARCAS DISTRIBUCION | C56: SIN PROMOCION | D56: {=INDEX('Back data'!$A$92:$BM$92,,MAX(IF('Back data'!$A$92:$BM$92<>"",COLUMN('Back data'!$A$92:$BM$92)))-D$6)/D55} -> 0.9844 | E56: {=INDEX('Back data'!$A$92:$BM$92,,MAX(IF('Back data'!$A$92:$BM$92<>"",COLUMN('Back data'!$A$92:$BM$92)))-E$6)/E55} -> 0.9885 | F56: {=INDEX('Back data'!$A$92:$BM$92,,MAX(IF('Back data'!$A$92:$BM$92<>"",COLUMN('Back data'!$A$92:$BM$92)))-F$6)/F55} -> 0.978 | G56: {=INDEX('Back data'!$A$92:$BM$92,,MAX(IF('Back data'!$A$92:$BM$92<>"",COLUMN('Back data'!$A$92:$BM$92)))-G$6)/G55} -> 0.9973 | H56: {=INDEX('Back data'!$A$92:$BM$92,,MAX(IF('Back data'!$A$92:$BM$92<>"",COLUMN('Back data'!$A$92:$BM$92)))-H$6)/H55} -> 1 | I56: {=INDEX('Back data'!$A$92:$BM$92,,MAX(IF('Back data'!$A$92:$BM$92<>"",COLUMN('Back data'!$A$92:$BM$92)))-I$6)/I55} -> 0.9992 | J56: {=INDEX('Back data'!$A$92:$BM$92,,MAX(IF('Back data'!$A$92:$BM$92<>"",COLUMN('Back data'!$A$92:$BM$92)))-J$6)/J55} -> 0.9937 | K56: {=INDEX('Back data'!$A$92:$BM$92,,MAX(IF('Back data'!$A$92:$BM$92<>"",COLUMN('Back data'!$A$92:$BM$92)))-K$6)/K55} -> 0.9598 | ... P56: {=INDEX('Back data'!$A$92:$BM$92,,MAX(IF('Back data'!$A$92:$BM$92<>"",COLUMN('Back data'!$A$92:$BM$92)))-P$6)/P55} -> 1
