Workbook

Sheet C01  CEREALES GRANO
B1: CEREALES GRANO
A2: Provincias y CC.AA. | B2: Trigo Duro | C2: Trigo Blando | D2: Trigo Total | E2: Cebada 2 carreras | F2: Cebada 6 carreras | G2: Cebada Total | H2: Avena | I2: Centeno
A3: A CORUÑA
A4: LUGO
A5: OURENSE | C5: 110.9476 | D5: 110.9476 | E5: 0.4766 | G5: 0.4766 | I5: 57.2377
A6: PONTEVEDRA
A7: GALICIA | C7: 110.9476 | D7: 110.9476 | E7: 0.4766 | G7: 0.4766 | I7: 57.2377
A8: PRINCIPADO DE ASTURIAS
A9: CANTABRIA
A10: ARABA/ÁLAVA | C10: 10.1111 | D10: 10.1111 | E10: 17.5848 | G10: 17.5848
A11: GIPUZKOA
A12: BIZKAIA
A13: PAÍS VASCO | C13: 10.1111 | D13: 10.1111 | E13: 17.5848 | G13: 17.5848
A14: COMUNIDAD FORAL DE NAVARRA | B14: 463.4286 | C14: 10653.599 | D14: 11117.027 | E14: 7669.1461 | G14: 7669.1461 | H14: 267.9651 | I14: 96.4664
A15: LA RIOJA | C15: 4186.967 | D15: 4186.967 | E15: 2118.5669 | G15: 2118.5669 | H15: 216.3476 | I15: 37.4945
A16: HUESCA | B16: 942.6962 | C16: 17991.913 | D16: 18934.609 | E16: 48585.561 | F16: 28.6089 | G16: 48614.17 | H16: 346.9591
A17: TERUEL | B17: 406.141 | C17: 2079.3534 | D17: 2485.4944 | E17: 7574.0515 | G17: 7574.0515 | H17: 214.2107 | I17: 82.7112
A18: ZARAGOZA | B18: 12473.757 | C18: 17068.584 | D18: 29542.341 | E18: 25303.874 | F18: 126.1193 | G18: 25429.993 | H18: 985.1556 | I18: 11.5877
A19: ARAGÓN | B19: 13822.594 | C19: 37139.85 | D19: 50962.444 | E19: 81463.487 | F19: 154.7282 | G19: 81618.215 | H19: 1546.3254 | I19: 94.2989
A20: BARCELONA | E20: 276.3507 | G20: 276.3507
A21: GIRONA | B21: 28.3413 | C21: 1566.5346 | D21: 1594.8759 | E21: 534.1091 | G21: 534.1091 | H21: 139.5937
A22: LLEIDA | B22: 857.501 | C22: 17724.159 | D22: 18581.66 | E22: 29819.092 | G22: 29819.092 | H22: 1028.6032
A23: TARRAGONA | E23: 113.8757 | G23: 113.8757
A24: CATALUÑA | B24: 885.8423 | C24: 19290.694 | D24: 20176.536 | E24: 30743.428 | G24: 30743.428 | H24: 1168.1969
A25: ILLES BALEARS | C25: 199.8957 | D25: 199.8957 | E25: 40.6552 | F25: 46.7017 | G25: 87.3569 | H25: 26.177
A26: ÁVILA | C26: 4037.8844 | D26: 4037.8844 | E26: 2155.1364 | F26: 13.7304 | G26: 2168.8668 | H26: 51.4001
A27: BURGOS | C27: 3274.5148 | D27: 3274.5148 | E27: 1315.5947 | G27: 1315.5947 | H27: 127.3585
A28: LEÓN | B28: 534.2097 | C28: 10829.669 | D28: 11363.878 | E28: 2687.6984 | F28: 217.695 | G28: 2905.3934 | H28: 269.8195 | I28: 786.2509
A29: PALENCIA | C29: 14596.147 | D29: 14596.147 | E29: 4546.4704 | G29: 4546.4704 | H29: 928.2004 | I29: 402.8303
A30: SALAMANCA | C30: 5862.0662 | D30: 5862.0662 | E30: 2770.8988 | G30: 2770.8988 | H30: 331.3288
A31: SEGOVIA | C31: 563.6766 | D31: 563.6766 | E31: 740.9986 | F31: 91.2824 | G31: 832.281 | I31: 20.367
A32: SORIA | C32: 2464.703 | D32: 2464.703 | E32: 822.0962 | G32: 822.0962 | I32: 50.2813
A33: VALLADOLID | C33: 13628.894 | D33: 13628.894 | E33: 11115.475 | G33: 11115.475 | H33: 421.3719
A34: ZAMORA | C34: 6161.1551 | D34: 6161.1551 | E34: 4058.4686 | G34: 4058.4686 | H34: 284.9081 | I34: 135.8864
A35: CASTILLA Y LEÓN | B35: 534.2097 | C35: 61418.71 | D35: 61952.92 | E35: 30212.838 | F35: 322.7078 | G35: 30535.545 | H35: 2414.3873 | I35: 1395.6159
A36: COMUNIDAD DE MADRID | B36: 99.0781 | C36: 2201.2437 | D36: 2300.3218 | E36: 3185.1194 | G36: 3185.1194 | H36: 265.5182
A37: ALBACETE | B37: 146.9705 | C37: 16917.115 | D37: 17064.086 | E37: 15845.907 | F37: 1625.859 | G37: 17471.766 | H37: 1838.2237 | I37: 150.9094
A38: CIUDAD REAL | C38: 3532.1205 | D38: 3532.1205 | E38: 13001.796 | F38: 116.449 | G38: 13118.245 | H38: 316.6286
A39: CUENCA | C39: 2502.7164 | D39: 2502.7164 | E39: 6773.6036 | F39: 122.0953 | G39: 6895.6989
A40: GUADALAJARA | C40: 458.1094 | D40: 458.1094 | E40: 1753.2276 | G40: 1753.2276
...

Sheet C02  CEREALES GRANO
B1: CEREALES GRANO
A2: Provincias y CC.AA. | B2: Triticale | C2: Mezcla de Cereales | D2: Total Cereales de Invierno | E2: Arroz | F2: Maíz | G2: Sorgo | H2: Otros cereales | I2: Quinoa | J2: Total Cereales Grano
A3: A CORUÑA | F3: 46.5016 | H3: 2.1071 | J3: 48.6087
A4: LUGO | C4: 2.0368 | D4: 2.0368 | J4: 2.0368
A5: OURENSE | B5: 22.5765 | D5: 191.2384 | F5: 3.2867 | J5: 194.5251
A6: PONTEVEDRA | F6: 14.9618 | J6: 14.9618
A7: GALICIA | B7: 22.5765 | C7: 2.0368 | D7: 193.2752 | F7: 64.7501 | H7: 2.1071 | J7: 260.1324
A8: PRINCIPADO DE ASTURIAS
A9: CANTABRIA | F9: 43.6072 | J9: 43.6072
A10: ARABA/ÁLAVA | D10: 27.6959 | J10: 27.6959
A11: GIPUZKOA
A12: BIZKAIA
A13: PAÍS VASCO | D13: 27.6959 | J13: 27.6959
A14: COMUNIDAD FORAL DE NAVARRA | B14: 1425.0522 | D14: 20575.657 | E14: 1339.616 | F14: 20835.776 | J14: 42751.049
A15: LA RIOJA | B15: 76.9431 | D15: 6636.3191 | F15: 106.3041 | J15: 6742.6232
A16: HUESCA | B16: 724.5625 | C16: 1.6889 | D16: 68621.99 | E16: 2420.0639 | F16: 49523.235 | G16: 43.2524 | J16: 120608.54
A17: TERUEL | B17: 533.3513 | D17: 10889.819 | F17: 1225.4065 | J17: 12115.226
A18: ZARAGOZA | B18: 2854.2223 | C18: 162.186 | D18: 58985.486 | E18: 1870.5018 | F18: 12683.476 | G18: 155.6795 | J18: 73695.143
A19: ARAGÓN | B19: 4112.1361 | C19: 163.8749 | D19: 138497.29 | E19: 4290.5657 | F19: 63432.117 | G19: 198.9319 | J19: 206418.91
A20: BARCELONA | D20: 276.3507 | F20: 26.1706 | J20: 302.5213
A21: GIRONA | D21: 2268.5787 | E21: 1580.1259 | F21: 5018.214 | J21: 8866.9186
A22: LLEIDA | B22: 1458.2336 | C22: 23.4046 | D22: 50910.994 | F22: 14401.362 | J22: 65312.356
A23: TARRAGONA | D23: 113.8757 | E23: 20782.072 | J23: 20895.947
A24: CATALUÑA | B24: 1458.2336 | C24: 23.4046 | D24: 53569.799 | E24: 22362.197 | F24: 19445.747 | J24: 95377.743
A25: ILLES BALEARS | D25: 313.4296 | F25: 119.3293 | G25: 355.233 | J25: 787.9919
A26: ÁVILA | D26: 6258.1513 | F26: 865.0903 | J26: 7123.2416
A27: BURGOS | D27: 4717.468 | F27: 1985.0772 | J27: 6702.5452
A28: LEÓN | B28: 964.5269 | D28: 16289.869 | F28: 82319.921 | J28: 98609.79
A29: PALENCIA | B29: 43.3153 | D29: 20516.963 | F29: 7682.641 | I29: 23.2625 | J29: 28222.867
A30: SALAMANCA | D30: 8964.2938 | F30: 17668.277 | J30: 26632.571
A31: SEGOVIA | D31: 1416.3246 | F31: 237.1208 | J31: 1653.4454
A32: SORIA | B32: 296.0527 | D32: 3633.1332 | F32: 31.7426 | J32: 3664.8758
A33: VALLADOLID | D33: 25165.742 | F33: 3181.2693 | G33: 225.0905 | H33: 396.0305 | J33: 28968.132
A34: ZAMORA | D34: 10640.418 | F34: 14080.69 | J34: 24721.108
A35: CASTILLA Y LEÓN | B35: 1303.8949 | D35: 97602.363 | F35: 128051.83 | G35: 225.0905 | H35: 396.0305 | I35: 23.2625 | J35: 226298.58
A36: COMUNIDAD DE MADRID | B36: 536.9739 | D36: 6287.9333 | F36: 3090.7729 | J36: 9378.7062
A37: ALBACETE | B37: 1100.5365 | C37: 74.8592 | D37: 37700.381 | E37: 158.4495 | F37: 6018.8396 | J37: 43877.67
A38: CIUDAD REAL | B38: 231.0199 | D38: 17198.014 | F38: 3076.4672 | J38: 20274.482
A39: CUENCA | D39: 9398.4153 | F39: 437.4058 | J39: 9835.8211
A40: GUADALAJARA | D40: 2211.337 | F40: 1835.0565 | J40: 4046.3935
...

Sheet C03  LEGUMINOSAS GRANO
B1: LEGUMINOSAS GRANO
A2: Provincias y CC.AA. | B2: Judias Secas | C2: Habas Secas | D2: Lentejas | E2: Garban-zos | F2: Guisantes Secos | G2: Veza | H2: Altra-muz | I2: Alga-rroba | J2: Yeros | K2: Otras Leguminosas Grano | L2: Total Leguminosas Grano
A3: A CORUÑA | B3: 96.6365 | L3: 96.6365
A4: LUGO | B4: 155.895 | L4: 155.895
A5: OURENSE | B5: 7.5173 | L5: 7.5173
A6: PONTEVEDRA | B6: 13.9384 | L6: 13.9384
A7: GALICIA | B7: 273.9872 | L7: 273.9872
A8: PRINCIPADO DE ASTURIAS | B8: 92.0099 | L8: 92.0099
A9: CANTABRIA
A10: ARABA/ÁLAVA | B10: 42.7689 | L10: 42.7689
A11: GIPUZKOA
A12: BIZKAIA
A13: PAÍS VASCO | B13: 42.7689 | L13: 42.7689
A14: COMUNIDAD FORAL DE NAVARRA | C14: 23.6764 | F14: 151.0108 | I14: 5.0343 | L14: 179.7215
A15: LA RIOJA | F15: 41.776 | L15: 41.776
A16: HUESCA | C16: 45.7663 | F16: 2432.6006 | G16: 72.9921 | L16: 2551.359
A17: TERUEL | C17: 156.3139 | F17: 14.7176 | J17: 37.6805 | L17: 208.712
A18: ZARAGOZA | C18: 64.5746 | D18: 9.7483 | F18: 441.1437 | G18: 185.1908 | L18: 700.6574
A19: ARAGÓN | C19: 266.6548 | D19: 9.7483 | F19: 2888.4619 | G19: 258.1829 | J19: 37.6805 | L19: 3460.7284
A20: BARCELONA | B20: 49.779 | L20: 49.779
A21: GIRONA
A22: LLEIDA | F22: 232.528 | L22: 232.528
A23: TARRAGONA
A24: CATALUÑA | B24: 49.779 | F24: 232.528 | L24: 282.307
A25: ILLES BALEARS | K25: 14.5662 | L25: 14.5662
A26: ÁVILA | B26: 32.7561 | F26: 241.9978 | L26: 274.7539
A27: BURGOS | B27: 5.546 | F27: 31.3095 | G27: 252.5752 | L27: 289.4307
A28: LEÓN | B28: 4700.2436 | C28: 724.4773 | D28: 54.1335 | E28: 400.2338 | F28: 98.8941 | G28: 83.032 | L28: 6061.0143
A29: PALENCIA | E29: 16.9971 | F29: 105.9134 | G29: 142.6706 | L29: 265.5811
A30: SALAMANCA | F30: 14.4153 | G30: 267.4992 | L30: 281.9145
A31: SEGOVIA
A32: SORIA | F32: 64.9908 | J32: 5.5327 | L32: 70.5235
A33: VALLADOLID | D33: 33.7726 | F33: 2473.4722 | G33: 301.4854 | L33: 2808.7302
A34: ZAMORA | E34: 41.4236 | F34: 1112.8111 | G34: 33.8902 | L34: 1188.1249
A35: CASTILLA Y LEÓN | B35: 4738.5457 | C35: 724.4773 | D35: 87.9061 | E35: 458.6545 | F35: 4143.8042 | G35: 1081.1526 | J35: 5.5327 | L35: 11240.073
A36: COMUNIDAD DE MADRID | F36: 74.5298 | G36: 2.5546 | L36: 77.0844
A37: ALBACETE | D37: 797.9543 | F37: 3095.4751 | G37: 303.4038 | J37: 81.4086 | L37: 4278.2418
A38: CIUDAD REAL | F38: 2079.3447 | J38: 215.7758 | L38: 2295.1205
A39: CUENCA | F39: 1164.2581 | J39: 1618.0679 | L39: 2782.326
A40: GUADALAJARA | F40: 176.576 | L40: 176.576
...

Sheet C04  TUBERCULOS, FLORES Y 
B1: TUBERCULOS | G1: FLORES Y P.ORNAMENTALES (en campo)
A2: Provincias y CC.AA. | B2: Patata | C2: Batata | D2: Chufa | E2: Otros Tuberculos | F2: Total Tubérculos Consumo Humano | G2: Total Flores y Plantas Ornamentales
A3: A CORUÑA | B3: 119.7831 | F3: 119.7831
A4: LUGO | B4: 8.4023 | F4: 8.4023
A5: OURENSE | B5: 292.5551 | F5: 292.5551
A6: PONTEVEDRA | B6: 16.7652 | F6: 16.7652
A7: GALICIA | B7: 437.5057 | F7: 437.5057
A8: PRINCIPADO DE ASTURIAS
A9: CANTABRIA | B9: 137.6047 | F9: 137.6047
A10: ARABA/ÁLAVA | B10: 2369.5395 | F10: 2369.5395
A11: GIPUZKOA
A12: BIZKAIA
A13: PAÍS VASCO | B13: 2369.5395 | F13: 2369.5395
A14: COMUNIDAD FORAL DE NAVARRA | B14: 20.0407 | F14: 20.0407
A15: LA RIOJA | B15: 911.2474 | F15: 911.2474 | G15: 4.137
A16: HUESCA | B16: 210.7275 | F16: 210.7275
A17: TERUEL | B17: 56.8018 | F17: 56.8018
A18: ZARAGOZA | B18: 163.623 | F18: 163.623
A19: ARAGÓN | B19: 431.1523 | F19: 431.1523
A20: BARCELONA | B20: 62.4342 | F20: 62.4342 | G20: 2.1312
A21: GIRONA | B21: 4.1415 | F21: 4.1415 | G21: 2.4737
A22: LLEIDA | G22: 5.3165
A23: TARRAGONA | B23: 180.6313 | F23: 180.6313
A24: CATALUÑA | B24: 247.207 | F24: 247.207 | G24: 9.9214
A25: ILLES BALEARS | B25: 575.4427 | F25: 575.4427
A26: ÁVILA | B26: 3131.36 | F26: 3131.36
A27: BURGOS | B27: 1007.0824 | F27: 1007.0824
A28: LEÓN | B28: 1289.0219 | F28: 1289.0219 | G28: 3.3391
A29: PALENCIA | B29: 654.8208 | F29: 654.8208
A30: SALAMANCA | B30: 3497.1963 | F30: 3497.1963
A31: SEGOVIA | B31: 2856.6646 | F31: 2856.6646
A32: SORIA | B32: 162.1435 | F32: 162.1435
A33: VALLADOLID | B33: 5238.0154 | F33: 5238.0154
A34: ZAMORA | B34: 957.2419 | F34: 957.2419 | G34: 6.3525
A35: CASTILLA Y LEÓN | B35: 18793.547 | F35: 18793.547 | G35: 9.6916
A36: COMUNIDAD DE MADRID | B36: 134.5669 | F36: 134.5669
A37: ALBACETE | B37: 1674.5104 | F37: 1674.5104 | G37: 59.9189
A38: CIUDAD REAL | B38: 20.7781 | F38: 20.7781 | G38: 10.2737
A39: CUENCA | B39: 13.5363 | F39: 13.5363
A40: GUADALAJARA | B40: 9.9351 | F40: 9.9351
...

Sheet C05  CULTIVOS INDUSTRIALES
B1: CULTIVOS INDUSTRIALES
A2: Provincias y CC.AA. | B2: Caña de Azúcar | C2: Remolacha Azucarera | D2: Algodón | E2: Lino | F2: Girasol | G2: Soja | H2: Colza | I2: Camelina | J2: Cártamo | K2: Otras Oleaginosas
A3: A CORUÑA
A4: LUGO | F4: 18.0916
A5: OURENSE | H5: 78.3683
A6: PONTEVEDRA | H6: 2.712
A7: GALICIA | F7: 18.0916 | H7: 81.0803
A8: PRINCIPADO DE ASTURIAS
A9: CANTABRIA
A10: ARABA/ÁLAVA | C10: 410.8984 | F10: 236.0693
A11: GIPUZKOA
A12: BIZKAIA
A13: PAÍS VASCO | C13: 410.8984 | F13: 236.0693
A14: COMUNIDAD FORAL DE NAVARRA | C14: 1.1259 | F14: 3108.893 | H14: 110.1471
A15: LA RIOJA | C15: 281.5895 | H15: 74.5647
A16: HUESCA | F16: 323.1145 | G16: 281.4893 | H16: 524.9459
A17: TERUEL | F17: 349.7065 | J17: 65.299
A18: ZARAGOZA | F18: 652.4576 | H18: 428.3819
A19: ARAGÓN | F19: 1325.2786 | G19: 281.4893 | H19: 953.3278 | J19: 65.299
A20: BARCELONA
A21: GIRONA | F21: 276.393 | H21: 244.2385
A22: LLEIDA | F22: 46.4856 | H22: 695.7388 | I22: 19.9476
A23: TARRAGONA
A24: CATALUÑA | F24: 322.8786 | H24: 939.9773 | I24: 19.9476
A25: ILLES BALEARS
A26: ÁVILA | C26: 1209.0848 | F26: 875.5404 | H26: 253.7194
A27: BURGOS | C27: 1643.9868 | F27: 137.2785 | H27: 26.5948
A28: LEÓN | C28: 5572.814 | F28: 2947.7437 | H28: 1362.3995
A29: PALENCIA | C29: 1566.7812 | F29: 5849.1371 | G29: 28.2042 | H29: 860.0182
A30: SALAMANCA | C30: 1949.6066 | F30: 3657.607 | G30: 164.2253 | H30: 520.5062
A31: SEGOVIA | C31: 769.3314 | F31: 69.2869 | H31: 243.7442
A32: SORIA | C32: 149.6689 | F32: 2017.5475
A33: VALLADOLID | C33: 4537.5453 | F33: 3181.6412 | H33: 4040.9384 | J33: 1328.0314
A34: ZAMORA | C34: 2049.1518 | F34: 4805.9075 | G34: 44.4162 | H34: 398.8499 | J34: 26.1052
A35: CASTILLA Y LEÓN | C35: 19447.971 | F35: 23541.69 | G35: 236.8457 | H35: 7706.7706 | J35: 1354.1366
A36: COMUNIDAD DE MADRID | F36: 68.1123
A37: ALBACETE | F37: 458.784 | H37: 3992.3241
A38: CIUDAD REAL | F38: 54.7927
A39: CUENCA | F39: 109.121 | H39: 188.6411
A40: GUADALAJARA | E40: 0.6076 | F40: 682.73 | H40: 258.2117
...

Sheet C06A  CULTIVOS INDUSTRIALES
B1: CULTIVOS INDUSTRIALES
A2: Provincias y CC.AA. | B2: Pimiento para Pimentón | C2: Perejil | D2: Anís | E2: Azafrán estigmas tostados | F2: Menta en verde | G2: Regaliz | H2: Otros condimentos en fresco | I2: Lavanda | J2: Otras aromáticas
A3: A CORUÑA
A4: LUGO
A5: OURENSE
A6: PONTEVEDRA
A7: GALICIA
A8: PRINCIPADO DE ASTURIAS
A9: CANTABRIA
A10: ARABA/ÁLAVA
A11: GIPUZKOA
A12: BIZKAIA
A13: PAÍS VASCO
A14: COMUNIDAD FORAL DE NAVARRA
A15: LA RIOJA | C15: 4.75 | F15: 4.4576 | J15: 5.7903
A16: HUESCA
A17: TERUEL
A18: ZARAGOZA
A19: ARAGÓN
A20: BARCELONA | C20: 28.808 | H20: 11.471 | I20: 3.7031
A21: GIRONA
A22: LLEIDA | I22: 27.2436
A23: TARRAGONA | C23: 272.1457 | F23: 53.6498 | H23: 79.9498 | J23: 532.3485
A24: CATALUÑA | C24: 300.9537 | F24: 53.6498 | H24: 91.4208 | I24: 30.9467 | J24: 532.3485
A25: ILLES BALEARS | J25: 0.5705
A26: ÁVILA
A27: BURGOS
A28: LEÓN
A29: PALENCIA
A30: SALAMANCA
A31: SEGOVIA
A32: SORIA
A33: VALLADOLID
A34: ZAMORA
A35: CASTILLA Y LEÓN
A36: COMUNIDAD DE MADRID | C36: 5.3383 | F36: 78.6659
A37: ALBACETE | C37: 247.145 | E37: 7.0273 | I37: 956.4848 | J37: 41.946
A38: CIUDAD REAL
A39: CUENCA
A40: GUADALAJARA
...

Sheet C06B  CULTIVOS INDUSTRIALES 
B1: CULTIVOS INDUSTRIALES
A2: Provincias y CC.AA. | B2: Tabaco | C2: Tomate industria | D2: Lúpulo | E2: Otros cultivos industriales | F2: Total cultivos industriales
A3: A CORUÑA
A4: LUGO | F4: 18.0916
A5: OURENSE | E5: 12.2288 | F5: 90.5971
A6: PONTEVEDRA | F6: 2.712
A7: GALICIA | E7: 12.2288 | F7: 111.4007
A8: PRINCIPADO DE ASTURIAS
A9: CANTABRIA
A10: ARABA/ÁLAVA | F10: 646.9677
A11: GIPUZKOA
A12: BIZKAIA
A13: PAÍS VASCO | F13: 646.9677
A14: COMUNIDAD FORAL DE NAVARRA | C14: 2266.0981 | F14: 5486.2641
A15: LA RIOJA | C15: 13.6794 | F15: 384.8315
A16: HUESCA | F16: 1129.5497
A17: TERUEL | F17: 415.0055
A18: ZARAGOZA | C18: 116.9484 | F18: 1197.7879
A19: ARAGÓN | C19: 116.9484 | F19: 2742.3431
A20: BARCELONA | E20: 8.909 | F20: 52.8911
A21: GIRONA | E21: 45.3467 | F21: 565.9782
A22: LLEIDA | E22: 5.9974 | F22: 795.413
A23: TARRAGONA | F23: 938.0938
A24: CATALUÑA | E24: 60.2531 | F24: 2352.3761
A25: ILLES BALEARS | F25: 0.5705
A26: ÁVILA | F26: 2338.3446
A27: BURGOS | F27: 1807.8601
A28: LEÓN | D28: 599.8471 | E28: 178.9773 | F28: 10661.782
A29: PALENCIA | E29: 127.853 | F29: 8431.9937
A30: SALAMANCA | F30: 6291.9451
A31: SEGOVIA | E31: 19.4683 | F31: 1101.8308
A32: SORIA | F32: 2167.2164
A33: VALLADOLID | E33: 943.6336 | F33: 14031.79
A34: ZAMORA | F34: 7324.4306
A35: CASTILLA Y LEÓN | D35: 599.8471 | E35: 1269.9322 | F35: 54157.193
A36: COMUNIDAD DE MADRID | E36: 542.5967 | F36: 694.7132
A37: ALBACETE | C37: 44.6478 | E37: 5597.8017 | F37: 11346.161
A38: CIUDAD REAL | E38: 519.0165 | F38: 573.8092
A39: CUENCA | E39: 308.5945 | F39: 606.3566
A40: GUADALAJARA | F40: 941.5493
...

Sheet C07A  CULTIVOS FORRAJEROS
B1: CULTIVOS FORRAJEROS
A2: Provincias y CC.AA. | B2: Maíz Forrajero | C2: Sorgo forrajero | D2: Cereal de invierno para forraje | E2: Total gramíneas forrajeras | F2: Alfalfa | G2: Veza (veza+avena) para forraje | H2: Trébol | I2: Total leguminosas forrrajeras
A3: A CORUÑA
A4: LUGO | B4: 692.6468 | E4: 692.6468
A5: OURENSE | B5: 0.5034 | D5: 6.8513 | E5: 7.3547
A6: PONTEVEDRA
A7: GALICIA | B7: 693.1502 | D7: 6.8513 | E7: 700.0015
A8: PRINCIPADO DE ASTURIAS
A9: CANTABRIA | B9: 197.3138 | E9: 197.3138
A10: ARABA/ÁLAVA | B10: 1418.6305 | E10: 1418.6305 | F10: 483.5843 | I10: 483.5843
A11: GIPUZKOA
A12: BIZKAIA
A13: PAÍS VASCO | B13: 1418.6305 | E13: 1418.6305 | F13: 483.5843 | I13: 483.5843
A14: COMUNIDAD FORAL DE NAVARRA | B14: 951.2103 | D14: 801.8201 | E14: 1753.0304 | F14: 3391.4014 | G14: 88.8918 | I14: 3480.2932
A15: LA RIOJA | B15: 2.75 | E15: 2.75 | F15: 556.5766 | G15: 267.3658 | I15: 823.9424
A16: HUESCA | B16: 523.7866 | D16: 189.06 | E16: 712.8466 | F16: 22642.471 | G16: 215.5224 | I16: 22857.993
A17: TERUEL | D17: 95.6386 | E17: 95.6386 | F17: 575.5 | G17: 219.2243 | I17: 794.7243
A18: ZARAGOZA | C18: 9.2572 | D18: 306.664 | E18: 315.9212 | F18: 31935.844 | G18: 169.1886 | I18: 32105.033
A19: ARAGÓN | B19: 523.7866 | C19: 9.2572 | D19: 591.3626 | E19: 1124.4064 | F19: 55153.815 | G19: 603.9353 | I19: 55757.751
A20: BARCELONA | F20: 6.6596 | I20: 6.6596
A21: GIRONA | B21: 672.5996 | C21: 188.5962 | D21: 38.9697 | E21: 900.1655 | F21: 841.4834 | I21: 841.4834
A22: LLEIDA | B22: 322.2602 | C22: 95.8426 | D22: 913.9997 | E22: 1332.1025 | F22: 12599.344 | G22: 199.4817 | I22: 12798.826
A23: TARRAGONA | D23: 22.5508 | E23: 22.5508 | F23: 230.4435 | I23: 230.4435
A24: CATALUÑA | B24: 994.8598 | C24: 284.4388 | D24: 975.5202 | E24: 2254.8188 | F24: 13677.931 | G24: 199.4817 | I24: 13877.413
A25: ILLES BALEARS | B25: 313.0093 | C25: 45.9127 | D25: 948.2905 | E25: 1307.2125 | F25: 253.5491 | G25: 122.3828 | I25: 375.9319
A26: ÁVILA | D26: 42.6293 | E26: 42.6293 | F26: 965.0731 | G26: 623.6312 | I26: 1588.7043
A27: BURGOS | B27: 496.6153 | E27: 496.6153 | F27: 853.8183 | I27: 853.8183
A28: LEÓN | B28: 589.7683 | D28: 83.7034 | E28: 673.4717 | F28: 3205.5932 | G28: 414.2589 | I28: 3619.8521
A29: PALENCIA | B29: 599.883 | D29: 418.4472 | E29: 1018.3302 | F29: 6575.3168 | G29: 340.3167 | I29: 6915.6335
A30: SALAMANCA | B30: 311.5884 | D30: 967.5635 | E30: 1279.1519 | F30: 710.7396 | G30: 121.7889 | I30: 832.5285
A31: SEGOVIA | D31: 8.2213 | E31: 8.2213 | F31: 97.3486 | I31: 97.3486
A32: SORIA | F32: 59.4237 | I32: 59.4237
A33: VALLADOLID | D33: 83.7249 | E33: 83.7249 | F33: 4977.3381 | G33: 67.1531 | I33: 5044.4912
A34: ZAMORA | B34: 801.2755 | D34: 39.4363 | E34: 840.7118 | F34: 4037.1121 | G34: 36.2681 | I34: 4073.3802
A35: CASTILLA Y LEÓN | B35: 2799.1305 | D35: 1643.7259 | E35: 4442.8564 | F35: 21481.764 | G35: 1603.4169 | I35: 23085.18
A36: COMUNIDAD DE MADRID | B36: 235.9665 | E36: 235.9665 | F36: 175.8546 | I36: 175.8546
A37: ALBACETE | B37: 574.6737 | D37: 1644.1571 | E37: 2218.8308 | F37: 4173.3002 | G37: 37.8776 | I37: 4211.1778
A38: CIUDAD REAL | D38: 19.0439 | E38: 19.0439 | F38: 292.5237 | I38: 292.5237
A39: CUENCA | B39: 19.294 | E39: 19.294 | F39: 9.485 | I39: 9.485
A40: GUADALAJARA | B40: 198.3896 | E40: 198.3896 | F40: 75.8101 | I40: 75.8101
...

Sheet C07B  CULTIVOS FORRAJEROS
B1: CULTIVOS FORRAJEROS
A2: Provincias y CC.AA. | B2: Remolacha forrajera | C2: Nabo forrajero | D2: Pataca, chirivía y otros | E2: Total raíces y Tubérculos forrajeros
A3: A CORUÑA
A4: LUGO | B4: 0.2419 | E4: 0.2419
A5: OURENSE | B5: 11.843 | E5: 11.843
A6: PONTEVEDRA | B6: 3.6838 | E6: 3.6838
A7: GALICIA | B7: 15.7687 | E7: 15.7687
A8: PRINCIPADO DE ASTURIAS
A9: CANTABRIA
A10: ARABA/ÁLAVA
A11: GIPUZKOA
A12: BIZKAIA
A13: PAÍS VASCO
A14: COMUNIDAD FORAL DE NAVARRA
A15: LA RIOJA
A16: HUESCA
A17: TERUEL
A18: ZARAGOZA
A19: ARAGÓN
... A21: GIRONA
A22: LLEIDA | C22: 252.0816 | E22: 252.0816
A23: TARRAGONA
A24: CATALUÑA | C24: 252.0816 | E24: 252.0816
A25: ILLES BALEARS
A26: ÁVILA
A27: BURGOS
A28: LEÓN
A29: PALENCIA
A30: SALAMANCA
A31: SEGOVIA | D31: 6.1762 | E31: 6.1762
A32: SORIA
A33: VALLADOLID | B33: 308.7957 | E33: 308.7957
A34: ZAMORA
A35: CASTILLA Y LEÓN | B35: 308.7957 | D35: 6.1762 | E35: 314.9719
A36: COMUNIDAD DE MADRID
A37: ALBACETE
A38: CIUDAD REAL
A39: CUENCA
A40: GUADALAJARA
A41: TOLEDO
...

Sheet C07C  CULTIVOS FORRAJEROS
B1: CULTIVOS FORRAJEROS
A2: Provincias y CC.AA. | B2: Praderas polifitas | C2: Coles y berzas forrajeras | D2: Calabaza forrajera | E2: Otras plantas de escarda forrajera | F2: Otros forrajes | G2: Total Cultivos Forrajeros
A3: A CORUÑA | B3: 66.1645 | C3: 14.3364 | E3: 1.0939 | G3: 81.5948
A4: LUGO | B4: 425.7792 | C4: 4.6626 | G4: 1123.3305
A5: OURENSE | B5: 393.0726 | C5: 24.1136 | E5: 1.5967 | F5: 2.553 | G5: 440.5336
A6: PONTEVEDRA | B6: 102.2894 | C6: 23.7031 | E6: 5.0171 | G6: 134.6934
A7: GALICIA | B7: 987.3057 | C7: 66.8157 | E7: 7.7077 | F7: 2.553 | G7: 1780.1523
A8: PRINCIPADO DE ASTURIAS
A9: CANTABRIA | G9: 197.3138
A10: ARABA/ÁLAVA | G10: 1902.2148
A11: GIPUZKOA
A12: BIZKAIA
A13: PAÍS VASCO | G13: 1902.2148
A14: COMUNIDAD FORAL DE NAVARRA | B14: 479.6202 | F14: 2615.9523 | G14: 8328.8961
A15: LA RIOJA | B15: 14.4165 | F15: 483.3031 | G15: 1324.412
A16: HUESCA | B16: 312.7399 | C16: 16.8862 | F16: 6064.4572 | G16: 29964.923
A17: TERUEL | F17: 248.6181 | G17: 1138.981
A18: ZARAGOZA | B18: 81.2553 | F18: 11667.115 | G18: 44169.324
A19: ARAGÓN | B19: 393.9952 | C19: 16.8862 | F19: 17980.19 | G19: 75273.228
A20: BARCELONA | F20: 63.0712 | G20: 69.7308
A21: GIRONA | B21: 50.0607 | F21: 585.0193 | G21: 2376.7289
A22: LLEIDA | B22: 1062.0981 | F22: 6746.0485 | G22: 22191.157
A23: TARRAGONA | B23: 19.3576 | F23: 10.5162 | G23: 282.8681
A24: CATALUÑA | B24: 1131.5164 | F24: 7404.6552 | G24: 24920.484
A25: ILLES BALEARS | F25: 576.7625 | G25: 2259.9069
A26: ÁVILA | F26: 8.5184 | G26: 1639.852
A27: BURGOS | G27: 1350.4336
A28: LEÓN | B28: 761.0714 | F28: 1123.2532 | G28: 6177.6484
A29: PALENCIA | B29: 170.8981 | F29: 347.4849 | G29: 8452.3467
A30: SALAMANCA | B30: 152.5003 | F30: 324.2625 | G30: 2588.4432
A31: SEGOVIA | B31: 288.9603 | F31: 5.2125 | G31: 405.9189
A32: SORIA | G32: 59.4237
A33: VALLADOLID | B33: 127.7242 | F33: 1059.4856 | G33: 6624.2216
A34: ZAMORA | B34: 238.0651 | F34: 665.6293 | G34: 5817.7864
A35: CASTILLA Y LEÓN | B35: 1739.2194 | F35: 3533.8464 | G35: 33116.075
A36: COMUNIDAD DE MADRID | B36: 73.3045 | F36: 574.3023 | G36: 1059.4279
A37: ALBACETE | B37: 10.9929 | F37: 836.8833 | G37: 7277.8848
A38: CIUDAD REAL | B38: 73.4093 | F38: 70.0503 | G38: 455.0272
A39: CUENCA | F39: 96.1005 | G39: 124.8795
A40: GUADALAJARA | G40: 274.1997
...

Sheet C08A HORTALIZAS (en campo)
B1: HORTALIZAS (en campo)
A2: Provincias y CC.AA. | B2: Col (1) | C2: Espa-rragos | D2: Espinaca | E2: Apio | F2: Lechuga | G2: Lombarda | H2: Acelga | I2: Escarola | J2: Grelo | K2: Otras hortalizas de hoja y tallo | L2: Total hortalizas de hoja y tallo
A3: A CORUÑA | B3: 17.5622 | F3: 5.3562 | H3: 0.5339 | J3: 44.7974 | L3: 68.2497
A4: LUGO | B4: 9.4892 | F4: 5.6654 | H4: 1.7385 | J4: 23.9316 | L4: 40.8247
A5: OURENSE | B5: 12.2132 | F5: 3.092 | H5: 0.5283 | J5: 6.7295 | L5: 22.563
A6: PONTEVEDRA | B6: 12.6566 | F6: 16.1581 | H6: 0.5524 | J6: 1.3372 | L6: 30.7043
A7: GALICIA | B7: 51.9212 | F7: 30.2717 | H7: 3.3531 | J7: 76.7957 | L7: 162.3417
A8: PRINCIPADO DE ASTURIAS
A9: CANTABRIA
A10: ARABA/ÁLAVA | B10: 40.2962 | L10: 40.2962
A11: GIPUZKOA
A12: BIZKAIA
A13: PAÍS VASCO | B13: 40.2962 | L13: 40.2962
A14: COMUNIDAD FORAL DE NAVARRA | C14: 933.8124 | H14: 19.2058 | L14: 953.0182
A15: LA RIOJA | C15: 109.0812 | E15: 59.6118 | H15: 5.1635 | L15: 173.8565
A16: HUESCA | C16: 8.6626 | L16: 8.6626
A17: TERUEL
A18: ZARAGOZA | C18: 21.6201 | L18: 21.6201
A19: ARAGÓN | C19: 30.2827 | L19: 30.2827
A20: BARCELONA | B20: 57.2745 | F20: 209.6304 | H20: 35.0003 | L20: 301.9052
A21: GIRONA
A22: LLEIDA | F22: 4.8231 | L22: 4.8231
A23: TARRAGONA | B23: 3.1117 | F23: 24.9372 | K23: 93.5389 | L23: 121.5878
A24: CATALUÑA | B24: 60.3862 | F24: 239.3907 | H24: 35.0003 | K24: 93.5389 | L24: 428.3161
A25: ILLES BALEARS | B25: 67.4372 | F25: 6.8081 | L25: 74.2453
A26: ÁVILA
A27: BURGOS
A28: LEÓN | B28: 1.8658 | H28: 50.8558 | L28: 52.7216
A29: PALENCIA
A30: SALAMANCA
A31: SEGOVIA | C31: 25.244 | F31: 126.5497 | L31: 151.7937
A32: SORIA | F32: 155.4729 | L32: 155.4729
A33: VALLADOLID | B33: 40.3227 | C33: 829.374 | F33: 16.992 | G33: 56.809 | H33: 125.1103 | L33: 1068.608
A34: ZAMORA | B34: 12.4352 | L34: 12.4352
A35: CASTILLA Y LEÓN | B35: 54.6237 | C35: 854.618 | F35: 299.0146 | G35: 56.809 | H35: 175.9661 | L35: 1441.0314
A36: COMUNIDAD DE MADRID | B36: 5.5777 | C36: 59.1808 | G36: 5.0425 | L36: 69.801
A37: ALBACETE | E37: 47.5346 | F37: 2369.6933 | I37: 126.4912 | L37: 2543.7191
A38: CIUDAD REAL
A39: CUENCA
A40: GUADALAJARA | B40: 13.017 | C40: 1009.3868 | L40: 1022.4038
...

Sheet C08B HORTALIZAS (en campo)
B1: HORTALIZAS (en campo)
A2: Provincias y CC.AA. | B2: Col brócoli | C2: Alcachofa | D2: Coliflor | E2: Otras hortalizas de flor | F2: Total hortalizas de flor | G2: Judías verdes | H2: Gruisantes verdes | I2: Habas verdes | J2: Otras legumbres frescas | K2: Total legumbres frescas
A3: A CORUÑA | G3: 12.8873 | H3: 6.2924 | K3: 19.1797
A4: LUGO | G4: 7.3825 | H4: 0.0863 | K4: 7.4688
A5: OURENSE | G5: 10.032 | H5: 0.6888 | I5: 0.6897 | K5: 11.4105
A6: PONTEVEDRA | D6: 0.0085 | F6: 0.0085 | G6: 19.7973 | H6: 0.2699 | K6: 20.0672
A7: GALICIA | D7: 0.0085 | F7: 0.0085 | G7: 50.0991 | H7: 7.3374 | I7: 0.6897 | K7: 58.1262
A8: PRINCIPADO DE ASTURIAS
A9: CANTABRIA
A10: ARABA/ÁLAVA
A11: GIPUZKOA
A12: BIZKAIA
A13: PAÍS VASCO
A14: COMUNIDAD FORAL DE NAVARRA | B14: 593.7711 | C14: 491.9878 | D14: 185.0026 | F14: 1270.7615 | G14: 210.9293 | H14: 425.9871 | K14: 636.9164
A15: LA RIOJA | B15: 151.9787 | D15: 194.1542 | F15: 346.1329 | G15: 119.5364 | H15: 1350.2961 | K15: 1469.8325
A16: HUESCA | H16: 2578.0586 | K16: 2578.0586
A17: TERUEL
A18: ZARAGOZA | B18: 707.9364 | D18: 64.9777 | F18: 772.9141 | G18: 101.0106 | H18: 311.5129 | I18: 133.6926 | K18: 546.2161
A19: ARAGÓN | B19: 707.9364 | D19: 64.9777 | F19: 772.9141 | G19: 101.0106 | H19: 2889.5715 | I19: 133.6926 | K19: 3124.2747
A20: BARCELONA | C20: 194.0541 | F20: 194.0541 | G20: 125.8527 | I20: 17.3614 | K20: 143.2141
A21: GIRONA | I21: 5.8498 | K21: 5.8498
A22: LLEIDA | B22: 11.284 | F22: 11.284 | G22: 3.3424 | H22: 642.6245 | K22: 645.9669
A23: TARRAGONA | B23: 192.331 | C23: 180.9323 | D23: 119.4914 | F23: 492.7547 | G23: 39.5356 | I23: 2.5476 | K23: 42.0832
A24: CATALUÑA | B24: 203.615 | C24: 374.9864 | D24: 119.4914 | F24: 698.0928 | G24: 168.7307 | H24: 642.6245 | I24: 25.7588 | K24: 837.114
A25: ILLES BALEARS | C25: 16.5164 | F25: 16.5164
A26: ÁVILA
A27: BURGOS | G27: 504.1594 | K27: 504.1594
A28: LEÓN | H28: 102.3584 | K28: 102.3584
A29: PALENCIA
A30: SALAMANCA | H30: 273.3406 | K30: 273.3406
A31: SEGOVIA
A32: SORIA | C32: 5.4394 | F32: 5.4394
A33: VALLADOLID | H33: 317.7759 | K33: 317.7759
A34: ZAMORA | H34: 154.5647 | K34: 154.5647
A35: CASTILLA Y LEÓN | C35: 5.4394 | F35: 5.4394 | G35: 504.1594 | H35: 848.0396 | K35: 1352.199
A36: COMUNIDAD DE MADRID | H36: 54.5245 | I36: 47.8834 | K36: 102.4079
A37: ALBACETE | B37: 2452.4442 | C37: 470.6297 | F37: 2923.0739 | H37: 3377.5887 | K37: 3377.5887
A38: CIUDAD REAL | G38: 1.5534 | H38: 219.4632 | K38: 221.0166
A39: CUENCA | B39: 539.4826 | F39: 539.4826
A40: GUADALAJARA
...

Sheet C08C HORTALIZAS (en campo)
B1: HORTALIZAS (en campo)
A2: Provincias y CC.AA. | B2: Maíz dulce | C2: Tomate (1) | D2: Sandía | E2: Melón | F2: Calabaza | G2: Calabacín | H2: Pepino | I2: Remolacha de mesa | J2: Berenjena | K2: Pimiento | L2: Otras hortalizas de fruto | M2: Total Hortalizas de fruto
A3: A CORUÑA | C3: 7.6653 | G3: 4.2785 | K3: 53.5551 | M3: 65.4989
A4: LUGO | C4: 8.1765 | K4: 14.0575 | M4: 22.234
A5: OURENSE | C5: 7.6422 | G5: 0.1924 | K5: 8.1657 | M5: 16.0003
A6: PONTEVEDRA | C6: 11.6239 | G6: 0.0087 | K6: 22.9167 | M6: 34.5493
A7: GALICIA | C7: 35.1079 | G7: 4.4796 | K7: 98.695 | M7: 138.2825
A8: PRINCIPADO DE ASTURIAS
A9: CANTABRIA | C9: 17.681 | M9: 17.681
A10: ARABA/ÁLAVA
A11: GIPUZKOA
A12: BIZKAIA
A13: PAÍS VASCO
A14: COMUNIDAD FORAL DE NAVARRA | B14: 3017.837 | C14: 21.5255 | F14: 587.6205 | G14: 168.1052 | K14: 1336.9286 | M14: 5132.0168
A15: LA RIOJA | C15: 47.5737 | G15: 15.0493 | K15: 111.8886 | L15: 91.3382 | M15: 265.8498
A16: HUESCA | C16: 149.763 | L16: 81.1306 | M16: 230.8936
A17: TERUEL
A18: ZARAGOZA | C18: 395.876 | F18: 27.2186 | G18: 50.9782 | J18: 9.9368 | K18: 9.1608 | M18: 493.1704
A19: ARAGÓN | C19: 545.639 | F19: 27.2186 | G19: 50.9782 | J19: 9.9368 | K19: 9.1608 | L19: 81.1306 | M19: 724.064
A20: BARCELONA | C20: 85.92 | D20: 11.0776 | F20: 7.1973 | G20: 76.4596 | H20: 1.8254 | I20: 1.8124 | K20: 28.7335 | L20: 19.5894 | M20: 232.6152
A21: GIRONA | E21: 28.3515 | M21: 28.3515
A22: LLEIDA | C22: 24.1537 | G22: 8.0279 | J22: 1.6727 | K22: 24.3709 | M22: 58.2252
A23: TARRAGONA | C23: 61.6157 | D23: 83.5943 | E23: 14.2227 | F23: 444.6168 | G23: 10.902 | H23: 5.2718 | J23: 13.539 | K23: 1.8831 | L23: 39.6742 | M23: 675.3196
A24: CATALUÑA | C24: 171.6894 | D24: 94.6719 | E24: 42.5742 | F24: 451.8141 | G24: 95.3895 | H24: 7.0972 | I24: 1.8124 | J24: 15.2117 | K24: 54.9875 | L24: 59.2636 | M24: 994.5115
A25: ILLES BALEARS | C25: 221.6782 | D25: 483.4228 | E25: 242.3805 | F25: 250.5582 | G25: 6.0542 | K25: 5.3907 | M25: 1209.4846
A26: ÁVILA | B26: 14.0012 | K26: 30.8211 | M26: 44.8223
A27: BURGOS
A28: LEÓN | C28: 9.4083 | F28: 3.0176 | K28: 11.9251 | M28: 24.351
A29: PALENCIA
A30: SALAMANCA | B30: 602.7624 | D30: 6.5084 | I30: 231.7819 | M30: 841.0527
A31: SEGOVIA | B31: 103.223 | I31: 113.8852 | M31: 217.1082
A32: SORIA
A33: VALLADOLID | B33: 1.2193 | F33: 15.4474 | I33: 125.6742 | M33: 142.3409
A34: ZAMORA | C34: 61.3471 | F34: 190.8095 | K34: 5.0075 | M34: 257.1641
A35: CASTILLA Y LEÓN | B35: 721.2059 | C35: 70.7554 | D35: 6.5084 | F35: 209.2745 | I35: 471.3413 | K35: 47.7537 | M35: 1526.8392
A36: COMUNIDAD DE MADRID | C36: 6.1226 | G36: 54.8805 | K36: 25.3157 | M36: 86.3188
A37: ALBACETE | B37: 72.6971 | C37: 182.7492 | D37: 473.9434 | E37: 428.0628 | F37: 25.9315 | G37: 6.5647 | J37: 12.7808 | K37: 193.9408 | M37: 1396.6703
A38: CIUDAD REAL | C38: 5.149 | D38: 4140.3473 | E38: 7019.7333 | F38: 66.7466 | H38: 1.8156 | K38: 425.9907 | M38: 11659.782
A39: CUENCA
A40: GUADALAJARA
...

Sheet C08D HORTALIZAS (en campo)
H1: HORTALIZAS (en campo)
A2: Provincias y CC.AA. | B2: Ajo | C2: Cebolla | D2: Zanahoria | E2: Puerro | F2: Otras hortalizas de raices y bulbos | G2: Total hortalizas de raices y bulbos | H2: Fresa- Fresón | I2: Champiñón | J2: Otras hortalizas | K2: Huerta vacía | L2: Total Hortalizas (en campo)
A3: A CORUÑA | B3: 1.0957 | C3: 13.5715 | D3: 0.4011 | E3: 1.3381 | G3: 16.4064 | H3: 0.4011 | J3: 2.511 | K3: 17.1996 | L3: 189.4464
A4: LUGO | C4: 6.1606 | D4: 2.1385 | E4: 0.7046 | G4: 9.0037 | H4: 0.394 | K4: 1.3441 | L4: 81.2693
A5: OURENSE | C5: 38.5315 | D5: 3.557 | E5: 0.3858 | G5: 42.4743 | H5: 0.5215 | J5: 0.4006 | K5: 11.7773 | L5: 105.1475
A6: PONTEVEDRA | B6: 0.0525 | C6: 19.0574 | D6: 8.4449 | E6: 1.6019 | G6: 29.1567 | H6: 0.2675 | K6: 5.2899 | L6: 120.0434
A7: GALICIA | B7: 1.1482 | C7: 77.321 | D7: 14.5415 | E7: 4.0304 | G7: 97.0411 | H7: 1.5841 | J7: 2.9116 | K7: 35.6109 | L7: 495.9066
A8: PRINCIPADO DE ASTURIAS
A9: CANTABRIA | K9: 1.242 | L9: 18.923
A10: ARABA/ÁLAVA | L10: 40.2962
A11: GIPUZKOA
A12: BIZKAIA | K12: 3.1291 | L12: 3.1291
A13: PAÍS VASCO | K13: 3.1291 | L13: 43.4253
A14: COMUNIDAD FORAL DE NAVARRA | C14: 1005.7424 | E14: 34.6258 | G14: 1040.3682 | J14: 14.7399 | K14: 26.2283 | L14: 9074.0493
A15: LA RIOJA | C15: 136.2174 | D15: 115.9423 | G15: 252.1597 | I15: 190.1644 | J15: 41.5871 | K15: 55.5968 | L15: 2795.1797
A16: HUESCA | C16: 822.3946 | G16: 822.3946 | K16: 14.9311 | L16: 3654.9405
A17: TERUEL | K17: 1.2095 | L17: 1.2095
A18: ZARAGOZA | B18: 38.404 | C18: 2265.5989 | E18: 276.0557 | G18: 2580.0586 | J18: 2.2579 | K18: 110.8293 | L18: 4527.0665
A19: ARAGÓN | B19: 38.404 | C19: 3087.9935 | E19: 276.0557 | G19: 3402.4532 | J19: 2.2579 | K19: 126.9699 | L19: 8183.2165
A20: BARCELONA | C20: 9.1309 | D20: 3.3488 | G20: 12.4797 | H20: 1.8254 | J20: 4.3567 | K20: 992.02 | L20: 1882.4704
A21: GIRONA | J21: 6.5196 | K21: 7.9206 | L21: 48.6415
A22: LLEIDA | C22: 560.577 | D22: 9.3283 | G22: 569.9053 | J22: 85.785 | K22: 23.453 | L22: 1399.4425
A23: TARRAGONA | C23: 7.8791 | D23: 239.5169 | E23: 9.1052 | F23: 173.6082 | G23: 430.1094 | J23: 373.4143 | K23: 778.0906 | L23: 2913.3596
A24: CATALUÑA | C24: 577.587 | D24: 252.194 | E24: 9.1052 | F24: 173.6082 | G24: 1012.4944 | H24: 1.8254 | J24: 470.0756 | K24: 1801.4842 | L24: 6243.914
A25: ILLES BALEARS | C25: 80.5791 | E25: 16.7099 | G25: 97.289 | H25: 18.2354 | K25: 3.0108 | L25: 1418.7815
A26: ÁVILA | C26: 330.8655 | D26: 134.3298 | G26: 465.1953 | K26: 0.2787 | L26: 510.2963
A27: BURGOS | C27: 220.2737 | G27: 220.2737 | L27: 724.4331
A28: LEÓN | C28: 1.8658 | E28: 0.687 | G28: 2.5528 | K28: 17.0778 | L28: 199.0616
A29: PALENCIA | C29: 65.1537 | G29: 65.1537 | L29: 65.1537
A30: SALAMANCA | B30: 417.574 | C30: 67.305 | G30: 484.879 | J30: 36.2281 | K30: 7.5863 | L30: 1643.0867
A31: SEGOVIA | B31: 389.1481 | C31: 98.4774 | D31: 626.3905 | E31: 141.2233 | F31: 191.577 | G31: 1446.8163 | L31: 1815.7182
A32: SORIA | C32: 218.462 | E32: 38.9123 | G32: 257.3743 | L32: 418.2866
A33: VALLADOLID | B33: 1029.9162 | C33: 953.2728 | D33: 742.7082 | E33: 33.6875 | G33: 2759.5847 | K33: 5.1277 | L33: 4293.4372
A34: ZAMORA | B34: 114.9194 | C34: 434.7999 | G34: 549.7193 | K34: 1.9739 | L34: 975.8572
A35: CASTILLA Y LEÓN | B35: 1951.5577 | C35: 2390.4758 | D35: 1503.4285 | E35: 214.5101 | F35: 191.577 | G35: 6251.5491 | J35: 36.2281 | K35: 32.0444 | L35: 10645.331
A36: COMUNIDAD DE MADRID | B36: 1008.3526 | C36: 558.4362 | F36: 0.5466 | G36: 1567.3354 | L36: 1825.8631
A37: ALBACETE | B37: 11801.766 | C37: 3306.311 | D37: 207.864 | E37: 169.4714 | G37: 15485.412 | K37: 884.44 | L37: 26610.904
A38: CIUDAD REAL | B38: 4336.902 | C38: 3122.3805 | G38: 7459.2825 | K38: 5.9041 | L38: 19345.986
A39: CUENCA | B39: 2873.3537 | C39: 689.559 | G39: 3562.9127 | I39: 261.5612 | K39: 9.5028 | L39: 4373.4593
A40: GUADALAJARA | B40: 138.4653 | G40: 138.4653 | K40: 35.585 | L40: 1196.4541
...

Sheet INVERNADEROS 1
C1: CULTIVO EN INVERNADERO
A2: Provincias y CC.AA. | B2: Cultivos Herbáceos
B3: HORTALIZAS | M3: OTROS HERBACEOS
B4: Fresa y Fresón | C4: Tomate | D4: Pimiento | E4: Pepino | F4: Sandía | G4: Calabacín | H4: Berenjena | I4: Melón | J4: Lechuga | K4: Judias Verdes | L4: Otras Hortalizas | M4: Flores | N4: Otros c. herbaceos (1)
A5: A CORUÑA | C5: 0.637 | D5: 7.1661 | J5: 4.5718 | K5: 22.3464 | L5: 9.121 | M5: 115.4042 | N5: 4.9603
A6: LUGO | C6: 2.3806 | D6: 0.8799 | N6: 17.9218
A7: OURENSE | M7: 4.8587 | N7: 0.4018
A8: PONTEVEDRA | C8: 6.668 | D8: 15.1057 | K8: 28.0199 | L8: 0.2659 | M8: 67.1103 | N8: 4.7553
A9: GALICIA | C9: 9.6856 | D9: 23.1517 | J9: 4.5718 | K9: 50.3663 | L9: 9.3869 | M9: 187.3732 | N9: 28.0392
A10: PRINCIPADO DE ASTURIAS | C10: 36.702 | D10: 2.6482 | K10: 8.8096 | L10: 7.4222 | N10: 3.9889
A11: CANTABRIA | C11: 5.2626 | N11: 1.4532
A12: ARABA/ÁLAVA | C12: 5.7048 | K12: 11.3137 | L12: 7.0351
A13: GIPUZKOA | L13: 9.3135 | M13: 32.1538 | N13: 3.9307
A14: BIZKAIA | N14: 85.733
A15: PAÍS VASCO | C15: 5.7048 | K15: 11.3137 | L15: 16.3486 | M15: 32.1538 | N15: 89.6637
A16: COMUNIDAD FORAL DE NAVARRA | C16: 174.9357 | D16: 7.2077 | J16: 28.6635 | L16: 19.5642 | N16: 113.1452
A17: LA RIOJA | D17: 1.3868 | L17: 17.3836
A18: HUESCA
A19: TERUEL
A20: ZARAGOZA | N20: 43.3941
A21: ARAGÓN | N21: 43.3941
A22: BARCELONA | B22: 57.8094 | C22: 189.7411 | E22: 92.3944 | K22: 12.5748 | L22: 28.256 | M22: 79.3721 | N22: 61.1266
A23: GIRONA | L23: 8.6845
A24: LLEIDA | N24: 13.6561
A25: TARRAGONA | E25: 1.1564 | G25: 0.1999 | N25: 0.1842
A26: CATALUÑA | B26: 57.8094 | C26: 189.7411 | E26: 93.5508 | G26: 0.1999 | K26: 12.5748 | L26: 36.9405 | M26: 79.3721 | N26: 74.9669
A27: ILLES BALEARS | B27: 15.1668 | C27: 26.486 | D27: 1.0505 | E27: 1.5682 | I27: 9.8239 | N27: 23.2106
A28: ÁVILA | D28: 1.3319 | L28: 4.8198
A29: BURGOS
A30: LEÓN | C30: 11.3376 | L30: 11.0254 | N30: 8.8226
A31: PALENCIA
A32: SALAMANCA | N32: 6.6932
A33: SEGOVIA | B33: 712.4736
A34: SORIA
A35: VALLADOLID
A36: ZAMORA | C36: 12.2848 | N36: 4.1154
A37: CASTILLA Y LEÓN | B37: 712.4736 | C37: 23.6224 | D37: 1.3319 | L37: 15.8452 | N37: 19.6312
A38: COMUNIDAD DE MADRID | C38: 5.8491 | E38: 112.2545
A39: ALBACETE | C39: 8.3244 | E39: 1.9063
A40: CIUDAD REAL | C40: 4.802 | H40: 0.978 | K40: 1.8973 | L40: 4.7726 | N40: 16.9688
...

Sheet INVERNADEROS 2
A2: Provincias y CC.AA. | B2: CULTIVOS LEÑOSOS | K2: Viveros | L2: Superficie vacia | M2: Total general
B4: Aguacate | C4: Platanera | D4: Mango | E4: Papaya | F4: Frambueso | G4: Piña | H4: Arándano | I4: Moral | J4: Otros leñosos | O4: h | P4: l | Q4: t
A5: A CORUÑA | K5: 6.1967 | L5: 22.5378 | M5: 192.9413 | O5: =+SUM('INVERNADEROS 1'!B5:N5) -> 164.2068 | P5: =+SUM(B5:K5) -> 6.1967 | Q5: =+O5+P5+L5 -> 192.9413 | R5: =+Q5-M5 -> 0 | S5: 25.9379
A6: LUGO | M6: 21.1823 | O6: =+SUM('INVERNADEROS 1'!B6:N6) -> 21.1823 | P6: =+SUM(B6:K6) -> 0 | Q6: =+O6+P6+L6 -> 21.1823 | R6: =+Q6-M6 -> 0 | S6: 1.5637
A7: OURENSE | K7: 9.7364 | M7: 14.9969 | O7: =+SUM('INVERNADEROS 1'!B7:N7) -> 5.2605 | P7: =+SUM(B7:K7) -> 9.7364 | Q7: =+O7+P7+L7 -> 14.9969 | R7: =+Q7-M7 -> 0 | S7: 0
A8: PONTEVEDRA | K8: 74.5624 | L8: 0.7291 | M8: 197.2166 | O8: =+SUM('INVERNADEROS 1'!B8:N8) -> 121.9251 | P8: =+SUM(B8:K8) -> 74.5624 | Q8: =+O8+P8+L8 -> 197.2166 | R8: =+Q8-M8 -> 0 | S8: 8.7918
A9: GALICIA | K9: 90.4955 | L9: 23.2669 | M9: 426.3371 | O9: =+SUM('INVERNADEROS 1'!B9:N9) -> 312.5747 | P9: =+SUM(B9:K9) -> 90.4955 | Q9: =+O9+P9+L9 -> 426.3371 | R9: =+Q9-M9 -> 0 | S9: 36.2934
A10: PRINCIPADO DE ASTURIAS | K10: 62.2657 | L10: 8.7363 | M10: 130.5729 | O10: =+SUM('INVERNADEROS 1'!B10:N10) -> 59.5709 | P10: =+SUM(B10:K10) -> 62.2657 | Q10: =+O10+P10+L10 -> 130.5729 | R10: =+Q10-M10 -> 0 | S10: 30.1917
A11: CANTABRIA | M11: 6.7158 | O11: =+SUM('INVERNADEROS 1'!B11:N11) -> 6.7158 | P11: =+SUM(B11:K11) -> 0 | Q11: =+O11+P11+L11 -> 6.7158 | R11: =+Q11-M11 -> 0 | S11: 0
A12: ARABA/ÁLAVA | M12: 24.0536 | O12: =+SUM('INVERNADEROS 1'!B12:N12) -> 24.0536 | P12: =+SUM(B12:K12) -> 0 | Q12: =+O12+P12+L12 -> 24.0536 | R12: =+Q12-M12 -> 0 | S12: 0
A13: GIPUZKOA | L13: 9.0877 | M13: 54.4857 | O13: =+SUM('INVERNADEROS 1'!B13:N13) -> 45.398 | P13: =+SUM(B13:K13) -> 0 | Q13: =+O13+P13+L13 -> 54.4857 | R13: =+Q13-M13 -> 0 | S13: 16.9514
A14: BIZKAIA | M14: 85.733 | O14: =+SUM('INVERNADEROS 1'!B14:N14) -> 85.733 | P14: =+SUM(B14:K14) -> 0 | Q14: =+O14+P14+L14 -> 85.733 | R14: =+Q14-M14 -> 0 | S14: 1.7099
A15: PAÍS VASCO | L15: 9.0877 | M15: 164.2723 | O15: =+SUM('INVERNADEROS 1'!B15:N15) -> 155.1846 | P15: =+SUM(B15:K15) -> 0 | Q15: =+O15+P15+L15 -> 164.2723 | R15: =+Q15-M15 -> 0 | S15: 18.6613
A16: COMUNIDAD FORAL DE NAVARRA | K16: 93.5238 | L16: 40.1357 | M16: 477.1758 | O16: =+SUM('INVERNADEROS 1'!B16:N16) -> 343.5163 | P16: =+SUM(B16:K16) -> 93.5238 | Q16: =+O16+P16+L16 -> 477.1758 | R16: =+Q16-M16 -> 0 | S16: 308.9628
A17: LA RIOJA | L17: 38.7498 | M17: 57.5202 | O17: =+SUM('INVERNADEROS 1'!B17:N17) -> 18.7704 | P17: =+SUM(B17:K17) -> 0 | Q17: =+O17+P17+L17 -> 57.5202 | R17: =+Q17-M17 -> 0 | S17: 14.7249
A18: HUESCA | O18: =+SUM('INVERNADEROS 1'!B18:N18) -> 0 | P18: =+SUM(B18:K18) -> 0 | Q18: =+O18+P18+L18 -> 0 | R18: =+Q18-M18 -> 0 | S18: 0
A19: TERUEL | O19: =+SUM('INVERNADEROS 1'!B19:N19) -> 0 | P19: =+SUM(B19:K19) -> 0 | Q19: =+O19+P19+L19 -> 0 | R19: =+Q19-M19 -> 0 | S19: 0
A20: ZARAGOZA | K20: 272.4772 | L20: 13.6977 | M20: 329.569 | O20: =+SUM('INVERNADEROS 1'!B20:N20) -> 43.3941 | P20: =+SUM(B20:K20) -> 272.4772 | Q20: =+O20+P20+L20 -> 329.569 | R20: =+Q20-M20 -> 0 | S20: 28.4563
A21: ARAGÓN | K21: 272.4772 | L21: 13.6977 | M21: 329.569 | O21: =+SUM('INVERNADEROS 1'!B21:N21) -> 43.3941 | P21: =+SUM(B21:K21) -> 272.4772 | Q21: =+O21+P21+L21 -> 329.569 | R21: =+Q21-M21 -> 0 | S21: 28.4563
A22: BARCELONA | K22: 1.7975 | L22: 178.6187 | M22: 701.6906 | O22: =+SUM('INVERNADEROS 1'!B22:N22) -> 521.2744 | P22: =+SUM(B22:K22) -> 1.7975 | Q22: =+O22+P22+L22 -> 701.6906 | R22: =+Q22-M22 -> 0 | S22: 119.2686
A23: GIRONA | K23: 17.1967 | M23: 25.8812 | O23: =+SUM('INVERNADEROS 1'!B23:N23) -> 8.6845 | P23: =+SUM(B23:K23) -> 17.1967 | Q23: =+O23+P23+L23 -> 25.8812 | R23: =+Q23-M23 -> 0 | S23: 0
A24: LLEIDA | K24: 17.0132 | M24: 30.6693 | O24: =+SUM('INVERNADEROS 1'!B24:N24) -> 13.6561 | P24: =+SUM(B24:K24) -> 17.0132 | Q24: =+O24+P24+L24 -> 30.6693 | R24: =+Q24-M24 -> 0 | S24: 0
A25: TARRAGONA | L25: 67.7365 | M25: 69.277 | O25: =+SUM('INVERNADEROS 1'!B25:N25) -> 1.5405 | P25: =+SUM(B25:K25) -> 0 | Q25: =+O25+P25+L25 -> 69.277 | R25: =+Q25-M25 -> 0 | S25: 0
A26: CATALUÑA | K26: 36.0074 | L26: 246.3552 | M26: 827.5181 | O26: =+SUM('INVERNADEROS 1'!B26:N26) -> 545.1555 | P26: =+SUM(B26:K26) -> 36.0074 | Q26: =+O26+P26+L26 -> 827.5181 | R26: =+Q26-M26 -> 0 | S26: 119.2686
A27: ILLES BALEARS | L27: 2.8298 | M27: 80.1358 | O27: =+SUM('INVERNADEROS 1'!B27:N27) -> 77.306 | P27: =+SUM(B27:K27) -> 0 | Q27: =+O27+P27+L27 -> 80.1358 | R27: =+Q27-M27 -> 0 | S27: 4.2321
A28: ÁVILA | L28: 0.7226 | M28: 6.8743 | O28: =+SUM('INVERNADEROS 1'!B28:N28) -> 6.1517 | P28: =+SUM(B28:K28) -> 0 | Q28: =+O28+P28+L28 -> 6.8743 | R28: =+Q28-M28 -> 0 | S28: 0.7227
A29: BURGOS | O29: =+SUM('INVERNADEROS 1'!B29:N29) -> 0 | P29: =+SUM(B29:K29) -> 0 | Q29: =+O29+P29+L29 -> 0 | R29: =+Q29-M29 -> 0 | S29: 0
A30: LEÓN | M30: 31.1856 | O30: =+SUM('INVERNADEROS 1'!B30:N30) -> 31.1856 | P30: =+SUM(B30:K30) -> 0 | Q30: =+O30+P30+L30 -> 31.1856 | R30: =+Q30-M30 -> 0 | S30: 4.266
A31: PALENCIA | O31: =+SUM('INVERNADEROS 1'!B31:N31) -> 0 | P31: =+SUM(B31:K31) -> 0 | Q31: =+O31+P31+L31 -> 0 | R31: =+Q31-M31 -> 0 | S31: 0
A32: SALAMANCA | M32: 6.6932 | O32: =+SUM('INVERNADEROS 1'!B32:N32) -> 6.6932 | P32: =+SUM(B32:K32) -> 0 | Q32: =+O32+P32+L32 -> 6.6932 | R32: =+Q32-M32 -> 0 | S32: 0.9354
A33: SEGOVIA | K33: 43.6691 | M33: 756.1427 | O33: =+SUM('INVERNADEROS 1'!B33:N33) -> 712.4736 | P33: =+SUM(B33:K33) -> 43.6691 | Q33: =+O33+P33+L33 -> 756.1427 | R33: =+Q33-M33 -> 0 | S33: 0
A34: SORIA | O34: =+SUM('INVERNADEROS 1'!B34:N34) -> 0 | P34: =+SUM(B34:K34) -> 0 | Q34: =+O34+P34+L34 -> 0 | R34: =+Q34-M34 -> 0 | S34: 0
A35: VALLADOLID | K35: 31.3768 | M35: 31.3768 | O35: =+SUM('INVERNADEROS 1'!B35:N35) -> 0 | P35: =+SUM(B35:K35) -> 31.3768 | Q35: =+O35+P35+L35 -> 31.3768 | R35: =+Q35-M35 -> 0 | S35: 13.1699
A36: ZAMORA | M36: 16.4002 | O36: =+SUM('INVERNADEROS 1'!B36:N36) -> 16.4002 | P36: =+SUM(B36:K36) -> 0 | Q36: =+O36+P36+L36 -> 16.4002 | R36: =+Q36-M36 -> 0 | S36: 0
A37: CASTILLA Y LEÓN | K37: 75.0459 | L37: 0.7226 | M37: 848.6728 | O37: =+SUM('INVERNADEROS 1'!B37:N37) -> 772.9043 | P37: =+SUM(B37:K37) -> 75.0459 | Q37: =+O37+P37+L37 -> 848.6728 | R37: =+Q37-M37 -> 0 | S37: 19.094
A38: COMUNIDAD DE MADRID | L38: 12.9115 | M38: 131.0151 | O38: =+SUM('INVERNADEROS 1'!B38:N38) -> 118.1036 | P38: =+SUM(B38:K38) -> 0 | Q38: =+O38+P38+L38 -> 131.0151 | R38: =+Q38-M38 -> 0 | S38: 33.2332
A39: ALBACETE | M39: 10.2307 | O39: =+SUM('INVERNADEROS 1'!B39:N39) -> 10.2307 | P39: =+SUM(B39:K39) -> 0 | Q39: =+O39+P39+L39 -> 10.2307 | R39: =+Q39-M39 -> 0 | S39: 0
A40: CIUDAD REAL | L40: 19.7648 | M40: 49.1835 | O40: =+SUM('INVERNADEROS 1'!B40:N40) -> 29.4187 | P40: =+SUM(B40:K40) -> 0 | Q40: =+O40+P40+L40 -> 49.1835 | R40: =+Q40-M40 -> 0 | S40: 9.9465
A41: CUENCA | M41: 2.3767 | O41: =+SUM('INVERNADEROS 1'!B41:N41) -> 2.3767 | P41: =+SUM(B41:K41) -> 0 | Q41: =+O41+P41+L41 -> 2.3767 | R41: =+Q41-M41 -> 0 | S41: 2.3062
A42: GUADALAJARA | O42: =+SUM('INVERNADEROS 1'!B42:N42) -> 0 | P42: =+SUM(B42:K42) -> 0 | Q42: =+O42+P42+L42 -> 0 | R42: =+Q42-M42 -> 0 | S42: 0
...

Sheet HUERTOS
B1: CULTIVOS EN HUERTOS FAMILIARES
A2: Provincias y CC.AA | B2: Cereales grano | C2: Legumi-nosas | D2: Tuberculos c. h. | E2: Industriales | F2: Forrajeras | G2: Hortalizas | H2: Frutales citricos | I2: Frutales no citricos | J2: Olivar | K2: Viñedo | L2: Otros cultivos leñosos | M2: Barbecho | N2: Sin distribuir | O2: TOTAL
A3: A CORUÑA | B3: 9.5626 | C3: 5.3978 | D3: 10.5429 | F3: 8.0293 | G3: 71.2713 | H3: 0.7185 | I3: 30.5227 | K3: 5.7233 | N3: 18.0348 | O3: 159.8032
A4: LUGO | B4: 14.2139 | C4: 11.8691 | D4: 41.9489 | F4: 43.57 | G4: 162.9585 | H4: 0.9206 | I4: 56.1142 | J4: 0.5678 | K4: 5.4028 | N4: 14.6877 | O4: 352.2535
A5: OURENSE | B5: 25.4109 | C5: 1.7085 | D5: 65.409 | E5: 0.2293 | F5: 22.929 | G5: 89.8159 | I5: 28.3114 | J5: 2.01 | K5: 3.9477 | N5: 6.8551 | O5: 246.6268
A6: PONTEVEDRA | B6: 99.7658 | C6: 9.4357 | D6: 44.8197 | F6: 39.5148 | G6: 127.5518 | H6: 0.5248 | I6: 14.8223 | K6: 54.1467 | N6: 77.4879 | O6: 468.0695
A7: GALICIA | B7: 148.9532 | C7: 28.4111 | D7: 162.7205 | E7: 0.2293 | F7: 114.0431 | G7: 451.5975 | H7: 2.1639 | I7: 129.7706 | J7: 2.5778 | K7: 69.2205 | N7: 117.0655 | O7: 1226.753
A8: PRINCIPADO DE ASTURIAS | B8: 1.7202 | C8: 5.6096 | D8: 7.177 | F8: 3.7541 | G8: 16.0354 | H8: 0.1341 | I8: 4.4336 | K8: 0.4241 | N8: 0.9542 | O8: 40.2423
A9: CANTABRIA | B9: 1.1118 | C9: 18.4299 | D9: 3.283 | G9: 72.6203 | I9: 20.6944 | O9: 116.1394
A10: ARABA/ÁLAVA | B10: 2.9915 | C10: 1.9364 | D10: 4.9279 | G10: 127.355 | I10: 35.7089 | O10: 172.9197
A11: GIPUZKOA | B11: 0.6223 | G11: 67.2761 | I11: 12.5956 | O11: 80.494
A12: BIZKAIA | B12: 22.4517 | C12: 54.8421 | G12: 243.5067 | I12: 29.5093 | O12: 350.3098
A13: PAÍS VASCO | B13: 26.0655 | C13: 56.7785 | D13: 4.9279 | G13: 438.1378 | I13: 77.8138 | O13: 603.7235
A14: COMUNIDAD FORAL DE NAVARRA | B14: 47.7728 | C14: 2.0596 | D14: 168.8233 | G14: 1517.5732 | H14: 0.5754 | I14: 413.0372 | J14: 87.4567 | K14: 28.0786 | N14: 21.3327 | O14: 2286.7095
A15: LA RIOJA | B15: 5.9341 | C15: 0.7029 | D15: 91.3156 | E15: 5.3856 | G15: 888.6477 | I15: 600.8973 | J15: 129.8369 | K15: 32.6279 | L15: 4.1276 | O15: 1759.4756
A16: HUESCA | B16: 155.6871 | C16: 0.4253 | D16: 67.8506 | F16: 0.246 | G16: 347.4266 | I16: 181.5414 | J16: 74.324 | K16: 10.8101 | O16: 838.3111
A17: TERUEL | B17: 2.6142 | D17: 207.0788 | G17: 530.3377 | I17: 360.2299 | J17: 12.3948 | K17: 8.7219 | O17: 1121.3773
A18: ZARAGOZA | B18: 11.1782 | C18: 1.7856 | D18: 136.5115 | F18: 12.0907 | G18: 1122.7041 | H18: 1.6432 | I18: 413.7272 | J18: 92.1574 | K18: 56.117 | L18: 4.9035 | N18: 4.6206 | O18: 1857.439
A19: ARAGÓN | B19: 169.4795 | C19: 2.2109 | D19: 411.4409 | F19: 12.3367 | G19: 2000.4684 | H19: 1.6432 | I19: 955.4985 | J19: 178.8762 | K19: 75.649 | L19: 4.9035 | N19: 4.6206 | O19: 3817.1274
A20: BARCELONA | D20: 67.235 | G20: 1413.8286 | H20: 8.1475 | I20: 334.801 | J20: 138.3456 | K20: 53.019 | L20: 19.4273 | O20: 2034.804
A21: GIRONA | B21: 6.1356 | D21: 16.4354 | E21: 4.2127 | F21: 10.4338 | G21: 552.7598 | H21: 0.08 | I21: 76.0616 | J21: 23.0547 | K21: 16.1599 | N21: 12.6367 | O21: 717.9702
A22: LLEIDA | B22: 6.6429 | D22: 11.555 | E22: 0.3252 | F22: 13.3242 | G22: 678.8177 | I22: 150.8904 | J22: 52.2437 | K22: 29.9805 | N22: 5.8553 | O22: 949.6349
A23: TARRAGONA | B23: 2.0521 | D23: 12.757 | F23: 4.2538 | G23: 1141.9412 | H23: 205.9143 | I23: 529.1059 | J23: 189.0446 | K23: 21.11 | L23: 48.9445 | O23: 2155.1234
A24: CATALUÑA | B24: 14.8306 | D24: 107.9824 | E24: 4.5379 | F24: 28.0118 | G24: 3787.3473 | H24: 214.1418 | I24: 1090.8589 | J24: 402.6886 | K24: 120.2694 | L24: 68.3718 | N24: 18.492 | O24: 5857.5325
A25: ILLES BALEARS | B25: 2.295 | C25: 2.0185 | D25: 41.9102 | E25: 13.2392 | G25: 794.2007 | H25: 791.2352 | I25: 1068.9962 | J25: 320.1708 | K25: 115.3013 | L25: 37.664 | O25: 3187.0311
A26: ÁVILA | C26: 1.0323 | D26: 17.3509 | F26: 8.9461 | G26: 291.9099 | H26: 11.5716 | I26: 142.4814 | J26: 9.7644 | K26: 1.0321 | O26: 484.0887
A27: BURGOS | B27: 0.5318 | C27: 3.3624 | D27: 69.4694 | E27: 5.356 | G27: 178.5647 | I27: 500.06 | K27: 9.1022 | O27: 766.4465
A28: LEÓN | B28: 36.6236 | C28: 90.1537 | D28: 508.9071 | E28: 8.8573 | F28: 84.2019 | G28: 1081.3282 | I28: 854.9919 | J28: 0.7901 | K28: 16.7169 | M28: 51.9569 | N28: 66.8436 | O28: 2801.3712
A29: PALENCIA | D29: 23.318 | E29: 0.4357 | G29: 95.5138 | I29: 49.4463 | K29: 1.7245 | N29: 0.2143 | O29: 170.6526
A30: SALAMANCA | C30: 4.3276 | D30: 104.705 | E30: 0.2614 | F30: 2.582 | G30: 214.512 | I30: 105.8232 | K30: 12.0603 | N30: 0.6208 | O30: 444.8923
A31: SEGOVIA | B31: 2.0747 | D31: 13.5827 | E31: 2.0747 | G31: 82.0005 | I31: 49.4896 | J31: 0.9077 | K31: 4.6731 | O31: 154.803
A32: SORIA | C32: 1.4315 | D32: 6.8956 | G32: 175.3443 | I32: 60.4073 | O32: 244.0787
A33: VALLADOLID | D33: 10.3886 | G33: 86.1278 | I33: 50.2622 | O33: 146.7786
A34: ZAMORA | B34: 0.5239 | C34: 9.9135 | D34: 98.0041 | E34: 3.1972 | F34: 0.8426 | G34: 205.3731 | I34: 176.1118 | J34: 5.6421 | K34: 10.453 | M34: 6.3409 | N34: 9.1924 | O34: 525.5946
A35: CASTILLA Y LEÓN | B35: 39.754 | C35: 110.221 | D35: 852.6214 | E35: 20.1823 | F35: 96.5726 | G35: 2410.6743 | H35: 11.5716 | I35: 1989.0737 | J35: 17.1043 | K35: 55.7621 | M35: 58.2978 | N35: 76.8711 | O35: 5738.7062
A36: COMUNIDAD DE MADRID | B36: 4.3014 | D36: 46.1938 | E36: 0.2501 | G36: 169.0325 | H36: 2.1118 | I36: 16.7075 | K36: 8.5693 | O36: 247.1664
A37: ALBACETE | B37: 0.5725 | D37: 11.65 | G37: 526.4767 | I37: 142.266 | J37: 52.3241 | K37: 13.0499 | L37: 9.9031 | N37: 1.0862 | O37: 757.3285
A38: CIUDAD REAL | D38: 69.1982 | E38: 0.6093 | G38: 303.3029 | I38: 268.4555 | J38: 43.3447 | K38: 2.5349 | O38: 687.4455
A39: CUENCA | D39: 1.7439 | G39: 150.0694 | I39: 137.4151 | J39: 14.9313 | K39: 5.6021 | O39: 309.7618
A40: GUADALAJARA | D40: 6.5081 | G40: 260.7624 | I40: 33.8517 | M40: 10.7813 | N40: 17.4308 | O40: 329.3343
...

Sheet HORTALIZAS en huerto
A1: Provincias y CC.AA | B1: Col (1) | C1: Esparragos | D1: Espinaca | E1: Apio | F1: Lechuga | G1: Lombarda | H1: Acelga | I1: Escarola | J1: Grelo | K1: Otras hortalizas de hoja y tallo
A2: A CORUÑA | B2: 0.9205 | F2: 2.1735 | H2: 0.0562 | J2: 0.2992
A3: LUGO | B3: 12.190209 | F3: 7.584966 | H3: 1.419894 | J3: 2.506455
A4: OURENSE | B4: 5.4661 | F4: 1.1897 | H4: 0.4474
A5: PONTEVEDRA | B5: 2.648022 | F5: 6.969052 | H5: 0.002853
A6: GALICIA | B6: 21.224831 | F6: 17.917218 | H6: 1.926347 | J6: 2.805655
A7: PRINCIPADO DE ASTURIAS | B7: 0.0408 | F7: 1.0453
A8: CANTABRIA | B8: 2.4036 | H8: 0.8557
A9: ARABA/ÁLAVA | F9: 1.1397
A10: GIPUZKOA | F10: 6.7185
A11: BIZKAIA
A12: PAÍS VASCO | F12: 7.8582
A13: COMUNIDAD FORAL DE NAVARRA | C13: 74.1502 | F13: 95.155 | H13: 21.8107
A14: LA RIOJA | B14: 0.17831 | C14: 19.995485 | E14: 0.596104 | F14: 17.445593 | H14: 5.308381
A15: HUESCA | C15: 0.8298 | F15: 29.2297 | H15: 10.3781 | K15: 0.6053
A16: TERUEL | B16: 0.5032 | C16: 0.1549 | D16: 0.1953 | F16: 26.6622 | H16: 5.5174 | K16: 0.1606
A17: ZARAGOZA | C17: 2.8135 | F17: 15.4744 | H17: 4.7114 | I17: 0.2851
A18: ARAGÓN | B18: 0.5032 | C18: 3.7982 | D18: 0.1953 | F18: 71.3663 | H18: 20.6069 | I18: 0.2851 | K18: 0.7659
A19: BARCELONA | F19: 18.3025 | H19: 14.3955
A20: GIRONA | B20: 2.1657 | F20: 34.2918
A21: LLEIDA | E21: 2.7362 | F21: 47.5363 | H21: 14.4537
A22: TARRAGONA | F22: 12.4907 | H22: 0.8441
A23: CATALUÑA | B23: 2.1657 | E23: 2.7362 | F23: 112.6213 | H23: 29.6933
A24: ILLES BALEARS | B24: 13.5756 | F24: 22.6455
A25: ÁVILA | F25: 17.7078
A26: BURGOS | B26: 0.4042 | F26: 4.7287 | G26: 0.3486
A27: LEÓN | B27: 16.8559 | F27: 29.0149 | G27: 0.7154 | H27: 0.9837 | J27: 3.1471
A28: PALENCIA | F28: 6.1263 | H28: 2.3078
A29: SALAMANCA | B29: 4.0541 | F29: 5.1934
A30: SEGOVIA | B30: 1.2414 | F30: 1.303 | H30: 1.3237
A31: SORIA | F31: 27.6928 | H31: 2.0071
A32: VALLADOLID | F32: 0.8725
A33: ZAMORA | B33: 2.0983 | F33: 4.8224 | H33: 5.2681
A34: CASTILLA Y LEÓN | B34: 24.6539 | F34: 97.4618 | G34: 1.064 | H34: 11.8904 | J34: 3.1471
A35: COMUNIDAD DE MADRID | F35: 6.3329
A36: ALBACETE | C36: 2.7538
A37: CIUDAD REAL | D37: 0.6384 | F37: 6.7215
A38: CUENCA | C38: 10.0504
A39: GUADALAJARA | C39: 39.1697 | D39: 14.6618
A40: TOLEDO | B40: 3.6831 | F40: 30.4651 | H40: 10.1283
...

Sheet HORTALIZAS en huerto(2)
A1: Provincias y CC.AA | B1: Col brócoli | C1: Alcachofa | D1: Coliflor | E1: Judías verdes | F1: Gruisantes verdes | G1: Habas verdes | H1: Otras legumbres frescas
A2: A CORUÑA | B2: 0.12 | E2: 3.3854 | F2: 0.1301 | M2: =+K2-L2 -> 0
A3: LUGO | B3: 0.02519 | E3: 20.593904 | M3: =+K3-L3 -> 0
A4: OURENSE | E4: 8.0384 | F4: 0.2982 | G4: 1.8063 | M4: =+K4-L4 -> 0
A5: PONTEVEDRA | E5: 7.207888 | F5: 0.533517 | G5: 0.337575 | M5: =+K5-L5 -> 0
A6: GALICIA | B6: 0.14519 | E6: 39.225592 | F6: 0.961817 | G6: 2.143875 | M6: =+K6-L6 -> 0
A7: PRINCIPADO DE ASTURIAS | E7: 0.9027 | M7: =+K7-L7 -> 0
A8: CANTABRIA | E8: 15.5982 | G8: 2.3101 | M8: =+K8-L8 -> 0
A9: ARABA/ÁLAVA | E9: 2.9915 | M9: =+K9-L9 -> 0
A10: GIPUZKOA | E10: 22.699 | M10: =+K10-L10 -> 0
A11: BIZKAIA | C11: 0.70907 | E11: 24.351004 | M11: =+K11-L11 -> 0
A12: PAÍS VASCO | C12: 0.70907 | E12: 50.041504 | M12: =+K12-L12 -> 0
A13: COMUNIDAD FORAL DE NAVARRA | B13: 3.217 | C13: 23.3153 | D13: 29.2225 | E13: 108.2967 | F13: 1.1198 | G13: 17.824 | M13: =+K13-L13 -> 0
A14: LA RIOJA | C14: 50.194151 | D14: 0.144112 | E14: 81.497081 | F14: 10.396032 | G14: 26.495679 | M14: =+K14-L14 -> 0
A15: HUESCA | C15: 0.4004 | E15: 37.3039 | G15: 1.6784 | M15: =+K15-L15 -> 0
A16: TERUEL | C16: 6.4538 | E16: 44.299 | G16: 0.6804 | M16: =+K16-L16 -> 0
A17: ZARAGOZA | C17: 21.1769 | D17: 0.2063 | E17: 36.2409 | G17: 1.3447 | M17: =+K17-L17 -> 0
A18: ARAGÓN | C18: 28.0311 | D18: 0.2063 | E18: 117.8438 | G18: 3.7035 | M18: =+K18-L18 -> 0
A19: BARCELONA | C19: 1.3397 | D19: 4.2205 | E19: 19.4913 | G19: 9.4132 | M19: =+K19-L19 -> 0
A20: GIRONA | E20: 98.042 | G20: 3.6267 | M20: =+K20-L20 -> 0
A21: LLEIDA | C21: 8.7774 | D21: 2.1587 | E21: 15.6024 | F21: 18.3751 | G21: 6.7677 | M21: =+K21-L21 -> 0
A22: TARRAGONA | B22: 3.519 | C22: 21.6995 | E22: 21.6133 | G22: 0.1682 | M22: =+K22-L22 -> 0
A23: CATALUÑA | B23: 3.519 | C23: 31.8166 | D23: 6.3792 | E23: 154.749 | F23: 18.3751 | G23: 19.9758 | M23: =+K23-L23 -> 0
A24: ILLES BALEARS | C24: 19.0326 | D24: 1.1661 | E24: 4.6277 | M24: =+K24-L24 -> 0
A25: ÁVILA | E25: 11.1327 | M25: =+K25-L25 -> 0
A26: BURGOS | E26: 5.3712 | F26: 1.2351 | G26: 0.3681 | M26: =+K26-L26 -> 0
A27: LEÓN | C27: 0.5686 | D27: 2.1063 | E27: 47.3556 | F27: 4.547 | G27: 24.2086 | M27: =+K27-L27 -> 0
A28: PALENCIA | D28: 0.2143 | E28: 3.0266 | F28: 0.4286 | M28: =+K28-L28 -> 0
A29: SALAMANCA | B29: 7.0769 | E29: 24.0526 | F29: 0.8575 | G29: 15.0118 | M29: =+K29-L29 -> 0
A30: SEGOVIA | B30: 0.049 | D30: 0.049 | E30: 9.9368 | M30: =+K30-L30 -> 0
A31: SORIA | E31: 41.2171 | G31: 0.5701 | M31: =+K31-L31 -> 0
A32: VALLADOLID | D32: 0.3632 | E32: 0.9761 | G32: 0.317 | M32: =+K32-L32 -> 0
A33: ZAMORA | B33: 1.6877 | D33: 1.4291 | E33: 18.2431 | G33: 0.3788 | M33: =+K33-L33 -> 0
A34: CASTILLA Y LEÓN | B34: 8.8136 | C34: 0.5686 | D34: 4.1619 | E34: 161.3118 | F34: 7.0682 | G34: 40.8544 | M34: =+K34-L34 -> 0
A35: COMUNIDAD DE MADRID | C35: 5.7827 | D35: 0.8138 | E35: 0.8844 | G35: 5.6767 | M35: =+K35-L35 -> 0
A36: ALBACETE | B36: 141.8245 | E36: 1.1877 | G36: 14.1338 | M36: =+K36-L36 -> 0
A37: CIUDAD REAL | E37: 13.1516 | G37: 2.9588 | M37: =+K37-L37 -> 0
A38: CUENCA | M38: =+K38-L38 -> 0
A39: GUADALAJARA | E39: 22.0289 | M39: =+K39-L39 -> 0
A40: TOLEDO | E40: 8.3565 | G40: 3.784 | M40: =+K40-L40 -> 0
...

Sheet HORTALIZAS en huerto(3)
A1: Provincias y CC.AA | B1: Maíz dulce | C1: Tomate | D1: Sandía | E1: Melón | F1: Calabaza | G1: Calabacín | H1: Pepino | I1: Remolacha de mesa | J1: Berenjena | K1: Pimiento | L1: Otras hortalizas de fruto
A2: A CORUÑA | C2: 6.4059 | D2: 0.1902 | F2: 11.3109 | G2: 0.8916 | K2: 6.0184 | Q2: =+O2-P2 -> 0
A3: LUGO | B3: 2.257023 | C3: 22.878989 | F3: 14.768948 | G3: 8.214715 | K3: 14.355316 | Q3: =+O3-P3 -> 0
A4: OURENSE | C4: 3.9589 | E4: 0.0252 | F4: 2.6224 | G4: 0.8053 | K4: 2.6318 | Q4: =+O4-P4 -> 0
A5: PONTEVEDRA | C5: 16.589483 | E5: 0.041777 | F5: 1.49489 | G5: 0.246176 | K5: 12.557632 | Q5: =+O5-P5 -> 0
A6: GALICIA | B6: 2.257023 | C6: 49.833272 | D6: 0.1902 | E6: 0.066977 | F6: 30.197138 | G6: 10.157791 | K6: 35.563148 | Q6: =+O6-P6 -> 0
A7: PRINCIPADO DE ASTURIAS | C7: 2.8487 | F7: 0.9507 | G7: 1.5016 | K7: 2.6349 | Q7: =+O7-P7 -> 0
A8: CANTABRIA | C8: 28.2878 | F8: 5.6915 | J8: 0.1772 | K8: 11.6277 | Q8: =+O8-P8 -> 0
A9: ARABA/ÁLAVA | C9: 4.0977 | Q9: =+O9-P9 -> 0
A10: GIPUZKOA | C10: 26.3546 | K10: 11.504 | Q10: =+O10-P10 -> 0
A11: BIZKAIA | C11: 119.66577 | F11: 5.239872 | G11: 0.70907 | K11: 8.686665 | Q11: =+O11-P11 -> 0
A12: PAÍS VASCO | C12: 150.11807 | F12: 5.239872 | G12: 0.70907 | K12: 20.190665 | Q12: =+O12-P12 -> 0
A13: COMUNIDAD FORAL DE NAVARRA | B13: 10.5582 | C13: 255.2148 | E13: 0.3546 | F13: 8.9094 | G13: 64.6407 | H13: 0.3077 | J13: 8.3238 | K13: 240.3412 | Q13: =+O13-P13 -> 0
A14: LA RIOJA | B14: 0.365445 | C14: 133.604 | D14: 4.329381 | E14: 3.701085 | F14: 0.867481 | G14: 45.183626 | H14: 8.760255 | J14: 0.278898 | K14: 80.772906 | Q14: =+O14-P14 -> 0
A15: HUESCA | B15: 0.0372 | C15: 86.5188 | D15: 0.8679 | E15: 0.8055 | F15: 1.4771 | G15: 42.6609 | H15: 10.561 | J15: 6.0547 | K15: 10.9249 | Q15: =+O15-P15 -> 0
A16: TERUEL | B16: 0.7733 | C16: 170.8535 | D16: 5.6909 | E16: 4.1813 | F16: 9.6709 | G16: 53.4392 | H16: 12.0538 | J16: 1.4688 | K16: 31.8845 | Q16: =+O16-P16 -> 0
A17: ZARAGOZA | B17: 0.7862 | C17: 209.2107 | D17: 3.4034 | E17: 2.9165 | F17: 11.069 | G17: 35.7196 | H17: 5.7074 | J17: 0.9001 | K17: 27.6141 | Q17: =+O17-P17 -> 0
A18: ARAGÓN | B18: 1.5967 | C18: 466.583 | D18: 9.9622 | E18: 7.9033 | F18: 22.217 | G18: 131.8197 | H18: 28.3222 | J18: 8.4236 | K18: 70.4235 | Q18: =+O18-P18 -> 0
A19: BARCELONA | C19: 227.8391 | F19: 2.7102 | G19: 45.1051 | H19: 5.0573 | J19: 4.6489 | K19: 31.9462 | L19: 5.7698 | Q19: =+O19-P19 -> 0
A20: GIRONA | C20: 167.3841 | F20: 9.6457 | G20: 9.944 | H20: 4.0982 | J20: 1.3517 | K20: 5.562 | Q20: =+O20-P20 -> 0
A21: LLEIDA | C21: 107.8034 | D21: 1.0698 | E21: 0.6368 | F21: 0.5078 | G21: 20.1529 | H21: 0.2804 | J21: 2.6102 | K21: 2.3872 | Q21: =+O21-P21 -> 0
A22: TARRAGONA | B22: 2.4705 | C22: 142.5261 | D22: 3.7079 | E22: 2.1059 | F22: 1.4351 | G22: 44.4091 | H22: 0.9487 | J22: 14.5444 | K22: 17.0567 | Q22: =+O22-P22 -> 0
A23: CATALUÑA | B23: 2.4705 | C23: 645.5527 | D23: 4.7777 | E23: 2.7427 | F23: 14.2988 | G23: 119.6111 | H23: 10.3846 | J23: 23.1552 | K23: 56.9521 | L23: 5.7698 | Q23: =+O23-P23 -> 0
A24: ILLES BALEARS | C24: 123.4684 | D24: 13.2817 | E24: 108.4935 | F24: 1.0392 | G24: 4.6964 | J24: 6.2923 | K24: 14.8414 | Q24: =+O24-P24 -> 0
A25: ÁVILA | C25: 65.0793 | D25: 12.3977 | E25: 12.0072 | F25: 2.334 | H25: 6.341 | J25: 3.2212 | K25: 41.4439 | Q25: =+O25-P25 -> 0
A26: BURGOS | C26: 26.7078 | D26: 0.5574 | G26: 5.6904 | K26: 6.8926 | Q26: =+O26-P26 -> 0
A27: LEÓN | B27: 6.0918 | C27: 97.3229 | D27: 0.4046 | E27: 0.1757 | F27: 16.0756 | G27: 24.0882 | H27: 2.6657 | K27: 89.2786 | Q27: =+O27-P27 -> 0
A28: PALENCIA | C28: 14.9039 | G28: 3.7441 | K28: 0.9871 | Q28: =+O28-P28 -> 0
A29: SALAMANCA | C29: 49.3658 | D29: 0.0633 | E29: 0.7794 | G29: 3.9949 | K29: 13.9299 | Q29: =+O29-P29 -> 0
A30: SEGOVIA | C30: 24.8113 | D30: 12.5675 | E30: 0.0946 | F30: 2.0747 | G30: 3.3602 | H30: 0.5995 | K30: 8.6495 | L30: 1.2258 | Q30: =+O30-P30 -> 0
A31: SORIA | C31: 35.0622 | G31: 26.7881 | K31: 0.9227 | Q31: =+O31-P31 -> 0
A32: VALLADOLID | C32: 23.7829 | D32: 3.4062 | G32: 9.0122 | K32: 23.7142 | Q32: =+O32-P32 -> 0
A33: ZAMORA | C33: 40.6838 | D33: 4.9432 | E33: 12.057 | F33: 13.2303 | G33: 17.6839 | J33: 6.6057 | K33: 8.4435 | Q33: =+O33-P33 -> 0
