Workbook

Sheet C01  CEREALES GRANO
B1: CEREALES GRANO
A2: Provincias y CC.AA. | B2: Trigo Duro | C2: Trigo Blando | D2: Trigo Total | E2: Cebada 2 carreras | F2: Cebada 6 carreras | G2: Cebada Total | H2: Avena | I2: Centeno
A3: A CORUÑA
A4: LUGO
A5: OURENSE | C5: 110.9476 | D5: 110.9476 | E5: 0.4766 | G5: 0.4766 | I5: 57.2377
A6: PONTEVEDRA
A7: GALICIA | C7: 110.9476 | D7: 110.9476 | E7: 0.4766 | G7: 0.4766 | I7: 57.2377
A8: PRINCIPADO DE ASTURIAS
A9: CANTABRIA
A10: ARABA/ÁLAVA | C10: 10.1111 | D10: 10.1111 | E10: 17.5848 | G10: 17.5848
A11: GIPUZKOA
A12: BIZKAIA
A13: PAÍS VASCO | C13: 10.1111 | D13: 10.1111 | E13: 17.5848 | G13: 17.5848
A14: COMUNIDAD FORAL DE NAVARRA | B14: 463.4286 | C14: 10653.599 | D14: 11117.027 | E14: 7669.1461 | G14: 7669.1461 | H14: 267.9651 | I14: 96.4664
A15: LA RIOJA | C15: 4186.967 | D15: 4186.967 | E15: 2118.5669 | G15: 2118.5669 | H15: 216.3476 | I15: 37.4945
A16: HUESCA | B16: 942.6962 | C16: 17991.913 | D16: 18934.609 | E16: 48585.561 | F16: 28.6089 | G16: 48614.17 | H16: 346.9591
A17: TERUEL | B17: 406.141 | C17: 2079.3534 | D17: 2485.4944 | E17: 7574.0515 | G17: 7574.0515 | H17: 214.2107 | I17: 82.7112
A18: ZARAGOZA | B18: 12473.757 | C18: 17068.584 | D18: 29542.341 | E18: 25303.874 | F18: 126.1193 | G18: 25429.993 | H18: 985.1556 | I18: 11.5877
A19: ARAGÓN | B19: 13822.594 | C19: 37139.85 | D19: 50962.444 | E19: 81463.487 | F19: 154.7282 | G19: 81618.215 | H19: 1546.3254 | I19: 94.2989
A20: BARCELONA | E20: 276.3507 | G20: 276.3507
A21: GIRONA | B21: 28.3413 | C21: 1566.5346 | D21: 1594.8759 | E21: 534.1091 | G21: 534.1091 | H21: 139.5937
A22: LLEIDA | B22: 857.501 | C22: 17724.159 | D22: 18581.66 | E22: 29819.092 | G22: 29819.092 | H22: 1028.6032
A23: TARRAGONA | E23: 113.8757 | G23: 113.8757
A24: CATALUÑA | B24: 885.8423 | C24: 19290.694 | D24: 20176.536 | E24: 30743.428 | G24: 30743.428 | H24: 1168.1969
A25: ILLES BALEARS | C25: 199.8957 | D25: 199.8957 | E25: 40.6552 | F25: 46.7017 | G25: 87.3569 | H25: 26.177
A26: ÁVILA | C26: 4037.8844 | D26: 4037.8844 | E26: 2155.1364 | F26: 13.7304 | G26: 2168.8668 | H26: 51.4001
A27: BURGOS | C27: 3274.5148 | D27: 3274.5148 | E27: 1315.5947 | G27: 1315.5947 | H27: 127.3585
A28: LEÓN | B28: 534.2097 | C28: 10829.669 | D28: 11363.878 | E28: 2687.6984 | F28: 217.695 | G28: 2905.3934 | H28: 269.8195 | I28: 786.2509
A29: PALENCIA | C29: 14596.147 | D29: 14596.147 | E29: 4546.4704 | G29: 4546.4704 | H29: 928.2004 | I29: 402.8303
A30: SALAMANCA | C30: 5862.0662 | D30: 5862.0662 | E30: 2770.8988 | G30: 2770.8988 | H30: 331.3288
A31: SEGOVIA | C31: 563.6766 | D31: 563.6766 | E31: 740.9986 | F31: 91.2824 | G31: 832.281 | I31: 20.367
A32: SORIA | C32: 2464.703 | D32: 2464.703 | E32: 822.0962 | G32: 822.0962 | I32: 50.2813
A33: VALLADOLID | C33: 13628.894 | D33: 13628.894 | E33: 11115.475 | G33: 11115.475 | H33: 421.3719
A34: ZAMORA | C34: 6161.1551 | D34: 6161.1551 | E34: 4058.4686 | G34: 4058.4686 | H34: 284.9081 | I34: 135.8864
A35: CASTILLA Y LEÓN | B35: 534.2097 | C35: 61418.71 | D35: 61952.92 | E35: 30212.838 | F35: 322.7078 | G35: 30535.545 | H35: 2414.3873 | I35: 1395.6159
A36: COMUNIDAD DE MADRID | B36: 99.0781 | C36: 2201.2437 | D36: 2300.3218 | E36: 3185.1194 | G36: 3185.1194 | H36: 265.5182
A37: ALBACETE | B37: 146.9705 | C37: 16917.115 | D37: 17064.086 | E37: 15845.907 | F37: 1625.859 | G37: 17471.766 | H37: 1838.2237 | I37: 150.9094
A38: CIUDAD REAL | C38: 3532.1205 | D38: 3532.1205 | E38: 13001.796 | F38: 116.449 | G38: 13118.245 | H38: 316.6286
A39: CUENCA | C39: 2502.7164 | D39: 2502.7164 | E39: 6773.6036 | F39: 122.0953 | G39: 6895.6989
A40: GUADALAJARA | C40: 458.1094 | D40: 458.1094 | E40: 1753.2276 | G40: 1753.2276
A41: TOLEDO | C41: 2325.3234 | D41: 2325.3234 | E41: 1982.1848 | G41: 1982.1848 | H41: 2154.3897
A42: CASTILLA-LA MANCHA | B42: 146.9705 | C42: 25735.385 | D42: 25882.356 | E42: 39356.72 | F42: 1864.4033 | G42: 41221.123 | H42: 4309.242 | I42: 150.9094
A43: ALICANTE/ALACANT | B43: 8.1296 | C43: 75.4474 | D43: 83.577 | E43: 118.3034 | F43: 91.9879 | G43: 210.2913 | H43: 36.835
A44: CASTELLÓN/CASTELLÓ | H44: 4.3493
A45: VALENCIA/VALÈNCIA | H45: 292.9294 | I45: 2.4836
A46: COMUNITAT VALENCIANA | B46: 8.1296 | C46: 75.4474 | D46: 83.577 | E46: 118.3034 | F46: 91.9879 | G46: 210.2913 | H46: 334.1137 | I46: 2.4836
A47: REGIÓN DE MURCIA | C47: 81.4582 | D47: 81.4582 | E47: 156.7474 | G47: 156.7474 | H47: 16.4292
A48: BADAJOZ | C48: 6403.9881 | D48: 6403.9881 | E48: 171.4152 | G48: 171.4152 | H48: 7.3776
A49: CÁCERES | C49: 248.033 | D49: 248.033 | H49: 7.7862
A50: EXTREMADURA | C50: 6652.0211 | D50: 6652.0211 | E50: 171.4152 | G50: 171.4152 | H50: 15.1638
A51: ALMERÍA
A52: CÁDIZ | B52: 370.4797 | C52: 584.0865 | D52: 954.5662 | E52: 42.0646 | G52: 42.0646 | H52: 75.4709
A53: CÓRDOBA | B53: 1287.2406 | C53: 507.8551 | D53: 1795.0957 | E53: 631.011 | G53: 631.011
A54: GRANADA | B54: 1305.1253 | C54: 901.1466 | D54: 2206.2719 | E54: 724.3133 | F54: 704.1554 | G54: 1428.4687 | H54: 1037.0373
A55: HUELVA
A56: JAÉN | B56: 1093.4634 | D56: 1093.4634 | H56: 22.7426
A57: MÁLAGA | B57: 1159.4319 | C57: 149.7326 | D57: 1309.1645 | E57: 116.0908 | G57: 116.0908 | H57: 28.4226
A58: SEVILLA | B58: 3706.8481 | C58: 1356.2442 | D58: 5063.0923 | E58: 10.48 | G58: 10.48 | H58: 246.2786
A59: ANDALUCÍA | B59: 8922.589 | C59: 3499.065 | D59: 12421.654 | E59: 1523.9597 | F59: 704.1554 | G59: 2228.1151 | H59: 1409.952
A60: PALMAS (Las)
A61: Sta.C. de TENERIFE
A62: CANARIAS
A63: ESPAÑA | B63: 24882.842 | C63: 171255.39 | D63: 196138.24 | E63: 196778.45 | F63: 3184.6843 | G63: 199963.13 | H63: 11989.818 | I63: 1834.5064

Sheet C02  CEREALES GRANO
B1: CEREALES GRANO
A2: Provincias y CC.AA. | B2: Triticale | C2: Mezcla de Cereales | D2: Total Cereales de Invierno | E2: Arroz | F2: Maíz | G2: Sorgo | H2: Otros cereales | I2: Quinoa | J2: Total Cereales Grano
A3: A CORUÑA | F3: 46.5016 | H3: 2.1071 | J3: 48.6087
A4: LUGO | C4: 2.0368 | D4: 2.0368 | J4: 2.0368
A5: OURENSE | B5: 22.5765 | D5: 191.2384 | F5: 3.2867 | J5: 194.5251
A6: PONTEVEDRA | F6: 14.9618 | J6: 14.9618
A7: GALICIA | B7: 22.5765 | C7: 2.0368 | D7: 193.2752 | F7: 64.7501 | H7: 2.1071 | J7: 260.1324
A8: PRINCIPADO DE ASTURIAS
A9: CANTABRIA | F9: 43.6072 | J9: 43.6072
A10: ARABA/ÁLAVA | D10: 27.6959 | J10: 27.6959
A11: GIPUZKOA
A12: BIZKAIA
A13: PAÍS VASCO | D13: 27.6959 | J13: 27.6959
A14: COMUNIDAD FORAL DE NAVARRA | B14: 1425.0522 | D14: 20575.657 | E14: 1339.616 | F14: 20835.776 | J14: 42751.049
A15: LA RIOJA | B15: 76.9431 | D15: 6636.3191 | F15: 106.3041 | J15: 6742.6232
A16: HUESCA | B16: 724.5625 | C16: 1.6889 | D16: 68621.99 | E16: 2420.0639 | F16: 49523.235 | G16: 43.2524 | J16: 120608.54
A17: TERUEL | B17: 533.3513 | D17: 10889.819 | F17: 1225.4065 | J17: 12115.226
A18: ZARAGOZA | B18: 2854.2223 | C18: 162.186 | D18: 58985.486 | E18: 1870.5018 | F18: 12683.476 | G18: 155.6795 | J18: 73695.143
A19: ARAGÓN | B19: 4112.1361 | C19: 163.8749 | D19: 138497.29 | E19: 4290.5657 | F19: 63432.117 | G19: 198.9319 | J19: 206418.91
A20: BARCELONA | D20: 276.3507 | F20: 26.1706 | J20: 302.5213
A21: GIRONA | D21: 2268.5787 | E21: 1580.1259 | F21: 5018.214 | J21: 8866.9186
A22: LLEIDA | B22: 1458.2336 | C22: 23.4046 | D22: 50910.994 | F22: 14401.362 | J22: 65312.356
A23: TARRAGONA | D23: 113.8757 | E23: 20782.072 | J23: 20895.947
A24: CATALUÑA | B24: 1458.2336 | C24: 23.4046 | D24: 53569.799 | E24: 22362.197 | F24: 19445.747 | J24: 95377.743
A25: ILLES BALEARS | D25: 313.4296 | F25: 119.3293 | G25: 355.233 | J25: 787.9919
A26: ÁVILA | D26: 6258.1513 | F26: 865.0903 | J26: 7123.2416
A27: BURGOS | D27: 4717.468 | F27: 1985.0772 | J27: 6702.5452
A28: LEÓN | B28: 964.5269 | D28: 16289.869 | F28: 82319.921 | J28: 98609.79
A29: PALENCIA | B29: 43.3153 | D29: 20516.963 | F29: 7682.641 | I29: 23.2625 | J29: 28222.867
A30: SALAMANCA | D30: 8964.2938 | F30: 17668.277 | J30: 26632.571
A31: SEGOVIA | D31: 1416.3246 | F31: 237.1208 | J31: 1653.4454
A32: SORIA | B32: 296.0527 | D32: 3633.1332 | F32: 31.7426 | J32: 3664.8758
A33: VALLADOLID | D33: 25165.742 | F33: 3181.2693 | G33: 225.0905 | H33: 396.0305 | J33: 28968.132
A34: ZAMORA | D34: 10640.418 | F34: 14080.69 | J34: 24721.108
A35: CASTILLA Y LEÓN | B35: 1303.8949 | D35: 97602.363 | F35: 128051.83 | G35: 225.0905 | H35: 396.0305 | I35: 23.2625 | J35: 226298.58
A36: COMUNIDAD DE MADRID | B36: 536.9739 | D36: 6287.9333 | F36: 3090.7729 | J36: 9378.7062
A37: ALBACETE | B37: 1100.5365 | C37: 74.8592 | D37: 37700.381 | E37: 158.4495 | F37: 6018.8396 | J37: 43877.67
A38: CIUDAD REAL | B38: 231.0199 | D38: 17198.014 | F38: 3076.4672 | J38: 20274.482
A39: CUENCA | D39: 9398.4153 | F39: 437.4058 | J39: 9835.8211
A40: GUADALAJARA | D40: 2211.337 | F40: 1835.0565 | J40: 4046.3935
A41: TOLEDO | B41: 115.9692 | D41: 6577.8671 | F41: 4452.0426 | J41: 11029.91
A42: CASTILLA-LA MANCHA | B42: 1447.5256 | C42: 74.8592 | D42: 73086.015 | E42: 158.4495 | F42: 15819.812 | J42: 89064.276
A43: ALICANTE/ALACANT | D43: 330.7033 | E43: 40.806 | F43: 262.4242 | J43: 633.9335
A44: CASTELLÓN/CASTELLÓ | D44: 4.3493 | E44: 123.5786 | J44: 127.9279
A45: VALENCIA/VALÈNCIA | D45: 295.413 | E45: 16314.962 | F45: 12.6161 | J45: 16622.991
A46: COMUNITAT VALENCIANA | D46: 630.4656 | E46: 16479.346 | F46: 275.0403 | J46: 17384.852
A47: REGIÓN DE MURCIA | D47: 254.6348 | E47: 59.6212 | F47: 268.2057 | J47: 582.4617
A48: BADAJOZ | B48: 40.7502 | D48: 6623.5311 | E48: 13972.442 | F48: 16319.404 | J48: 36915.378
A49: CÁCERES | B49: 49.7943 | C49: 43.4751 | D49: 349.0886 | E49: 4280.8108 | F49: 12727.483 | J49: 17357.382
A50: EXTREMADURA | B50: 90.5445 | C50: 43.4751 | D50: 6972.6197 | E50: 18253.253 | F50: 29046.887 | J50: 54272.76
A51: ALMERÍA
A52: CÁDIZ | B52: 11.2198 | D52: 1083.3215 | E52: 1737.151 | F52: 1317.9154 | G52: 1269.7479 | I52: 138.7851 | J52: 5546.9209
A53: CÓRDOBA | D53: 2426.1067 | F53: 38.4623 | H53: 17.7475 | I53: 657.4102 | J53: 3139.7267
A54: GRANADA | B54: 63.6407 | C54: 68.2159 | D54: 4803.6345 | F54: 1847.7158 | G54: 15.6013 | J54: 6666.9516
A55: HUELVA | F55: 4.4266 | J55: 4.4266
A56: JAÉN | D56: 1116.206 | F56: 185.9399 | J56: 1302.1459
A57: MÁLAGA | D57: 1453.6779 | F57: 8.4244 | J57: 1462.1023
A58: SEVILLA | B58: 129.7424 | D58: 5449.5933 | E58: 35654.828 | F58: 2998.7771 | G58: 1.1689 | I58: 844.0398 | J58: 44948.407
A59: ANDALUCÍA | B59: 204.6029 | C59: 68.2159 | D59: 16332.54 | E59: 37391.979 | F59: 6401.6615 | G59: 1286.5181 | H59: 17.7475 | I59: 1640.2351 | J59: 63070.681
A60: PALMAS (Las) | F60: 21.2921 | J60: 21.2921
A61: Sta.C. de TENERIFE
A62: CANARIAS | F62: 21.2921 | J62: 21.2921
A63: ESPAÑA | B63: 10678.483 | C63: 375.8665 | D63: 420980.04 | E63: 100335.03 | F63: 287023.13 | G63: 2065.7735 | H63: 415.8851 | I63: 1663.4976 | J63: 812483.36

Sheet C03  LEGUMINOSAS GRANO
B1: LEGUMINOSAS GRANO
A2: Provincias y CC.AA. | B2: Judias Secas | C2: Habas Secas | D2: Lentejas | E2: Garban-zos | F2: Guisantes Secos | G2: Veza | H2: Altra-muz | I2: Alga-rroba | J2: Yeros | K2: Otras Leguminosas Grano | L2: Total Leguminosas Grano
A3: A CORUÑA | B3: 96.6365 | L3: 96.6365
A4: LUGO | B4: 155.895 | L4: 155.895
A5: OURENSE | B5: 7.5173 | L5: 7.5173
A6: PONTEVEDRA | B6: 13.9384 | L6: 13.9384
A7: GALICIA | B7: 273.9872 | L7: 273.9872
A8: PRINCIPADO DE ASTURIAS | B8: 92.0099 | L8: 92.0099
A9: CANTABRIA
A10: ARABA/ÁLAVA | B10: 42.7689 | L10: 42.7689
A11: GIPUZKOA
A12: BIZKAIA
A13: PAÍS VASCO | B13: 42.7689 | L13: 42.7689
A14: COMUNIDAD FORAL DE NAVARRA | C14: 23.6764 | F14: 151.0108 | I14: 5.0343 | L14: 179.7215
A15: LA RIOJA | F15: 41.776 | L15: 41.776
A16: HUESCA | C16: 45.7663 | F16: 2432.6006 | G16: 72.9921 | L16: 2551.359
A17: TERUEL | C17: 156.3139 | F17: 14.7176 | J17: 37.6805 | L17: 208.712
A18: ZARAGOZA | C18: 64.5746 | D18: 9.7483 | F18: 441.1437 | G18: 185.1908 | L18: 700.6574
A19: ARAGÓN | C19: 266.6548 | D19: 9.7483 | F19: 2888.4619 | G19: 258.1829 | J19: 37.6805 | L19: 3460.7284
A20: BARCELONA | B20: 49.779 | L20: 49.779
A21: GIRONA
A22: LLEIDA | F22: 232.528 | L22: 232.528
A23: TARRAGONA
A24: CATALUÑA | B24: 49.779 | F24: 232.528 | L24: 282.307
A25: ILLES BALEARS | K25: 14.5662 | L25: 14.5662
A26: ÁVILA | B26: 32.7561 | F26: 241.9978 | L26: 274.7539
A27: BURGOS | B27: 5.546 | F27: 31.3095 | G27: 252.5752 | L27: 289.4307
A28: LEÓN | B28: 4700.2436 | C28: 724.4773 | D28: 54.1335 | E28: 400.2338 | F28: 98.8941 | G28: 83.032 | L28: 6061.0143
A29: PALENCIA | E29: 16.9971 | F29: 105.9134 | G29: 142.6706 | L29: 265.5811
A30: SALAMANCA | F30: 14.4153 | G30: 267.4992 | L30: 281.9145
A31: SEGOVIA
A32: SORIA | F32: 64.9908 | J32: 5.5327 | L32: 70.5235
A33: VALLADOLID | D33: 33.7726 | F33: 2473.4722 | G33: 301.4854 | L33: 2808.7302
A34: ZAMORA | E34: 41.4236 | F34: 1112.8111 | G34: 33.8902 | L34: 1188.1249
A35: CASTILLA Y LEÓN | B35: 4738.5457 | C35: 724.4773 | D35: 87.9061 | E35: 458.6545 | F35: 4143.8042 | G35: 1081.1526 | J35: 5.5327 | L35: 11240.073
A36: COMUNIDAD DE MADRID | F36: 74.5298 | G36: 2.5546 | L36: 77.0844
A37: ALBACETE | D37: 797.9543 | F37: 3095.4751 | G37: 303.4038 | J37: 81.4086 | L37: 4278.2418
A38: CIUDAD REAL | F38: 2079.3447 | J38: 215.7758 | L38: 2295.1205
A39: CUENCA | F39: 1164.2581 | J39: 1618.0679 | L39: 2782.326
A40: GUADALAJARA | F40: 176.576 | L40: 176.576
A41: TOLEDO | E41: 114.3622 | F41: 11.7385 | L41: 126.1007
A42: CASTILLA-LA MANCHA | D42: 797.9543 | E42: 114.3622 | F42: 6527.3924 | G42: 303.4038 | J42: 1915.2523 | L42: 9658.365
A43: ALICANTE/ALACANT
A44: CASTELLÓN/CASTELLÓ
A45: VALENCIA/VALÈNCIA | F45: 6.2597 | L45: 6.2597
A46: COMUNITAT VALENCIANA | F46: 6.2597 | L46: 6.2597
A47: REGIÓN DE MURCIA
A48: BADAJOZ | C48: 650.1448 | E48: 6.0588 | F48: 11.2765 | L48: 667.4801
A49: CÁCERES
A50: EXTREMADURA | C50: 650.1448 | E50: 6.0588 | F50: 11.2765 | L50: 667.4801
A51: ALMERÍA
A52: CÁDIZ | C52: 40.5435 | E52: 195.0258 | L52: 235.5693
A53: CÓRDOBA | C53: 102.8369 | E53: 599.0522 | F53: 36.5236 | L53: 738.4127
A54: GRANADA | C54: 22.1688 | E54: 6.0929 | F54: 131.4634 | G54: 86.264 | L54: 245.9891
A55: HUELVA
A56: JAÉN | C56: 177.704 | L56: 177.704
A57: MÁLAGA | C57: 266.5185 | E57: 169.4583 | L57: 435.9768
A58: SEVILLA | B58: 2.0252 | C58: 138.4405 | E58: 1241.0109 | F58: 74.19 | L58: 1455.6666
A59: ANDALUCÍA | B59: 2.0252 | C59: 748.2122 | E59: 2210.6401 | F59: 242.177 | G59: 86.264 | L59: 3289.3185
A60: PALMAS (Las)
A61: Sta.C. de TENERIFE
A62: CANARIAS
A63: ESPAÑA | B63: 5199.1159 | C63: 2413.1655 | D63: 895.6087 | E63: 2789.7156 | F63: 14319.216 | G63: 1731.5579 | I63: 5.0343 | J63: 1958.4655 | K63: 14.5662 | L63: 29326.446

Sheet C04  TUBERCULOS, FLORES Y 
B1: TUBERCULOS | G1: FLORES Y P.ORNAMENTALES (en campo)
A2: Provincias y CC.AA. | B2: Patata | C2: Batata | D2: Chufa | E2: Otros Tuberculos | F2: Total Tubérculos Consumo Humano | G2: Total Flores y Plantas Ornamentales
A3: A CORUÑA | B3: 119.7831 | F3: 119.7831
A4: LUGO | B4: 8.4023 | F4: 8.4023
A5: OURENSE | B5: 292.5551 | F5: 292.5551
A6: PONTEVEDRA | B6: 16.7652 | F6: 16.7652
A7: GALICIA | B7: 437.5057 | F7: 437.5057
A8: PRINCIPADO DE ASTURIAS
A9: CANTABRIA | B9: 137.6047 | F9: 137.6047
A10: ARABA/ÁLAVA | B10: 2369.5395 | F10: 2369.5395
A11: GIPUZKOA
A12: BIZKAIA
A13: PAÍS VASCO | B13: 2369.5395 | F13: 2369.5395
A14: COMUNIDAD FORAL DE NAVARRA | B14: 20.0407 | F14: 20.0407
A15: LA RIOJA | B15: 911.2474 | F15: 911.2474 | G15: 4.137
A16: HUESCA | B16: 210.7275 | F16: 210.7275
A17: TERUEL | B17: 56.8018 | F17: 56.8018
A18: ZARAGOZA | B18: 163.623 | F18: 163.623
A19: ARAGÓN | B19: 431.1523 | F19: 431.1523
A20: BARCELONA | B20: 62.4342 | F20: 62.4342 | G20: 2.1312
A21: GIRONA | B21: 4.1415 | F21: 4.1415 | G21: 2.4737
A22: LLEIDA | G22: 5.3165
A23: TARRAGONA | B23: 180.6313 | F23: 180.6313
A24: CATALUÑA | B24: 247.207 | F24: 247.207 | G24: 9.9214
A25: ILLES BALEARS | B25: 575.4427 | F25: 575.4427
A26: ÁVILA | B26: 3131.36 | F26: 3131.36
A27: BURGOS | B27: 1007.0824 | F27: 1007.0824
A28: LEÓN | B28: 1289.0219 | F28: 1289.0219 | G28: 3.3391
A29: PALENCIA | B29: 654.8208 | F29: 654.8208
A30: SALAMANCA | B30: 3497.1963 | F30: 3497.1963
A31: SEGOVIA | B31: 2856.6646 | F31: 2856.6646
A32: SORIA | B32: 162.1435 | F32: 162.1435
A33: VALLADOLID | B33: 5238.0154 | F33: 5238.0154
A34: ZAMORA | B34: 957.2419 | F34: 957.2419 | G34: 6.3525
A35: CASTILLA Y LEÓN | B35: 18793.547 | F35: 18793.547 | G35: 9.6916
A36: COMUNIDAD DE MADRID | B36: 134.5669 | F36: 134.5669
A37: ALBACETE | B37: 1674.5104 | F37: 1674.5104 | G37: 59.9189
A38: CIUDAD REAL | B38: 20.7781 | F38: 20.7781 | G38: 10.2737
A39: CUENCA | B39: 13.5363 | F39: 13.5363
A40: GUADALAJARA | B40: 9.9351 | F40: 9.9351
A41: TOLEDO | B41: 341.6912 | F41: 341.6912
A42: CASTILLA-LA MANCHA | B42: 2060.4511 | F42: 2060.4511 | G42: 70.1926
A43: ALICANTE/ALACANT | B43: 224.0097 | C43: 372.442 | F43: 596.4517 | G43: 6.9551
A44: CASTELLÓN/CASTELLÓ | B44: 121.5999 | F44: 121.5999
A45: VALENCIA/VALÈNCIA | B45: 365.0547 | D45: 440.8522 | F45: 805.9069 | G45: 40.2461
A46: COMUNITAT VALENCIANA | B46: 710.6643 | C46: 372.442 | D46: 440.8522 | F46: 1523.9585 | G46: 47.2012
A47: REGIÓN DE MURCIA | B47: 2698.0977 | C47: 10.8752 | F47: 2708.9729 | G47: 32.7269
A48: BADAJOZ | B48: 431.8523 | D48: 88.368 | F48: 520.2203 | G48: 2.1175
A49: CÁCERES | B49: 231.6362 | C49: 269.8687 | F49: 501.5049
A50: EXTREMADURA | B50: 663.4885 | C50: 269.8687 | D50: 88.368 | F50: 1021.7252 | G50: 2.1175
A51: ALMERÍA | G51: 46.7833
A52: CÁDIZ | B52: 688.9562 | C52: 576.3767 | F52: 1265.3329 | G52: 15.6892
A53: CÓRDOBA | B53: 184.2485 | F53: 184.2485
A54: GRANADA | B54: 461.8638 | F54: 461.8638
A55: HUELVA | B55: 49.5126 | F55: 49.5126
A56: JAÉN | B56: 9.8419 | F56: 9.8419
A57: MÁLAGA | B57: 451.4292 | F57: 451.4292
A58: SEVILLA | B58: 6697.9407 | C58: 105.814 | F58: 6803.7547 | G58: 39.5059
A59: ANDALUCÍA | B59: 8543.7929 | C59: 682.1907 | F59: 9225.9836 | G59: 101.9784
A60: PALMAS (Las) | B60: 768.5338 | C60: 17.3777 | F60: 785.9115 | G60: 2.4027
A61: Sta.C. de TENERIFE | B61: 624.5185 | C61: 30.2319 | E61: 16.3267 | F61: 671.0771 | G61: 5.0488
A62: CANARIAS | B62: 1393.0523 | C62: 47.6096 | E62: 16.3267 | F62: 1456.9886 | G62: 7.4515
A63: ESPAÑA | B63: 40127.401 | C63: 1382.9862 | D63: 529.2202 | E63: 16.3267 | F63: 42055.934 | G63: 285.4181

Sheet C05  CULTIVOS INDUSTRIALES
B1: CULTIVOS INDUSTRIALES
A2: Provincias y CC.AA. | B2: Caña de Azúcar | C2: Remolacha Azucarera | D2: Algodón | E2: Lino | F2: Girasol | G2: Soja | H2: Colza | I2: Camelina | J2: Cártamo | K2: Otras Oleaginosas
A3: A CORUÑA
A4: LUGO | F4: 18.0916
A5: OURENSE | H5: 78.3683
A6: PONTEVEDRA | H6: 2.712
A7: GALICIA | F7: 18.0916 | H7: 81.0803
A8: PRINCIPADO DE ASTURIAS
A9: CANTABRIA
A10: ARABA/ÁLAVA | C10: 410.8984 | F10: 236.0693
A11: GIPUZKOA
A12: BIZKAIA
A13: PAÍS VASCO | C13: 410.8984 | F13: 236.0693
A14: COMUNIDAD FORAL DE NAVARRA | C14: 1.1259 | F14: 3108.893 | H14: 110.1471
A15: LA RIOJA | C15: 281.5895 | H15: 74.5647
A16: HUESCA | F16: 323.1145 | G16: 281.4893 | H16: 524.9459
A17: TERUEL | F17: 349.7065 | J17: 65.299
A18: ZARAGOZA | F18: 652.4576 | H18: 428.3819
A19: ARAGÓN | F19: 1325.2786 | G19: 281.4893 | H19: 953.3278 | J19: 65.299
A20: BARCELONA
A21: GIRONA | F21: 276.393 | H21: 244.2385
A22: LLEIDA | F22: 46.4856 | H22: 695.7388 | I22: 19.9476
A23: TARRAGONA
A24: CATALUÑA | F24: 322.8786 | H24: 939.9773 | I24: 19.9476
A25: ILLES BALEARS
A26: ÁVILA | C26: 1209.0848 | F26: 875.5404 | H26: 253.7194
A27: BURGOS | C27: 1643.9868 | F27: 137.2785 | H27: 26.5948
A28: LEÓN | C28: 5572.814 | F28: 2947.7437 | H28: 1362.3995
A29: PALENCIA | C29: 1566.7812 | F29: 5849.1371 | G29: 28.2042 | H29: 860.0182
A30: SALAMANCA | C30: 1949.6066 | F30: 3657.607 | G30: 164.2253 | H30: 520.5062
A31: SEGOVIA | C31: 769.3314 | F31: 69.2869 | H31: 243.7442
A32: SORIA | C32: 149.6689 | F32: 2017.5475
A33: VALLADOLID | C33: 4537.5453 | F33: 3181.6412 | H33: 4040.9384 | J33: 1328.0314
A34: ZAMORA | C34: 2049.1518 | F34: 4805.9075 | G34: 44.4162 | H34: 398.8499 | J34: 26.1052
A35: CASTILLA Y LEÓN | C35: 19447.971 | F35: 23541.69 | G35: 236.8457 | H35: 7706.7706 | J35: 1354.1366
A36: COMUNIDAD DE MADRID | F36: 68.1123
A37: ALBACETE | F37: 458.784 | H37: 3992.3241
A38: CIUDAD REAL | F38: 54.7927
A39: CUENCA | F39: 109.121 | H39: 188.6411
A40: GUADALAJARA | E40: 0.6076 | F40: 682.73 | H40: 258.2117
A41: TOLEDO | H41: 565.5323
A42: CASTILLA-LA MANCHA | E42: 0.6076 | F42: 1305.4277 | H42: 5004.7092
A43: ALICANTE/ALACANT | F43: 0.9967
A44: CASTELLÓN/CASTELLÓ
A45: VALENCIA/VALÈNCIA
A46: COMUNITAT VALENCIANA | F46: 0.9967
A47: REGIÓN DE MURCIA | F47: 1.067
A48: BADAJOZ | F48: 588.2836 | G48: 302.4785
A49: CÁCERES | F49: 476.6159 | G49: 1132.2397
A50: EXTREMADURA | F50: 1064.8995 | G50: 1434.7182
A51: ALMERÍA
A52: CÁDIZ | C52: 2978.7284 | D52: 6743.9234 | F52: 2720.591
A53: CÓRDOBA | D53: 3218.097 | F53: 1316.2739
A54: GRANADA
A55: HUELVA | D55: 220.9707
A56: JAÉN | D56: 1995.964 | F56: 105.0042
A57: MÁLAGA | F57: 5.2623
A58: SEVILLA | C58: 2775.1555 | D58: 31208.297 | F58: 9922.1215 | H58: 14.0278
A59: ANDALUCÍA | C59: 5753.8839 | D59: 43387.252 | F59: 14069.253 | H59: 14.0278
A60: PALMAS (Las)
A61: Sta.C. de TENERIFE
A62: CANARIAS
A63: ESPAÑA | C63: 25895.468 | D63: 43387.252 | E63: 0.6076 | F63: 45062.657 | G63: 1953.0532 | H63: 14884.605 | I63: 19.9476 | J63: 1419.4356

Sheet C06A  CULTIVOS INDUSTRIALES
B1: CULTIVOS INDUSTRIALES
A2: Provincias y CC.AA. | B2: Pimiento para Pimentón | C2: Perejil | D2: Anís | E2: Azafrán estigmas tostados | F2: Menta en verde | G2: Regaliz | H2: Otros condimentos en fresco | I2: Lavanda | J2: Otras aromáticas
A3: A CORUÑA
A4: LUGO
A5: OURENSE
A6: PONTEVEDRA
A7: GALICIA
A8: PRINCIPADO DE ASTURIAS
A9: CANTABRIA
A10: ARABA/ÁLAVA
A11: GIPUZKOA
A12: BIZKAIA
A13: PAÍS VASCO
A14: COMUNIDAD FORAL DE NAVARRA
A15: LA RIOJA | C15: 4.75 | F15: 4.4576 | J15: 5.7903
A16: HUESCA
A17: TERUEL
A18: ZARAGOZA
A19: ARAGÓN
A20: BARCELONA | C20: 28.808 | H20: 11.471 | I20: 3.7031
A21: GIRONA
A22: LLEIDA | I22: 27.2436
A23: TARRAGONA | C23: 272.1457 | F23: 53.6498 | H23: 79.9498 | J23: 532.3485
A24: CATALUÑA | C24: 300.9537 | F24: 53.6498 | H24: 91.4208 | I24: 30.9467 | J24: 532.3485
A25: ILLES BALEARS | J25: 0.5705
A26: ÁVILA
A27: BURGOS
A28: LEÓN
A29: PALENCIA
A30: SALAMANCA
A31: SEGOVIA
A32: SORIA
A33: VALLADOLID
A34: ZAMORA
A35: CASTILLA Y LEÓN
A36: COMUNIDAD DE MADRID | C36: 5.3383 | F36: 78.6659
A37: ALBACETE | C37: 247.145 | E37: 7.0273 | I37: 956.4848 | J37: 41.946
A38: CIUDAD REAL
A39: CUENCA
A40: GUADALAJARA
A41: TOLEDO
A42: CASTILLA-LA MANCHA | C42: 247.145 | E42: 7.0273 | I42: 956.4848 | J42: 41.946
A43: ALICANTE/ALACANT | B43: 3.8624 | C43: 123.9538 | F43: 2.5744 | H43: 49.8965
A44: CASTELLÓN/CASTELLÓ | C44: 1.959 | I44: 2.463 | J44: 3.2027
A45: VALENCIA/VALÈNCIA | C45: 32.6442 | F45: 0.9692 | H45: 43.6839 | I45: 35.2749
A46: COMUNITAT VALENCIANA | B46: 3.8624 | C46: 158.557 | F46: 3.5436 | H46: 93.5804 | I46: 37.7379 | J46: 3.2027
A47: REGIÓN DE MURCIA | B47: 338.9533 | C47: 377.9368 | H47: 359.8448 | J47: 248.9643
A48: BADAJOZ
A49: CÁCERES | B49: 828.2187
A50: EXTREMADURA | B50: 828.2187
A51: ALMERÍA
A52: CÁDIZ | C52: 3.4272 | F52: 3.7442
A53: CÓRDOBA | H53: 18.5244
A54: GRANADA | B54: 32.3803 | D54: 36.4894 | E54: 28.0439
A55: HUELVA
A56: JAÉN
A57: MÁLAGA | D57: 0.9233 | H57: 148.0416 | J57: 157.2758
A58: SEVILLA | C58: 15.7745 | H58: 15.8248 | J58: 119.4309
A59: ANDALUCÍA | B59: 32.3803 | C59: 19.2017 | D59: 37.4127 | E59: 28.0439 | F59: 3.7442 | H59: 182.3908 | J59: 276.7067
A60: PALMAS (Las)
A61: Sta.C. de TENERIFE | C61: 8.8541 | H61: 11.9029
A62: CANARIAS | C62: 8.8541 | H62: 11.9029
A63: ESPAÑA | B63: 1203.4147 | C63: 1122.7366 | D63: 37.4127 | E63: 35.0712 | F63: 144.0611 | H63: 739.1397 | I63: 1025.1694 | J63: 1109.529

Sheet C06B  CULTIVOS INDUSTRIALES 
B1: CULTIVOS INDUSTRIALES
A2: Provincias y CC.AA. | B2: Tabaco | C2: Tomate industria | D2: Lúpulo | E2: Otros cultivos industriales | F2: Total cultivos industriales
A3: A CORUÑA
A4: LUGO | F4: 18.0916
A5: OURENSE | E5: 12.2288 | F5: 90.5971
A6: PONTEVEDRA | F6: 2.712
A7: GALICIA | E7: 12.2288 | F7: 111.4007
A8: PRINCIPADO DE ASTURIAS
A9: CANTABRIA
A10: ARABA/ÁLAVA | F10: 646.9677
A11: GIPUZKOA
A12: BIZKAIA
A13: PAÍS VASCO | F13: 646.9677
A14: COMUNIDAD FORAL DE NAVARRA | C14: 2266.0981 | F14: 5486.2641
A15: LA RIOJA | C15: 13.6794 | F15: 384.8315
A16: HUESCA | F16: 1129.5497
A17: TERUEL | F17: 415.0055
A18: ZARAGOZA | C18: 116.9484 | F18: 1197.7879
A19: ARAGÓN | C19: 116.9484 | F19: 2742.3431
A20: BARCELONA | E20: 8.909 | F20: 52.8911
A21: GIRONA | E21: 45.3467 | F21: 565.9782
A22: LLEIDA | E22: 5.9974 | F22: 795.413
A23: TARRAGONA | F23: 938.0938
A24: CATALUÑA | E24: 60.2531 | F24: 2352.3761
A25: ILLES BALEARS | F25: 0.5705
A26: ÁVILA | F26: 2338.3446
A27: BURGOS | F27: 1807.8601
A28: LEÓN | D28: 599.8471 | E28: 178.9773 | F28: 10661.782
A29: PALENCIA | E29: 127.853 | F29: 8431.9937
A30: SALAMANCA | F30: 6291.9451
A31: SEGOVIA | E31: 19.4683 | F31: 1101.8308
A32: SORIA | F32: 2167.2164
A33: VALLADOLID | E33: 943.6336 | F33: 14031.79
A34: ZAMORA | F34: 7324.4306
A35: CASTILLA Y LEÓN | D35: 599.8471 | E35: 1269.9322 | F35: 54157.193
A36: COMUNIDAD DE MADRID | E36: 542.5967 | F36: 694.7132
A37: ALBACETE | C37: 44.6478 | E37: 5597.8017 | F37: 11346.161
A38: CIUDAD REAL | E38: 519.0165 | F38: 573.8092
A39: CUENCA | E39: 308.5945 | F39: 606.3566
A40: GUADALAJARA | F40: 941.5493
A41: TOLEDO | C41: 3.5612 | E41: 958.0205 | F41: 1527.114
A42: CASTILLA-LA MANCHA | C42: 48.209 | E42: 7383.4332 | F42: 14994.99
A43: ALICANTE/ALACANT | F43: 181.2838
A44: CASTELLÓN/CASTELLÓ | F44: 7.6247
A45: VALENCIA/VALÈNCIA | F45: 112.5722
A46: COMUNITAT VALENCIANA | F46: 301.4807
A47: REGIÓN DE MURCIA | E47: 78.7041 | F47: 1405.4703
A48: BADAJOZ | C48: 16489.473 | F48: 17380.235
A49: CÁCERES | B49: 5813.6199 | C49: 2566.0057 | F49: 10816.7
A50: EXTREMADURA | B50: 5813.6199 | C50: 19055.479 | F50: 28196.935
A51: ALMERÍA
A52: CÁDIZ | C52: 886.2464 | E52: 14.0227 | F52: 13350.683
A53: CÓRDOBA | F53: 4552.8953
A54: GRANADA | B54: 1.2203 | D54: 4.2801 | F54: 102.414
A55: HUELVA | F55: 220.9707
A56: JAÉN | F56: 2100.9682
A57: MÁLAGA | F57: 311.503
A58: SEVILLA | C58: 3859.7 | F58: 47930.332
A59: ANDALUCÍA | B59: 1.2203 | C59: 4745.9464 | D59: 4.2801 | E59: 14.0227 | F59: 68569.766
A60: PALMAS (Las) | E60: 1.993 | F60: 1.993
A61: Sta.C. de TENERIFE | F61: 20.757
A62: CANARIAS | E62: 1.993 | F62: 22.75
A63: ESPAÑA | B63: 5814.8402 | C63: 26246.36 | D63: 604.1272 | E63: 9363.1638 | F63: 180068.05

Sheet C07A  CULTIVOS FORRAJEROS
B1: CULTIVOS FORRAJEROS
A2: Provincias y CC.AA. | B2: Maíz Forrajero | C2: Sorgo forrajero | D2: Cereal de invierno para forraje | E2: Total gramíneas forrajeras | F2: Alfalfa | G2: Veza (veza+avena) para forraje | H2: Trébol | I2: Total leguminosas forrrajeras
A3: A CORUÑA
A4: LUGO | B4: 692.6468 | E4: 692.6468
A5: OURENSE | B5: 0.5034 | D5: 6.8513 | E5: 7.3547
A6: PONTEVEDRA
A7: GALICIA | B7: 693.1502 | D7: 6.8513 | E7: 700.0015
A8: PRINCIPADO DE ASTURIAS
A9: CANTABRIA | B9: 197.3138 | E9: 197.3138
A10: ARABA/ÁLAVA | B10: 1418.6305 | E10: 1418.6305 | F10: 483.5843 | I10: 483.5843
A11: GIPUZKOA
A12: BIZKAIA
A13: PAÍS VASCO | B13: 1418.6305 | E13: 1418.6305 | F13: 483.5843 | I13: 483.5843
A14: COMUNIDAD FORAL DE NAVARRA | B14: 951.2103 | D14: 801.8201 | E14: 1753.0304 | F14: 3391.4014 | G14: 88.8918 | I14: 3480.2932
A15: LA RIOJA | B15: 2.75 | E15: 2.75 | F15: 556.5766 | G15: 267.3658 | I15: 823.9424
A16: HUESCA | B16: 523.7866 | D16: 189.06 | E16: 712.8466 | F16: 22642.471 | G16: 215.5224 | I16: 22857.993
A17: TERUEL | D17: 95.6386 | E17: 95.6386 | F17: 575.5 | G17: 219.2243 | I17: 794.7243
A18: ZARAGOZA | C18: 9.2572 | D18: 306.664 | E18: 315.9212 | F18: 31935.844 | G18: 169.1886 | I18: 32105.033
A19: ARAGÓN | B19: 523.7866 | C19: 9.2572 | D19: 591.3626 | E19: 1124.4064 | F19: 55153.815 | G19: 603.9353 | I19: 55757.751
A20: BARCELONA | F20: 6.6596 | I20: 6.6596
A21: GIRONA | B21: 672.5996 | C21: 188.5962 | D21: 38.9697 | E21: 900.1655 | F21: 841.4834 | I21: 841.4834
A22: LLEIDA | B22: 322.2602 | C22: 95.8426 | D22: 913.9997 | E22: 1332.1025 | F22: 12599.344 | G22: 199.4817 | I22: 12798.826
A23: TARRAGONA | D23: 22.5508 | E23: 22.5508 | F23: 230.4435 | I23: 230.4435
A24: CATALUÑA | B24: 994.8598 | C24: 284.4388 | D24: 975.5202 | E24: 2254.8188 | F24: 13677.931 | G24: 199.4817 | I24: 13877.413
A25: ILLES BALEARS | B25: 313.0093 | C25: 45.9127 | D25: 948.2905 | E25: 1307.2125 | F25: 253.5491 | G25: 122.3828 | I25: 375.9319
A26: ÁVILA | D26: 42.6293 | E26: 42.6293 | F26: 965.0731 | G26: 623.6312 | I26: 1588.7043
A27: BURGOS | B27: 496.6153 | E27: 496.6153 | F27: 853.8183 | I27: 853.8183
A28: LEÓN | B28: 589.7683 | D28: 83.7034 | E28: 673.4717 | F28: 3205.5932 | G28: 414.2589 | I28: 3619.8521
A29: PALENCIA | B29: 599.883 | D29: 418.4472 | E29: 1018.3302 | F29: 6575.3168 | G29: 340.3167 | I29: 6915.6335
A30: SALAMANCA | B30: 311.5884 | D30: 967.5635 | E30: 1279.1519 | F30: 710.7396 | G30: 121.7889 | I30: 832.5285
A31: SEGOVIA | D31: 8.2213 | E31: 8.2213 | F31: 97.3486 | I31: 97.3486
A32: SORIA | F32: 59.4237 | I32: 59.4237
A33: VALLADOLID | D33: 83.7249 | E33: 83.7249 | F33: 4977.3381 | G33: 67.1531 | I33: 5044.4912
A34: ZAMORA | B34: 801.2755 | D34: 39.4363 | E34: 840.7118 | F34: 4037.1121 | G34: 36.2681 | I34: 4073.3802
A35: CASTILLA Y LEÓN | B35: 2799.1305 | D35: 1643.7259 | E35: 4442.8564 | F35: 21481.764 | G35: 1603.4169 | I35: 23085.18
A36: COMUNIDAD DE MADRID | B36: 235.9665 | E36: 235.9665 | F36: 175.8546 | I36: 175.8546
A37: ALBACETE | B37: 574.6737 | D37: 1644.1571 | E37: 2218.8308 | F37: 4173.3002 | G37: 37.8776 | I37: 4211.1778
A38: CIUDAD REAL | D38: 19.0439 | E38: 19.0439 | F38: 292.5237 | I38: 292.5237
A39: CUENCA | B39: 19.294 | E39: 19.294 | F39: 9.485 | I39: 9.485
A40: GUADALAJARA | B40: 198.3896 | E40: 198.3896 | F40: 75.8101 | I40: 75.8101
A41: TOLEDO | B41: 948.735 | D41: 283.2242 | E41: 1231.9592 | F41: 2941.9196 | G41: 309.4317 | I41: 3251.3513
A42: CASTILLA-LA MANCHA | B42: 1741.0923 | D42: 1946.4252 | E42: 3687.5175 | F42: 7493.0386 | G42: 347.3093 | I42: 7840.3479
A43: ALICANTE/ALACANT | B43: 198.0162 | C43: 10.8292 | E43: 208.8454 | F43: 1172.1499 | I43: 1172.1499
A44: CASTELLÓN/CASTELLÓ | D44: 45.497 | E44: 45.497 | F44: 3.9432 | G44: 19.4785 | I44: 23.4217
A45: VALENCIA/VALÈNCIA | F45: 129.6694 | G45: 5.0478 | I45: 134.7172
A46: COMUNITAT VALENCIANA | B46: 198.0162 | C46: 10.8292 | D46: 45.497 | E46: 254.3424 | F46: 1305.7625 | G46: 24.5263 | I46: 1330.2888
A47: REGIÓN DE MURCIA | B47: 59.6284 | E47: 59.6284 | F47: 248.451 | I47: 248.451
A48: BADAJOZ | D48: 278.1357 | E48: 278.1357 | F48: 1194.0844 | I48: 1194.0844
A49: CÁCERES | B49: 1.3764 | C49: 282.9596 | D49: 1815.6355 | E49: 2099.9715 | F49: 173.1084 | G49: 404.4711 | I49: 577.5795
A50: EXTREMADURA | B50: 1.3764 | C50: 282.9596 | D50: 2093.7712 | E50: 2378.1072 | F50: 1367.1928 | G50: 404.4711 | I50: 1771.6639
A51: ALMERÍA
A52: CÁDIZ | B52: 102.3573 | C52: 31.7297 | D52: 101.2663 | E52: 235.3533 | F52: 1871.6282 | I52: 1871.6282
A53: CÓRDOBA | F53: 250.7116 | I53: 250.7116
A54: GRANADA | B54: 110.8763 | D54: 2201.9929 | E54: 2312.8692 | F54: 2499.8068 | I54: 2499.8068
A55: HUELVA | F55: 277.1799 | I55: 277.1799
A56: JAÉN | F56: 174.6873 | I56: 174.6873
A57: MÁLAGA | F57: 61.2759 | G57: 82.55 | I57: 143.8259
A58: SEVILLA | F58: 603.7413 | I58: 603.7413
A59: ANDALUCÍA | B59: 213.2336 | C59: 31.7297 | D59: 2303.2592 | E59: 2548.2225 | F59: 5739.031 | G59: 82.55 | I59: 5821.581
A60: PALMAS (Las)
A61: Sta.C. de TENERIFE
A62: CANARIAS
A63: ESPAÑA | B63: 10343.154 | C63: 665.1272 | D63: 11356.523 | E63: 22364.805 | F63: 111327.95 | G63: 3744.331 | I63: 115072.28

Sheet C07B  CULTIVOS FORRAJEROS
B1: CULTIVOS FORRAJEROS
A2: Provincias y CC.AA. | B2: Remolacha forrajera | C2: Nabo forrajero | D2: Pataca, chirivía y otros | E2: Total raíces y Tubérculos forrajeros
A3: A CORUÑA
A4: LUGO | B4: 0.2419 | E4: 0.2419
A5: OURENSE | B5: 11.843 | E5: 11.843
A6: PONTEVEDRA | B6: 3.6838 | E6: 3.6838
A7: GALICIA | B7: 15.7687 | E7: 15.7687
A8: PRINCIPADO DE ASTURIAS
A9: CANTABRIA
A10: ARABA/ÁLAVA
A11: GIPUZKOA
A12: BIZKAIA
A13: PAÍS VASCO
A14: COMUNIDAD FORAL DE NAVARRA
A15: LA RIOJA
A16: HUESCA
A17: TERUEL
A18: ZARAGOZA
A19: ARAGÓN
... A21: GIRONA
A22: LLEIDA | C22: 252.0816 | E22: 252.0816
A23: TARRAGONA
A24: CATALUÑA | C24: 252.0816 | E24: 252.0816
A25: ILLES BALEARS
A26: ÁVILA
A27: BURGOS
A28: LEÓN
A29: PALENCIA
A30: SALAMANCA
A31: SEGOVIA | D31: 6.1762 | E31: 6.1762
A32: SORIA
A33: VALLADOLID | B33: 308.7957 | E33: 308.7957
A34: ZAMORA
A35: CASTILLA Y LEÓN | B35: 308.7957 | D35: 6.1762 | E35: 314.9719
A36: COMUNIDAD DE MADRID
A37: ALBACETE
A38: CIUDAD REAL
A39: CUENCA
A40: GUADALAJARA
A41: TOLEDO
A42: CASTILLA-LA MANCHA
A43: ALICANTE/ALACANT
A44: CASTELLÓN/CASTELLÓ
A45: VALENCIA/VALÈNCIA
A46: COMUNITAT VALENCIANA
A47: REGIÓN DE MURCIA
... A51: ALMERÍA
A52: CÁDIZ | D52: 24.3469 | E52: 24.3469
A53: CÓRDOBA
A54: GRANADA
A55: HUELVA
A56: JAÉN
A57: MÁLAGA
A58: SEVILLA | D58: 2.4348 | E58: 2.4348
A59: ANDALUCÍA | D59: 26.7817 | E59: 26.7817
A60: PALMAS (Las)
A61: Sta.C. de TENERIFE
A62: CANARIAS
A63: ESPAÑA | B63: 324.5644 | C63: 252.0816 | D63: 32.9579 | E63: 609.6039

Sheet C07C  CULTIVOS FORRAJEROS
B1: CULTIVOS FORRAJEROS
A2: Provincias y CC.AA. | B2: Praderas polifitas | C2: Coles y berzas forrajeras | D2: Calabaza forrajera | E2: Otras plantas de escarda forrajera | F2: Otros forrajes | G2: Total Cultivos Forrajeros
A3: A CORUÑA | B3: 66.1645 | C3: 14.3364 | E3: 1.0939 | G3: 81.5948
A4: LUGO | B4: 425.7792 | C4: 4.6626 | G4: 1123.3305
A5: OURENSE | B5: 393.0726 | C5: 24.1136 | E5: 1.5967 | F5: 2.553 | G5: 440.5336
A6: PONTEVEDRA | B6: 102.2894 | C6: 23.7031 | E6: 5.0171 | G6: 134.6934
A7: GALICIA | B7: 987.3057 | C7: 66.8157 | E7: 7.7077 | F7: 2.553 | G7: 1780.1523
A8: PRINCIPADO DE ASTURIAS
A9: CANTABRIA | G9: 197.3138
A10: ARABA/ÁLAVA | G10: 1902.2148
A11: GIPUZKOA
A12: BIZKAIA
A13: PAÍS VASCO | G13: 1902.2148
A14: COMUNIDAD FORAL DE NAVARRA | B14: 479.6202 | F14: 2615.9523 | G14: 8328.8961
A15: LA RIOJA | B15: 14.4165 | F15: 483.3031 | G15: 1324.412
A16: HUESCA | B16: 312.7399 | C16: 16.8862 | F16: 6064.4572 | G16: 29964.923
A17: TERUEL | F17: 248.6181 | G17: 1138.981
A18: ZARAGOZA | B18: 81.2553 | F18: 11667.115 | G18: 44169.324
A19: ARAGÓN | B19: 393.9952 | C19: 16.8862 | F19: 17980.19 | G19: 75273.228
A20: BARCELONA | F20: 63.0712 | G20: 69.7308
A21: GIRONA | B21: 50.0607 | F21: 585.0193 | G21: 2376.7289
A22: LLEIDA | B22: 1062.0981 | F22: 6746.0485 | G22: 22191.157
A23: TARRAGONA | B23: 19.3576 | F23: 10.5162 | G23: 282.8681
A24: CATALUÑA | B24: 1131.5164 | F24: 7404.6552 | G24: 24920.484
A25: ILLES BALEARS | F25: 576.7625 | G25: 2259.9069
A26: ÁVILA | F26: 8.5184 | G26: 1639.852
A27: BURGOS | G27: 1350.4336
A28: LEÓN | B28: 761.0714 | F28: 1123.2532 | G28: 6177.6484
A29: PALENCIA | B29: 170.8981 | F29: 347.4849 | G29: 8452.3467
A30: SALAMANCA | B30: 152.5003 | F30: 324.2625 | G30: 2588.4432
A31: SEGOVIA | B31: 288.9603 | F31: 5.2125 | G31: 405.9189
A32: SORIA | G32: 59.4237
A33: VALLADOLID | B33: 127.7242 | F33: 1059.4856 | G33: 6624.2216
A34: ZAMORA | B34: 238.0651 | F34: 665.6293 | G34: 5817.7864
A35: CASTILLA Y LEÓN | B35: 1739.2194 | F35: 3533.8464 | G35: 33116.075
A36: COMUNIDAD DE MADRID | B36: 73.3045 | F36: 574.3023 | G36: 1059.4279
A37: ALBACETE | B37: 10.9929 | F37: 836.8833 | G37: 7277.8848
A38: CIUDAD REAL | B38: 73.4093 | F38: 70.0503 | G38: 455.0272
A39: CUENCA | F39: 96.1005 | G39: 124.8795
A40: GUADALAJARA | G40: 274.1997
A41: TOLEDO | B41: 791.903 | F41: 2424.6374 | G41: 7699.8509
A42: CASTILLA-LA MANCHA | B42: 876.3052 | F42: 3427.6715 | G42: 15831.842
A43: ALICANTE/ALACANT | F43: 63.0427 | G43: 1444.038
A44: CASTELLÓN/CASTELLÓ | B44: 1.2462 | F44: 6.902 | G44: 77.0669
A45: VALENCIA/VALÈNCIA | F45: 10.3233 | G45: 145.0405
A46: COMUNITAT VALENCIANA | B46: 1.2462 | F46: 80.268 | G46: 1666.1454
A47: REGIÓN DE MURCIA | G47: 308.0794
A48: BADAJOZ | B48: 678.6095 | F48: 440.2778 | G48: 2591.1074
A49: CÁCERES | B49: 20618.818 | F49: 942.7333 | G49: 24239.102
A50: EXTREMADURA | B50: 21297.427 | F50: 1383.0111 | G50: 26830.209
A51: ALMERÍA | F51: 32.1123 | G51: 32.1123
A52: CÁDIZ | B52: 115.687 | F52: 176.4906 | G52: 2423.506
A53: CÓRDOBA | F53: 2.927 | G53: 253.6386
A54: GRANADA | F54: 113.1879 | G54: 4925.8639
A55: HUELVA | F55: 4.4266 | G55: 281.6065
A56: JAÉN | F56: 4.9353 | G56: 179.6226
A57: MÁLAGA | F57: 288.099 | G57: 431.9249
A58: SEVILLA | B58: 6.0032 | F58: 357.5138 | G58: 969.6931
A59: ANDALUCÍA | B59: 121.6902 | F59: 979.6925 | G59: 9497.9679
A60: PALMAS (Las)
A61: Sta.C. de TENERIFE
A62: CANARIAS
A63: ESPAÑA | B63: 27116.047 | C63: 83.7019 | E63: 7.7077 | F63: 39042.208 | G63: 204296.36

Sheet C08A HORTALIZAS (en campo)
B1: HORTALIZAS (en campo)
A2: Provincias y CC.AA. | B2: Col (1) | C2: Espa-rragos | D2: Espinaca | E2: Apio | F2: Lechuga | G2: Lombarda | H2: Acelga | I2: Escarola | J2: Grelo | K2: Otras hortalizas de hoja y tallo | L2: Total hortalizas de hoja y tallo
A3: A CORUÑA | B3: 17.5622 | F3: 5.3562 | H3: 0.5339 | J3: 44.7974 | L3: 68.2497
A4: LUGO | B4: 9.4892 | F4: 5.6654 | H4: 1.7385 | J4: 23.9316 | L4: 40.8247
A5: OURENSE | B5: 12.2132 | F5: 3.092 | H5: 0.5283 | J5: 6.7295 | L5: 22.563
A6: PONTEVEDRA | B6: 12.6566 | F6: 16.1581 | H6: 0.5524 | J6: 1.3372 | L6: 30.7043
A7: GALICIA | B7: 51.9212 | F7: 30.2717 | H7: 3.3531 | J7: 76.7957 | L7: 162.3417
A8: PRINCIPADO DE ASTURIAS
A9: CANTABRIA
A10: ARABA/ÁLAVA | B10: 40.2962 | L10: 40.2962
A11: GIPUZKOA
A12: BIZKAIA
A13: PAÍS VASCO | B13: 40.2962 | L13: 40.2962
A14: COMUNIDAD FORAL DE NAVARRA | C14: 933.8124 | H14: 19.2058 | L14: 953.0182
A15: LA RIOJA | C15: 109.0812 | E15: 59.6118 | H15: 5.1635 | L15: 173.8565
A16: HUESCA | C16: 8.6626 | L16: 8.6626
A17: TERUEL
A18: ZARAGOZA | C18: 21.6201 | L18: 21.6201
A19: ARAGÓN | C19: 30.2827 | L19: 30.2827
A20: BARCELONA | B20: 57.2745 | F20: 209.6304 | H20: 35.0003 | L20: 301.9052
A21: GIRONA
A22: LLEIDA | F22: 4.8231 | L22: 4.8231
A23: TARRAGONA | B23: 3.1117 | F23: 24.9372 | K23: 93.5389 | L23: 121.5878
A24: CATALUÑA | B24: 60.3862 | F24: 239.3907 | H24: 35.0003 | K24: 93.5389 | L24: 428.3161
A25: ILLES BALEARS | B25: 67.4372 | F25: 6.8081 | L25: 74.2453
A26: ÁVILA
A27: BURGOS
A28: LEÓN | B28: 1.8658 | H28: 50.8558 | L28: 52.7216
A29: PALENCIA
A30: SALAMANCA
A31: SEGOVIA | C31: 25.244 | F31: 126.5497 | L31: 151.7937
A32: SORIA | F32: 155.4729 | L32: 155.4729
A33: VALLADOLID | B33: 40.3227 | C33: 829.374 | F33: 16.992 | G33: 56.809 | H33: 125.1103 | L33: 1068.608
A34: ZAMORA | B34: 12.4352 | L34: 12.4352
A35: CASTILLA Y LEÓN | B35: 54.6237 | C35: 854.618 | F35: 299.0146 | G35: 56.809 | H35: 175.9661 | L35: 1441.0314
A36: COMUNIDAD DE MADRID | B36: 5.5777 | C36: 59.1808 | G36: 5.0425 | L36: 69.801
A37: ALBACETE | E37: 47.5346 | F37: 2369.6933 | I37: 126.4912 | L37: 2543.7191
A38: CIUDAD REAL
A39: CUENCA
A40: GUADALAJARA | B40: 13.017 | C40: 1009.3868 | L40: 1022.4038
A41: TOLEDO | C41: 17.9483 | H41: 11.9816 | K41: 0.7258 | L41: 30.6557
A42: CASTILLA-LA MANCHA | B42: 13.017 | C42: 1027.3351 | E42: 47.5346 | F42: 2369.6933 | H42: 11.9816 | I42: 126.4912 | K42: 0.7258 | L42: 3596.7786
A43: ALICANTE/ALACANT | B43: 100.9164 | D43: 26.6044 | F43: 331.2519 | H43: 14.351 | L43: 473.1237
A44: CASTELLÓN/CASTELLÓ | B44: 26.958 | F44: 5.0083 | G44: 5.4022 | L44: 37.3685
A45: VALENCIA/VALÈNCIA | B45: 63.9037 | F45: 0.3343 | H45: 1.091 | K45: 2.8766 | L45: 68.2056
A46: COMUNITAT VALENCIANA | B46: 191.7781 | D46: 26.6044 | F46: 336.5945 | G46: 5.4022 | H46: 15.442 | K46: 2.8766 | L46: 578.6978
A47: REGIÓN DE MURCIA | B47: 15.256 | D47: 1.4943 | E47: 355.4107 | F47: 1896.4451 | H47: 17.5535 | L47: 2286.1596
A48: BADAJOZ | C48: 84.3168 | L48: 84.3168
A49: CÁCERES | C49: 448.4084 | L49: 448.4084
A50: EXTREMADURA | C50: 532.7252 | L50: 532.7252
A51: ALMERÍA | F51: 40.2646 | L51: 40.2646
A52: CÁDIZ | B52: 8.2063 | C52: 17.9006 | E52: 39.988 | L52: 66.0949
A53: CÓRDOBA | C53: 286.6261 | L53: 286.6261
A54: GRANADA | B54: 84.5161 | C54: 3587.6994 | E54: 20.6328 | F54: 1776.6145 | L54: 5469.4628
A55: HUELVA
A56: JAÉN | C56: 625.4145 | L56: 625.4145
A57: MÁLAGA | B57: 13.5799 | C57: 265.1604 | H57: 11.2739 | L57: 290.0142
A58: SEVILLA | B58: 68.714 | C58: 197.5811 | D58: 260.1824 | E58: 5.471 | H58: 15.1342 | L58: 547.0827
A59: ANDALUCÍA | B59: 175.0163 | C59: 4980.3821 | D59: 260.1824 | E59: 66.0918 | F59: 1816.8791 | H59: 26.4081 | L59: 7324.9598
A60: PALMAS (Las) | F60: 6.0454 | H60: 5.3618 | L60: 11.4072
A61: Sta.C. de TENERIFE | B61: 7.3813 | F61: 25.9382 | L61: 33.3195
A62: CANARIAS | B62: 7.3813 | F62: 31.9836 | H62: 5.3618 | L62: 44.7267
A63: ESPAÑA | B63: 682.6909 | C63: 8527.4175 | D63: 288.2811 | E63: 528.6489 | F63: 7027.0807 | G63: 67.2537 | H63: 315.4358 | I63: 126.4912 | J63: 76.7957 | K63: 97.1413 | L63: 17737.237
A65: (1) Se incluye col repollo hojas lisas y col repollo hojas rizadas

Sheet C08B HORTALIZAS (en campo)
B1: HORTALIZAS (en campo)
A2: Provincias y CC.AA. | B2: Col brócoli | C2: Alcachofa | D2: Coliflor | E2: Otras hortalizas de flor | F2: Total hortalizas de flor | G2: Judías verdes | H2: Gruisantes verdes | I2: Habas verdes | J2: Otras legumbres frescas | K2: Total legumbres frescas
A3: A CORUÑA | G3: 12.8873 | H3: 6.2924 | K3: 19.1797
A4: LUGO | G4: 7.3825 | H4: 0.0863 | K4: 7.4688
A5: OURENSE | G5: 10.032 | H5: 0.6888 | I5: 0.6897 | K5: 11.4105
A6: PONTEVEDRA | D6: 0.0085 | F6: 0.0085 | G6: 19.7973 | H6: 0.2699 | K6: 20.0672
A7: GALICIA | D7: 0.0085 | F7: 0.0085 | G7: 50.0991 | H7: 7.3374 | I7: 0.6897 | K7: 58.1262
A8: PRINCIPADO DE ASTURIAS
A9: CANTABRIA
A10: ARABA/ÁLAVA
A11: GIPUZKOA
A12: BIZKAIA
A13: PAÍS VASCO
A14: COMUNIDAD FORAL DE NAVARRA | B14: 593.7711 | C14: 491.9878 | D14: 185.0026 | F14: 1270.7615 | G14: 210.9293 | H14: 425.9871 | K14: 636.9164
A15: LA RIOJA | B15: 151.9787 | D15: 194.1542 | F15: 346.1329 | G15: 119.5364 | H15: 1350.2961 | K15: 1469.8325
A16: HUESCA | H16: 2578.0586 | K16: 2578.0586
A17: TERUEL
A18: ZARAGOZA | B18: 707.9364 | D18: 64.9777 | F18: 772.9141 | G18: 101.0106 | H18: 311.5129 | I18: 133.6926 | K18: 546.2161
A19: ARAGÓN | B19: 707.9364 | D19: 64.9777 | F19: 772.9141 | G19: 101.0106 | H19: 2889.5715 | I19: 133.6926 | K19: 3124.2747
A20: BARCELONA | C20: 194.0541 | F20: 194.0541 | G20: 125.8527 | I20: 17.3614 | K20: 143.2141
A21: GIRONA | I21: 5.8498 | K21: 5.8498
A22: LLEIDA | B22: 11.284 | F22: 11.284 | G22: 3.3424 | H22: 642.6245 | K22: 645.9669
A23: TARRAGONA | B23: 192.331 | C23: 180.9323 | D23: 119.4914 | F23: 492.7547 | G23: 39.5356 | I23: 2.5476 | K23: 42.0832
A24: CATALUÑA | B24: 203.615 | C24: 374.9864 | D24: 119.4914 | F24: 698.0928 | G24: 168.7307 | H24: 642.6245 | I24: 25.7588 | K24: 837.114
A25: ILLES BALEARS | C25: 16.5164 | F25: 16.5164
A26: ÁVILA
A27: BURGOS | G27: 504.1594 | K27: 504.1594
A28: LEÓN | H28: 102.3584 | K28: 102.3584
A29: PALENCIA
A30: SALAMANCA | H30: 273.3406 | K30: 273.3406
A31: SEGOVIA
A32: SORIA | C32: 5.4394 | F32: 5.4394
A33: VALLADOLID | H33: 317.7759 | K33: 317.7759
A34: ZAMORA | H34: 154.5647 | K34: 154.5647
A35: CASTILLA Y LEÓN | C35: 5.4394 | F35: 5.4394 | G35: 504.1594 | H35: 848.0396 | K35: 1352.199
A36: COMUNIDAD DE MADRID | H36: 54.5245 | I36: 47.8834 | K36: 102.4079
A37: ALBACETE | B37: 2452.4442 | C37: 470.6297 | F37: 2923.0739 | H37: 3377.5887 | K37: 3377.5887
A38: CIUDAD REAL | G38: 1.5534 | H38: 219.4632 | K38: 221.0166
A39: CUENCA | B39: 539.4826 | F39: 539.4826
A40: GUADALAJARA
A41: TOLEDO
A42: CASTILLA-LA MANCHA | B42: 2991.9268 | C42: 470.6297 | F42: 3462.5565 | G42: 1.5534 | H42: 3597.0519 | K42: 3598.6053
A43: ALICANTE/ALACANT | B43: 216.1929 | C43: 693.4586 | D43: 15.9287 | F43: 925.5802 | I43: 4.6929 | K43: 4.6929
A44: CASTELLÓN/CASTELLÓ | C44: 591.0258 | D44: 8.5576 | F44: 599.5834 | G44: 13.6712 | J44: 6.2871 | K44: 19.9583
A45: VALENCIA/VALÈNCIA | C45: 160.1854 | D45: 3.001 | F45: 163.1864 | G45: 3.6435 | J45: 1.5538 | K45: 5.1973
A46: COMUNITAT VALENCIANA | B46: 216.1929 | C46: 1444.6698 | D46: 27.4873 | F46: 1688.35 | G46: 17.3147 | I46: 4.6929 | J46: 7.8409 | K46: 29.8485
A47: REGIÓN DE MURCIA | B47: 3602.9283 | C47: 2394.722 | D47: 504.457 | F47: 6502.1073 | I47: 226.2402 | K47: 226.2402
A48: BADAJOZ | B48: 31.2767 | F48: 31.2767
A49: CÁCERES | B49: 130.4358 | F49: 130.4358
A50: EXTREMADURA | B50: 161.7125 | F50: 161.7125
A51: ALMERÍA | G51: 12.8882 | H51: 4.8226 | K51: 17.7108
A52: CÁDIZ | B52: 3.7178 | D52: 654.7872 | F52: 658.505
A53: CÓRDOBA | C53: 13.1909 | F53: 13.1909
A54: GRANADA | B54: 848.0628 | C54: 239.6739 | D54: 67.6037 | E54: 32.5992 | F54: 1187.9396 | G54: 357.9652 | H54: 23.948 | I54: 58.9843 | K54: 440.8975
A55: HUELVA | B55: 0.2834 | F55: 0.2834
A56: JAÉN
A57: MÁLAGA | C57: 83.1154 | D57: 13.4858 | F57: 96.6012 | G57: 17.7809 | K57: 17.7809
A58: SEVILLA | C58: 127.5328 | D58: 38.4764 | F58: 166.0092 | H58: 88.2797 | K58: 88.2797
A59: ANDALUCÍA | B59: 852.064 | C59: 463.513 | D59: 774.3531 | E59: 32.5992 | F59: 2122.5293 | G59: 388.6343 | H59: 117.0503 | I59: 58.9843 | K59: 564.6689
A60: PALMAS (Las) | B60: 2.2919 | D60: 25.167 | F60: 27.4589
A61: Sta.C. de TENERIFE
A62: CANARIAS | B62: 2.2919 | D62: 25.167 | F62: 27.4589
A63: ESPAÑA | B63: 9484.4176 | C63: 5662.4645 | D63: 1895.0988 | E63: 32.5992 | F63: 17074.58 | G63: 1561.9679 | H63: 9932.4829 | I63: 497.9419 | J63: 7.8409 | K63: 12000.234

Sheet C08C HORTALIZAS (en campo)
B1: HORTALIZAS (en campo)
A2: Provincias y CC.AA. | B2: Maíz dulce | C2: Tomate (1) | D2: Sandía | E2: Melón | F2: Calabaza | G2: Calabacín | H2: Pepino | I2: Remolacha de mesa | J2: Berenjena | K2: Pimiento | L2: Otras hortalizas de fruto | M2: Total Hortalizas de fruto
A3: A CORUÑA | C3: 7.6653 | G3: 4.2785 | K3: 53.5551 | M3: 65.4989
A4: LUGO | C4: 8.1765 | K4: 14.0575 | M4: 22.234
A5: OURENSE | C5: 7.6422 | G5: 0.1924 | K5: 8.1657 | M5: 16.0003
A6: PONTEVEDRA | C6: 11.6239 | G6: 0.0087 | K6: 22.9167 | M6: 34.5493
A7: GALICIA | C7: 35.1079 | G7: 4.4796 | K7: 98.695 | M7: 138.2825
A8: PRINCIPADO DE ASTURIAS
A9: CANTABRIA | C9: 17.681 | M9: 17.681
A10: ARABA/ÁLAVA
A11: GIPUZKOA
A12: BIZKAIA
A13: PAÍS VASCO
A14: COMUNIDAD FORAL DE NAVARRA | B14: 3017.837 | C14: 21.5255 | F14: 587.6205 | G14: 168.1052 | K14: 1336.9286 | M14: 5132.0168
A15: LA RIOJA | C15: 47.5737 | G15: 15.0493 | K15: 111.8886 | L15: 91.3382 | M15: 265.8498
A16: HUESCA | C16: 149.763 | L16: 81.1306 | M16: 230.8936
A17: TERUEL
A18: ZARAGOZA | C18: 395.876 | F18: 27.2186 | G18: 50.9782 | J18: 9.9368 | K18: 9.1608 | M18: 493.1704
A19: ARAGÓN | C19: 545.639 | F19: 27.2186 | G19: 50.9782 | J19: 9.9368 | K19: 9.1608 | L19: 81.1306 | M19: 724.064
A20: BARCELONA | C20: 85.92 | D20: 11.0776 | F20: 7.1973 | G20: 76.4596 | H20: 1.8254 | I20: 1.8124 | K20: 28.7335 | L20: 19.5894 | M20: 232.6152
A21: GIRONA | E21: 28.3515 | M21: 28.3515
A22: LLEIDA | C22: 24.1537 | G22: 8.0279 | J22: 1.6727 | K22: 24.3709 | M22: 58.2252
A23: TARRAGONA | C23: 61.6157 | D23: 83.5943 | E23: 14.2227 | F23: 444.6168 | G23: 10.902 | H23: 5.2718 | J23: 13.539 | K23: 1.8831 | L23: 39.6742 | M23: 675.3196
A24: CATALUÑA | C24: 171.6894 | D24: 94.6719 | E24: 42.5742 | F24: 451.8141 | G24: 95.3895 | H24: 7.0972 | I24: 1.8124 | J24: 15.2117 | K24: 54.9875 | L24: 59.2636 | M24: 994.5115
A25: ILLES BALEARS | C25: 221.6782 | D25: 483.4228 | E25: 242.3805 | F25: 250.5582 | G25: 6.0542 | K25: 5.3907 | M25: 1209.4846
A26: ÁVILA | B26: 14.0012 | K26: 30.8211 | M26: 44.8223
A27: BURGOS
A28: LEÓN | C28: 9.4083 | F28: 3.0176 | K28: 11.9251 | M28: 24.351
A29: PALENCIA
A30: SALAMANCA | B30: 602.7624 | D30: 6.5084 | I30: 231.7819 | M30: 841.0527
A31: SEGOVIA | B31: 103.223 | I31: 113.8852 | M31: 217.1082
A32: SORIA
A33: VALLADOLID | B33: 1.2193 | F33: 15.4474 | I33: 125.6742 | M33: 142.3409
A34: ZAMORA | C34: 61.3471 | F34: 190.8095 | K34: 5.0075 | M34: 257.1641
A35: CASTILLA Y LEÓN | B35: 721.2059 | C35: 70.7554 | D35: 6.5084 | F35: 209.2745 | I35: 471.3413 | K35: 47.7537 | M35: 1526.8392
A36: COMUNIDAD DE MADRID | C36: 6.1226 | G36: 54.8805 | K36: 25.3157 | M36: 86.3188
A37: ALBACETE | B37: 72.6971 | C37: 182.7492 | D37: 473.9434 | E37: 428.0628 | F37: 25.9315 | G37: 6.5647 | J37: 12.7808 | K37: 193.9408 | M37: 1396.6703
A38: CIUDAD REAL | C38: 5.149 | D38: 4140.3473 | E38: 7019.7333 | F38: 66.7466 | H38: 1.8156 | K38: 425.9907 | M38: 11659.782
A39: CUENCA
A40: GUADALAJARA
A41: TOLEDO | C41: 1232.1585 | E41: 983.3623 | G41: 2.8523 | H41: 4.8043 | K41: 1.7186 | L41: 5.4931 | M41: 2230.3891
A42: CASTILLA-LA MANCHA | B42: 72.6971 | C42: 1420.0567 | D42: 4614.2907 | E42: 8431.1584 | F42: 92.6781 | G42: 9.417 | H42: 6.6199 | J42: 12.7808 | K42: 621.6501 | L42: 5.4931 | M42: 15286.842
A43: ALICANTE/ALACANT | B43: 20.3896 | C43: 45.6534 | D43: 153.5541 | E43: 1732.1272 | F43: 486.7319 | G43: 43.9271 | J43: 9.7808 | K43: 152.8647 | M43: 2645.0288
A44: CASTELLÓN/CASTELLÓ | B44: 0.7601 | C44: 69.7649 | D44: 226.1038 | E44: 48.0719 | F44: 83.5034 | G44: 38.5005 | H44: 1.1573 | J44: 32.1686 | K44: 30.6883 | L44: 0.3001 | M44: 531.0189
A45: VALENCIA/VALÈNCIA | B45: 21.2864 | C45: 99.8935 | D45: 351.8176 | E45: 24.1739 | F45: 470.4987 | G45: 12.7118 | H45: 2.8077 | J45: 7.9992 | K45: 170.4705 | L45: 1.8394 | M45: 1163.4987
A46: COMUNITAT VALENCIANA | B46: 42.4361 | C46: 215.3118 | D46: 731.4755 | E46: 1804.373 | F46: 1040.734 | G46: 95.1394 | H46: 3.965 | J46: 49.9486 | K46: 354.0235 | L46: 2.1395 | M46: 4339.5464
A47: REGIÓN DE MURCIA | B47: 66.9896 | C47: 165.7655 | D47: 2913.4394 | E47: 9257.8651 | F47: 604.6307 | G47: 80.4664 | I47: 76.2269 | J47: 2.2239 | K47: 305.6053 | M47: 13473.213
A48: BADAJOZ | C48: 0.4302 | D48: 12.4388 | E48: 33.1428 | F48: 87.5418 | G48: 8.4601 | K48: 158.4721 | M48: 300.4858
A49: CÁCERES | C49: 207.98 | D49: 58.3334 | E49: 0.1697 | G49: 6.7941 | J49: 0.1697 | K49: 2.7875 | L49: 9.4527 | M49: 285.6871
A50: EXTREMADURA | C50: 208.4102 | D50: 70.7722 | E50: 33.3125 | F50: 87.5418 | G50: 15.2542 | J50: 0.1697 | K50: 161.2596 | L50: 9.4527 | M50: 586.1729
A51: ALMERÍA | C51: 15.0926 | D51: 1662.0577 | E51: 415.529 | G51: 97.19 | K51: 13.9815 | M51: 2203.8508
A52: CÁDIZ | B52: 692.0911 | C52: 85.0537 | D52: 28.6386 | E52: 1724.5412 | F52: 108.6473 | G52: 29.2374 | I52: 82.7654 | J52: 3.324 | K52: 40.2288 | M52: 2794.5275
A53: CÓRDOBA | D53: 103.1306 | E53: 141.5787 | F53: 16.1679 | G53: 59.883 | I53: 80.5754 | K53: 31.0047 | M53: 432.3403
A54: GRANADA | C54: 275.9417 | D54: 42.4875 | G54: 380.3728 | J54: 5.2327 | K54: 276.0476 | L54: 2.1041 | M54: 982.1864
A55: HUELVA | C55: 3.5466 | F55: 9.5794 | M55: 13.126
A56: JAÉN | C56: 71.8686 | G56: 34.5436 | J56: 20.6146 | K56: 48.7889 | M56: 175.8157
A57: MÁLAGA | D57: 202.2594 | E57: 14.0533 | G57: 36.5536 | J57: 4.9639 | K57: 9.3868 | M57: 267.217
A58: SEVILLA | B58: 1529.3105 | C58: 77.013 | D58: 1571.2678 | E58: 231.1512 | F58: 512.6385 | G58: 26.682 | I58: 274.3444 | J58: 11.4077 | K58: 1396.585 | M58: 5630.4001
A59: ANDALUCÍA | B59: 2221.4016 | C59: 528.5162 | D59: 3609.8416 | E59: 2526.8534 | F59: 647.0331 | G59: 664.4624 | I59: 437.6852 | J59: 45.5429 | K59: 1816.0233 | L59: 2.1041 | M59: 12499.464
A60: PALMAS (Las) | C60: 95.2383 | F60: 0.573 | G60: 3.6261 | M60: 99.4374
A61: Sta.C. de TENERIFE | B61: 55.8329 | D61: 1.7989 | F61: 2.5344 | G61: 3.4901 | M61: 63.6563
A62: CANARIAS | B62: 55.8329 | C62: 95.2383 | D62: 1.7989 | F62: 3.1074 | G62: 7.1162 | M62: 163.0937
A63: ESPAÑA | B63: 6198.4002 | C63: 3771.0714 | D63: 12526.221 | E63: 22338.517 | F63: 4002.211 | G63: 1266.7921 | H63: 17.6821 | I63: 987.0658 | J63: 135.8144 | K63: 4948.6824 | L63: 250.9218 | M63: 56443.38
A65: (1) No se incluye el tomate con destino a industria

Sheet C08D HORTALIZAS (en campo)
H1: HORTALIZAS (en campo)
A2: Provincias y CC.AA. | B2: Ajo | C2: Cebolla | D2: Zanahoria | E2: Puerro | F2: Otras hortalizas de raices y bulbos | G2: Total hortalizas de raices y bulbos | H2: Fresa- Fresón | I2: Champiñón | J2: Otras hortalizas | K2: Huerta vacía | L2: Total Hortalizas (en campo)
A3: A CORUÑA | B3: 1.0957 | C3: 13.5715 | D3: 0.4011 | E3: 1.3381 | G3: 16.4064 | H3: 0.4011 | J3: 2.511 | K3: 17.1996 | L3: 189.4464
A4: LUGO | C4: 6.1606 | D4: 2.1385 | E4: 0.7046 | G4: 9.0037 | H4: 0.394 | K4: 1.3441 | L4: 81.2693
A5: OURENSE | C5: 38.5315 | D5: 3.557 | E5: 0.3858 | G5: 42.4743 | H5: 0.5215 | J5: 0.4006 | K5: 11.7773 | L5: 105.1475
A6: PONTEVEDRA | B6: 0.0525 | C6: 19.0574 | D6: 8.4449 | E6: 1.6019 | G6: 29.1567 | H6: 0.2675 | K6: 5.2899 | L6: 120.0434
A7: GALICIA | B7: 1.1482 | C7: 77.321 | D7: 14.5415 | E7: 4.0304 | G7: 97.0411 | H7: 1.5841 | J7: 2.9116 | K7: 35.6109 | L7: 495.9066
A8: PRINCIPADO DE ASTURIAS
A9: CANTABRIA | K9: 1.242 | L9: 18.923
A10: ARABA/ÁLAVA | L10: 40.2962
A11: GIPUZKOA
A12: BIZKAIA | K12: 3.1291 | L12: 3.1291
A13: PAÍS VASCO | K13: 3.1291 | L13: 43.4253
A14: COMUNIDAD FORAL DE NAVARRA | C14: 1005.7424 | E14: 34.6258 | G14: 1040.3682 | J14: 14.7399 | K14: 26.2283 | L14: 9074.0493
A15: LA RIOJA | C15: 136.2174 | D15: 115.9423 | G15: 252.1597 | I15: 190.1644 | J15: 41.5871 | K15: 55.5968 | L15: 2795.1797
A16: HUESCA | C16: 822.3946 | G16: 822.3946 | K16: 14.9311 | L16: 3654.9405
A17: TERUEL | K17: 1.2095 | L17: 1.2095
A18: ZARAGOZA | B18: 38.404 | C18: 2265.5989 | E18: 276.0557 | G18: 2580.0586 | J18: 2.2579 | K18: 110.8293 | L18: 4527.0665
A19: ARAGÓN | B19: 38.404 | C19: 3087.9935 | E19: 276.0557 | G19: 3402.4532 | J19: 2.2579 | K19: 126.9699 | L19: 8183.2165
A20: BARCELONA | C20: 9.1309 | D20: 3.3488 | G20: 12.4797 | H20: 1.8254 | J20: 4.3567 | K20: 992.02 | L20: 1882.4704
A21: GIRONA | J21: 6.5196 | K21: 7.9206 | L21: 48.6415
A22: LLEIDA | C22: 560.577 | D22: 9.3283 | G22: 569.9053 | J22: 85.785 | K22: 23.453 | L22: 1399.4425
A23: TARRAGONA | C23: 7.8791 | D23: 239.5169 | E23: 9.1052 | F23: 173.6082 | G23: 430.1094 | J23: 373.4143 | K23: 778.0906 | L23: 2913.3596
A24: CATALUÑA | C24: 577.587 | D24: 252.194 | E24: 9.1052 | F24: 173.6082 | G24: 1012.4944 | H24: 1.8254 | J24: 470.0756 | K24: 1801.4842 | L24: 6243.914
A25: ILLES BALEARS | C25: 80.5791 | E25: 16.7099 | G25: 97.289 | H25: 18.2354 | K25: 3.0108 | L25: 1418.7815
A26: ÁVILA | C26: 330.8655 | D26: 134.3298 | G26: 465.1953 | K26: 0.2787 | L26: 510.2963
A27: BURGOS | C27: 220.2737 | G27: 220.2737 | L27: 724.4331
A28: LEÓN | C28: 1.8658 | E28: 0.687 | G28: 2.5528 | K28: 17.0778 | L28: 199.0616
A29: PALENCIA | C29: 65.1537 | G29: 65.1537 | L29: 65.1537
A30: SALAMANCA | B30: 417.574 | C30: 67.305 | G30: 484.879 | J30: 36.2281 | K30: 7.5863 | L30: 1643.0867
A31: SEGOVIA | B31: 389.1481 | C31: 98.4774 | D31: 626.3905 | E31: 141.2233 | F31: 191.577 | G31: 1446.8163 | L31: 1815.7182
A32: SORIA | C32: 218.462 | E32: 38.9123 | G32: 257.3743 | L32: 418.2866
A33: VALLADOLID | B33: 1029.9162 | C33: 953.2728 | D33: 742.7082 | E33: 33.6875 | G33: 2759.5847 | K33: 5.1277 | L33: 4293.4372
A34: ZAMORA | B34: 114.9194 | C34: 434.7999 | G34: 549.7193 | K34: 1.9739 | L34: 975.8572
A35: CASTILLA Y LEÓN | B35: 1951.5577 | C35: 2390.4758 | D35: 1503.4285 | E35: 214.5101 | F35: 191.577 | G35: 6251.5491 | J35: 36.2281 | K35: 32.0444 | L35: 10645.331
A36: COMUNIDAD DE MADRID | B36: 1008.3526 | C36: 558.4362 | F36: 0.5466 | G36: 1567.3354 | L36: 1825.8631
A37: ALBACETE | B37: 11801.766 | C37: 3306.311 | D37: 207.864 | E37: 169.4714 | G37: 15485.412 | K37: 884.44 | L37: 26610.904
A38: CIUDAD REAL | B38: 4336.902 | C38: 3122.3805 | G38: 7459.2825 | K38: 5.9041 | L38: 19345.986
A39: CUENCA | B39: 2873.3537 | C39: 689.559 | G39: 3562.9127 | I39: 261.5612 | K39: 9.5028 | L39: 4373.4593
A40: GUADALAJARA | B40: 138.4653 | G40: 138.4653 | K40: 35.585 | L40: 1196.4541
A41: TOLEDO | B41: 16.9805 | C41: 547.6158 | F41: 2.2047 | G41: 566.801 | J41: 1.8525 | K41: 6.8752 | L41: 2836.5735
A42: CASTILLA-LA MANCHA | B42: 19167.467 | C42: 7665.8663 | D42: 207.864 | E42: 169.4714 | F42: 2.2047 | G42: 27212.874 | I42: 261.5612 | J42: 1.8525 | K42: 942.3071 | L42: 54363.377
A43: ALICANTE/ALACANT | C43: 8.5829 | G43: 8.5829 | K43: 1248.5369 | L43: 5305.5454
A44: CASTELLÓN/CASTELLÓ | B44: 3.6104 | G44: 3.6104 | K44: 233.2796 | L44: 1424.8191
A45: VALENCIA/VALÈNCIA | B45: 2.5541 | C45: 59.4252 | E45: 3.7863 | G45: 65.7656 | H45: 0.2091 | K45: 840.2305 | L45: 2306.2932
A46: COMUNITAT VALENCIANA | B46: 6.1645 | C46: 68.0081 | E46: 3.7863 | G46: 77.9589 | H46: 0.2091 | K46: 2322.047 | L46: 9036.6577
A47: REGIÓN DE MURCIA | C47: 26.1883 | F47: 24.7104 | G47: 50.8987 | J47: 107.8116 | K47: 15683.621 | L47: 38330.051
A48: BADAJOZ | B48: 926.3966 | C48: 227.7333 | G48: 1154.1299 | K48: 7.169 | L48: 1577.3782
A49: CÁCERES | J49: 10.7182 | K49: 27.0702 | L49: 902.3197
A50: EXTREMADURA | B50: 926.3966 | C50: 227.7333 | G50: 1154.1299 | J50: 10.7182 | K50: 34.2392 | L50: 2479.6979
A51: ALMERÍA | C51: 2.5258 | G51: 2.5258 | K51: 2.665 | L51: 2267.017
A52: CÁDIZ | C52: 2.6093 | D52: 715.1106 | E52: 277.1908 | F52: 41.4295 | G52: 1036.3402 | H52: 3.9451 | J52: 296.2008 | K52: 28.8498 | L52: 4884.4633
A53: CÓRDOBA | B53: 317.8115 | C53: 346.3635 | G53: 664.175 | L53: 1396.3323
A54: GRANADA | B54: 1535.1717 | C54: 11.1659 | G54: 1546.3376 | J54: 2.6339 | K54: 7846.2258 | L54: 17475.684
A55: HUELVA | H55: 36.6865 | J55: 4.6961 | K55: 2.5533 | L55: 57.3453
A56: JAÉN | B56: 98.315 | G56: 98.315 | K56: 50.1469 | L56: 949.6921
A57: MÁLAGA | B57: 714.0699 | C57: 381.6019 | G57: 1095.6718 | K57: 224.1688 | L57: 1991.4539
A58: SEVILLA | B58: 635.3211 | C58: 1156.1651 | D58: 710.887 | G58: 2502.3732 | J58: 7.5989 | K58: 212.5243 | L58: 9154.2681
A59: ANDALUCÍA | B59: 3300.6892 | C59: 1900.4315 | D59: 1425.9976 | E59: 277.1908 | F59: 41.4295 | G59: 6945.7386 | H59: 40.6316 | J59: 311.1297 | K59: 8367.1339 | L59: 38176.256
A60: PALMAS (Las) | C60: 15.888 | E60: 0.7751 | G60: 16.6631 | K60: 269.7761 | L60: 424.7427
A61: Sta.C. de TENERIFE | C61: 11.2055 | D61: 6.3991 | G61: 17.6046 | K61: 16.8969 | L61: 131.4773
A62: CANARIAS | C62: 27.0935 | D62: 6.3991 | E62: 0.7751 | G62: 34.2677 | K62: 286.673 | L62: 556.22
A63: ESPAÑA | B63: 26400.18 | C63: 17829.673 | D63: 3526.367 | E63: 1006.2607 | F63: 434.0764 | G63: 49196.558 | H63: 62.4856 | I63: 451.7256 | J63: 999.3122 | K63: 29721.338 | L63: 183686.85

Sheet INVERNADEROS 1
C1: CULTIVO EN INVERNADERO
A2: Provincias y CC.AA. | B2: Cultivos Herbáceos
B3: HORTALIZAS | M3: OTROS HERBACEOS
B4: Fresa y Fresón | C4: Tomate | D4: Pimiento | E4: Pepino | F4: Sandía | G4: Calabacín | H4: Berenjena | I4: Melón | J4: Lechuga | K4: Judias Verdes | L4: Otras Hortalizas | M4: Flores | N4: Otros c. herbaceos (1)
A5: A CORUÑA | C5: 0.637 | D5: 7.1661 | J5: 4.5718 | K5: 22.3464 | L5: 9.121 | M5: 115.4042 | N5: 4.9603
A6: LUGO | C6: 2.3806 | D6: 0.8799 | N6: 17.9218
A7: OURENSE | M7: 4.8587 | N7: 0.4018
A8: PONTEVEDRA | C8: 6.668 | D8: 15.1057 | K8: 28.0199 | L8: 0.2659 | M8: 67.1103 | N8: 4.7553
A9: GALICIA | C9: 9.6856 | D9: 23.1517 | J9: 4.5718 | K9: 50.3663 | L9: 9.3869 | M9: 187.3732 | N9: 28.0392
A10: PRINCIPADO DE ASTURIAS | C10: 36.702 | D10: 2.6482 | K10: 8.8096 | L10: 7.4222 | N10: 3.9889
A11: CANTABRIA | C11: 5.2626 | N11: 1.4532
A12: ARABA/ÁLAVA | C12: 5.7048 | K12: 11.3137 | L12: 7.0351
A13: GIPUZKOA | L13: 9.3135 | M13: 32.1538 | N13: 3.9307
A14: BIZKAIA | N14: 85.733
A15: PAÍS VASCO | C15: 5.7048 | K15: 11.3137 | L15: 16.3486 | M15: 32.1538 | N15: 89.6637
A16: COMUNIDAD FORAL DE NAVARRA | C16: 174.9357 | D16: 7.2077 | J16: 28.6635 | L16: 19.5642 | N16: 113.1452
A17: LA RIOJA | D17: 1.3868 | L17: 17.3836
A18: HUESCA
A19: TERUEL
A20: ZARAGOZA | N20: 43.3941
A21: ARAGÓN | N21: 43.3941
A22: BARCELONA | B22: 57.8094 | C22: 189.7411 | E22: 92.3944 | K22: 12.5748 | L22: 28.256 | M22: 79.3721 | N22: 61.1266
A23: GIRONA | L23: 8.6845
A24: LLEIDA | N24: 13.6561
A25: TARRAGONA | E25: 1.1564 | G25: 0.1999 | N25: 0.1842
A26: CATALUÑA | B26: 57.8094 | C26: 189.7411 | E26: 93.5508 | G26: 0.1999 | K26: 12.5748 | L26: 36.9405 | M26: 79.3721 | N26: 74.9669
A27: ILLES BALEARS | B27: 15.1668 | C27: 26.486 | D27: 1.0505 | E27: 1.5682 | I27: 9.8239 | N27: 23.2106
A28: ÁVILA | D28: 1.3319 | L28: 4.8198
A29: BURGOS
A30: LEÓN | C30: 11.3376 | L30: 11.0254 | N30: 8.8226
A31: PALENCIA
A32: SALAMANCA | N32: 6.6932
A33: SEGOVIA | B33: 712.4736
A34: SORIA
A35: VALLADOLID
A36: ZAMORA | C36: 12.2848 | N36: 4.1154
A37: CASTILLA Y LEÓN | B37: 712.4736 | C37: 23.6224 | D37: 1.3319 | L37: 15.8452 | N37: 19.6312
A38: COMUNIDAD DE MADRID | C38: 5.8491 | E38: 112.2545
A39: ALBACETE | C39: 8.3244 | E39: 1.9063
A40: CIUDAD REAL | C40: 4.802 | H40: 0.978 | K40: 1.8973 | L40: 4.7726 | N40: 16.9688
A41: CUENCA | N41: 2.3767
A42: GUADALAJARA
A43: TOLEDO | L43: 1.5235 | N43: 2.4768
A44: CASTILLA-LA MANCHA | C44: 13.1264 | E44: 1.9063 | H44: 0.978 | K44: 1.8973 | L44: 6.2961 | N44: 21.8223
A45: ALICANTE/ALACANT | C45: 25.6394 | D45: 383.4505 | E45: 3.1471 | H45: 13.1629 | K45: 2.2121 | L45: 8.0695
A46: CASTELLÓN/CASTELLÓ | C46: 12.6932 | K46: 5.1429 | L46: 4.2523 | N46: 4.1609
A47: VALENCIA/VALÈNCIA | C47: 45.6478 | I47: 1.495 | L47: 20.5608 | M47: 6.2035 | N47: 19.9742
A48: COMUNITAT VALENCIANA | C48: 83.9804 | D48: 383.4505 | E48: 3.1471 | H48: 13.1629 | I48: 1.495 | K48: 7.355 | L48: 32.8826 | M48: 6.2035 | N48: 24.1351
A49: REGIÓN DE MURCIA | C49: 1554.2847 | D49: 1858.6802 | E49: 29.985 | F49: 67.2405 | H49: 1.2443 | I49: 173.7089 | L49: 26.0903 | M49: 131.0736 | N49: 3.3147
A50: BADAJOZ | N50: 1.1732
A51: CÁCERES | N51: 8.4787
A52: EXTREMADURA | N52: 9.6519
A53: ALMERÍA | C53: 4084.8017 | D53: 4817.5952 | E53: 1396.7675 | F53: 637.7127 | G53: 1385.0401 | H53: 1068.9503 | I53: 132.8967 | K53: 21.109 | L53: 25.6104 | M53: 215.4208 | N53: 2.5936
A54: CÁDIZ | C54: 254.199 | D54: 60.2135 | E54: 17.7277 | F54: 92.7005 | G54: 38.5938 | H54: 8.3864 | I54: 58.2632 | M54: 130.5047 | N54: 22.9798
A55: CÓRDOBA | N55: 37.7431
A56: GRANADA | C56: 2894.8724 | D56: 196.7248 | E56: 1089.4182 | F56: 244.2692 | G56: 10.0297 | K56: 3.3764 | L56: 38.3418 | N56: 18.0898
A57: HUELVA | B57: 11672.34 | N57: 9.1615
A58: JAÉN | C58: 2.5545 | L58: 6.7128 | N58: 7.0801
A59: MÁLAGA | C59: 266.9736 | D59: 80.2648 | E59: 19.2578 | G59: 33.4836 | K59: 5.6307 | N59: 2.7996
A60: SEVILLA | B60: 93.8703 | C60: 139.5124 | L60: 10.9264 | M60: 61.3455 | N60: 7.4182
A61: ANDALUCÍA | B61: 11766.21 | C61: 7642.9136 | D61: 5154.7983 | E61: 2523.1712 | F61: 974.6824 | G61: 1467.1472 | H61: 1077.3367 | I61: 191.1599 | K61: 30.1161 | L61: 81.5914 | M61: 407.271 | N61: 107.8657
A62: PALMAS (Las) | C62: 559.8522 | D62: 39.7712 | E62: 27.4811 | F62: 14.1834 | I62: 75.8228 | L62: 22.0779 | N62: 211.5058
A63: Sta.C. de TENERIFE | C63: 7.5418 | F63: 8.6937 | G63: 55.9292 | H63: 31.9389 | J63: 31.2617 | L63: 37.2742 | M63: 21.9033 | N63: 32.2875
A64: CANARIAS | C64: 567.394 | D64: 39.7712 | E64: 27.4811 | F64: 22.8771 | G64: 55.9292 | H64: 31.9389 | I64: 75.8228 | J64: 31.2617 | L64: 59.3521 | M64: 21.9033 | N64: 243.7933
A65: ESPAÑA | B65: 12551.66 | C65: 10339.688 | D65: 7473.477 | E65: 2793.0642 | F65: 1064.8 | G65: 1523.2763 | H65: 1124.6608 | I65: 452.0105 | J65: 64.497 | K65: 122.4328 | L65: 329.1037 | M65: 865.3505 | N65: 808.076
O66: =SUM(B66:N66) -> 0
A67: (1) En otros cultivos herbáceos está incluida la superficie de huerto en invernadero | O67: =SUM(B67:N67) -> 0

Sheet INVERNADEROS 2
A2: Provincias y CC.AA. | B2: CULTIVOS LEÑOSOS | K2: Viveros | L2: Superficie vacia | M2: Total general
B4: Aguacate | C4: Platanera | D4: Mango | E4: Papaya | F4: Frambueso | G4: Piña | H4: Arándano | I4: Moral | J4: Otros leñosos | O4: h | P4: l | Q4: t
A5: A CORUÑA | K5: 6.1967 | L5: 22.5378 | M5: 192.9413 | O5: =+SUM('INVERNADEROS 1'!B5:N5) -> 164.2068 | P5: =+SUM(B5:K5) -> 6.1967 | Q5: =+O5+P5+L5 -> 192.9413 | R5: =+Q5-M5 -> 0 | S5: 25.9379
A6: LUGO | M6: 21.1823 | O6: =+SUM('INVERNADEROS 1'!B6:N6) -> 21.1823 | P6: =+SUM(B6:K6) -> 0 | Q6: =+O6+P6+L6 -> 21.1823 | R6: =+Q6-M6 -> 0 | S6: 1.5637
A7: OURENSE | K7: 9.7364 | M7: 14.9969 | O7: =+SUM('INVERNADEROS 1'!B7:N7) -> 5.2605 | P7: =+SUM(B7:K7) -> 9.7364 | Q7: =+O7+P7+L7 -> 14.9969 | R7: =+Q7-M7 -> 0 | S7: 0
A8: PONTEVEDRA | K8: 74.5624 | L8: 0.7291 | M8: 197.2166 | O8: =+SUM('INVERNADEROS 1'!B8:N8) -> 121.9251 | P8: =+SUM(B8:K8) -> 74.5624 | Q8: =+O8+P8+L8 -> 197.2166 | R8: =+Q8-M8 -> 0 | S8: 8.7918
A9: GALICIA | K9: 90.4955 | L9: 23.2669 | M9: 426.3371 | O9: =+SUM('INVERNADEROS 1'!B9:N9) -> 312.5747 | P9: =+SUM(B9:K9) -> 90.4955 | Q9: =+O9+P9+L9 -> 426.3371 | R9: =+Q9-M9 -> 0 | S9: 36.2934
A10: PRINCIPADO DE ASTURIAS | K10: 62.2657 | L10: 8.7363 | M10: 130.5729 | O10: =+SUM('INVERNADEROS 1'!B10:N10) -> 59.5709 | P10: =+SUM(B10:K10) -> 62.2657 | Q10: =+O10+P10+L10 -> 130.5729 | R10: =+Q10-M10 -> 0 | S10: 30.1917
A11: CANTABRIA | M11: 6.7158 | O11: =+SUM('INVERNADEROS 1'!B11:N11) -> 6.7158 | P11: =+SUM(B11:K11) -> 0 | Q11: =+O11+P11+L11 -> 6.7158 | R11: =+Q11-M11 -> 0 | S11: 0
A12: ARABA/ÁLAVA | M12: 24.0536 | O12: =+SUM('INVERNADEROS 1'!B12:N12) -> 24.0536 | P12: =+SUM(B12:K12) -> 0 | Q12: =+O12+P12+L12 -> 24.0536 | R12: =+Q12-M12 -> 0 | S12: 0
A13: GIPUZKOA | L13: 9.0877 | M13: 54.4857 | O13: =+SUM('INVERNADEROS 1'!B13:N13) -> 45.398 | P13: =+SUM(B13:K13) -> 0 | Q13: =+O13+P13+L13 -> 54.4857 | R13: =+Q13-M13 -> 0 | S13: 16.9514
A14: BIZKAIA | M14: 85.733 | O14: =+SUM('INVERNADEROS 1'!B14:N14) -> 85.733 | P14: =+SUM(B14:K14) -> 0 | Q14: =+O14+P14+L14 -> 85.733 | R14: =+Q14-M14 -> 0 | S14: 1.7099
A15: PAÍS VASCO | L15: 9.0877 | M15: 164.2723 | O15: =+SUM('INVERNADEROS 1'!B15:N15) -> 155.1846 | P15: =+SUM(B15:K15) -> 0 | Q15: =+O15+P15+L15 -> 164.2723 | R15: =+Q15-M15 -> 0 | S15: 18.6613
A16: COMUNIDAD FORAL DE NAVARRA | K16: 93.5238 | L16: 40.1357 | M16: 477.1758 | O16: =+SUM('INVERNADEROS 1'!B16:N16) -> 343.5163 | P16: =+SUM(B16:K16) -> 93.5238 | Q16: =+O16+P16+L16 -> 477.1758 | R16: =+Q16-M16 -> 0 | S16: 308.9628
A17: LA RIOJA | L17: 38.7498 | M17: 57.5202 | O17: =+SUM('INVERNADEROS 1'!B17:N17) -> 18.7704 | P17: =+SUM(B17:K17) -> 0 | Q17: =+O17+P17+L17 -> 57.5202 | R17: =+Q17-M17 -> 0 | S17: 14.7249
A18: HUESCA | O18: =+SUM('INVERNADEROS 1'!B18:N18) -> 0 | P18: =+SUM(B18:K18) -> 0 | Q18: =+O18+P18+L18 -> 0 | R18: =+Q18-M18 -> 0 | S18: 0
A19: TERUEL | O19: =+SUM('INVERNADEROS 1'!B19:N19) -> 0 | P19: =+SUM(B19:K19) -> 0 | Q19: =+O19+P19+L19 -> 0 | R19: =+Q19-M19 -> 0 | S19: 0
A20: ZARAGOZA | K20: 272.4772 | L20: 13.6977 | M20: 329.569 | O20: =+SUM('INVERNADEROS 1'!B20:N20) -> 43.3941 | P20: =+SUM(B20:K20) -> 272.4772 | Q20: =+O20+P20+L20 -> 329.569 | R20: =+Q20-M20 -> 0 | S20: 28.4563
A21: ARAGÓN | K21: 272.4772 | L21: 13.6977 | M21: 329.569 | O21: =+SUM('INVERNADEROS 1'!B21:N21) -> 43.3941 | P21: =+SUM(B21:K21) -> 272.4772 | Q21: =+O21+P21+L21 -> 329.569 | R21: =+Q21-M21 -> 0 | S21: 28.4563
A22: BARCELONA | K22: 1.7975 | L22: 178.6187 | M22: 701.6906 | O22: =+SUM('INVERNADEROS 1'!B22:N22) -> 521.2744 | P22: =+SUM(B22:K22) -> 1.7975 | Q22: =+O22+P22+L22 -> 701.6906 | R22: =+Q22-M22 -> 0 | S22: 119.2686
A23: GIRONA | K23: 17.1967 | M23: 25.8812 | O23: =+SUM('INVERNADEROS 1'!B23:N23) -> 8.6845 | P23: =+SUM(B23:K23) -> 17.1967 | Q23: =+O23+P23+L23 -> 25.8812 | R23: =+Q23-M23 -> 0 | S23: 0
A24: LLEIDA | K24: 17.0132 | M24: 30.6693 | O24: =+SUM('INVERNADEROS 1'!B24:N24) -> 13.6561 | P24: =+SUM(B24:K24) -> 17.0132 | Q24: =+O24+P24+L24 -> 30.6693 | R24: =+Q24-M24 -> 0 | S24: 0
A25: TARRAGONA | L25: 67.7365 | M25: 69.277 | O25: =+SUM('INVERNADEROS 1'!B25:N25) -> 1.5405 | P25: =+SUM(B25:K25) -> 0 | Q25: =+O25+P25+L25 -> 69.277 | R25: =+Q25-M25 -> 0 | S25: 0
A26: CATALUÑA | K26: 36.0074 | L26: 246.3552 | M26: 827.5181 | O26: =+SUM('INVERNADEROS 1'!B26:N26) -> 545.1555 | P26: =+SUM(B26:K26) -> 36.0074 | Q26: =+O26+P26+L26 -> 827.5181 | R26: =+Q26-M26 -> 0 | S26: 119.2686
A27: ILLES BALEARS | L27: 2.8298 | M27: 80.1358 | O27: =+SUM('INVERNADEROS 1'!B27:N27) -> 77.306 | P27: =+SUM(B27:K27) -> 0 | Q27: =+O27+P27+L27 -> 80.1358 | R27: =+Q27-M27 -> 0 | S27: 4.2321
A28: ÁVILA | L28: 0.7226 | M28: 6.8743 | O28: =+SUM('INVERNADEROS 1'!B28:N28) -> 6.1517 | P28: =+SUM(B28:K28) -> 0 | Q28: =+O28+P28+L28 -> 6.8743 | R28: =+Q28-M28 -> 0 | S28: 0.7227
A29: BURGOS | O29: =+SUM('INVERNADEROS 1'!B29:N29) -> 0 | P29: =+SUM(B29:K29) -> 0 | Q29: =+O29+P29+L29 -> 0 | R29: =+Q29-M29 -> 0 | S29: 0
A30: LEÓN | M30: 31.1856 | O30: =+SUM('INVERNADEROS 1'!B30:N30) -> 31.1856 | P30: =+SUM(B30:K30) -> 0 | Q30: =+O30+P30+L30 -> 31.1856 | R30: =+Q30-M30 -> 0 | S30: 4.266
A31: PALENCIA | O31: =+SUM('INVERNADEROS 1'!B31:N31) -> 0 | P31: =+SUM(B31:K31) -> 0 | Q31: =+O31+P31+L31 -> 0 | R31: =+Q31-M31 -> 0 | S31: 0
A32: SALAMANCA | M32: 6.6932 | O32: =+SUM('INVERNADEROS 1'!B32:N32) -> 6.6932 | P32: =+SUM(B32:K32) -> 0 | Q32: =+O32+P32+L32 -> 6.6932 | R32: =+Q32-M32 -> 0 | S32: 0.9354
A33: SEGOVIA | K33: 43.6691 | M33: 756.1427 | O33: =+SUM('INVERNADEROS 1'!B33:N33) -> 712.4736 | P33: =+SUM(B33:K33) -> 43.6691 | Q33: =+O33+P33+L33 -> 756.1427 | R33: =+Q33-M33 -> 0 | S33: 0
A34: SORIA | O34: =+SUM('INVERNADEROS 1'!B34:N34) -> 0 | P34: =+SUM(B34:K34) -> 0 | Q34: =+O34+P34+L34 -> 0 | R34: =+Q34-M34 -> 0 | S34: 0
A35: VALLADOLID | K35: 31.3768 | M35: 31.3768 | O35: =+SUM('INVERNADEROS 1'!B35:N35) -> 0 | P35: =+SUM(B35:K35) -> 31.3768 | Q35: =+O35+P35+L35 -> 31.3768 | R35: =+Q35-M35 -> 0 | S35: 13.1699
A36: ZAMORA | M36: 16.4002 | O36: =+SUM('INVERNADEROS 1'!B36:N36) -> 16.4002 | P36: =+SUM(B36:K36) -> 0 | Q36: =+O36+P36+L36 -> 16.4002 | R36: =+Q36-M36 -> 0 | S36: 0
A37: CASTILLA Y LEÓN | K37: 75.0459 | L37: 0.7226 | M37: 848.6728 | O37: =+SUM('INVERNADEROS 1'!B37:N37) -> 772.9043 | P37: =+SUM(B37:K37) -> 75.0459 | Q37: =+O37+P37+L37 -> 848.6728 | R37: =+Q37-M37 -> 0 | S37: 19.094
A38: COMUNIDAD DE MADRID | L38: 12.9115 | M38: 131.0151 | O38: =+SUM('INVERNADEROS 1'!B38:N38) -> 118.1036 | P38: =+SUM(B38:K38) -> 0 | Q38: =+O38+P38+L38 -> 131.0151 | R38: =+Q38-M38 -> 0 | S38: 33.2332
A39: ALBACETE | M39: 10.2307 | O39: =+SUM('INVERNADEROS 1'!B39:N39) -> 10.2307 | P39: =+SUM(B39:K39) -> 0 | Q39: =+O39+P39+L39 -> 10.2307 | R39: =+Q39-M39 -> 0 | S39: 0
A40: CIUDAD REAL | L40: 19.7648 | M40: 49.1835 | O40: =+SUM('INVERNADEROS 1'!B40:N40) -> 29.4187 | P40: =+SUM(B40:K40) -> 0 | Q40: =+O40+P40+L40 -> 49.1835 | R40: =+Q40-M40 -> 0 | S40: 9.9465
A41: CUENCA | M41: 2.3767 | O41: =+SUM('INVERNADEROS 1'!B41:N41) -> 2.3767 | P41: =+SUM(B41:K41) -> 0 | Q41: =+O41+P41+L41 -> 2.3767 | R41: =+Q41-M41 -> 0 | S41: 2.3062
A42: GUADALAJARA | O42: =+SUM('INVERNADEROS 1'!B42:N42) -> 0 | P42: =+SUM(B42:K42) -> 0 | Q42: =+O42+P42+L42 -> 0 | R42: =+Q42-M42 -> 0 | S42: 0
A43: TOLEDO | L43: 4.9979 | M43: 8.9982 | O43: =+SUM('INVERNADEROS 1'!B43:N43) -> 4.0003 | P43: =+SUM(B43:K43) -> 0 | Q43: =+O43+P43+L43 -> 8.9982 | R43: =+Q43-M43 -> 0 | S43: 0
A44: CASTILLA-LA MANCHA | L44: 24.7627 | M44: 70.7891 | O44: =+SUM('INVERNADEROS 1'!B44:N44) -> 46.0264 | P44: =+SUM(B44:K44) -> 0 | Q44: =+O44+P44+L44 -> 70.7891 | R44: =+Q44-M44 -> 0 | S44: 12.2527
A45: ALICANTE/ALACANT | J45: 45.0902 | K45: 52.3752 | L45: 223.6034 | M45: 756.7503 | O45: =+SUM('INVERNADEROS 1'!B45:N45) -> 435.6815 | P45: =+SUM(B45:K45) -> 97.4654 | Q45: =+O45+P45+L45 -> 756.7503 | R45: =+Q45-M45 -> 0 | S45: 117.8473
A46: CASTELLÓN/CASTELLÓ | I46: 1.057 | K46: 20.4148 | L46: 8.1538 | M46: 55.8749 | O46: =+SUM('INVERNADEROS 1'!B46:N46) -> 26.2493 | P46: =+SUM(B46:K46) -> 21.4718 | Q46: =+O46+P46+L46 -> 55.8749 | R46: =+Q46-M46 -> 0 | S46: 4.0073
A47: VALENCIA/VALÈNCIA | K47: 147.6195 | L47: 94.7968 | M47: 336.2976 | O47: =+SUM('INVERNADEROS 1'!B47:N47) -> 93.8813 | P47: =+SUM(B47:K47) -> 147.6195 | Q47: =+O47+P47+L47 -> 336.2976 | R47: =+Q47-M47 -> 0 | S47: 66.9619
A48: COMUNITAT VALENCIANA | I48: 1.057 | J48: 45.0902 | K48: 220.4095 | L48: 326.554 | M48: 1148.9228 | O48: =+SUM('INVERNADEROS 1'!B48:N48) -> 555.8121 | P48: =+SUM(B48:K48) -> 266.5567 | Q48: =+O48+P48+L48 -> 1148.9228 | R48: =+Q48-M48 -> 0 | S48: 188.8165
A49: REGIÓN DE MURCIA | K49: 263.9965 | L49: 2553.6365 | M49: 6663.2552 | O49: =+SUM('INVERNADEROS 1'!B49:N49) -> 3845.6222 | P49: =+SUM(B49:K49) -> 263.9965 | Q49: =+O49+P49+L49 -> 6663.2552 | R49: =+Q49-M49 -> 0 | S49: 2622.1063
A50: BADAJOZ | K50: 28.4429 | L50: 40.4192 | M50: 70.0353 | O50: =+SUM('INVERNADEROS 1'!B50:N50) -> 1.1732 | P50: =+SUM(B50:K50) -> 28.4429 | Q50: =+O50+P50+L50 -> 70.0353 | R50: =+Q50-M50 -> 0 | S50: 75.0048
A51: CÁCERES | F51: 2.4505 | K51: 10.3968 | L51: 2.207 | M51: 23.533 | O51: =+SUM('INVERNADEROS 1'!B51:N51) -> 8.4787 | P51: =+SUM(B51:K51) -> 12.8473 | Q51: =+O51+P51+L51 -> 23.533 | R51: =+Q51-M51 -> 0 | S51: 26.6541
A52: EXTREMADURA | F52: 2.4505 | K52: 38.8397 | L52: 42.6262 | M52: 93.5683 | O52: =+SUM('INVERNADEROS 1'!B52:N52) -> 9.6519 | P52: =+SUM(B52:K52) -> 41.2902 | Q52: =+O52+P52+L52 -> 93.5683 | R52: =+Q52-M52 -> 0 | S52: 101.6589
A53: ALMERÍA | D53: 1.1543 | K53: 160.6581 | L53: 20641.66 | M53: 34591.97 | O53: =+SUM('INVERNADEROS 1'!B53:N53) -> 13788.498 | P53: =+SUM(B53:K53) -> 161.8124 | Q53: =+O53+P53+L53 -> 34591.97 | R53: =+Q53-M53 -> 0 | S53: 26858.611
A54: CÁDIZ | K54: 30.9197 | L54: 167.3521 | M54: 881.8404 | O54: =+SUM('INVERNADEROS 1'!B54:N54) -> 683.5686 | P54: =+SUM(B54:K54) -> 30.9197 | Q54: =+O54+P54+L54 -> 881.8404 | R54: =+Q54-M54 -> 0 | S54: 144.6868
A55: CÓRDOBA | J55: 24.855 | K55: 7.4323 | M55: 70.0304 | O55: =+SUM('INVERNADEROS 1'!B55:N55) -> 37.7431 | P55: =+SUM(B55:K55) -> 32.2873 | Q55: =+O55+P55+L55 -> 70.0304 | R55: =+Q55-M55 -> 0 | S55: 15.9935
A56: GRANADA | B56: 12.981 | D56: 101.658 | K56: 0.5184 | L56: 1106.3529 | M56: 5716.6326 | O56: =+SUM('INVERNADEROS 1'!B56:N56) -> 4495.1223 | P56: =+SUM(B56:K56) -> 115.1574 | Q56: =+O56+P56+L56 -> 5716.6326 | R56: =+Q56-M56 -> 0 | S56: 1671.229
A57: HUELVA | F57: 1769.8276 | H57: 5004.0491 | I57: 63.2328 | J57: 163.1701 | L57: 719.0277 | M57: 19400.808 | O57: =+SUM('INVERNADEROS 1'!B57:N57) -> 11681.501 | P57: =+SUM(B57:K57) -> 7000.2796 | Q57: =+O57+P57+L57 -> 19400.808 | R57: =+Q57-M57 -> 0 | S57: 2677.1601
A58: JAÉN | K58: 5.6193 | L58: 16.0691 | M58: 38.0358 | O58: =+SUM('INVERNADEROS 1'!B58:N58) -> 16.3474 | P58: =+SUM(B58:K58) -> 5.6193 | Q58: =+O58+P58+L58 -> 38.0358 | R58: =+Q58-M58 -> 0 | S58: 35.4554
A59: MÁLAGA | B59: 2.9693 | D59: 100.8165 | K59: 143.6503 | L59: 293.1375 | M59: 948.9837 | O59: =+SUM('INVERNADEROS 1'!B59:N59) -> 408.4101 | P59: =+SUM(B59:K59) -> 247.4361 | Q59: =+O59+P59+L59 -> 948.9837 | R59: =+Q59-M59 -> 0 | S59: 267.9286
A60: SEVILLA | H60: 13.1136 | K60: 14.5443 | L60: 122.886 | M60: 463.6167 | O60: =+SUM('INVERNADEROS 1'!B60:N60) -> 313.0728 | P60: =+SUM(B60:K60) -> 27.6579 | Q60: =+O60+P60+L60 -> 463.6167 | R60: =+Q60-M60 -> 0 | S60: 69.8937
A61: ANDALUCÍA | B61: 15.9503 | D61: 203.6288 | F61: 1769.8276 | H61: 5017.1627 | I61: 63.2328 | J61: 188.0251 | K61: 363.3424 | L61: 23066.485 | M61: 62111.918 | O61: =+SUM('INVERNADEROS 1'!B61:N61) -> 31424.264 | P61: =+SUM(B61:K61) -> 7621.1697 | Q61: =+O61+P61+L61 -> 62111.918 | R61: =+Q61-M61 -> 0 | S61: 31740.958
A62: PALMAS (Las) | B62: 110.2108 | C62: 694.3412 | J62: 8.8522 | K62: 12.6997 | L62: 372.5491 | M62: 2149.3474 | O62: =+SUM('INVERNADEROS 1'!B62:N62) -> 950.6944 | P62: =+SUM(B62:K62) -> 826.1039 | Q62: =+O62+P62+L62 -> 2149.3474 | R62: =+Q62-M62 -> 0 | S62: 1456.8471
A63: Sta.C. de TENERIFE | B63: 59.979 | C63: 2154.6682 | D63: 80.8077 | E63: 445.6371 | G63: 147.7466 | J63: 46.5722 | K63: 68.0919 | L63: 196.6491 | M63: 3426.9821 | O63: =+SUM('INVERNADEROS 1'!B63:N63) -> 226.8303 | P63: =+SUM(B63:K63) -> 3003.5027 | Q63: =+O63+P63+L63 -> 3426.9821 | R63: =+Q63-M63 -> 0 | S63: 259.8906
A64: CANARIAS | B64: 170.1898 | C64: 2849.0094 | D64: 80.8077 | E64: 445.6371 | G64: 147.7466 | J64: 55.4244 | K64: 80.7916 | L64: 569.1982 | M64: 5576.3295 | O64: =+SUM('INVERNADEROS 1'!B64:N64) -> 1177.5247 | P64: =+SUM(B64:K64) -> 3829.6066 | Q64: =+O64+P64+L64 -> 5576.3295 | R64: =+Q64-M64 -> 0 | S64: 1716.7377
A65: ESPAÑA | B65: 186.1401 | C65: 2849.0094 | D65: 284.4365 | E65: 445.6371 | F65: 1772.2781 | G65: 147.7466 | H65: 5017.1627 | I65: 64.2898 | J65: 288.5397 | K65: 1597.1952 | L65: 26979.756 | M65: 79144.288 | O65: =+SUM('INVERNADEROS 1'!B65:N65) -> 39512.097 | P65: =+SUM(B65:K65) -> 12652.435 | Q65: =+O65+P65+L65 -> 79144.288 | R65: =+Q65-M65 -> 0 | S65: 36995.649
N66: =SUM(B66:L66) -> 0 | O66: =+N66+'INVERNADEROS 1'!O66 -> 0 | P66: =+SUM(B66:K66) -> 0 | Q66: =+O66+P66+L66 -> 0 | R66: =+Q66-M66 -> 0
N67: =SUM(B67:L67) -> 0 | O67: =+N67+'INVERNADEROS 1'!O67 -> 0 | P67: =+SUM(B67:K67) -> 0 | Q67: =+O67+P67+L67 -> 0 | R67: =+Q67-M67 -> 0

Sheet HUERTOS
B1: CULTIVOS EN HUERTOS FAMILIARES
A2: Provincias y CC.AA | B2: Cereales grano | C2: Legumi-nosas | D2: Tuberculos c. h. | E2: Industriales | F2: Forrajeras | G2: Hortalizas | H2: Frutales citricos | I2: Frutales no citricos | J2: Olivar | K2: Viñedo | L2: Otros cultivos leñosos | M2: Barbecho | N2: Sin distribuir | O2: TOTAL
A3: A CORUÑA | B3: 9.5626 | C3: 5.3978 | D3: 10.5429 | F3: 8.0293 | G3: 71.2713 | H3: 0.7185 | I3: 30.5227 | K3: 5.7233 | N3: 18.0348 | O3: 159.8032
A4: LUGO | B4: 14.2139 | C4: 11.8691 | D4: 41.9489 | F4: 43.57 | G4: 162.9585 | H4: 0.9206 | I4: 56.1142 | J4: 0.5678 | K4: 5.4028 | N4: 14.6877 | O4: 352.2535
A5: OURENSE | B5: 25.4109 | C5: 1.7085 | D5: 65.409 | E5: 0.2293 | F5: 22.929 | G5: 89.8159 | I5: 28.3114 | J5: 2.01 | K5: 3.9477 | N5: 6.8551 | O5: 246.6268
A6: PONTEVEDRA | B6: 99.7658 | C6: 9.4357 | D6: 44.8197 | F6: 39.5148 | G6: 127.5518 | H6: 0.5248 | I6: 14.8223 | K6: 54.1467 | N6: 77.4879 | O6: 468.0695
A7: GALICIA | B7: 148.9532 | C7: 28.4111 | D7: 162.7205 | E7: 0.2293 | F7: 114.0431 | G7: 451.5975 | H7: 2.1639 | I7: 129.7706 | J7: 2.5778 | K7: 69.2205 | N7: 117.0655 | O7: 1226.753
A8: PRINCIPADO DE ASTURIAS | B8: 1.7202 | C8: 5.6096 | D8: 7.177 | F8: 3.7541 | G8: 16.0354 | H8: 0.1341 | I8: 4.4336 | K8: 0.4241 | N8: 0.9542 | O8: 40.2423
A9: CANTABRIA | B9: 1.1118 | C9: 18.4299 | D9: 3.283 | G9: 72.6203 | I9: 20.6944 | O9: 116.1394
A10: ARABA/ÁLAVA | B10: 2.9915 | C10: 1.9364 | D10: 4.9279 | G10: 127.355 | I10: 35.7089 | O10: 172.9197
A11: GIPUZKOA | B11: 0.6223 | G11: 67.2761 | I11: 12.5956 | O11: 80.494
A12: BIZKAIA | B12: 22.4517 | C12: 54.8421 | G12: 243.5067 | I12: 29.5093 | O12: 350.3098
A13: PAÍS VASCO | B13: 26.0655 | C13: 56.7785 | D13: 4.9279 | G13: 438.1378 | I13: 77.8138 | O13: 603.7235
A14: COMUNIDAD FORAL DE NAVARRA | B14: 47.7728 | C14: 2.0596 | D14: 168.8233 | G14: 1517.5732 | H14: 0.5754 | I14: 413.0372 | J14: 87.4567 | K14: 28.0786 | N14: 21.3327 | O14: 2286.7095
A15: LA RIOJA | B15: 5.9341 | C15: 0.7029 | D15: 91.3156 | E15: 5.3856 | G15: 888.6477 | I15: 600.8973 | J15: 129.8369 | K15: 32.6279 | L15: 4.1276 | O15: 1759.4756
A16: HUESCA | B16: 155.6871 | C16: 0.4253 | D16: 67.8506 | F16: 0.246 | G16: 347.4266 | I16: 181.5414 | J16: 74.324 | K16: 10.8101 | O16: 838.3111
A17: TERUEL | B17: 2.6142 | D17: 207.0788 | G17: 530.3377 | I17: 360.2299 | J17: 12.3948 | K17: 8.7219 | O17: 1121.3773
A18: ZARAGOZA | B18: 11.1782 | C18: 1.7856 | D18: 136.5115 | F18: 12.0907 | G18: 1122.7041 | H18: 1.6432 | I18: 413.7272 | J18: 92.1574 | K18: 56.117 | L18: 4.9035 | N18: 4.6206 | O18: 1857.439
A19: ARAGÓN | B19: 169.4795 | C19: 2.2109 | D19: 411.4409 | F19: 12.3367 | G19: 2000.4684 | H19: 1.6432 | I19: 955.4985 | J19: 178.8762 | K19: 75.649 | L19: 4.9035 | N19: 4.6206 | O19: 3817.1274
A20: BARCELONA | D20: 67.235 | G20: 1413.8286 | H20: 8.1475 | I20: 334.801 | J20: 138.3456 | K20: 53.019 | L20: 19.4273 | O20: 2034.804
A21: GIRONA | B21: 6.1356 | D21: 16.4354 | E21: 4.2127 | F21: 10.4338 | G21: 552.7598 | H21: 0.08 | I21: 76.0616 | J21: 23.0547 | K21: 16.1599 | N21: 12.6367 | O21: 717.9702
A22: LLEIDA | B22: 6.6429 | D22: 11.555 | E22: 0.3252 | F22: 13.3242 | G22: 678.8177 | I22: 150.8904 | J22: 52.2437 | K22: 29.9805 | N22: 5.8553 | O22: 949.6349
A23: TARRAGONA | B23: 2.0521 | D23: 12.757 | F23: 4.2538 | G23: 1141.9412 | H23: 205.9143 | I23: 529.1059 | J23: 189.0446 | K23: 21.11 | L23: 48.9445 | O23: 2155.1234
A24: CATALUÑA | B24: 14.8306 | D24: 107.9824 | E24: 4.5379 | F24: 28.0118 | G24: 3787.3473 | H24: 214.1418 | I24: 1090.8589 | J24: 402.6886 | K24: 120.2694 | L24: 68.3718 | N24: 18.492 | O24: 5857.5325
A25: ILLES BALEARS | B25: 2.295 | C25: 2.0185 | D25: 41.9102 | E25: 13.2392 | G25: 794.2007 | H25: 791.2352 | I25: 1068.9962 | J25: 320.1708 | K25: 115.3013 | L25: 37.664 | O25: 3187.0311
A26: ÁVILA | C26: 1.0323 | D26: 17.3509 | F26: 8.9461 | G26: 291.9099 | H26: 11.5716 | I26: 142.4814 | J26: 9.7644 | K26: 1.0321 | O26: 484.0887
A27: BURGOS | B27: 0.5318 | C27: 3.3624 | D27: 69.4694 | E27: 5.356 | G27: 178.5647 | I27: 500.06 | K27: 9.1022 | O27: 766.4465
A28: LEÓN | B28: 36.6236 | C28: 90.1537 | D28: 508.9071 | E28: 8.8573 | F28: 84.2019 | G28: 1081.3282 | I28: 854.9919 | J28: 0.7901 | K28: 16.7169 | M28: 51.9569 | N28: 66.8436 | O28: 2801.3712
A29: PALENCIA | D29: 23.318 | E29: 0.4357 | G29: 95.5138 | I29: 49.4463 | K29: 1.7245 | N29: 0.2143 | O29: 170.6526
A30: SALAMANCA | C30: 4.3276 | D30: 104.705 | E30: 0.2614 | F30: 2.582 | G30: 214.512 | I30: 105.8232 | K30: 12.0603 | N30: 0.6208 | O30: 444.8923
A31: SEGOVIA | B31: 2.0747 | D31: 13.5827 | E31: 2.0747 | G31: 82.0005 | I31: 49.4896 | J31: 0.9077 | K31: 4.6731 | O31: 154.803
A32: SORIA | C32: 1.4315 | D32: 6.8956 | G32: 175.3443 | I32: 60.4073 | O32: 244.0787
A33: VALLADOLID | D33: 10.3886 | G33: 86.1278 | I33: 50.2622 | O33: 146.7786
A34: ZAMORA | B34: 0.5239 | C34: 9.9135 | D34: 98.0041 | E34: 3.1972 | F34: 0.8426 | G34: 205.3731 | I34: 176.1118 | J34: 5.6421 | K34: 10.453 | M34: 6.3409 | N34: 9.1924 | O34: 525.5946
A35: CASTILLA Y LEÓN | B35: 39.754 | C35: 110.221 | D35: 852.6214 | E35: 20.1823 | F35: 96.5726 | G35: 2410.6743 | H35: 11.5716 | I35: 1989.0737 | J35: 17.1043 | K35: 55.7621 | M35: 58.2978 | N35: 76.8711 | O35: 5738.7062
A36: COMUNIDAD DE MADRID | B36: 4.3014 | D36: 46.1938 | E36: 0.2501 | G36: 169.0325 | H36: 2.1118 | I36: 16.7075 | K36: 8.5693 | O36: 247.1664
A37: ALBACETE | B37: 0.5725 | D37: 11.65 | G37: 526.4767 | I37: 142.266 | J37: 52.3241 | K37: 13.0499 | L37: 9.9031 | N37: 1.0862 | O37: 757.3285
A38: CIUDAD REAL | D38: 69.1982 | E38: 0.6093 | G38: 303.3029 | I38: 268.4555 | J38: 43.3447 | K38: 2.5349 | O38: 687.4455
A39: CUENCA | D39: 1.7439 | G39: 150.0694 | I39: 137.4151 | J39: 14.9313 | K39: 5.6021 | O39: 309.7618
A40: GUADALAJARA | D40: 6.5081 | G40: 260.7624 | I40: 33.8517 | M40: 10.7813 | N40: 17.4308 | O40: 329.3343
A41: TOLEDO | D41: 43.3209 | F41: 1.2334 | G41: 462.6271 | I41: 54.7259 | J41: 5.5958 | K41: 1.507 | M41: 9.958 | O41: 578.9681
A42: CASTILLA-LA MANCHA | B42: 0.5725 | D42: 132.4211 | E42: 0.6093 | F42: 1.2334 | G42: 1703.2385 | I42: 636.7142 | J42: 116.1959 | K42: 22.6939 | L42: 9.9031 | M42: 20.7393 | N42: 18.517 | O42: 2662.8382
A43: ALICANTE/ALACANT | B43: 0.4793 | D43: 1.6637 | E43: 1.1101 | F43: 0.5785 | G43: 394.0242 | H43: 685.4507 | I43: 701.5809 | J43: 596.609 | K43: 34.4534 | L43: 5.7997 | N43: 5.5214 | O43: 2427.2709
A44: CASTELLÓN/CASTELLÓ | B44: 0.2456 | D44: 9.9101 | F44: 0.1631 | G44: 851.2445 | H44: 144.0591 | I44: 372.3448 | J44: 268.4411 | K44: 54.531 | L44: 0.4928 | N44: 4.3779 | O44: 1705.81
A45: VALENCIA/VALÈNCIA | B45: 4.1235 | D45: 33.0945 | E45: 3.1951 | F45: 15.0241 | G45: 1312.8854 | H45: 345.1429 | I45: 651.5022 | J45: 212.6551 | K45: 38.6422 | L45: 13.4627 | N45: 0.6586 | O45: 2630.3863
A46: COMUNITAT VALENCIANA | B46: 4.8484 | D46: 44.6683 | E46: 4.3052 | F46: 15.7657 | G46: 2558.1541 | H46: 1174.6527 | I46: 1725.4279 | J46: 1077.7052 | K46: 127.6266 | L46: 19.7552 | N46: 10.5579 | O46: 6763.4672
A47: REGIÓN DE MURCIA | B47: 1.2163 | D47: 26.4426 | E47: 21.8312 | F47: 4.4125 | G47: 869.9683 | H47: 1366.7308 | I47: 1158.3844 | J47: 949.4781 | K47: 46.7034 | L47: 13.8319 | N47: 9.2135 | O47: 4468.213
A48: BADAJOZ | C48: 5.7407 | D48: 60.8219 | E48: 18.8331 | F48: 2.8497 | G48: 603.7743 | H48: 43.2363 | I48: 434.7536 | J48: 181.4367 | K48: 76.3751 | N48: 4.3505 | O48: 1432.1719
A49: CÁCERES | B49: 45.367 | C49: 3.4435 | D49: 36.0472 | E49: 16.033 | G49: 791.9931 | H49: 24.4337 | I49: 322.3277 | J49: 159.1913 | K49: 64.9227 | L49: 0.6986 | O49: 1464.4578
A50: EXTREMADURA | B50: 45.367 | C50: 9.1842 | D50: 96.8691 | E50: 34.8661 | F50: 2.8497 | G50: 1395.7674 | H50: 67.67 | I50: 757.0813 | J50: 340.628 | K50: 141.2978 | L50: 0.6986 | N50: 4.3505 | O50: 2896.6297
A51: ALMERÍA | D51: 3.5984 | G51: 29.3474 | H51: 66.1172 | I51: 155.6498 | J51: 293.0771 | K51: 33.2715 | M51: 2.9488 | O51: 584.0102
A52: CÁDIZ | B52: 10.048 | D52: 37.0775 | E52: 19.2776 | F52: 15.7163 | G52: 545.2849 | H52: 68.5883 | I52: 90.678 | J52: 57.5377 | K52: 3.2651 | O52: 847.4734
A53: CÓRDOBA | C53: 0.2805 | D53: 59.0728 | G53: 344.7643 | H53: 42.6476 | I53: 253.3415 | J53: 131.8258 | K53: 23.3392 | N53: 4.6883 | O53: 859.96
A54: GRANADA | B54: 13.5261 | C54: 1.5393 | D54: 138.6248 | E54: 1.2121 | F54: 7.5897 | G54: 1959.5712 | H54: 118.4927 | I54: 980.536 | J54: 875.7297 | K54: 190.5079 | M54: 13.9821 | O54: 4301.3116
A55: HUELVA | D55: 6.7975 | F55: 12.6838 | G55: 105.6489 | H55: 118.6424 | I55: 179.4828 | J55: 78.0125 | K55: 25.1332 | N55: 10.4055 | O55: 536.8066
A56: JAÉN | D56: 5.1494 | E56: 1.3812 | G56: 347.7712 | H56: 14.6992 | I56: 228.4042 | J56: 172.812 | K56: 17.6248 | L56: 1.04 | O56: 788.882
A57: MÁLAGA | C57: 5.6392 | D57: 4.225 | E57: 0.3578 | F57: 3.25 | G57: 363.504 | H57: 760.8059 | I57: 796.4272 | J57: 188.1514 | K57: 34.5294 | O57: 2156.8899
A58: SEVILLA | B58: 1.4177 | C58: 8.2519 | D58: 7.6558 | E58: 1.314 | G58: 204.6897 | H58: 105.2405 | I58: 137.4376 | J58: 95.3055 | K58: 11.9406 | M58: 12.4688 | O58: 585.7221
A59: ANDALUCÍA | B59: 24.9918 | C59: 15.7109 | D59: 262.2012 | E59: 23.5427 | F59: 39.2398 | G59: 3900.5816 | H59: 1295.2338 | I59: 2821.9571 | J59: 1892.4517 | K59: 339.6117 | L59: 1.04 | M59: 29.3997 | N59: 15.0938 | O59: 10661.056
A60: PALMAS (Las) | B60: 126.9961 | C60: 9.0658 | D60: 129.6507 | E60: 0.6228 | G60: 1043.5256 | H60: 197.1746 | I60: 315.4308 | J60: 149.3399 | K60: 54.4887 | L60: 5.7477 | N60: 1.1189 | O60: 2033.1616
A61: Sta.C. de TENERIFE | B61: 28.3932 | C61: 3.886 | D61: 299.2969 | E61: 2.3699 | F61: 2.0218 | G61: 601.8041 | H61: 226.6232 | I61: 711.0691 | J61: 33.1265 | K61: 224.5791 | M61: 2.7852 | N61: 3.1145 | O61: 2139.0695
A62: CANARIAS | B62: 155.3893 | C62: 12.9518 | D62: 428.9476 | E62: 2.9927 | F62: 2.0218 | G62: 1645.3297 | H62: 423.7978 | I62: 1026.4999 | J62: 182.4664 | K62: 279.0678 | L62: 5.7477 | M62: 2.7852 | N62: 4.2334 | O62: 4172.2311
A63: ESPAÑA | B63: 694.6034 | C63: 264.2889 | D63: 2889.9459 | E63: 131.9716 | F63: 320.2412 | G63: 24619.375 | H63: 5351.6621 | I63: 14493.847 | J63: 5697.6366 | K63: 1462.9034 | L63: 166.0434 | M63: 111.222 | N63: 301.3022 | O63: 56505.042

Sheet HORTALIZAS en huerto
A1: Provincias y CC.AA | B1: Col (1) | C1: Esparragos | D1: Espinaca | E1: Apio | F1: Lechuga | G1: Lombarda | H1: Acelga | I1: Escarola | J1: Grelo | K1: Otras hortalizas de hoja y tallo
A2: A CORUÑA | B2: 0.9205 | F2: 2.1735 | H2: 0.0562 | J2: 0.2992
A3: LUGO | B3: 12.190209 | F3: 7.584966 | H3: 1.419894 | J3: 2.506455
A4: OURENSE | B4: 5.4661 | F4: 1.1897 | H4: 0.4474
A5: PONTEVEDRA | B5: 2.648022 | F5: 6.969052 | H5: 0.002853
A6: GALICIA | B6: 21.224831 | F6: 17.917218 | H6: 1.926347 | J6: 2.805655
A7: PRINCIPADO DE ASTURIAS | B7: 0.0408 | F7: 1.0453
A8: CANTABRIA | B8: 2.4036 | H8: 0.8557
A9: ARABA/ÁLAVA | F9: 1.1397
A10: GIPUZKOA | F10: 6.7185
A11: BIZKAIA
A12: PAÍS VASCO | F12: 7.8582
A13: COMUNIDAD FORAL DE NAVARRA | C13: 74.1502 | F13: 95.155 | H13: 21.8107
A14: LA RIOJA | B14: 0.17831 | C14: 19.995485 | E14: 0.596104 | F14: 17.445593 | H14: 5.308381
A15: HUESCA | C15: 0.8298 | F15: 29.2297 | H15: 10.3781 | K15: 0.6053
A16: TERUEL | B16: 0.5032 | C16: 0.1549 | D16: 0.1953 | F16: 26.6622 | H16: 5.5174 | K16: 0.1606
A17: ZARAGOZA | C17: 2.8135 | F17: 15.4744 | H17: 4.7114 | I17: 0.2851
A18: ARAGÓN | B18: 0.5032 | C18: 3.7982 | D18: 0.1953 | F18: 71.3663 | H18: 20.6069 | I18: 0.2851 | K18: 0.7659
A19: BARCELONA | F19: 18.3025 | H19: 14.3955
A20: GIRONA | B20: 2.1657 | F20: 34.2918
A21: LLEIDA | E21: 2.7362 | F21: 47.5363 | H21: 14.4537
A22: TARRAGONA | F22: 12.4907 | H22: 0.8441
A23: CATALUÑA | B23: 2.1657 | E23: 2.7362 | F23: 112.6213 | H23: 29.6933
A24: ILLES BALEARS | B24: 13.5756 | F24: 22.6455
A25: ÁVILA | F25: 17.7078
A26: BURGOS | B26: 0.4042 | F26: 4.7287 | G26: 0.3486
A27: LEÓN | B27: 16.8559 | F27: 29.0149 | G27: 0.7154 | H27: 0.9837 | J27: 3.1471
A28: PALENCIA | F28: 6.1263 | H28: 2.3078
A29: SALAMANCA | B29: 4.0541 | F29: 5.1934
A30: SEGOVIA | B30: 1.2414 | F30: 1.303 | H30: 1.3237
A31: SORIA | F31: 27.6928 | H31: 2.0071
A32: VALLADOLID | F32: 0.8725
A33: ZAMORA | B33: 2.0983 | F33: 4.8224 | H33: 5.2681
A34: CASTILLA Y LEÓN | B34: 24.6539 | F34: 97.4618 | G34: 1.064 | H34: 11.8904 | J34: 3.1471
A35: COMUNIDAD DE MADRID | F35: 6.3329
A36: ALBACETE | C36: 2.7538
A37: CIUDAD REAL | D37: 0.6384 | F37: 6.7215
A38: CUENCA | C38: 10.0504
A39: GUADALAJARA | C39: 39.1697 | D39: 14.6618
A40: TOLEDO | B40: 3.6831 | F40: 30.4651 | H40: 10.1283
A41: CASTILLA-LA MANCHA | B41: 3.6831 | C41: 51.9739 | D41: 15.3002 | F41: 37.1866 | H41: 10.1283
A42: ALICANTE/ALACANT | B42: 0.462888 | F42: 10.375859 | H42: 2.144495
A43: CASTELLÓN/CASTELLÓ | B43: 0.9951 | F43: 2.3547
A44: VALENCIA/VALÈNCIA | F44: 5.2213 | H44: 0.0926
A45: COMUNITAT VALENCIANA | B45: 1.457988 | F45: 17.951859 | H45: 2.237095
A46: REGIÓN DE MURCIA | F46: 4.0603
A47: BADAJOZ | F47: 3.0248
A48: CÁCERES | C48: 0.4683 | F48: 0.4566
A49: EXTREMADURA | C49: 0.4683 | F49: 3.4814
A50: ALMERÍA
A51: CÁDIZ | B51: 34.30393 | C51: 0.199189 | E51: 1.867971 | F51: 3.349276 | H51: 3.014959
A52: CÓRDOBA | C52: 0.805486 | F52: 0.183147
A53: GRANADA | B53: 0.338777 | C53: 9.793251 | F53: 2.447207 | H53: 1.115439
A54: HUELVA
A55: JAÉN | C55: 0.4452
A56: MÁLAGA | B56: 0.902782
A57: SEVILLA | C57: 0.6832 | F57: 1.2655 | H57: 0.5676
A58: ANDALUCÍA | B58: 35.545489 | C58: 11.926326 | E58: 1.867971 | F58: 7.24513 | H58: 4.697998
A59: PALMAS (Las) | B59: 14.6929 | D59: 26.834 | F59: 12.818 | H59: 0.8765
A60: Sta.C. de TENERIFE | B60: 2.6697 | D60: 4.5251 | F60: 29.9951 | H60: 1.8499
A61: CANARIAS | B61: 17.3626 | D61: 31.3591 | F61: 42.8131 | H61: 2.7264
A62: ESPAÑA | B62: 122.79512 | C62: 162.31241 | D62: 46.8546 | E62: 5.200275 | F62: 562.5875 | G62: 1.064 | H62: 111.88152 | I62: 0.2851 | J62: 5.952755 | K62: 0.7659
A64: (1) Se incluye col repollo hojas lisas y col repollo hojas rizadas

Sheet HORTALIZAS en huerto(2)
A1: Provincias y CC.AA | B1: Col brócoli | C1: Alcachofa | D1: Coliflor | E1: Judías verdes | F1: Gruisantes verdes | G1: Habas verdes | H1: Otras legumbres frescas
A2: A CORUÑA | B2: 0.12 | E2: 3.3854 | F2: 0.1301 | M2: =+K2-L2 -> 0
A3: LUGO | B3: 0.02519 | E3: 20.593904 | M3: =+K3-L3 -> 0
A4: OURENSE | E4: 8.0384 | F4: 0.2982 | G4: 1.8063 | M4: =+K4-L4 -> 0
A5: PONTEVEDRA | E5: 7.207888 | F5: 0.533517 | G5: 0.337575 | M5: =+K5-L5 -> 0
A6: GALICIA | B6: 0.14519 | E6: 39.225592 | F6: 0.961817 | G6: 2.143875 | M6: =+K6-L6 -> 0
A7: PRINCIPADO DE ASTURIAS | E7: 0.9027 | M7: =+K7-L7 -> 0
A8: CANTABRIA | E8: 15.5982 | G8: 2.3101 | M8: =+K8-L8 -> 0
A9: ARABA/ÁLAVA | E9: 2.9915 | M9: =+K9-L9 -> 0
A10: GIPUZKOA | E10: 22.699 | M10: =+K10-L10 -> 0
A11: BIZKAIA | C11: 0.70907 | E11: 24.351004 | M11: =+K11-L11 -> 0
A12: PAÍS VASCO | C12: 0.70907 | E12: 50.041504 | M12: =+K12-L12 -> 0
A13: COMUNIDAD FORAL DE NAVARRA | B13: 3.217 | C13: 23.3153 | D13: 29.2225 | E13: 108.2967 | F13: 1.1198 | G13: 17.824 | M13: =+K13-L13 -> 0
A14: LA RIOJA | C14: 50.194151 | D14: 0.144112 | E14: 81.497081 | F14: 10.396032 | G14: 26.495679 | M14: =+K14-L14 -> 0
A15: HUESCA | C15: 0.4004 | E15: 37.3039 | G15: 1.6784 | M15: =+K15-L15 -> 0
A16: TERUEL | C16: 6.4538 | E16: 44.299 | G16: 0.6804 | M16: =+K16-L16 -> 0
A17: ZARAGOZA | C17: 21.1769 | D17: 0.2063 | E17: 36.2409 | G17: 1.3447 | M17: =+K17-L17 -> 0
A18: ARAGÓN | C18: 28.0311 | D18: 0.2063 | E18: 117.8438 | G18: 3.7035 | M18: =+K18-L18 -> 0
A19: BARCELONA | C19: 1.3397 | D19: 4.2205 | E19: 19.4913 | G19: 9.4132 | M19: =+K19-L19 -> 0
A20: GIRONA | E20: 98.042 | G20: 3.6267 | M20: =+K20-L20 -> 0
A21: LLEIDA | C21: 8.7774 | D21: 2.1587 | E21: 15.6024 | F21: 18.3751 | G21: 6.7677 | M21: =+K21-L21 -> 0
A22: TARRAGONA | B22: 3.519 | C22: 21.6995 | E22: 21.6133 | G22: 0.1682 | M22: =+K22-L22 -> 0
A23: CATALUÑA | B23: 3.519 | C23: 31.8166 | D23: 6.3792 | E23: 154.749 | F23: 18.3751 | G23: 19.9758 | M23: =+K23-L23 -> 0
A24: ILLES BALEARS | C24: 19.0326 | D24: 1.1661 | E24: 4.6277 | M24: =+K24-L24 -> 0
A25: ÁVILA | E25: 11.1327 | M25: =+K25-L25 -> 0
A26: BURGOS | E26: 5.3712 | F26: 1.2351 | G26: 0.3681 | M26: =+K26-L26 -> 0
A27: LEÓN | C27: 0.5686 | D27: 2.1063 | E27: 47.3556 | F27: 4.547 | G27: 24.2086 | M27: =+K27-L27 -> 0
A28: PALENCIA | D28: 0.2143 | E28: 3.0266 | F28: 0.4286 | M28: =+K28-L28 -> 0
A29: SALAMANCA | B29: 7.0769 | E29: 24.0526 | F29: 0.8575 | G29: 15.0118 | M29: =+K29-L29 -> 0
A30: SEGOVIA | B30: 0.049 | D30: 0.049 | E30: 9.9368 | M30: =+K30-L30 -> 0
A31: SORIA | E31: 41.2171 | G31: 0.5701 | M31: =+K31-L31 -> 0
A32: VALLADOLID | D32: 0.3632 | E32: 0.9761 | G32: 0.317 | M32: =+K32-L32 -> 0
A33: ZAMORA | B33: 1.6877 | D33: 1.4291 | E33: 18.2431 | G33: 0.3788 | M33: =+K33-L33 -> 0
A34: CASTILLA Y LEÓN | B34: 8.8136 | C34: 0.5686 | D34: 4.1619 | E34: 161.3118 | F34: 7.0682 | G34: 40.8544 | M34: =+K34-L34 -> 0
A35: COMUNIDAD DE MADRID | C35: 5.7827 | D35: 0.8138 | E35: 0.8844 | G35: 5.6767 | M35: =+K35-L35 -> 0
A36: ALBACETE | B36: 141.8245 | E36: 1.1877 | G36: 14.1338 | M36: =+K36-L36 -> 0
A37: CIUDAD REAL | E37: 13.1516 | G37: 2.9588 | M37: =+K37-L37 -> 0
A38: CUENCA | M38: =+K38-L38 -> 0
A39: GUADALAJARA | E39: 22.0289 | M39: =+K39-L39 -> 0
A40: TOLEDO | E40: 8.3565 | G40: 3.784 | M40: =+K40-L40 -> 0
A41: CASTILLA-LA MANCHA | B41: 141.8245 | E41: 44.7247 | G41: 20.8766 | M41: =+K41-L41 -> 0
A42: ALICANTE/ALACANT | B42: 0.394468 | C42: 7.166641 | D42: 3.704811 | E42: 3.180124 | F42: 0.227933 | G42: 6.287414 | M42: =+K42-L42 -> 0
A43: CASTELLÓN/CASTELLÓ | C43: 15.9564 | E43: 17.8693 | G43: 0.952 | H43: 0.7235 | M43: =+K43-L43 -> 0
A44: VALENCIA/VALÈNCIA | C44: 8.6008 | D44: 14.183 | E44: 36.1503 | G44: 2.8128 | H44: 0.1485 | M44: =+K44-L44 -> 0
A45: COMUNITAT VALENCIANA | B45: 0.394468 | C45: 31.723841 | D45: 17.887811 | E45: 57.199724 | F45: 0.227933 | G45: 10.052214 | H45: 0.872 | M45: =+K45-L45 -> 0
A46: REGIÓN DE MURCIA | C46: 11.2073 | E46: 0.9848 | G46: 0.4172 | M46: =+K46-L46 -> 0
A47: BADAJOZ | C47: 0.0951 | D47: 2.1185 | E47: 0.0951 | M47: =+K47-L47 -> 0
A48: CÁCERES | B48: 3.6355 | E48: 10.0042 | G48: 0.2802 | M48: =+K48-L48 -> 0
A49: EXTREMADURA | B49: 3.6355 | C49: 0.0951 | D49: 2.1185 | E49: 10.0993 | G49: 0.2802 | M49: =+K49-L49 -> 0
A50: ALMERÍA | M50: =+K50-L50 -> 0
A51: CÁDIZ | C51: 1.17041 | D51: 0.933986 | E51: 9.337555 | G51: 2.057451 | M51: =+K51-L51 -> 0
A52: CÓRDOBA | C52: 0.432667 | E52: 1.038357 | G52: 4.095266 | M52: =+K52-L52 -> 0
A53: GRANADA | C53: 1.570531 | D53: 3.69888 | E53: 12.501052 | F53: 0.102126 | G53: 21.821201 | M53: =+K53-L53 -> 0
A54: HUELVA | F54: 0.4254 | G54: 1.4306 | M54: =+K54-L54 -> 0
A55: JAÉN | G55: 4.2036 | M55: =+K55-L55 -> 0
A56: MÁLAGA | E56: 3.546593 | M56: =+K56-L56 -> 0
A57: SEVILLA | C57: 1.4968 | D57: 0.067 | M57: =+K57-L57 -> 0
A58: ANDALUCÍA | C58: 4.670408 | D58: 4.699866 | E58: 26.423557 | F58: 0.527526 | G58: 33.608118 | M58: =+K58-L58 -> 0
A59: PALMAS (Las) | B59: 32.2211 | D59: 5.0448 | E59: 3.5299 | G59: 3.1392 | M59: =+K59-L59 -> 0
A60: Sta.C. de TENERIFE | B60: 0.7404 | E60: 1.9591 | F60: 1.4757 | M60: =+K60-L60 -> 0
A61: CANARIAS | B61: 32.9615 | D61: 5.0448 | E61: 5.489 | F61: 1.4757 | G61: 3.1392 | M61: =+K61-L61 -> 0
A62: ESPAÑA | B62: 194.51076 | C62: 207.14677 | D62: 71.844889 | E62: 879.89956 | F62: 40.152108 | G62: 187.35759 | H62: 0.872 | M62: =+K62-L62 -> 0

Sheet HORTALIZAS en huerto(3)
A1: Provincias y CC.AA | B1: Maíz dulce | C1: Tomate | D1: Sandía | E1: Melón | F1: Calabaza | G1: Calabacín | H1: Pepino | I1: Remolacha de mesa | J1: Berenjena | K1: Pimiento | L1: Otras hortalizas de fruto
A2: A CORUÑA | C2: 6.4059 | D2: 0.1902 | F2: 11.3109 | G2: 0.8916 | K2: 6.0184 | Q2: =+O2-P2 -> 0
A3: LUGO | B3: 2.257023 | C3: 22.878989 | F3: 14.768948 | G3: 8.214715 | K3: 14.355316 | Q3: =+O3-P3 -> 0
A4: OURENSE | C4: 3.9589 | E4: 0.0252 | F4: 2.6224 | G4: 0.8053 | K4: 2.6318 | Q4: =+O4-P4 -> 0
A5: PONTEVEDRA | C5: 16.589483 | E5: 0.041777 | F5: 1.49489 | G5: 0.246176 | K5: 12.557632 | Q5: =+O5-P5 -> 0
A6: GALICIA | B6: 2.257023 | C6: 49.833272 | D6: 0.1902 | E6: 0.066977 | F6: 30.197138 | G6: 10.157791 | K6: 35.563148 | Q6: =+O6-P6 -> 0
A7: PRINCIPADO DE ASTURIAS | C7: 2.8487 | F7: 0.9507 | G7: 1.5016 | K7: 2.6349 | Q7: =+O7-P7 -> 0
A8: CANTABRIA | C8: 28.2878 | F8: 5.6915 | J8: 0.1772 | K8: 11.6277 | Q8: =+O8-P8 -> 0
A9: ARABA/ÁLAVA | C9: 4.0977 | Q9: =+O9-P9 -> 0
A10: GIPUZKOA | C10: 26.3546 | K10: 11.504 | Q10: =+O10-P10 -> 0
A11: BIZKAIA | C11: 119.66577 | F11: 5.239872 | G11: 0.70907 | K11: 8.686665 | Q11: =+O11-P11 -> 0
A12: PAÍS VASCO | C12: 150.11807 | F12: 5.239872 | G12: 0.70907 | K12: 20.190665 | Q12: =+O12-P12 -> 0
A13: COMUNIDAD FORAL DE NAVARRA | B13: 10.5582 | C13: 255.2148 | E13: 0.3546 | F13: 8.9094 | G13: 64.6407 | H13: 0.3077 | J13: 8.3238 | K13: 240.3412 | Q13: =+O13-P13 -> 0
A14: LA RIOJA | B14: 0.365445 | C14: 133.604 | D14: 4.329381 | E14: 3.701085 | F14: 0.867481 | G14: 45.183626 | H14: 8.760255 | J14: 0.278898 | K14: 80.772906 | Q14: =+O14-P14 -> 0
A15: HUESCA | B15: 0.0372 | C15: 86.5188 | D15: 0.8679 | E15: 0.8055 | F15: 1.4771 | G15: 42.6609 | H15: 10.561 | J15: 6.0547 | K15: 10.9249 | Q15: =+O15-P15 -> 0
A16: TERUEL | B16: 0.7733 | C16: 170.8535 | D16: 5.6909 | E16: 4.1813 | F16: 9.6709 | G16: 53.4392 | H16: 12.0538 | J16: 1.4688 | K16: 31.8845 | Q16: =+O16-P16 -> 0
A17: ZARAGOZA | B17: 0.7862 | C17: 209.2107 | D17: 3.4034 | E17: 2.9165 | F17: 11.069 | G17: 35.7196 | H17: 5.7074 | J17: 0.9001 | K17: 27.6141 | Q17: =+O17-P17 -> 0
A18: ARAGÓN | B18: 1.5967 | C18: 466.583 | D18: 9.9622 | E18: 7.9033 | F18: 22.217 | G18: 131.8197 | H18: 28.3222 | J18: 8.4236 | K18: 70.4235 | Q18: =+O18-P18 -> 0
A19: BARCELONA | C19: 227.8391 | F19: 2.7102 | G19: 45.1051 | H19: 5.0573 | J19: 4.6489 | K19: 31.9462 | L19: 5.7698 | Q19: =+O19-P19 -> 0
A20: GIRONA | C20: 167.3841 | F20: 9.6457 | G20: 9.944 | H20: 4.0982 | J20: 1.3517 | K20: 5.562 | Q20: =+O20-P20 -> 0
A21: LLEIDA | C21: 107.8034 | D21: 1.0698 | E21: 0.6368 | F21: 0.5078 | G21: 20.1529 | H21: 0.2804 | J21: 2.6102 | K21: 2.3872 | Q21: =+O21-P21 -> 0
A22: TARRAGONA | B22: 2.4705 | C22: 142.5261 | D22: 3.7079 | E22: 2.1059 | F22: 1.4351 | G22: 44.4091 | H22: 0.9487 | J22: 14.5444 | K22: 17.0567 | Q22: =+O22-P22 -> 0
A23: CATALUÑA | B23: 2.4705 | C23: 645.5527 | D23: 4.7777 | E23: 2.7427 | F23: 14.2988 | G23: 119.6111 | H23: 10.3846 | J23: 23.1552 | K23: 56.9521 | L23: 5.7698 | Q23: =+O23-P23 -> 0
A24: ILLES BALEARS | C24: 123.4684 | D24: 13.2817 | E24: 108.4935 | F24: 1.0392 | G24: 4.6964 | J24: 6.2923 | K24: 14.8414 | Q24: =+O24-P24 -> 0
A25: ÁVILA | C25: 65.0793 | D25: 12.3977 | E25: 12.0072 | F25: 2.334 | H25: 6.341 | J25: 3.2212 | K25: 41.4439 | Q25: =+O25-P25 -> 0
A26: BURGOS | C26: 26.7078 | D26: 0.5574 | G26: 5.6904 | K26: 6.8926 | Q26: =+O26-P26 -> 0
A27: LEÓN | B27: 6.0918 | C27: 97.3229 | D27: 0.4046 | E27: 0.1757 | F27: 16.0756 | G27: 24.0882 | H27: 2.6657 | K27: 89.2786 | Q27: =+O27-P27 -> 0
A28: PALENCIA | C28: 14.9039 | G28: 3.7441 | K28: 0.9871 | Q28: =+O28-P28 -> 0
A29: SALAMANCA | C29: 49.3658 | D29: 0.0633 | E29: 0.7794 | G29: 3.9949 | K29: 13.9299 | Q29: =+O29-P29 -> 0
A30: SEGOVIA | C30: 24.8113 | D30: 12.5675 | E30: 0.0946 | F30: 2.0747 | G30: 3.3602 | H30: 0.5995 | K30: 8.6495 | L30: 1.2258 | Q30: =+O30-P30 -> 0
A31: SORIA | C31: 35.0622 | G31: 26.7881 | K31: 0.9227 | Q31: =+O31-P31 -> 0
A32: VALLADOLID | C32: 23.7829 | D32: 3.4062 | G32: 9.0122 | K32: 23.7142 | Q32: =+O32-P32 -> 0
A33: ZAMORA | C33: 40.6838 | D33: 4.9432 | E33: 12.057 | F33: 13.2303 | G33: 17.6839 | J33: 6.6057 | K33: 8.4435 | Q33: =+O33-P33 -> 0
A34: CASTILLA Y LEÓN | B34: 6.0918 | C34: 377.7199 | D34: 34.3399 | E34: 25.1139 | F34: 33.7146 | G34: 94.362 | H34: 9.6062 | J34: 9.8269 | K34: 194.262 | L34: 1.2258 | Q34: =+O34-P34 -> 0
A35: COMUNIDAD DE MADRID | C35: 26.1126 | G35: 5.2822 | H35: 0.2501 | K35: 16.8761 | Q35: =+O35-P35 -> 0
A36: ALBACETE | B36: 12.0744 | C36: 63.1644 | D36: 5.1844 | E36: 10.2925 | F36: 8.4818 | G36: 2.5121 | H36: 16.203 | K36: 12.2613 | L36: 2.3214 | Q36: =+O36-P36 -> 0
A37: CIUDAD REAL | C37: 98.7578 | D37: 14.2026 | E37: 30.8994 | F37: 1.317 | G37: 16.5166 | H37: 16.4884 | J37: 11.101 | K37: 28.4189 | Q37: =+O37-P37 -> 0
A38: CUENCA | C38: 57.5334 | F38: 2.0797 | G38: 22.3745 | H38: 12.8072 | K38: 9.0412 | Q38: =+O38-P38 -> 0
A39: GUADALAJARA | C39: 60.9447 | D39: 0.3352 | G39: 49.4638 | H39: 22.7148 | K39: 8.458 | Q39: =+O39-P39 -> 0
A40: TOLEDO | C40: 136.3408 | D40: 20.7869 | E40: 24.7634 | F40: 5.4376 | G40: 43.1923 | H40: 19.8351 | K40: 33.5491 | Q40: =+O40-P40 -> 0
A41: CASTILLA-LA MANCHA | B41: 12.0744 | C41: 416.7411 | D41: 40.5091 | E41: 65.9553 | F41: 17.3161 | G41: 134.0593 | H41: 88.0485 | J41: 11.101 | K41: 91.7285 | L41: 2.3214 | Q41: =+O41-P41 -> 0
A42: ALICANTE/ALACANT | B42: 2.694162 | C42: 81.140364 | D42: 9.704398 | E42: 2.253344 | F42: 17.852398 | G42: 16.749452 | H42: 4.623865 | J42: 11.931159 | K42: 13.061893 | Q42: =+O42-P42 -> 0
A43: CASTELLÓN/CASTELLÓ | B43: 2.7993 | C43: 96.7278 | D43: 16.5586 | E43: 11.0573 | F43: 14.236 | G43: 18.2204 | H43: 1.9535 | J43: 6.1307 | K43: 21.4635 | Q43: =+O43-P43 -> 0
A44: VALENCIA/VALÈNCIA | B44: 10.7999 | C44: 223.9946 | D44: 39.0529 | E44: 13.9913 | F44: 100.0461 | G44: 17.8506 | H44: 1.5543 | J44: 17.0451 | K44: 60.9719 | Q44: =+O44-P44 -> 0
A45: COMUNITAT VALENCIANA | B45: 16.293362 | C45: 401.86276 | D45: 65.315898 | E45: 27.301944 | F45: 132.1345 | G45: 52.820452 | H45: 8.131665 | J45: 35.106959 | K45: 95.497293 | Q45: =+O45-P45 -> 0
A46: REGIÓN DE MURCIA | B46: 13.9879 | C46: 49.007 | D46: 0.347 | E46: 2.3537 | F46: 0.2578 | G46: 2.3971 | H46: 0.2578 | J46: 0.5274 | K46: 18.3687 | Q46: =+O46-P46 -> 0
A47: BADAJOZ | C47: 159.4909 | D47: 22.937 | E47: 34.0086 | F47: 4.0364 | G47: 44.5281 | H47: 7.7284 | J47: 29.8234 | K47: 68.7825 | Q47: =+O47-P47 -> 0
A48: CÁCERES | B48: 4.424 | C48: 117.4126 | D48: 65.7468 | E48: 95.5318 | F48: 26.3079 | G48: 30.3928 | H48: 2.7207 | J48: 5.1113 | K48: 65.3339 | Q48: =+O48-P48 -> 0
A49: EXTREMADURA | B49: 4.424 | C49: 276.9035 | D49: 88.6838 | E49: 129.5404 | F49: 30.3443 | G49: 74.9209 | H49: 10.4491 | J49: 34.9347 | K49: 134.1164 | Q49: =+O49-P49 -> 0
A50: ALMERÍA | C50: 0.877678 | E50: 23.221993 | J50: 0.223726 | K50: 2.383571 | Q50: =+O50-P50 -> 0
A51: CÁDIZ | C51: 120.32601 | D51: 13.297309 | E51: 16.893321 | F51: 3.307737 | G51: 5.71542 | H51: 1.400528 | J51: 1.737048 | K51: 65.607916 | Q51: =+O51-P51 -> 0
A52: CÓRDOBA | C52: 158.95545 | D52: 10.442854 | E52: 17.088789 | F52: 7.755389 | G52: 25.788824 | H52: 11.510574 | J52: 9.669769 | K52: 26.472363 | Q52: =+O52-P52 -> 0
A53: GRANADA | B53: 8.49046 | C53: 356.09517 | D53: 4.915642 | E53: 6.065994 | F53: 15.71848 | G53: 41.837436 | H53: 102.3869 | J53: 17.691478 | K53: 103.28209 | Q53: =+O53-P53 -> 0
A54: HUELVA | B54: 1.9122 | C54: 28.4773 | D54: 13.8938 | E54: 12.9869 | F54: 7.5433 | H54: 1.1498 | J54: 0.5635 | K54: 13.2949 | Q54: =+O54-P54 -> 0
A55: JAÉN | B55: 1.3812 | C55: 51.756 | D55: 3.8738 | E55: 8.3412 | G55: 11.8732 | J55: 12.6273 | K55: 17.8564 | Q55: =+O55-P55 -> 0
A56: MÁLAGA | B56: 0.281091 | C56: 19.613755 | D56: 1.092098 | E56: 0.61771 | F56: 3.47137 | G56: 1.757267 | J56: 0.764908 | K56: 13.931683 | Q56: =+O56-P56 -> 0
A57: SEVILLA | B57: 0.486 | C57: 58.1174 | D57: 1.8679 | E57: 2.3026 | F57: 4.9583 | G57: 5.8326 | J57: 2.7473 | K57: 26.558 | Q57: =+O57-P57 -> 0
A58: ANDALUCÍA | B58: 12.550951 | C58: 794.21876 | D58: 49.383403 | E58: 87.518507 | F58: 42.754576 | G58: 92.804747 | H58: 116.44781 | J58: 46.025029 | K58: 269.38693 | Q58: =+O58-P58 -> 0
A59: PALMAS (Las) | B59: 45.9348 | C59: 33.4417 | D59: 4.0175 | E59: 2.2232 | F59: 16.1293 | G59: 28.6838 | K59: 14.3396 | Q59: =+O59-P59 -> 0
A60: Sta.C. de TENERIFE | B60: 13.3221 | C60: 2.4769 | F60: 48.8039 | G60: 3.3091 | K60: 1.1452 | Q60: =+O60-P60 -> 0
A61: CANARIAS | B61: 59.2569 | C61: 35.9186 | D61: 4.0175 | E61: 2.2232 | F61: 64.9332 | G61: 31.9929 | K61: 15.4848 | Q61: =+O61-P61 -> 0
A62: ESPAÑA | B62: 141.92718 | C62: 4233.995 | D62: 315.13778 | E62: 463.26911 | F62: 410.86617 | G62: 866.95959 | H62: 280.96593 | J62: 184.17299 | K62: 1369.0682 | L62: 9.317 | Q62: =+O62-P62 -> 0

Sheet HORTALIZAS en huerto(4)
A1: Provincias y CC.AA | B1: Ajo | C1: Cebolla | D1: Zanajoria | E1: Puerro | F1: Otras hortalizas raíces y bulbos | G1: Fresa-Fresón | H1: Otras hortalizas | I1: Huerta vacía | J1: Total general
A2: A CORUÑA | C2: 4.019 | D2: 0.33 | E2: 0.132 | I2: 34.8884 | J2: 71.2713 | O2: =+M2-N2 -> 0
A3: LUGO | C3: 10.076822 | E3: 0.185481 | F3: 0.406844 | G3: 1.88966 | I3: 43.60409 | J3: 162.95851 | O3: =+M3-N3 -> 0
A4: OURENSE | B4: 0.8597 | C4: 7.1623 | D4: 0.0967 | G4: 0.0967 | I4: 54.3108 | J4: 89.8159 | O4: =+M4-N4 -> 0
A5: PONTEVEDRA | B5: 0.028938 | C5: 14.658797 | E5: 0.085489 | G5: 0.217544 | I5: 63.932156 | J5: 127.55179 | O5: =+M5-N5 -> 0
A6: GALICIA | B6: 0.888638 | C6: 35.916919 | D6: 0.4267 | E6: 0.40297 | F6: 0.406844 | G6: 2.203904 | I6: 196.73545 | J6: 451.5975 | O6: =+M6-N6 -> 0
A7: PRINCIPADO DE ASTURIAS | C7: 4.1969 | I7: 1.9138 | J7: 16.0354 | O7: =+M7-N7 -> 0
A8: CANTABRIA | C8: 0.6427 | I8: 5.0258 | J8: 72.6203 | O8: =+M8-N8 -> 0
A9: ARABA/ÁLAVA | C9: 1.1062 | I9: 118.0199 | J9: 127.355 | O9: =+M9-N9 -> 0
A10: GIPUZKOA | J10: 67.2761 | O10: =+M10-N10 -> 0
A11: BIZKAIA | C11: 45.211934 | I11: 38.933313 | J11: 243.5067 | O11: =+M11-N11 -> 0
A12: PAÍS VASCO | C12: 46.318134 | I12: 156.95321 | J12: 438.1378 | O12: =+M12-N12 -> 0
A13: COMUNIDAD FORAL DE NAVARRA | B13: 6.8474 | C13: 122.559 | D13: 0.6613 | E13: 1.4231 | H13: 7.8169 | I13: 415.5039 | J13: 1517.5732 | O13: =+M13-N13 -> 0
A14: LA RIOJA | B14: 29.827707 | C14: 122.56644 | D14: 0.374672 | E14: 1.81449 | G14: 2.045751 | H14: 6.734359 | I14: 235.17028 | J14: 888.6477 | O14: =+M14-N14 -> 0
A15: HUESCA | B15: 1.5372 | C15: 31.2952 | E15: 1.8505 | G15: 0.9314 | I15: 71.4787 | J15: 347.4266 | O15: =+M15-N15 -> 0
A16: TERUEL | B16: 5.1587 | C16: 69.9432 | D16: 0.5128 | E16: 1.0001 | H16: 0.1544 | I16: 78.9255 | J16: 530.3377 | O16: =+M16-N16 -> 0
A17: ZARAGOZA | B17: 5.4207 | C17: 107.2485 | E17: 0.5529 | G17: 1.5547 | H17: 64.6887 | I17: 563.6584 | J17: 1122.7041 | O17: =+M17-N17 -> 0
A18: ARAGÓN | B18: 12.1166 | C18: 208.4869 | D18: 0.5128 | E18: 3.4035 | G18: 2.4861 | H18: 64.8431 | I18: 714.0626 | J18: 2000.4684 | O18: =+M18-N18 -> 0
A19: BARCELONA | C19: 94.6945 | H19: 144.2189 | I19: 784.6759 | J19: 1413.8286 | O19: =+M19-N19 -> 0
A20: GIRONA | B20: 1.7237 | C20: 33.0089 | D20: 2.9809 | H20: 11.3596 | I20: 167.5748 | J20: 552.7598 | O20: =+M20-N20 -> 0
A21: LLEIDA | B21: 0.1365 | C21: 91.7882 | E21: 0.774 | H21: 4.9519 | I21: 329.3111 | J21: 678.8177 | O21: =+M21-N21 -> 0
A22: TARRAGONA | C22: 18.9259 | D22: 5.6775 | H22: 108.5531 | I22: 719.2455 | J22: 1141.9412 | O22: =+M22-N22 -> 0
A23: CATALUÑA | B23: 1.8602 | C23: 238.4175 | D23: 8.6584 | E23: 0.774 | H23: 269.0835 | I23: 2000.8073 | J23: 3787.3473 | O23: =+M23-N23 -> 0
A24: ILLES BALEARS | B24: 2.5314 | C24: 109.1839 | I24: 349.325 | J24: 794.2007 | O24: =+M24-N24 -> 0
A25: ÁVILA | C25: 2.4644 | E25: 0.8906 | I25: 116.8901 | J25: 291.9099 | O25: =+M25-N25 -> 0
A26: BURGOS | B26: 13.3927 | C26: 17.7568 | D26: 0.3953 | E26: 1.0925 | I26: 93.6233 | J26: 178.5647 | O26: =+M26-N26 -> 0
A27: LEÓN | B27: 29.5 | C27: 105.905 | D27: 5.7731 | E27: 2.9491 | G27: 2.9575 | I27: 568.6373 | J27: 1081.3282 | O27: =+M27-N27 -> 0
A28: PALENCIA | B28: 3.3332 | C28: 18.5426 | D28: 0.4286 | H28: 16.9436 | I28: 24.5271 | J28: 95.5138 | O28: =+M28-N28 -> 0
A29: SALAMANCA | B29: 3.8778 | C29: 23.0027 | I29: 63.2519 | J29: 214.512 | O29: =+M29-N29 -> 0
A30: SEGOVIA | B30: 8.4834 | C30: 1.4421 | H30: 2.3788 | I30: 2.4102 | J30: 82.0005 | O30: =+M30-N30 -> 0
A31: SORIA | B31: 6.0907 | C31: 30.2318 | E31: 2.1804 | H31: 2.5813 | J31: 175.3443 | O31: =+M31-N31 -> 0
A32: VALLADOLID | B32: 0.8053 | C32: 5.9747 | D32: 0.0774 | I32: 16.8261 | J32: 86.1278 | O32: =+M32-N32 -> 0
A33: ZAMORA | B33: 7.1908 | C33: 14.8404 | D33: 5.1792 | E33: 0.8911 | F33: 3.1685 | I33: 36.5282 | J33: 205.3731 | O33: =+M33-N33 -> 0
A34: CASTILLA Y LEÓN | B34: 72.6739 | C34: 220.1605 | D34: 11.8536 | E34: 8.0037 | F34: 3.1685 | G34: 2.9575 | H34: 21.9037 | I34: 922.6942 | J34: 2410.6743 | O34: =+M34-N34 -> 0
A35: COMUNIDAD DE MADRID | B35: 0.3891 | C35: 4.3644 | I35: 96.2675 | J35: 169.0325 | O35: =+M35-N35 -> 0
A36: ALBACETE | B36: 11.6063 | C36: 2.5413 | H36: 59.3412 | I36: 160.5928 | J36: 526.4767 | O36: =+M36-N36 -> 0
A37: CIUDAD REAL | B37: 4.4164 | C37: 15.4347 | I37: 42.2798 | J37: 303.3029 | O37: =+M37-N37 -> 0
A38: CUENCA | B38: 0.8719 | C38: 8.9205 | I38: 26.3906 | J38: 150.0694 | O38: =+M38-N38 -> 0
A39: GUADALAJARA | C39: 0.3242 | H39: 25.1217 | I39: 17.5396 | J39: 260.7624 | O39: =+M39-N39 -> 0
A40: TOLEDO | B40: 5.2586 | C40: 35.1939 | H40: 19.0354 | I40: 62.817 | J40: 462.6271 | O40: =+M40-N40 -> 0
A41: CASTILLA-LA MANCHA | B41: 22.1532 | C41: 62.4146 | H41: 103.4983 | I41: 309.6198 | J41: 1703.2385 | O41: =+M41-N41 -> 0
A42: ALICANTE/ALACANT | C42: 27.366483 | E42: 2.651224 | H42: 2.654534 | I42: 167.39629 | J42: 394.02419 | O42: =+M42-N42 -> 0
A43: CASTELLÓN/CASTELLÓ | C43: 21.2338 | G43: 0.1727 | H43: 10.0717 | I43: 591.7682 | J43: 851.2445 | O43: =+M43-N43 -> 0
A44: VALENCIA/VALÈNCIA | B44: 0.4677 | C44: 45.8701 | G44: 0.2727 | H44: 5.5428 | I44: 708.2161 | J44: 1312.8854 | O44: =+M44-N44 -> 0
A45: COMUNITAT VALENCIANA | B45: 0.4677 | C45: 94.470383 | E45: 2.651224 | G45: 0.4454 | H45: 18.269034 | I45: 1467.3806 | J45: 2558.1541 | O45: =+M45-N45 -> 0
A46: REGIÓN DE MURCIA | B46: 0.2578 | C46: 7.9894 | I46: 757.5471 | J46: 869.9683 | O46: =+M46-N46 -> 0
A47: BADAJOZ | B47: 11.9981 | C47: 56.9351 | D47: 0.3789 | H47: 18.7142 | I47: 139.0792 | J47: 603.7743 | O47: =+M47-N47 -> 0
A48: CÁCERES | B48: 3.6328 | C48: 51.996 | G48: 2.6446 | H48: 72.9945 | I48: 232.8986 | J48: 791.9931 | O48: =+M48-N48 -> 0
A49: EXTREMADURA | B49: 15.6309 | C49: 108.9311 | D49: 0.3789 | G49: 2.6446 | H49: 91.7087 | I49: 371.9778 | J49: 1395.7674 | O49: =+M49-N49 -> 0
A50: ALMERÍA | C50: 0.621528 | I50: 2.018903 | J50: 29.347399 | O50: =+M50-N50 -> 0
A51: CÁDIZ | C51: 30.46439 | D51: 0.933986 | E51: 10.904741 | I51: 218.46177 | J51: 545.2849 | O51: =+M51-N51 -> 0
A52: CÓRDOBA | B52: 1.99504 | C52: 4.457286 | H52: 10.292108 | I52: 53.780925 | J52: 344.7643 | O52: =+M52-N52 -> 0
A53: GRANADA | B53: 17.626582 | C53: 71.070785 | H53: 6.199715 | I53: 1154.802 | J53: 1959.5712 | O53: =+M53-N53 -> 0
A54: HUELVA | C54: 4.2945 | I54: 19.6767 | J54: 105.6489 | O54: =+M54-N54 -> 0
A55: JAÉN | B55: 7.1773 | C55: 5.5021 | I55: 222.7339 | J55: 347.7712 | O55: =+M55-N55 -> 0
A56: MÁLAGA | C56: 9.206454 | F56: 0.606919 | H56: 67.235241 | I56: 240.47613 | J56: 363.504 | O56: =+M56-N56 -> 0
A57: SEVILLA | C57: 10.8363 | D57: 6.9033 | I57: 79.9999 | J57: 204.6897 | O57: =+M57-N57 -> 0
A58: ANDALUCÍA | B58: 26.798922 | C58: 136.45334 | D58: 7.837286 | E58: 10.904741 | F58: 0.606919 | H58: 83.727064 | I58: 1991.9502 | J58: 3900.5816 | O58: =+M58-N58 -> 0
A59: PALMAS (Las) | C59: 84.0315 | E59: 5.9302 | I59: 709.6376 | J59: 1043.5256 | O59: =+M59-N59 -> 0
A60: Sta.C. de TENERIFE | C60: 35.8085 | G60: 3.9061 | H60: 12.1283 | I60: 437.689 | J60: 601.8041 | O60: =+M60-N60 -> 0
A61: CANARIAS | C61: 119.84 | E61: 5.9302 | G61: 3.9061 | H61: 12.1283 | I61: 1147.3266 | J61: 1645.3297 | O61: =+M61-N61 -> 0
A62: ESPAÑA | B62: 192.44347 | C62: 1642.9121 | D62: 30.703658 | E62: 35.307925 | F62: 4.182263 | G62: 16.689355 | H62: 679.71296 | I62: 11140.261 | J62: 24619.375 | O62: =+M62-N62 -> 0

Sheet C10  FRUTALES CITRICOS
B1: FRUTALES CITRICOS
A2: Provincias y CC.AA. | B2: Naranjo | C2: Mandarino satsuma | D2: Mandarino clementina | E2: Mandarinos híbridos y otros | F2: Total Mandarino | G2: Limonero | H2: Naranjo Amargo | I2: Pomelo | J2: Limero | K2: Otros Citricos | L2: Total Citricos
A3: A CORUÑA
A4: LUGO
A5: OURENSE
A6: PONTEVEDRA
A7: GALICIA
A8: PRINCIPADO DE ASTURIAS
A9: CANTABRIA
A10: ARABA/ÁLAVA
A11: GIPUZKOA
A12: BIZKAIA
A13: PAÍS VASCO
A14: COMUNIDAD FORAL DE NAVARRA
... A22: LLEIDA
A23: TARRAGONA | B23: 1886.0031 | C23: 92.6513 | D23: 4904.3418 | E23: 1013.9916 | F23: 6010.9847 | G23: 9.0683 | L23: 7906.0561
A24: CATALUÑA | B24: 1886.0031 | C24: 92.6513 | D24: 4904.3418 | E24: 1013.9916 | F24: 6010.9847 | G24: 9.0683 | L24: 7906.0561
A25: ILLES BALEARS | B25: 368.5108 | D25: 14.4034 | E25: 46.1797 | F25: 60.5831 | G25: 245.0186 | L25: 674.1125
A26: ÁVILA
A27: BURGOS
A28: LEÓN
A29: PALENCIA
A30: SALAMANCA
A31: SEGOVIA
A32: SORIA
A33: VALLADOLID
A34: ZAMORA
A35: CASTILLA Y LEÓN
A36: COMUNIDAD DE MADRID
A37: ALBACETE
... A42: CASTILLA-LA MANCHA
A43: ALICANTE/ALACANT | B43: 7928.5359 | C43: 124.4888 | D43: 2478.9617 | E43: 4320.3757 | F43: 6923.8262 | G43: 15128.563 | H43: 8.1213 | I43: 790.2629 | J43: 52.6803 | K43: 0.8398 | L43: 30832.829
A44: CASTELLÓN/CASTELLÓ | B44: 6893.8554 | C44: 21.7009 | D44: 15785.064 | E44: 5709.9553 | F44: 21516.72 | G44: 33.2524 | H44: 10.5316 | I44: 26.1278 | J44: 44.4181 | K44: 509.5677 | L44: 29034.473
A45: VALENCIA/VALÈNCIA | B45: 48638.736 | C45: 3557.4304 | D45: 12456.595 | E45: 12311.685 | F45: 28325.71 | G45: 203.3368 | H45: 7.4356 | I45: 488.2342 | J45: 37.446 | K45: 176.4109 | L45: 77877.309
A46: COMUNITAT VALENCIANA | B46: 63461.127 | C46: 3703.6201 | D46: 30720.62 | E46: 22342.016 | F46: 56766.256 | G46: 15365.152 | H46: 26.0885 | I46: 1304.6249 | J46: 134.5444 | K46: 686.8184 | L46: 137744.61
A47: REGIÓN DE MURCIA | B47: 7793.4515 | C47: 50.4641 | D47: 3290.8618 | E47: 3240.2827 | F47: 6581.6086 | G47: 26892.27 | I47: 983.2919 | J47: 20.9187 | L47: 42271.541
A48: BADAJOZ | B48: 11.0564 | L48: 11.0564
A49: CÁCERES | B49: 1.7198 | L49: 1.7198
A50: EXTREMADURA | B50: 12.7762 | L50: 12.7762
A51: ALMERÍA | B51: 3268.5372 | D51: 1446.1907 | E51: 777.2987 | F51: 2223.4894 | G51: 2563.9613 | H51: 13.5728 | I51: 80.2221 | J51: 1.2375 | L51: 8151.0203
A52: CÁDIZ | B52: 530.6582 | D52: 0.2017 | E52: 62.7823 | F52: 62.984 | G52: 53.5821 | L52: 647.2243
A53: CÓRDOBA | B53: 11212.999 | E53: 156.2982 | F53: 156.2982 | G53: 2.2028 | H53: 36.8995 | I53: 147.1653 | L53: 11555.564
A54: GRANADA | B54: 1173.2635 | G54: 215.2826 | L54: 1388.5461
A55: HUELVA | B55: 8928.9357 | D55: 3027.9294 | E55: 10188.08 | F55: 13216.01 | G55: 511.3659 | L55: 22656.311
A56: JAÉN | B56: 5.1966 | L56: 5.1966
A57: MÁLAGA | B57: 1508.9625 | D57: 148.2677 | E57: 376.8477 | F57: 525.1154 | G57: 4366.5771 | I57: 11.4172 | K57: 61.9121 | L57: 6473.9843
A58: SEVILLA | B58: 29726.27 | D58: 393.1562 | E58: 3365.537 | F58: 3758.6932 | G58: 91.5459 | H58: 145.3868 | I58: 491.3557 | L58: 34213.252
A59: ANDALUCÍA | B59: 56354.823 | D59: 5015.7457 | E59: 14926.844 | F59: 19942.59 | G59: 7804.5177 | H59: 195.8591 | I59: 730.1603 | J59: 1.2375 | K59: 61.9121 | L59: 85091.099
A60: PALMAS (Las) | B60: 304.0775 | G60: 122.1098 | L60: 426.1873
A61: Sta.C. de TENERIFE | B61: 395.9457 | G61: 36.6747 | H61: 6.3154 | I61: 7.9835 | L61: 446.9193
A62: CANARIAS | B62: 700.0232 | G62: 158.7845 | H62: 6.3154 | I62: 7.9835 | L62: 873.1066
A63: ESPAÑA | B63: 130576.71 | C63: 3846.7355 | D63: 43945.973 | E63: 41569.314 | F63: 89362.023 | G63: 50474.812 | H63: 228.263 | I63: 3026.0606 | J63: 156.7006 | K63: 748.7305 | L63: 274573.3

Sheet C11A  FRUTALES NO CITRICOS
A1: Provincias y CC.AA. | B1: Manzano | C1: Manzano no comercial | D1: Peral | E1: Membrillero | F1: Nispero | G1: Total Frutales Pepita
A2: A CORUÑA
A3: LUGO
A4: OURENSE | B4: 1.5568 | D4: 0.6675 | G4: 2.2243
A5: PONTEVEDRA
A6: GALICIA | B6: 1.5568 | D6: 0.6675 | G6: 2.2243
A7: PRINCIPADO DE ASTURIAS | C7: 50.575 | G7: 50.575
A8: CANTABRIA
A9: ARABA/ÁLAVA | B9: 2.7398 | G9: 2.7398
A10: GIPUZKOA
A11: BIZKAIA
A12: PAÍS VASCO | B12: 2.7398 | G12: 2.7398
A13: COMUNIDAD FORAL DE NAVARRA | B13: 404.0702 | C13: 1.6312 | D13: 657.849 | G13: 1063.5504
A14: LA RIOJA | B14: 497.4992 | C14: 0.3682 | D14: 2258.4434 | G14: 2756.3108
A15: HUESCA | B15: 438.4096 | D15: 1231.8419 | E15: 67.3258 | G15: 1737.5773
A16: TERUEL | B16: 5.4582 | C16: 5.8963 | E16: 5.0237 | G16: 16.3782
A17: ZARAGOZA | B17: 1993.5457 | C17: 3.3382 | D17: 2147.8793 | G17: 4144.7632
A18: ARAGÓN | B18: 2437.4135 | C18: 9.2345 | D18: 3379.7212 | E18: 72.3495 | G18: 5898.7187
A19: BARCELONA | B19: 33.0521 | D19: 122.1307 | F19: 10.6884 | G19: 165.8712
A20: GIRONA | B20: 2389.4761 | D20: 3.6079 | E20: 0.6765 | G20: 2393.7605
A21: LLEIDA | B21: 5914.6293 | D21: 6667.0355 | E21: 58.1232 | G21: 12639.788
A22: TARRAGONA | B22: 92.9906 | C22: 1.3049 | D22: 38.1476 | F22: 6.4108 | G22: 138.8539
A23: CATALUÑA | B23: 8430.1481 | C23: 1.3049 | D23: 6830.9217 | E23: 58.7997 | F23: 17.0992 | G23: 15338.274
A24: ILLES BALEARS | B24: 177.0659 | C24: 6.1472 | E24: 6.9698 | G24: 190.1829
A25: ÁVILA | B25: 5.4328 | G25: 5.4328
A26: BURGOS | B26: 29.275 | G26: 29.275
A27: LEÓN | B27: 49.3885 | C27: 104.6695 | D27: 812.4147 | G27: 966.4727
A28: PALENCIA
A29: SALAMANCA | B29: 0.1637 | G29: 0.1637
A30: SEGOVIA
A31: SORIA | B31: 1359.3353 | G31: 1359.3353
A32: VALLADOLID
A33: ZAMORA | B33: 1.6067 | C33: 3.9819 | D33: 3.0146 | G33: 8.6032
A34: CASTILLA Y LEÓN | B34: 1445.202 | C34: 108.6514 | D34: 815.4293 | G34: 2369.2827
A35: COMUNIDAD DE MADRID
A36: ALBACETE | F36: 0.179 | G36: 0.179
A37: CIUDAD REAL
A38: CUENCA
A39: GUADALAJARA | C39: 0.2279 | G39: 0.2279
A40: TOLEDO
A41: CASTILLA-LA MANCHA | C41: 0.2279 | F41: 0.179 | G41: 0.4069
A42: ALICANTE/ALACANT | B42: 145.185 | C42: 0.4842 | D42: 20.1799 | F42: 854.5747 | G42: 1020.4238
A43: CASTELLÓN/CASTELLÓ | C43: 1.5039 | D43: 11.7847 | F43: 14.6937 | G43: 27.9823
A44: VALENCIA/VALÈNCIA | B44: 7.3718 | C44: 3.0269 | D44: 63.4411 | E44: 3.3848 | F44: 32.0271 | G44: 109.2517
A45: COMUNITAT VALENCIANA | B45: 152.5568 | C45: 5.015 | D45: 95.4057 | E45: 3.3848 | F45: 901.2955 | G45: 1157.6578
A46: REGIÓN DE MURCIA | B46: 1.612 | D46: 982.1172 | G46: 983.7292
A47: BADAJOZ | D47: 78.3045 | E47: 6.6953 | G47: 84.9998
A48: CÁCERES | D48: 2.7319 | G48: 2.7319
A49: EXTREMADURA | D49: 81.0364 | E49: 6.6953 | G49: 87.7317
A50: ALMERÍA
A51: CÁDIZ
A52: CÓRDOBA | D52: 0.579 | E52: 254.8846 | F52: 1.2097 | G52: 256.6733
A53: GRANADA | B53: 183.7216 | D53: 25.3296 | E53: 68.1784 | F53: 307.8046 | G53: 585.0342
A54: HUELVA | D54: 1.3912 | F54: 4.5835 | G54: 5.9747
A55: JAÉN | D55: 1.4864 | F55: 0.2474 | G55: 1.7338
A56: MÁLAGA | B56: 5.7245 | F56: 1.765 | G56: 7.4895
A57: SEVILLA | D57: 4.287 | E57: 61.158 | G57: 65.445
A58: ANDALUCÍA | B58: 189.4461 | D58: 33.0732 | E58: 384.221 | F58: 315.6102 | G58: 922.3505
A59: PALMAS (Las) | B59: 12.0854 | C59: 9.1622 | D59: 3.9708 | E59: 6.5879 | F59: 40.1836 | G59: 71.9899
A60: Sta.C. de TENERIFE | D60: 10.9372 | F60: 10.1823 | G60: 21.1195
A61: CANARIAS | B61: 12.0854 | C61: 9.1622 | D61: 14.908 | E61: 6.5879 | F61: 50.3659 | G61: 93.1094
A62: ESPAÑA | B62: 13751.396 | C62: 192.3175 | D62: 15149.573 | E62: 539.008 | F62: 1284.5498 | G62: 30916.844

Sheet C11B  FRUTALES NO CITRICOS
A1: Provincias y CC.AA. | B1: Cerezo | C1: Melocotonero | D1: Nectarina | E1: Paraguayo (melocotón plano) | F1: Platerina (nectarina plana) | G1: Albaricoquero | H1: Ciruelo | I1: Total frutales Hueso
A2: A CORUÑA
A3: LUGO
A4: OURENSE | H4: 3.1791 | I4: 3.1791
A5: PONTEVEDRA
A6: GALICIA | H6: 3.1791 | I6: 3.1791
A7: PRINCIPADO DE ASTURIAS
A8: CANTABRIA
A9: ARABA/ÁLAVA | C9: 2.187 | I9: 2.187
A10: GIPUZKOA
A11: BIZKAIA
A12: PAÍS VASCO | C12: 2.187 | I12: 2.187
A13: COMUNIDAD FORAL DE NAVARRA | B13: 44.5444 | C13: 80.0199 | D13: 30.0775 | E13: 7.5191 | H13: 110.8745 | I13: 273.0354
A14: LA RIOJA | B14: 66.6361 | C14: 440.9559 | D14: 43.1195 | E14: 2.5307 | G14: 7.06 | H14: 109.1068 | I14: 669.409
A15: HUESCA | B15: 417.9918 | C15: 4488.6093 | D15: 6223.947 | E15: 2393.2313 | F15: 194.1986 | G15: 636.7208 | H15: 106.141 | I15: 14460.84
A16: TERUEL | B16: 77.893 | C16: 1475.4634 | G16: 112.2985 | I16: 1665.6549
A17: ZARAGOZA | B17: 7778.2877 | C17: 2863.3661 | D17: 2199.5806 | E17: 1466.0484 | F17: 321.5343 | G17: 1945.7806 | H17: 2368.3678 | I17: 18942.965
A18: ARAGÓN | B18: 8274.1725 | C18: 8827.4388 | D18: 8423.5276 | E18: 3859.2797 | F18: 515.7329 | G18: 2694.7999 | H18: 2474.5088 | I18: 35069.46
A19: BARCELONA | B19: 28.3038 | C19: 126.7738 | G19: 0.8013 | H19: 154.7439 | I19: 310.6228
A20: GIRONA | B20: 3.6079 | C20: 6.2711 | G20: 6.1541 | I20: 16.0331
A21: LLEIDA | B21: 1042.0817 | C21: 3588.0198 | D21: 6954.2286 | E21: 3341.7859 | F21: 1314.5409 | G21: 1723.5654 | H21: 136.3665 | I21: 18100.589
A22: TARRAGONA | B22: 547.2167 | C22: 117.8757 | D22: 130.6045 | E22: 30.9957 | G22: 296.4614 | H22: 204.7674 | I22: 1327.9214
A23: CATALUÑA | B23: 1621.2101 | C23: 3838.9404 | D23: 7084.8331 | E23: 3372.7816 | F23: 1314.5409 | G23: 2026.9822 | H23: 495.8778 | I23: 19755.166
A24: ILLES BALEARS | G24: 105.5608 | H24: 115.1551 | I24: 220.7159
A25: ÁVILA | B25: 174.2739 | C25: 45.9481 | I25: 220.222
A26: BURGOS
A27: LEÓN | B27: 12.0991 | I27: 12.0991
A28: PALENCIA
A29: SALAMANCA | B29: 4.0845 | H29: 1.7515 | I29: 5.836
A30: SEGOVIA
A31: SORIA | C31: 0.3775 | I31: 0.3775
A32: VALLADOLID
A33: ZAMORA | H33: 9.5242 | I33: 9.5242
A34: CASTILLA Y LEÓN | B34: 190.4575 | C34: 46.3256 | H34: 11.2757 | I34: 248.0588
A35: COMUNIDAD DE MADRID | H35: 219.2644 | I35: 219.2644
A36: ALBACETE | B36: 12.1098 | C36: 1311.1529 | E36: 45.5822 | G36: 1501.8137 | H36: 128.3771 | I36: 2999.0357
A37: CIUDAD REAL | C37: 23.3373 | G37: 2.2401 | I37: 25.5774
A38: CUENCA
A39: GUADALAJARA
A40: TOLEDO | B40: 92.7473 | C40: 71.7794 | H40: 263.2051 | I40: 427.7318
A41: CASTILLA-LA MANCHA | B41: 104.8571 | C41: 1406.2696 | E41: 45.5822 | G41: 1504.0538 | H41: 391.5822 | I41: 3452.3449
A42: ALICANTE/ALACANT | B42: 922.3364 | C42: 84.2929 | D42: 336.2911 | E42: 150.1702 | G42: 348.851 | H42: 52.0657 | I42: 1894.0073
A43: CASTELLÓN/CASTELLÓ | B43: 116.5659 | C43: 67.3368 | G43: 2.0381 | H43: 10.2629 | I43: 196.2037
A44: VALENCIA/VALÈNCIA | B44: 6.3974 | C44: 958.0619 | D44: 355.3489 | E44: 118.2642 | F44: 7.4205 | G44: 1752.5815 | H44: 250.4959 | I44: 3448.5703
A45: COMUNITAT VALENCIANA | B45: 1045.2997 | C45: 1109.6916 | D45: 691.64 | E45: 268.4344 | F45: 7.4205 | G45: 2103.4706 | H45: 312.8245 | I45: 5538.7813
A46: REGIÓN DE MURCIA | B46: 219.6952 | C46: 6612.0791 | D46: 4146.3474 | E46: 2075.6193 | F46: 79.4785 | G46: 6439.3167 | H46: 122.9447 | I46: 19695.481
A47: BADAJOZ | C47: 2543.7575 | D47: 3702.4696 | E47: 432.6186 | F47: 165.1766 | G47: 72.3414 | H47: 4045.6375 | I47: 10962.001
A48: CÁCERES | B48: 1665.4697 | C48: 178.3683 | D48: 82.1834 | E48: 2.3444 | G48: 1.9216 | H48: 676.6209 | I48: 2606.9083
A49: EXTREMADURA | B49: 1665.4697 | C49: 2722.1258 | D49: 3784.653 | E49: 434.963 | F49: 165.1766 | G49: 74.263 | H49: 4722.2584 | I49: 13568.909
A50: ALMERÍA | C50: 241.5656 | D50: 100.4138 | E50: 86.715 | I50: 428.6944
A51: CÁDIZ
A52: CÓRDOBA | H52: 0.579 | I52: 0.579
A53: GRANADA | B53: 271.2287 | C53: 472.8258 | E53: 51.629 | F53: 49.374 | G53: 3.9289 | H53: 31.5148 | I53: 880.5012
A54: HUELVA | C54: 4.3148 | H54: 133.6223 | I54: 137.9371
A55: JAÉN | B55: 118.6437 | C55: 18.3107 | G55: 3.968 | H55: 62.6805 | I55: 203.6029
A56: MÁLAGA | C56: 96.7418 | G56: 48.3865 | H56: 17.114 | I56: 162.2423
A57: SEVILLA | C57: 1131.5984 | D57: 968.9473 | G57: 3.0593 | H57: 200.4159 | I57: 2304.0209
A58: ANDALUCÍA | B58: 389.8724 | C58: 1965.3571 | D58: 1069.3611 | E58: 138.344 | F58: 49.374 | G58: 59.3427 | H58: 445.9265 | I58: 4117.5778
A59: PALMAS (Las) | C59: 22.0059 | G59: 9.2674 | H59: 20.5153 | I59: 51.7886
A60: Sta.C. de TENERIFE | C60: 16.4905 | H60: 8.3843 | I60: 24.8748
A61: CANARIAS | C61: 38.4964 | G61: 9.2674 | H61: 28.8996 | I61: 76.6634
A62: ESPAÑA | B62: 13622.215 | C62: 27089.887 | D62: 25273.559 | E62: 10205.054 | F62: 2131.7234 | G62: 15024.117 | H62: 9563.6781 | I62: 102910.23

Sheet C12  FRUTALES NO CITRICOS
A1: Provincias y CC.AA. | B1: Higuera | C1: Chirimoyo | D1: Aguacate | E1: Platanera | F1: Caqui | G1: Kiwi | H1: Chumbera | I1: Mango | J1: Granado | K1: Moral | L1: Papaya | M1: Azufaifo | N1: Guayabo | O1: Total Frutales Carnosos
A2: A CORUÑA | G2: 3.0181 | J2: 6.969 | O2: 9.9871
A3: LUGO | G3: 0.6119 | O3: 0.6119
A4: OURENSE | G4: 0.1704 | O4: 0.1704
A5: PONTEVEDRA | G5: 0.1347 | O5: 0.1347
A6: GALICIA | G6: 3.9351 | J6: 6.969 | O6: 10.9041
A7: PRINCIPADO DE ASTURIAS
A8: CANTABRIA
A9: ARABA/ÁLAVA
A10: GIPUZKOA
A11: BIZKAIA
A12: PAÍS VASCO
A13: COMUNIDAD FORAL DE NAVARRA
A14: LA RIOJA | G14: 1.5114 | O14: 1.5114
A15: HUESCA | B15: 92.3691 | F15: 65.1255 | G15: 201.551 | J15: 14.5669 | O15: 373.6125
A16: TERUEL
A17: ZARAGOZA | B17: 15.6133 | J17: 30.397 | O17: 46.0103
A18: ARAGÓN | B18: 107.9824 | F18: 65.1255 | G18: 201.551 | J18: 44.9639 | O18: 419.6228
A19: BARCELONA | B19: 26.1257 | O19: 26.1257
A20: GIRONA | B20: 5.409 | J20: 0.6765 | O20: 6.0855
A21: LLEIDA | B21: 573.6211 | F21: 25.5414 | J21: 42.5383 | O21: 641.7008
A22: TARRAGONA | B22: 32.6141 | J22: 73.2866 | K22: 10.6523 | O22: 116.553
A23: CATALUÑA | B23: 637.7699 | F23: 25.5414 | J23: 116.5014 | K23: 10.6523 | O23: 790.465
A24: ILLES BALEARS | B24: 134.7455 | D24: 121.9853 | J24: 27.5036 | O24: 284.2344
A25: ÁVILA | B25: 107.6369 | O25: 107.6369
A26: BURGOS
A27: LEÓN
A28: PALENCIA
A29: SALAMANCA
A30: SEGOVIA
A31: SORIA
A32: VALLADOLID
A33: ZAMORA
A34: CASTILLA Y LEÓN | B34: 107.6369 | O34: 107.6369
A35: COMUNIDAD DE MADRID | H35: 39.3272 | O35: 39.3272
A36: ALBACETE | B36: 0.179 | O36: 0.179
A37: CIUDAD REAL
A38: CUENCA
A39: GUADALAJARA
A40: TOLEDO | B40: 188.3979 | O40: 188.3979
A41: CASTILLA-LA MANCHA | B41: 188.5769 | O41: 188.5769
A42: ALICANTE/ALACANT | B42: 386.2613 | D42: 708.3685 | F42: 9.1346 | H42: 193.3611 | J42: 2743.5746 | M42: 0.6862 | O42: 4041.3863
A43: CASTELLÓN/CASTELLÓ | D43: 925.1522 | F43: 135.6983 | I43: 0.7283 | J43: 36.8064 | O43: 1098.3852
A44: VALENCIA/VALÈNCIA | B44: 57.3969 | D44: 2149.5064 | F44: 12673.403 | G44: 607.5148 | I44: 3.7123 | J44: 621.9691 | L44: 1.6302 | M44: 2.2879 | N44: 11.6166 | O44: 16129.038
A45: COMUNITAT VALENCIANA | B45: 443.6582 | D45: 3783.0271 | F45: 12818.236 | G45: 607.5148 | H45: 193.3611 | I45: 4.4406 | J45: 3402.3501 | L45: 1.6302 | M45: 2.9741 | N45: 11.6166 | O45: 21268.809
A46: REGIÓN DE MURCIA | B46: 48.9258 | F46: 8.6652 | H46: 178.0728 | J46: 422.4035 | K46: 3.3293 | O46: 661.3966
A47: BADAJOZ | B47: 1807.5019 | F47: 86.1848 | O47: 1893.6867
A48: CÁCERES | B48: 836.8517 | G48: 5.64 | O48: 842.4917
A49: EXTREMADURA | B49: 2644.3536 | F49: 86.1848 | G49: 5.64 | O49: 2736.1784
A50: ALMERÍA | B50: 6.3169 | D50: 8.0576 | H50: 5.0709 | J50: 14.2788 | M50: 1.2722 | O50: 34.9964
A51: CÁDIZ | B51: 19.9136 | D51: 1837.011 | J51: 4.1764 | O51: 1861.101
A52: CÓRDOBA | B52: 3.5799 | J52: 25.3349 | O52: 28.9148
A53: GRANADA | B53: 9.0593 | C53: 2534.7807 | D53: 4680.6662 | F53: 39.1073 | H53: 23.4801 | I53: 1136.713 | J53: 1.9251 | O53: 8425.7317
A54: HUELVA | B54: 49.182 | D54: 242.7545 | F54: 132.0304 | I54: 26.6832 | J54: 1.6698 | K54: 320.6197 | N54: 115.1075 | O54: 888.0471
A55: JAÉN | B55: 2.2094 | F55: 1.9658 | J55: 15.6505 | O55: 19.8257
A56: MÁLAGA | B56: 46.0065 | C56: 5.4125 | D56: 10447.894 | H56: 26.4303 | I56: 3672.0961 | J56: 79.6988 | K56: 14.3024 | O56: 14291.841
A57: SEVILLA | B57: 34.1565 | D57: 442.1028 | F57: 181.7705 | H57: 7.2045 | J57: 104.7076 | O57: 769.9419
A58: ANDALUCÍA | B58: 170.4241 | C58: 2540.1932 | D58: 17658.486 | F58: 354.874 | H58: 62.1858 | I58: 4835.4923 | J58: 247.4419 | K58: 334.9221 | M58: 1.2722 | N58: 115.1075 | O58: 26320.399
A59: PALMAS (Las) | B59: 45.4925 | D59: 186.2347 | E59: 527.0041 | H59: 42.146 | I59: 60.7164 | K59: 16.9509 | L59: 8.89 | N59: 0.7764 | O59: 888.211
A60: Sta.C. de TENERIFE | B60: 2.1004 | C60: 7.377 | D60: 1017.8461 | E60: 6392.2086 | H60: 65.7137 | I60: 214.7028 | L60: 10.418 | O60: 7710.3666
A61: CANARIAS | B61: 47.5929 | C61: 7.377 | D61: 1204.0808 | E61: 6919.2127 | H61: 107.8597 | I61: 275.4192 | K61: 16.9509 | L61: 19.308 | N61: 0.7764 | O61: 8598.5776
A62: ESPAÑA | B62: 4531.6662 | C62: 2547.5702 | D62: 22767.579 | E62: 6919.2127 | F62: 13358.627 | G62: 820.1523 | H62: 580.8066 | I62: 5115.3521 | J62: 4268.1334 | K62: 365.8546 | L62: 20.9382 | M62: 4.2463 | N62: 127.5005 | O62: 61427.64

Sheet C13  FRUTALES NO CITRICOS
A1: Provincias y CC.AA. | B1: Almendro | C1: Almendro no comercial | D1: Nogal Fruto | E1: Castaño | F1: Avellano | G1: Pistacho | H1: Total Frutos secos
A2: A CORUÑA
A3: LUGO
A4: OURENSE
A5: PONTEVEDRA
A6: GALICIA
A7: PRINCIPADO DE ASTURIAS
A8: CANTABRIA | D8: 1.538 | H8: 1.538
A9: ARABA/ÁLAVA | D9: 29.8559 | H9: 29.8559
A10: GIPUZKOA
A11: BIZKAIA
A12: PAÍS VASCO | D12: 29.8559 | H12: 29.8559
A13: COMUNIDAD FORAL DE NAVARRA | B13: 2592.5349 | C13: 7.005 | D13: 7.3287 | F13: 381.9128 | G13: 13.0149 | H13: 3001.7963
A14: LA RIOJA | B14: 1558.4961 | D14: 340.5362 | F14: 7.4046 | G14: 86.0447 | H14: 1992.4816
A15: HUESCA | B15: 12543.901 | D15: 346.4577 | F15: 19.9125 | G15: 122.0005 | H15: 13032.272
A16: TERUEL | B16: 1057.0122 | D16: 37.5495 | G16: 279.9287 | H16: 1374.4904
A17: ZARAGOZA | B17: 16876.403 | C17: 38.5225 | D17: 291.662 | F17: 6.1699 | G17: 560.2081 | H17: 17772.966
A18: ARAGÓN | B18: 30477.317 | C18: 38.5225 | D18: 675.6692 | F18: 26.0824 | G18: 962.1373 | H18: 32179.728
A19: BARCELONA | B19: 1.8063 | D19: 36.7358 | F19: 3.9421 | H19: 42.4842
A20: GIRONA | D20: 46.6417 | F20: 1082.9552 | H20: 1129.5969
A21: LLEIDA | B21: 13532.771 | C21: 29.171 | D21: 1069.7906 | F21: 1.5432 | G21: 1193.9032 | H21: 15827.178
A22: TARRAGONA | B22: 4231.3557 | C22: 22.4871 | D22: 264.6902 | F22: 4770.4875 | G22: 18.468 | H22: 9307.4885
A23: CATALUÑA | B23: 17765.932 | C23: 51.6581 | D23: 1417.8583 | F23: 5858.928 | G23: 1212.3712 | H23: 26306.748
A24: ILLES BALEARS | B24: 2689.51 | C24: 11.4364 | H24: 2700.9464
A25: ÁVILA | C25: 4.4078 | E25: 114.6527 | G25: 335.6582 | H25: 454.7187
A26: BURGOS | D26: 445.547 | G26: 0.6542 | H26: 446.2012
A27: LEÓN | B27: 8.3233 | D27: 51.6916 | F27: 4.2996 | G27: 108.6506 | H27: 172.9651
A28: PALENCIA | C28: 2.4722 | G28: 159.9409 | H28: 162.4131
A29: SALAMANCA | D29: 12.1412 | H29: 12.1412
A30: SEGOVIA | G30: 43.532 | H30: 43.532
A31: SORIA | B31: 22.9528 | C31: 0.6358 | D31: 16.0515 | H31: 39.6401
A32: VALLADOLID | B32: 1759.0157 | C32: 15.1309 | D32: 176.3342 | G32: 378.9217 | H32: 2329.4025
A33: ZAMORA | B33: 543.7681 | C33: 5.108 | D33: 12.7763 | E33: 14.307 | G33: 690.451 | H33: 1266.4104
A34: CASTILLA Y LEÓN | B34: 2334.0599 | C34: 27.7547 | D34: 714.5418 | E34: 128.9597 | F34: 4.2996 | G34: 1717.8086 | H34: 4927.4243
A35: COMUNIDAD DE MADRID | B35: 24.7453 | G35: 914.1327 | H35: 938.878
A36: ALBACETE | B36: 16161.049 | D36: 1233.3405 | G36: 4267.6021 | H36: 21661.992
A37: CIUDAD REAL | B37: 13116.399 | D37: 150.0542 | G37: 9276.4764 | H37: 22542.93
A38: CUENCA | B38: 2858.3172 | D38: 3.3978 | G38: 2628.4674 | H38: 5490.1824
A39: GUADALAJARA | G39: 666.7948 | H39: 666.7948
A40: TOLEDO | B40: 7409.7465 | C40: 11.8353 | D40: 298.9481 | G40: 12845.188 | H40: 20565.718
A41: CASTILLA-LA MANCHA | B41: 39545.512 | C41: 11.8353 | D41: 1685.7406 | G41: 29684.529 | H41: 70927.617
A42: ALICANTE/ALACANT | B42: 2694.9928 | C42: 24.6088 | D42: 64.4065 | H42: 2784.0081
A43: CASTELLÓN/CASTELLÓ | B43: 3013.0749 | C43: 2.1263 | D43: 167.4082 | H43: 3182.6094
A44: VALENCIA/VALÈNCIA | B44: 5278.7375 | C44: 35.2004 | D44: 342.472 | G44: 89.3953 | H44: 5745.8052
A45: COMUNITAT VALENCIANA | B45: 10986.805 | C45: 61.9355 | D45: 574.2867 | G45: 89.3953 | H45: 11712.423
A46: REGIÓN DE MURCIA | B46: 9493.6516 | C46: 66.9419 | D46: 6.5475 | G46: 1404.6578 | H46: 10971.799
A47: BADAJOZ | B47: 16763.944 | C47: 17.5649 | D47: 1259.3125 | G47: 1913.5061 | H47: 19954.327
A48: CÁCERES | B48: 5376.4715 | D48: 1309.1246 | E48: 128.002 | G48: 823.387 | H48: 7636.9851
A49: EXTREMADURA | B49: 22140.415 | C49: 17.5649 | D49: 2568.4371 | E49: 128.002 | G49: 2736.8931 | H49: 27591.312
A50: ALMERÍA | B50: 1793.8737 | C50: 231.5038 | G50: 51.3922 | H50: 2076.7697
A51: CÁDIZ | B51: 652.78 | H51: 652.78
A52: CÓRDOBA | B52: 9926.9995 | D52: 90.6612 | G52: 37.9131 | H52: 10055.574
A53: GRANADA | B53: 9794.3151 | C53: 3.634 | D53: 81.8107 | E53: 23.1956 | G53: 2138.0498 | H53: 12041.005
A54: HUELVA | B54: 738.305 | E54: 0.5824 | H54: 738.8874
A55: JAÉN | B55: 1981.2652 | C55: 0.3131 | D55: 59.7461 | G55: 390.2523 | H55: 2431.5767
A56: MÁLAGA | B56: 161.2845 | C56: 21.2017 | D56: 194.6478 | G56: 1706.7995 | H56: 2083.9335
A57: SEVILLA | B57: 12614.624 | D57: 119.7799 | G57: 6.4207 | H57: 12740.825
A58: ANDALUCÍA | B58: 37663.447 | C58: 256.6526 | D58: 546.6457 | E58: 23.778 | G58: 4330.8276 | H58: 42821.351
A59: PALMAS (Las) | B59: 5.9001 | D59: 9.8168 | H59: 15.7169
A60: Sta.C. de TENERIFE | B60: 22.6412 | H60: 22.6412
A61: CANARIAS | B61: 28.5413 | D61: 9.8168 | H61: 38.3581
A62: ESPAÑA | B62: 177300.97 | C62: 551.3069 | D62: 8578.8025 | E62: 280.7397 | F62: 6278.6274 | G62: 43151.812 | H62: 236142.26
A64: (1) Datilera, grosella, azufaifo

Sheet C13  FRUTALES NO CITRICOS (2)
A1: Provincias y CC.AA. | B1: Frambueso | C1: Arándano | D1: Otros Frutales No citricos(1) | E1: Total Frutales No citricos
A2: A CORUÑA | E2: 9.9871
A3: LUGO | E3: 0.6119
A4: OURENSE | E4: 5.5738
A5: PONTEVEDRA | E5: 0.1347
A6: GALICIA | E6: 16.3075
A7: PRINCIPADO DE ASTURIAS | E7: 50.575
A8: CANTABRIA | E8: 1.538
A9: ARABA/ÁLAVA | E9: 34.7827
A10: GIPUZKOA
A11: BIZKAIA
A12: PAÍS VASCO | E12: 34.7827
A13: COMUNIDAD FORAL DE NAVARRA | E13: 4338.3821
A14: LA RIOJA | E14: 5419.7128
A15: HUESCA | D15: 1.3784 | E15: 29605.68
A16: TERUEL | E16: 3056.5235
A17: ZARAGOZA | D17: 0.6348 | E17: 40907.34
A18: ARAGÓN | D18: 2.0132 | E18: 73569.543
A19: BARCELONA | E19: 545.1039
A20: GIRONA | E20: 3545.476
A21: LLEIDA | D21: 12.3899 | E21: 47221.646
A22: TARRAGONA | D22: 10.6729 | E22: 10901.49
A23: CATALUÑA | D23: 23.0628 | E23: 62213.716
A24: ILLES BALEARS | D24: 4.109 | E24: 3400.1886
A25: ÁVILA | E25: 788.0104
A26: BURGOS | E26: 475.4762
A27: LEÓN | E27: 1151.5369
A28: PALENCIA | E28: 162.4131
A29: SALAMANCA | E29: 18.1409
A30: SEGOVIA | E30: 43.532
A31: SORIA | E31: 1399.3529
A32: VALLADOLID | E32: 2329.4025
A33: ZAMORA | E33: 1284.5378
A34: CASTILLA Y LEÓN | E34: 7652.4027
A35: COMUNIDAD DE MADRID | E35: 1197.4696
A36: ALBACETE | D36: 10.8855 | E36: 24672.271
A37: CIUDAD REAL | D37: 3.7882 | E37: 22572.296
A38: CUENCA | E38: 5490.1824
A39: GUADALAJARA | E39: 667.0227
A40: TOLEDO | D40: 3.9018 | E40: 21185.749
A41: CASTILLA-LA MANCHA | D41: 18.5755 | E41: 74587.521
A42: ALICANTE/ALACANT | D42: 96.6411 | E42: 9836.4666
A43: CASTELLÓN/CASTELLÓ | C43: 1.5316 | D43: 16.674 | E43: 4523.3862
A44: VALENCIA/VALÈNCIA | D44: 5.0326 | E44: 25437.697
A45: COMUNITAT VALENCIANA | C45: 1.5316 | D45: 118.3477 | E45: 39797.55
A46: REGIÓN DE MURCIA | D46: 9.6391 | E46: 32322.045
A47: BADAJOZ | E47: 32895.015
A48: CÁCERES | B48: 5.4851 | D48: 21.1879 | E48: 11115.79
A49: EXTREMADURA | B49: 5.4851 | D49: 21.1879 | E49: 44010.805
A50: ALMERÍA | D50: 6.3878 | E50: 2546.8483
A51: CÁDIZ | D51: 9.0828 | E51: 2522.9638
A52: CÓRDOBA | E52: 10341.741
A53: GRANADA | D53: 15.6998 | E53: 21947.972
A54: HUELVA | B54: 171.4529 | C54: 1266.1134 | D54: 18.2745 | E54: 3226.6871
A55: JAÉN | E55: 2656.7391
A56: MÁLAGA | D56: 157.712 | E56: 16703.218
A57: SEVILLA | D57: 10.6987 | E57: 15890.931
A58: ANDALUCÍA | B58: 171.4529 | C58: 1266.1134 | D58: 217.8556 | E58: 75837.1
A59: PALMAS (Las) | D59: 8.827 | E59: 1036.5334
A60: Sta.C. de TENERIFE | D60: 13.1195 | E60: 7792.1216
A61: CANARIAS | D61: 21.9465 | E61: 8828.655
A62: ESPAÑA | B62: 176.938 | C62: 1267.645 | D62: 436.7373 | E62: 433278.29
A64: (1) Datilera, grosella

Sheet C16A  VIÑEDO MESA
A1: Provincias y CC.AA. | B1: Viñedo Uva de Mesa blanca sin semilla | C1: Viñedo Uva de Mesa blanca con semilla | D1: Viñedo Uva de Mesa roja sin semilla | E1: Viñedo Uva de Mesa roja con semilla | F1: Total Viñedo Uva de Mesa
A2: A CORUÑA
A3: LUGO
A4: OURENSE
A5: PONTEVEDRA
A6: GALICIA
A7: PRINCIPADO DE ASTURIAS
A8: CANTABRIA
A9: ARABA/ÁLAVA
A10: GIPUZKOA
A11: BIZKAIA
A12: PAÍS VASCO
A13: COMUNIDAD FORAL DE NAVARRA
... A20: GIRONA
A21: LLEIDA | C21: 15.019 | F21: 15.019
A22: TARRAGONA
A23: CATALUÑA | C23: 15.019 | F23: 15.019
A24: ILLES BALEARS
A25: ÁVILA
A26: BURGOS
A27: LEÓN
A28: PALENCIA
A29: SALAMANCA
A30: SEGOVIA
A31: SORIA
A32: VALLADOLID
A33: ZAMORA
A34: CASTILLA Y LEÓN
A35: COMUNIDAD DE MADRID
A36: ALBACETE | B36: 2171.9357 | F36: 2171.9357
A37: CIUDAD REAL
A38: CUENCA
A39: GUADALAJARA
A40: TOLEDO
A41: CASTILLA-LA MANCHA | B41: 2171.9357 | F41: 2171.9357
A42: ALICANTE/ALACANT | B42: 103.3245 | C42: 3579.3392 | D42: 128.8638 | E42: 130.4239 | F42: 3941.9514
A43: CASTELLÓN/CASTELLÓ | C43: 1.7061 | E43: 2.8414 | F43: 4.5475
A44: VALENCIA/VALÈNCIA | C44: 34.9053 | D44: 15.7816 | E44: 0.8517 | F44: 51.5386
A45: COMUNITAT VALENCIANA | B45: 103.3245 | C45: 3615.9506 | D45: 144.6454 | E45: 134.117 | F45: 3998.0375
A46: REGIÓN DE MURCIA | B46: 2021.4585 | C46: 339.3488 | D46: 3116.178 | E46: 677.6746 | F46: 6154.6599
A47: BADAJOZ
A48: CÁCERES
A49: EXTREMADURA
A50: ALMERÍA | B50: 5.051 | C50: 1.0865 | D50: 92.0574 | E50: 98.5934 | F50: 196.7883
A51: CÁDIZ | C51: 0.2017 | F51: 0.2017
A52: CÓRDOBA | C52: 6.7177 | F52: 6.7177
A53: GRANADA | D53: 354.593 | F53: 354.593
A54: HUELVA
A55: JAÉN
A56: MÁLAGA | C56: 3.8273 | E56: 4.7218 | F56: 8.5491
A57: SEVILLA | C57: 112.6179 | D57: 57.7299 | E57: 251.5756 | F57: 421.9234
A58: ANDALUCÍA | B58: 5.051 | C58: 124.4511 | D58: 504.3803 | E58: 354.8908 | F58: 988.7732
A59: PALMAS (Las) | B59: 3.0919 | C59: 0.7764 | F59: 3.8683
A60: Sta.C. de TENERIFE
A61: CANARIAS | B61: 3.0919 | C61: 0.7764 | F61: 3.8683
A62: ESPAÑA | B62: 4304.8616 | C62: 4095.5459 | D62: 3765.2037 | E62: 1166.6824 | F62: 13332.294

Sheet C16B  VIÑEDO TRANSF.
A1: Provincias y CC.AA. | B1: Viñedo Uva de Transformación Sin clasificar | C1: Viñedo Uva de Transformación Uva Blanca | D1: Viñedo Uva de Transformación Uva Tinta | E1: Total Viñedo Uva de Transformación | F1: Total Viñedo
A2: A CORUÑA | B2: 0.2929 | E2: 0.2929 | F2: 0.2929
A3: LUGO | B3: 0.4839 | E3: 0.4839 | F3: 0.4839
A4: OURENSE | B4: 54.5389 | E4: 54.5389 | F4: 54.5389
A5: PONTEVEDRA | B5: 421.6175 | C5: 325.0778 | E5: 746.6953 | F5: 746.6953
A6: GALICIA | B6: 476.9332 | C6: 325.0778 | E6: 802.011 | F6: 802.011
A7: PRINCIPADO DE ASTURIAS
A8: CANTABRIA
A9: ARABA/ÁLAVA | D9: 2721.6833 | E9: 2721.6833 | F9: 2721.6833
A10: GIPUZKOA
A11: BIZKAIA | C11: 2.1334 | E11: 2.1334 | F11: 2.1334
A12: PAÍS VASCO | C12: 2.1334 | D12: 2721.6833 | E12: 2723.8167 | F12: 2723.8167
A13: COMUNIDAD FORAL DE NAVARRA | B13: 4270.5713 | C13: 29.8898 | D13: 6140.9193 | E13: 10441.38 | F13: 10441.38
A14: LA RIOJA | B14: 11662.685 | C14: 1104.8353 | D14: 10032.746 | E14: 22800.266 | F14: 22800.266
A15: HUESCA | B15: 461.5247 | C15: 31.5137 | D15: 1369.8429 | E15: 1862.8813 | F15: 1862.8813
A16: TERUEL | B16: 141.9476 | D16: 11.1717 | E16: 153.1193 | F16: 153.1193
A17: ZARAGOZA | B17: 433.0817 | C17: 837.3427 | D17: 6448.4257 | E17: 7718.8501 | F17: 7718.8501
A18: ARAGÓN | B18: 1036.554 | C18: 868.8564 | D18: 7829.4403 | E18: 9734.8507 | F18: 9734.8507
A19: BARCELONA | B19: 266.4474 | E19: 266.4474 | F19: 266.4474
A20: GIRONA | B20: 131.7109 | E20: 131.7109 | F20: 131.7109
A21: LLEIDA | B21: 3940.7702 | D21: 3.4035 | E21: 3944.1737 | F21: 3959.1927
A22: TARRAGONA | B22: 4521.6465 | C22: 670.0084 | D22: 11.5994 | E22: 5203.2543 | F22: 5203.2543
A23: CATALUÑA | B23: 8860.575 | C23: 670.0084 | D23: 15.0029 | E23: 9545.5863 | F23: 9560.6053
A24: ILLES BALEARS | B24: 738.5981 | C24: 366.2731 | D24: 1626.6476 | E24: 2731.5188 | F24: 2731.5188
A25: ÁVILA | B25: 239.1161 | E25: 239.1161 | F25: 239.1161
A26: BURGOS | B26: 5090.9602 | C26: 4.7523 | D26: 1243.0341 | E26: 6338.7466 | F26: 6338.7466
A27: LEÓN | B27: 23.3564 | C27: 12.7582 | E27: 36.1146 | F27: 36.1146
A28: PALENCIA
A29: SALAMANCA | B29: 7.2932 | E29: 7.2932 | F29: 7.2932
A30: SEGOVIA | B30: 1387.2964 | E30: 1387.2964 | F30: 1387.2964
A31: SORIA
A32: VALLADOLID | B32: 6378.9858 | C32: 9243.8325 | D32: 3673 | E32: 19295.818 | F32: 19295.818
A33: ZAMORA | B33: 2651.443 | E33: 2651.443 | F33: 2651.443
A34: CASTILLA Y LEÓN | B34: 15778.451 | C34: 9261.343 | D34: 4916.0341 | E34: 29955.828 | F34: 29955.828
A35: COMUNIDAD DE MADRID | B35: 73.8647 | C35: 517.3133 | E35: 591.178 | F35: 591.178
A36: ALBACETE | B36: 10218.459 | C36: 10562.211 | D36: 15496.544 | E36: 36277.213 | F36: 38449.149
A37: CIUDAD REAL | B37: 30851.404 | C37: 53369.244 | D37: 27094.78 | E37: 111315.43 | F37: 111315.43
A38: CUENCA | B38: 10411.534 | C38: 10247.481 | D38: 4955.5522 | E38: 25614.567 | F38: 25614.567
A39: GUADALAJARA | C39: 27.6118 | E39: 27.6118 | F39: 27.6118
A40: TOLEDO | B40: 34441.143 | C40: 6040.9796 | D40: 2157.2897 | E40: 42639.412 | F40: 42639.412
A41: CASTILLA-LA MANCHA | B41: 85922.54 | C41: 80247.527 | D41: 49704.166 | E41: 215874.23 | F41: 218046.17
A42: ALICANTE/ALACANT | B42: 2247.2529 | C42: 42.6342 | D42: 254.1752 | E42: 2544.0623 | F42: 6486.0137
A43: CASTELLÓN/CASTELLÓ | D43: 21.1161 | E43: 21.1161 | F43: 25.6636
A44: VALENCIA/VALÈNCIA | B44: 4796.8089 | C44: 4127.8099 | D44: 6707.1781 | E44: 15631.797 | F44: 15683.335
A45: COMUNITAT VALENCIANA | B45: 7044.0618 | C45: 4170.4441 | D45: 6982.4694 | E45: 18196.975 | F45: 22195.013
A46: REGIÓN DE MURCIA | B46: 2384.7309 | D46: 2448.7002 | E46: 4833.4311 | F46: 10988.091
A47: BADAJOZ | B47: 23778.29 | C47: 2777.7367 | D47: 1134.4431 | E47: 27690.47 | F47: 27690.47
A48: CÁCERES | B48: 924.3432 | E48: 924.3432 | F48: 924.3432
A49: EXTREMADURA | B49: 24702.633 | C49: 2777.7367 | D49: 1134.4431 | E49: 28614.813 | F49: 28614.813
A50: ALMERÍA | B50: 36.2051 | D50: 3.8211 | E50: 40.0262 | F50: 236.8145
A51: CÁDIZ | B51: 3.749 | C51: 1.0485 | D51: 6.147 | E51: 10.9445 | F51: 11.1462
A52: CÓRDOBA | B52: 634.0626 | C52: 68.9573 | D52: 30.8987 | E52: 733.9186 | F52: 740.6363
A53: GRANADA | B53: 211.259 | C53: 22.3435 | D53: 95.6294 | E53: 329.2319 | F53: 683.8249
A54: HUELVA | B54: 48.1323 | E54: 48.1323 | F54: 48.1323
A55: JAÉN | B55: 77.0979 | C55: 40.5481 | E55: 117.646 | F55: 117.646
A56: MÁLAGA | B56: 68.9903 | C56: 150.1938 | E56: 219.1841 | F56: 227.7332
A57: SEVILLA | B57: 9.2647 | E57: 9.2647 | F57: 431.1881
A58: ANDALUCÍA | B58: 1088.7609 | C58: 283.0912 | D58: 136.4962 | E58: 1508.3483 | F58: 2497.1215
A59: PALMAS (Las) | B59: 417.7266 | C59: 7.673 | D59: 77.0567 | E59: 502.4563 | F59: 506.3246
A60: Sta.C. de TENERIFE | B60: 2264.1663 | C60: 176.8 | D60: 10.6501 | E60: 2451.6164 | F60: 2451.6164
A61: CANARIAS | B61: 2681.8929 | C61: 184.473 | D61: 87.7068 | E61: 2954.0727 | F61: 2957.941
A62: ESPAÑA | B62: 166722.85 | C62: 100809 | D62: 93776.455 | E62: 361308.31 | F62: 374640.6

Sheet C17 OLIVAR
A1: Provincias y CC.AA. | B1: Olivar Aceituna de Mesa | C1: Olivar de Doble Aptitud (mesa y almazara) | D1: Olivar Aceituna de Almazara | E1: Total Olivar
A2: A CORUÑA
A3: LUGO
A4: OURENSE | D4: 0.4095 | E4: 0.4095
A5: PONTEVEDRA
A6: GALICIA | D6: 0.4095 | E6: 0.4095
A7: PRINCIPADO DE ASTURIAS
A8: CANTABRIA
A9: ARABA/ÁLAVA | D9: 27.2288 | E9: 27.2288
A10: GIPUZKOA
A11: BIZKAIA
A12: PAÍS VASCO | D12: 27.2288 | E12: 27.2288
A13: COMUNIDAD FORAL DE NAVARRA | D13: 8354.4786 | E13: 8354.4786
A14: LA RIOJA | D14: 2147.3117 | E14: 2147.3117
A15: HUESCA | B15: 10.5264 | C15: 68.311 | D15: 2946.6449 | E15: 3025.4823
A16: TERUEL | C16: 1537.689 | D16: 2133.371 | E16: 3671.06
A17: ZARAGOZA | B17: 407.2895 | C17: 53.4086 | D17: 8742.6619 | E17: 9203.36
A18: ARAGÓN | B18: 417.8159 | C18: 1659.4086 | D18: 13822.678 | E18: 15899.902
A19: BARCELONA | C19: 3.3023 | D19: 390.4604 | E19: 393.7627
A20: GIRONA | C20: 29.8568 | D20: 585.3784 | E20: 615.2352
A21: LLEIDA | B21: 67.3888 | C21: 155.9748 | D21: 12015.661 | E21: 12239.024
A22: TARRAGONA | B22: 504.2419 | C22: 453.7647 | D22: 12248.963 | E22: 13206.97
A23: CATALUÑA | B23: 571.6307 | C23: 642.8986 | D23: 25240.463 | E23: 26454.992
A24: ILLES BALEARS | B24: 7.9842 | C24: 30.3155 | D24: 4060.7014 | E24: 4099.0011
A25: ÁVILA | D25: 45.5365 | E25: 45.5365
A26: BURGOS
A27: LEÓN | D27: 5.1025 | E27: 5.1025
A28: PALENCIA
A29: SALAMANCA
A30: SEGOVIA
A31: SORIA | D31: 316.9479 | E31: 316.9479
A32: VALLADOLID | D32: 1241.3902 | E32: 1241.3902
A33: ZAMORA | D33: 237.1117 | E33: 237.1117
A34: CASTILLA Y LEÓN | D34: 1846.0888 | E34: 1846.0888
A35: COMUNIDAD DE MADRID | D35: 622.0828 | E35: 622.0828
A36: ALBACETE | B36: 167.7091 | D36: 10646.624 | E36: 10814.333
A37: CIUDAD REAL | D37: 46614.831 | E37: 46614.831
A38: CUENCA | D38: 2425.7522 | E38: 2425.7522
A39: GUADALAJARA
A40: TOLEDO | B40: 92.5723 | D40: 26365.713 | E40: 26458.285
A41: CASTILLA-LA MANCHA | B41: 260.2814 | D41: 86052.92 | E41: 86313.202
A42: ALICANTE/ALACANT | C42: 20.7809 | D42: 8670.9163 | E42: 8691.6972
A43: CASTELLÓN/CASTELLÓ | B43: 6.5859 | C43: 3.6202 | D43: 1585.4351 | E43: 1595.6412
A44: VALENCIA/VALÈNCIA | D44: 6297.6252 | E44: 6297.6252
A45: COMUNITAT VALENCIANA | B45: 6.5859 | C45: 24.4011 | D45: 16553.977 | E45: 16584.964
A46: REGIÓN DE MURCIA | B46: 230.9707 | C46: 182.634 | D46: 9107.936 | E46: 9521.5407
A47: BADAJOZ | B47: 5301.9436 | C47: 14581.027 | D47: 54289.882 | E47: 74172.853
A48: CÁCERES | B48: 1346.7917 | C48: 59.4096 | D48: 4715.385 | E48: 6121.5863
A49: EXTREMADURA | B49: 6648.7353 | C49: 14640.437 | D49: 59005.267 | E49: 80294.439
A50: ALMERÍA | B50: 54.338 | C50: 23.9478 | D50: 17709.745 | E50: 17788.031
A51: CÁDIZ | B51: 700.8834 | C51: 54.185 | D51: 6235.3918 | E51: 6990.4602
A52: CÓRDOBA | B52: 1229.7197 | C52: 17281.019 | D52: 74754.599 | E52: 93265.338
A53: GRANADA | C53: 6004.4129 | D53: 84102.743 | E53: 90107.155
A54: HUELVA | B54: 2054.8715 | C54: 620.489 | D54: 4217.3009 | E54: 6892.6614
A55: JAÉN | B55: 451.5912 | C55: 133.6815 | D55: 313932.24 | E55: 314517.51
A56: MÁLAGA | B56: 14.0626 | C56: 15052.145 | D56: 28334.457 | E56: 43400.665
A57: SEVILLA | B57: 24472.452 | C57: 22453.574 | D57: 69633.346 | E57: 116559.37
A58: ANDALUCÍA | B58: 28977.919 | C58: 61623.454 | D58: 598919.82 | E58: 689521.19
A59: PALMAS (Las) | B59: 22.2605 | C59: 670.7774 | D59: 1.7605 | E59: 694.7984
A60: Sta.C. de TENERIFE | D60: 20.6482 | E60: 20.6482
A61: CANARIAS | B61: 22.2605 | C61: 670.7774 | D61: 22.4087 | E61: 715.4466
A62: ESPAÑA | B62: 37144.183 | C62: 79474.326 | D62: 825783.77 | E62: 942402.28

Sheet C17  OTROS CULTIVOS LEÑOSO
A1: Provincias y CC.AA. | B1: Algarrobo | C1: Alcaparra | D1: Caña Vulgar | E1: Mimbrera | F1: Bambú | G1: Otros cultivos Leñosos | H1: Total Otros cultivos leñosos | I1: Total Viveros
A2: A CORUÑA
A3: LUGO | I3: 7.5282
A4: OURENSE
A5: PONTEVEDRA
A6: GALICIA | I6: 7.5282
A7: PRINCIPADO DE ASTURIAS | I7: 3.1406
A8: CANTABRIA
A9: ARABA/ÁLAVA | I9: 30.6578
A10: GIPUZKOA
A11: BIZKAIA
A12: PAÍS VASCO | I12: 30.6578
A13: COMUNIDAD FORAL DE NAVARRA | I13: 118.6967
A14: LA RIOJA | I14: 246.875
A15: HUESCA | I15: 111.1116
A16: TERUEL | I16: 49.0545
A17: ZARAGOZA | I17: 272.9195
A18: ARAGÓN | I18: 433.0856
A19: BARCELONA | I19: 178.1955
A20: GIRONA | I20: 303.4583
A21: LLEIDA | I21: 105.2583
A22: TARRAGONA | B22: 916.1839 | H22: 916.1839 | I22: 1095.646
A23: CATALUÑA | B23: 916.1839 | H23: 916.1839 | I23: 1682.5581
A24: ILLES BALEARS | B24: 1291.4246 | H24: 1291.4246 | I24: 127.4127
A25: ÁVILA | I25: 171.0962
A26: BURGOS | I26: 76.1301
A27: LEÓN | I27: 12.6321
A28: PALENCIA
A29: SALAMANCA | E29: 7.47 | H29: 7.47 | I29: 40.1685
A30: SEGOVIA | I30: 150.8084
A31: SORIA
A32: VALLADOLID | I32: 620.7114
A33: ZAMORA | G33: 40.3671 | H33: 40.3671 | I33: 67.6522
A34: CASTILLA Y LEÓN | E34: 7.47 | G34: 40.3671 | H34: 47.8371 | I34: 1139.1989
A35: COMUNIDAD DE MADRID
A36: ALBACETE | I36: 33.9132
A37: CIUDAD REAL
A38: CUENCA
A39: GUADALAJARA | I39: 24.9854
A40: TOLEDO
A41: CASTILLA-LA MANCHA | I41: 58.8986
A42: ALICANTE/ALACANT | B42: 52.3155 | H42: 52.3155 | I42: 2856.4517
A43: CASTELLÓN/CASTELLÓ | B43: 128.3873 | F43: 5.4674 | H43: 133.8547 | I43: 685.7937
A44: VALENCIA/VALÈNCIA | B44: 363.4842 | H44: 363.4842 | I44: 3796.4059
A45: COMUNITAT VALENCIANA | B45: 544.187 | F45: 5.4674 | H45: 549.6544 | I45: 7338.6513
A46: REGIÓN DE MURCIA | B46: 66.8303 | H46: 66.8303 | I46: 756.4138
A47: BADAJOZ | I47: 179.634
A48: CÁCERES | I48: 231.8081
A49: EXTREMADURA | I49: 411.4421
A50: ALMERÍA | B50: 7.1768 | H50: 7.1768 | I50: 159.4064
A51: CÁDIZ | I51: 46.6536
A52: CÓRDOBA | I52: 228.0118
A53: GRANADA | B53: 29.2076 | H53: 29.2076 | I53: 307.6941
A54: HUELVA | B54: 239.6168 | H54: 239.6168
A55: JAÉN | I55: 5.4342
A56: MÁLAGA | B56: 7.3042 | H56: 7.3042 | I56: 72.8729
A57: SEVILLA | G57: 25.3985 | H57: 25.3985 | I57: 193.3936
A58: ANDALUCÍA | B58: 283.3054 | G58: 25.3985 | H58: 308.7039 | I58: 1013.4666
A59: PALMAS (Las) | G59: 131.0501 | H59: 131.0501 | I59: 3.5265
A60: Sta.C. de TENERIFE | I60: 425.9571
A61: CANARIAS | G61: 131.0501 | H61: 131.0501 | I61: 429.4836
A62: ESPAÑA | B62: 3101.9312 | E62: 7.47 | F62: 5.4674 | G62: 196.8157 | H62: 3311.6843 | I62: 13797.51
