Workbook

Sheet C01  CEREALES GRANO
B1: CEREALES GRANO
A2: Provincias y CC.AA. | B2: Trigo Duro | C2: Trigo Blando | D2: Trigo Total | E2: Cebada 2 carreras | F2: Cebada 6 carreras | G2: Cebada Total | H2: Avena | I2: Centeno
A3: A CORUÑA | B3: 7.3099 | C3: 1401.8015 | D3: 1409.1114 | E3: 26.0177 | G3: 26.0177 | H3: 200.6724 | I3: 76.1519
A4: LUGO | B4: 35.2647 | C4: 2343.016 | D4: 2378.2807 | E4: 50.5153 | F4: 10.627 | G4: 61.1423 | H4: 75.5192 | I4: 393.2081
A5: OURENSE | C5: 6590.6416 | D5: 6590.6416 | E5: 725.5408 | F5: 27.5472 | G5: 753.088 | H5: 37.3273 | I5: 4479.7557
A6: PONTEVEDRA | C6: 63.5343 | D6: 63.5343 | H6: 6.3975 | I6: 187.5744
A7: GALICIA | B7: 42.5746 | C7: 10398.993 | D7: 10441.568 | E7: 802.0738 | F7: 38.1742 | G7: 840.248 | H7: 319.9164 | I7: 5136.6901
A8: PRINCIPADO DE ASTURIAS
A9: CANTABRIA | C9: 362.7908 | D9: 362.7908 | E9: 157.0824 | G9: 157.0824
A10: ARABA/ÁLAVA | C10: 23391.7 | D10: 23391.7 | E10: 12152.13 | G10: 12152.13 | H10: 7220.0147
A11: GIPUZKOA
A12: BIZKAIA
A13: PAÍS VASCO | C13: 23391.7 | D13: 23391.7 | E13: 12152.13 | G13: 12152.13 | H13: 7220.0147
A14: COMUNIDAD FORAL DE NAVARRA | B14: 3475.2847 | C14: 76258.556 | D14: 79733.84 | E14: 69217.024 | G14: 69217.024 | H14: 9944.2241 | I14: 629.2998
A15: LA RIOJA | B15: 140.1362 | C15: 27030.406 | D15: 27170.542 | E15: 22768.56 | F15: 12.539 | G15: 22781.099 | H15: 1015.1526 | I15: 145.4152
A16: HUESCA | B16: 2266.4353 | C16: 89661.139 | D16: 91927.574 | E16: 166490.59 | F16: 28.6089 | G16: 166519.2 | H16: 5546.3712 | I16: 8.6531
A17: TERUEL | B17: 951.1368 | C17: 31731.987 | D17: 32683.123 | E17: 94937.371 | F17: 49.5055 | G17: 94986.877 | H17: 19600.261 | I17: 7620.9664
A18: ZARAGOZA | B18: 42186.608 | C18: 69797.38 | D18: 111983.99 | E18: 168608.41 | F18: 2277.6702 | G18: 170886.08 | H18: 7102.9591 | I18: 5341.1074
A19: ARAGÓN | B19: 45404.18 | C19: 191190.51 | D19: 236594.68 | E19: 430036.38 | F19: 2355.7846 | G19: 432392.16 | H19: 32249.591 | I19: 12970.727
A20: BARCELONA | B20: 391.0877 | C20: 23299.255 | D20: 23690.343 | E20: 43143.667 | F20: 61.8068 | G20: 43205.474 | H20: 4373.7988 | I20: 466.0591
A21: GIRONA | B21: 97.1245 | C21: 12089.296 | D21: 12186.42 | E21: 16009.088 | F21: 28.5327 | G21: 16037.621 | H21: 3704.6001 | I21: 526.4589
A22: LLEIDA | B22: 3754.9301 | C22: 48379.204 | D22: 52134.135 | E22: 118133.75 | F22: 155.801 | G22: 118289.55 | H22: 3782.6559 | I22: 264.2095
A23: TARRAGONA | C23: 9370.7336 | D23: 9370.7336 | E23: 12911.495 | F23: 69.738 | G23: 12981.233 | H23: 817.8084
A24: CATALUÑA | B24: 4243.1423 | C24: 93138.489 | D24: 97381.631 | E24: 190198 | F24: 315.8785 | G24: 190513.88 | H24: 12678.863 | I24: 1256.7275
A25: ILLES BALEARS | B25: 162.3902 | C25: 3693.218 | D25: 3855.6082 | E25: 3455.9728 | F25: 6641.262 | G25: 10097.235 | H25: 4386.5953
A26: ÁVILA | C26: 33464.905 | D26: 33464.905 | E26: 38178.511 | F26: 3674.3401 | G26: 41852.851 | H26: 4667.9677 | I26: 3756.9926
A27: BURGOS | B27: 2843.2256 | C27: 212094.13 | D27: 214937.36 | E27: 140836.46 | F27: 144.5818 | G27: 140981.04 | H27: 15041.127 | I27: 3793.7616
A28: LEÓN | B28: 5561.9068 | C28: 44650.337 | D28: 50212.244 | E28: 19018.476 | F28: 473.21 | G28: 19491.686 | H28: 13693.903 | I28: 14063.022
A29: PALENCIA | B29: 453.1767 | C29: 131608.84 | D29: 132062.01 | E29: 98354.319 | F29: 1771.8929 | G29: 100126.21 | H29: 23726.231 | I29: 16541.528
A30: SALAMANCA | B30: 1106.8893 | C30: 60845.76 | D30: 61952.649 | E30: 29183.873 | F30: 958.2985 | G30: 30142.171 | H30: 8662.955 | I30: 4265.7526
A31: SEGOVIA | B31: 5.9808 | C31: 76799.973 | D31: 76805.954 | E31: 57594.081 | F31: 4279.5567 | G31: 61873.637 | H31: 2454.1433 | I31: 12630.818
A32: SORIA | B32: 78.1523 | C32: 106089.1 | D32: 106167.25 | E32: 78354.794 | F32: 388.0126 | G32: 78742.807 | H32: 1330.4396 | I32: 14220.857
A33: VALLADOLID | C33: 131165.24 | D33: 131165.24 | E33: 168537.14 | F33: 2529.5224 | G33: 171066.66 | H33: 10895.807 | I33: 9023.3586
A34: ZAMORA | B34: 284.0409 | C34: 69347.356 | D34: 69631.397 | E34: 62284.954 | F34: 5884.8839 | G34: 68169.838 | H34: 20220.347 | I34: 9612.0875
A35: CASTILLA Y LEÓN | B35: 10333.372 | C35: 866065.64 | D35: 876399.02 | E35: 692342.6 | F35: 20104.299 | G35: 712446.9 | H35: 100692.92 | I35: 87908.179
A36: COMUNIDAD DE MADRID | B36: 174.6023 | C36: 20126.933 | D36: 20301.535 | E36: 39305.324 | F36: 331.5576 | G36: 39636.882 | H36: 10044.365 | I36: 725.9818
A37: ALBACETE | B37: 1886.5007 | C37: 63302.331 | D37: 65188.832 | E37: 112570.81 | F37: 11157.319 | G37: 123728.13 | H37: 53222.312 | I37: 1279.1249
A38: CIUDAD REAL | B38: 1349.5466 | C38: 40472.338 | D38: 41821.885 | E38: 133750.88 | F38: 7693.6523 | G38: 141444.53 | H38: 49706.428 | I38: 831.4733
A39: CUENCA | B39: 335.5998 | C39: 59752.645 | D39: 60088.245 | E39: 228311.76 | F39: 15892.882 | G39: 244204.64 | H39: 13838.647 | I39: 22.6539
A40: GUADALAJARA | B40: 1909.6326 | C40: 68317.668 | D40: 70227.301 | E40: 101734.35 | F40: 3717.4634 | G40: 105451.81 | H40: 7793.4541 | I40: 2012.3865
...

Sheet C02  CEREALES GRANO
B1: CEREALES GRANO
A2: Provincias y CC.AA. | B2: Triticale | C2: Mezcla de Cereales | D2: Total Cereales de Invierno | E2: Arroz | F2: Maíz | G2: Sorgo | H2: Otros cereales | I2: Quinoa | J2: Total Cereales Grano
A3: A CORUÑA | B3: 23.3896 | D3: 1735.343 | F3: 4325.5162 | H3: 2.1071 | J3: 6062.9663
A4: LUGO | C4: 2.0368 | D4: 2910.1871 | F4: 1231.0512 | J4: 4141.2383
A5: OURENSE | B5: 46.6129 | D5: 11907.425 | F5: 1029.4382 | J5: 12936.864
A6: PONTEVEDRA | D6: 257.5062 | F6: 3345.0047 | J6: 3602.5109
A7: GALICIA | B7: 70.0025 | C7: 2.0368 | D7: 16810.462 | F7: 9931.0103 | H7: 2.1071 | J7: 26743.579
A8: PRINCIPADO DE ASTURIAS | F8: 25.0949 | J8: 25.0949
A9: CANTABRIA | D9: 519.8732 | F9: 43.6072 | J9: 563.4804
A10: ARABA/ÁLAVA | B10: 244.6802 | D10: 43008.525 | J10: 43008.525
A11: GIPUZKOA | F11: 49.3135 | J11: 49.3135
A12: BIZKAIA | F12: 32.2599 | J12: 32.2599
A13: PAÍS VASCO | B13: 244.6802 | D13: 43008.525 | F13: 81.5734 | J13: 43090.099
A14: COMUNIDAD FORAL DE NAVARRA | B14: 3688.5745 | C14: 381.5367 | D14: 163594.5 | E14: 1339.616 | F14: 20835.776 | J14: 185769.89
A15: LA RIOJA | B15: 2544.4834 | D15: 53656.693 | F15: 107.6205 | J15: 53764.313
A16: HUESCA | B16: 13029.778 | C16: 35.2002 | D16: 277066.78 | E16: 2420.0639 | F16: 49533.464 | G16: 43.2524 | J16: 329063.56
A17: TERUEL | B17: 19936.265 | D17: 174827.49 | F17: 1225.4065 | J17: 176052.9
A18: ZARAGOZA | B18: 37649.186 | C18: 181.1567 | D18: 333144.48 | E18: 1870.5018 | F18: 12700.677 | G18: 155.6795 | J18: 347871.34
A19: ARAGÓN | B19: 70615.229 | C19: 216.3569 | D19: 785038.75 | E19: 4290.5657 | F19: 63459.548 | G19: 198.9319 | J19: 852987.8
A20: BARCELONA | B20: 648.9178 | D20: 72384.592 | F20: 26.1706 | G20: 78.8751 | J20: 72489.638
A21: GIRONA | B21: 395.181 | C21: 54.4227 | D21: 32904.704 | E21: 1580.1259 | F21: 5947.5894 | J21: 40432.419
A22: LLEIDA | B22: 9104.4011 | C22: 199.6095 | D22: 183774.56 | F22: 14735.126 | J22: 198509.69
A23: TARRAGONA | B23: 169.9373 | D23: 23339.712 | E23: 20782.072 | H23: 138.9345 | J23: 44260.718
A24: CATALUÑA | B24: 10318.437 | C24: 254.0322 | D24: 312403.57 | E24: 22362.197 | F24: 20708.886 | G24: 78.8751 | H24: 138.9345 | J24: 355692.46
A25: ILLES BALEARS | B25: 135.6219 | C25: 492.5775 | D25: 18967.638 | F25: 119.3293 | G25: 355.233 | J25: 19442.2
A26: ÁVILA | B26: 2078.9228 | C26: 48.8187 | D26: 85870.458 | F26: 865.0903 | J26: 86735.548
A27: BURGOS | B27: 4239.0652 | D27: 378992.36 | F27: 2080.9635 | J27: 381073.32
A28: LEÓN | B28: 3751.3208 | C28: 282.5637 | D28: 101494.74 | F28: 82427.94 | J28: 183922.68
A29: PALENCIA | B29: 5215.7578 | D29: 277671.74 | F29: 7839.7042 | I29: 23.2625 | J29: 285534.71
A30: SALAMANCA | B30: 1257.8261 | C30: 375.7037 | D30: 106657.06 | F30: 17671.112 | J30: 124328.17
A31: SEGOVIA | B31: 6092.7622 | D31: 159857.32 | F31: 237.1208 | H31: 78.8182 | J31: 160173.25
A32: SORIA | B32: 11851.111 | D32: 212312.47 | F32: 31.7426 | J32: 212344.21
A33: VALLADOLID | B33: 848.6848 | C33: 325.9335 | D33: 323325.68 | F33: 3191.4934 | G33: 225.0905 | H33: 396.0305 | J33: 327138.3
A34: ZAMORA | B34: 2405.0831 | C34: 133.7927 | D34: 170172.55 | F34: 14198.279 | J34: 184370.82
A35: CASTILLA Y LEÓN | B35: 37740.533 | C35: 1166.8123 | D35: 1816354.4 | F35: 128543.45 | G35: 225.0905 | H35: 474.8487 | I35: 23.2625 | J35: 1945621
A36: COMUNIDAD DE MADRID | B36: 8253.6247 | D36: 78962.388 | F36: 3115.0231 | J36: 82077.411
A37: ALBACETE | B37: 12829.629 | C37: 787.7282 | D37: 257035.76 | E37: 158.4495 | F37: 6018.8396 | J37: 263213.04
A38: CIUDAD REAL | B38: 16929.684 | C38: 2317.9689 | D38: 253051.97 | F38: 3122.4004 | J38: 256174.37
A39: CUENCA | B39: 6532.3022 | C39: 1070.4969 | D39: 325756.98 | F39: 437.4058 | J39: 326194.39
A40: GUADALAJARA | B40: 4391.8055 | D40: 189876.76 | F40: 1835.0565 | J40: 191711.81
...

Sheet C03  LEGUMINOSAS GRANO
B1: LEGUMINOSAS GRANO
A2: Provincias y CC.AA. | B2: Judias Secas | C2: Habas Secas | D2: Lentejas | E2: Garban-zos | F2: Guisantes Secos | G2: Veza | H2: Altra-muz | I2: Alga-rroba | J2: Yeros | K2: Otras Leguminosas Grano | L2: Total Leguminosas Grano
A3: A CORUÑA | B3: 103.6366 | F3: 3.319 | G3: 3.6304 | H3: 97.8411 | L3: 208.4271
A4: LUGO | B4: 382.7826 | L4: 382.7826
A5: OURENSE | B5: 22.6865 | K5: 5.6373 | L5: 28.3238
A6: PONTEVEDRA | B6: 17.5449 | L6: 17.5449
A7: GALICIA | B7: 526.6506 | F7: 3.319 | G7: 3.6304 | H7: 97.8411 | K7: 5.6373 | L7: 637.0784
A8: PRINCIPADO DE ASTURIAS | B8: 479.4597 | L8: 479.4597
A9: CANTABRIA
A10: ARABA/ÁLAVA | B10: 42.7689 | C10: 839.7632 | E10: 70.1077 | F10: 485.6377 | G10: 223.9294 | K10: 405.7276 | L10: 2067.9345
A11: GIPUZKOA
A12: BIZKAIA
A13: PAÍS VASCO | B13: 42.7689 | C13: 839.7632 | E13: 70.1077 | F13: 485.6377 | G13: 223.9294 | K13: 405.7276 | L13: 2067.9345
A14: COMUNIDAD FORAL DE NAVARRA | C14: 1246.497 | F14: 4293.15 | G14: 417.9285 | I14: 5.0343 | L14: 5962.6098
A15: LA RIOJA | E15: 276.3375 | F15: 1947.4827 | G15: 119.344 | L15: 2343.1642
A16: HUESCA | C16: 150.221 | F16: 4095.9954 | G16: 865.6571 | H16: 313.3799 | J16: 195.253 | K16: 0.3231 | L16: 5620.8295
A17: TERUEL | C17: 156.3139 | E17: 13.3073 | F17: 293.2618 | G17: 850.2531 | J17: 3438.8963 | K17: 13.4696 | L17: 4765.502
A18: ZARAGOZA | B18: 220.8817 | C18: 64.5746 | D18: 9.7483 | E18: 46.9153 | F18: 4467.9936 | G18: 1341.3007 | J18: 2892.708 | L18: 9044.1222
A19: ARAGÓN | B19: 220.8817 | C19: 371.1095 | D19: 9.7483 | E19: 60.2226 | F19: 8857.2508 | G19: 3057.2109 | H19: 313.3799 | J19: 6526.8573 | K19: 13.7927 | L19: 19430.454
A20: BARCELONA | B20: 49.779 | E20: 8.8568 | F20: 267.9471 | J20: 139.4307 | L20: 466.0136
A21: GIRONA | B21: 28.9499 | C21: 110.3494 | F21: 17.9732 | K21: 263.9693 | L21: 421.2418
A22: LLEIDA | D22: 103.4823 | F22: 1258.8228 | L22: 1362.3051
A23: TARRAGONA
A24: CATALUÑA | B24: 78.7289 | C24: 110.3494 | D24: 103.4823 | E24: 8.8568 | F24: 1544.7431 | J24: 139.4307 | K24: 263.9693 | L24: 2249.5605
A25: ILLES BALEARS | C25: 17.9213 | E25: 43.3694 | F25: 157.3734 | K25: 829.6049 | L25: 1048.269
A26: ÁVILA | B26: 32.7561 | E26: 1631.3509 | F26: 1395.3149 | G26: 1005.5012 | J26: 287.4374 | L26: 4352.3605
A27: BURGOS | B27: 5.546 | C27: 762.5084 | D27: 3402.0806 | E27: 2351.3813 | F27: 8219.2216 | G27: 16332.242 | H27: 6.9953 | J27: 1669.1177 | K27: 227.9127 | L27: 32977.005
A28: LEÓN | B28: 4826.9937 | C28: 724.4773 | D28: 54.1335 | E28: 1669.0092 | F28: 932.8292 | G28: 3195.6109 | L28: 11403.054
A29: PALENCIA | D29: 66.2652 | E29: 862.1956 | F29: 5154.1053 | G29: 17291.712 | H29: 26.0669 | J29: 120.5983 | K29: 349.5621 | L29: 23870.505
A30: SALAMANCA | D30: 1014.1081 | E30: 4342.7054 | F30: 1823.8825 | G30: 624.9183 | L30: 7805.6143
A31: SEGOVIA | D31: 611.7576 | E31: 1282.1498 | F31: 2675.5085 | G31: 1723.3179 | J31: 1947.155 | L31: 8239.8888
A32: SORIA | E32: 536.7562 | F32: 509.8917 | G32: 2193.8645 | J32: 11098.332 | L32: 14338.845
A33: VALLADOLID | D33: 7774.5329 | E33: 3410.0106 | F33: 19226.743 | G33: 16488.126 | J33: 1010.3452 | L33: 47909.757
A34: ZAMORA | D34: 244.2088 | E34: 2363.336 | F34: 5000.4246 | G34: 4025.5134 | H34: 283.2718 | I34: 18.9031 | J34: 80.706 | L34: 12016.364
A35: CASTILLA Y LEÓN | B35: 4865.2958 | C35: 1486.9857 | D35: 13167.087 | E35: 18448.895 | F35: 44937.921 | G35: 62880.806 | H35: 316.334 | I35: 18.9031 | J35: 16213.692 | K35: 577.4748 | L35: 162913.39
A36: COMUNIDAD DE MADRID | D36: 908.1542 | E36: 520.4033 | F36: 4934.7789 | G36: 442.9344 | J36: 1724.8313 | L36: 8531.1021
A37: ALBACETE | D37: 2008.3603 | E37: 12.7202 | F37: 9193.2291 | G37: 941.8622 | J37: 13234.643 | L37: 25390.815
A38: CIUDAD REAL | C38: 63.2813 | D38: 8.5682 | E38: 349.4247 | F38: 13314.834 | G38: 1883.7845 | J38: 7091.7232 | L38: 22711.616
A39: CUENCA | D39: 13513.784 | E39: 543.1583 | F39: 8147.2464 | G39: 2144.5011 | J39: 25802.042 | K39: 1084.8578 | L39: 51235.59
A40: GUADALAJARA | C40: 100.3974 | D40: 215.2159 | E40: 1621.4638 | F40: 3745.2702 | G40: 2008.1678 | J40: 15716.007 | L40: 23406.522
...

Sheet C04  TUBERCULOS, FLORES Y 
B1: TUBERCULOS | G1: FLORES Y P.ORNAMENTALES (en campo)
A2: Provincias y CC.AA. | B2: Patata | C2: Batata | D2: Chufa | E2: Otros Tuberculos | F2: Total Tubérculos Consumo Humano | G2: Total Flores y Plantas Ornamentales
A3: A CORUÑA | B3: 1416.6549 | F3: 1416.6549 | G3: 37.695
A4: LUGO | B4: 1531.5206 | F4: 1531.5206 | G4: 0.6155
A5: OURENSE | B5: 4810.3015 | F5: 4810.3015
A6: PONTEVEDRA | B6: 776.5833 | F6: 776.5833 | G6: 17.5812
A7: GALICIA | B7: 8535.0603 | F7: 8535.0603 | G7: 55.8917
A8: PRINCIPADO DE ASTURIAS
A9: CANTABRIA | B9: 137.6047 | F9: 137.6047
A10: ARABA/ÁLAVA | B10: 2369.5395 | F10: 2369.5395
A11: GIPUZKOA | B11: 1.8667 | F11: 1.8667
A12: BIZKAIA
A13: PAÍS VASCO | B13: 2371.4062 | F13: 2371.4062
A14: COMUNIDAD FORAL DE NAVARRA | B14: 92.6299 | F14: 92.6299
A15: LA RIOJA | B15: 911.2474 | F15: 911.2474 | G15: 4.137
A16: HUESCA | B16: 210.7275 | F16: 210.7275 | G16: 86.1735
A17: TERUEL | B17: 56.8018 | F17: 56.8018
A18: ZARAGOZA | B18: 163.623 | F18: 163.623 | G18: 25.6598
A19: ARAGÓN | B19: 431.1523 | F19: 431.1523 | G19: 111.8333
A20: BARCELONA | B20: 94.9829 | F20: 94.9829 | G20: 21.7355
A21: GIRONA | B21: 4.1415 | F21: 4.1415 | G21: 2.4737
A22: LLEIDA | G22: 5.3165
A23: TARRAGONA | B23: 180.6313 | F23: 180.6313
A24: CATALUÑA | B24: 279.7557 | F24: 279.7557 | G24: 29.5257
A25: ILLES BALEARS | B25: 575.4427 | F25: 575.4427
A26: ÁVILA | B26: 3162.0816 | F26: 3162.0816
A27: BURGOS | B27: 1148.8097 | F27: 1148.8097
A28: LEÓN | B28: 1289.0219 | F28: 1289.0219 | G28: 7.4749
A29: PALENCIA | B29: 724.9874 | F29: 724.9874
A30: SALAMANCA | B30: 3497.1963 | F30: 3497.1963
A31: SEGOVIA | B31: 2903.0896 | F31: 2903.0896
A32: SORIA | B32: 162.1435 | F32: 162.1435
A33: VALLADOLID | B33: 5251.8619 | F33: 5251.8619
A34: ZAMORA | B34: 1064.0581 | F34: 1064.0581 | G34: 6.3525
A35: CASTILLA Y LEÓN | B35: 19203.25 | F35: 19203.25 | G35: 13.8274
A36: COMUNIDAD DE MADRID | B36: 134.5669 | F36: 134.5669
A37: ALBACETE | B37: 1674.5104 | F37: 1674.5104 | G37: 59.9189
A38: CIUDAD REAL | B38: 20.7781 | F38: 20.7781 | G38: 10.2737
A39: CUENCA | B39: 22.7132 | F39: 22.7132
A40: GUADALAJARA | B40: 9.9351 | F40: 9.9351
...

Sheet C05  CULTIVOS INDUSTRIALES
B1: CULTIVOS INDUSTRIALES
A2: Provincias y CC.AA. | B2: Caña de Azúcar | C2: Remolacha Azucarera | D2: Algodón | E2: Lino | F2: Girasol | G2: Soja | H2: Colza | I2: Camelina | J2: Cártamo | K2: Otras Oleaginosas
A3: A CORUÑA | H3: 129.1719
A4: LUGO | F4: 224.9146 | H4: 3.9148
A5: OURENSE | H5: 123.0121
A6: PONTEVEDRA | H6: 2.712
A7: GALICIA | F7: 224.9146 | H7: 258.8108
A8: PRINCIPADO DE ASTURIAS
A9: CANTABRIA | F9: 93.6001
A10: ARABA/ÁLAVA | C10: 410.8984 | E10: 31.2493 | F10: 3046.428 | H10: 1302.0922
A11: GIPUZKOA
A12: BIZKAIA
A13: PAÍS VASCO | C13: 410.8984 | E13: 31.2493 | F13: 3046.428 | H13: 1302.0922
A14: COMUNIDAD FORAL DE NAVARRA | C14: 1.1259 | F14: 5638.0916 | H14: 5177.3639
A15: LA RIOJA | C15: 306.7094 | F15: 996.0147 | H15: 1690.5181
A16: HUESCA | F16: 384.7669 | G16: 281.4893 | H16: 2711.361 | J16: 334.3482
A17: TERUEL | F17: 5245.1942 | H17: 776.4156 | I17: 65.5914 | J17: 253.6963
A18: ZARAGOZA | F18: 2785.183 | H18: 757.3801 | I18: 418.6958
A19: ARAGÓN | F19: 8415.1441 | G19: 281.4893 | H19: 4245.1567 | I19: 484.2872 | J19: 588.0445
A20: BARCELONA | H20: 4681.9502
A21: GIRONA | F21: 2695.8803 | H21: 4137.8639
A22: LLEIDA | F22: 46.4856 | H22: 4167.3217 | I22: 19.9476
A23: TARRAGONA | H23: 481.9577
A24: CATALUÑA | F24: 2742.3659 | H24: 13469.094 | I24: 19.9476
A25: ILLES BALEARS
A26: ÁVILA | C26: 1209.0848 | F26: 4801.8708 | H26: 1226.1847
A27: BURGOS | C27: 1643.9868 | F27: 61400.55 | H27: 7053.4097 | I27: 62.9367 | J27: 170.6082
A28: LEÓN | C28: 5572.814 | F28: 11604.977 | H28: 4703.7815
A29: PALENCIA | C29: 1566.7812 | F29: 50924.041 | G29: 28.2042 | H29: 5674.3723 | I29: 435.0801 | J29: 1181.1211
A30: SALAMANCA | C30: 1949.6066 | F30: 21002.121 | G30: 164.2253 | H30: 3978.5001
A31: SEGOVIA | C31: 769.3314 | F31: 29967.69 | H31: 2641.5774
A32: SORIA | C32: 149.6689 | F32: 33523.176 | H32: 3100.3951 | J32: 3382.9538
A33: VALLADOLID | C33: 4543.6545 | F33: 54217.74 | H33: 12235.293 | J33: 2056.0796
A34: ZAMORA | C34: 2095.6934 | F34: 35301.945 | G34: 44.4162 | H34: 10945.315 | J34: 188.033
A35: CASTILLA Y LEÓN | C35: 19500.622 | F35: 302744.11 | G35: 236.8457 | H35: 51558.829 | I35: 498.0168 | J35: 6978.7957
A36: COMUNIDAD DE MADRID | F36: 342.5691 | H36: 79.4305 | I36: 117.3231 | J36: 52.1116
A37: ALBACETE | F37: 2044.2282 | H37: 4322.4218
A38: CIUDAD REAL | F38: 54.7927 | I38: 70.4224
A39: CUENCA | F39: 118754.47 | H39: 1107.5535 | I39: 57.8456 | J39: 524.8296
A40: GUADALAJARA | E40: 250.452 | F40: 17407.808 | H40: 2752.7067 | J40: 4514.3859
...

Sheet C06A  CULTIVOS INDUSTRIALES
B1: CULTIVOS INDUSTRIALES
A2: Provincias y CC.AA. | B2: Pimiento para Pimentón | C2: Perejil | D2: Anís | E2: Azafrán estigmas tostados | F2: Menta en verde | G2: Regaliz | H2: Otros condimentos en fresco | I2: Lavanda | J2: Otras aromáticas
A3: A CORUÑA
A4: LUGO
A5: OURENSE
A6: PONTEVEDRA | H6: 0.3168
A7: GALICIA | H7: 0.3168
A8: PRINCIPADO DE ASTURIAS
A9: CANTABRIA
A10: ARABA/ÁLAVA
A11: GIPUZKOA
A12: BIZKAIA
A13: PAÍS VASCO
A14: COMUNIDAD FORAL DE NAVARRA
A15: LA RIOJA | C15: 4.75 | F15: 4.4576 | I15: 56.9675 | J15: 5.7903
A16: HUESCA
A17: TERUEL | I17: 312.1796 | J17: 80.134
A18: ZARAGOZA
A19: ARAGÓN | I19: 312.1796 | J19: 80.134
A20: BARCELONA | C20: 28.808 | H20: 11.471 | I20: 3.7031
A21: GIRONA | H21: 168.4509
A22: LLEIDA | I22: 27.2436
A23: TARRAGONA | C23: 272.1457 | F23: 53.6498 | H23: 79.9498 | J23: 532.3485
A24: CATALUÑA | C24: 300.9537 | F24: 53.6498 | H24: 259.8717 | I24: 30.9467 | J24: 532.3485
A25: ILLES BALEARS | J25: 0.5705
A26: ÁVILA | I26: 13.4869
A27: BURGOS | I27: 402.4899
A28: LEÓN | I28: 45.3058
A29: PALENCIA | I29: 481.7123
A30: SALAMANCA
A31: SEGOVIA | I31: 85.8182
A32: SORIA | H32: 586.1671 | I32: 27.6089
A33: VALLADOLID | D33: 285.9921 | I33: 268.5301
A34: ZAMORA | H34: 110.4929 | I34: 182.4082
A35: CASTILLA Y LEÓN | D35: 285.9921 | H35: 696.66 | I35: 1507.3603
A36: COMUNIDAD DE MADRID | C36: 5.3383 | F36: 78.6659 | G36: 284.7899
A37: ALBACETE | C37: 247.145 | E37: 7.0273 | I37: 1666.867 | J37: 132.2244
A38: CIUDAD REAL | E38: 6.7522 | J38: 157.3646
A39: CUENCA | D39: 445.3558 | I39: 1734.0645 | J39: 89.8793
A40: GUADALAJARA | I40: 4591.9246 | J40: 523.9078
...

Sheet C06B  CULTIVOS INDUSTRIALES 
B1: CULTIVOS INDUSTRIALES
A2: Provincias y CC.AA. | B2: Tabaco | C2: Tomate industria | D2: Lúpulo | E2: Otros cultivos industriales | F2: Total cultivos industriales
A3: A CORUÑA | F3: 129.1719
A4: LUGO | F4: 228.8294
A5: OURENSE | E5: 12.2288 | F5: 135.2409
A6: PONTEVEDRA | F6: 3.0288
A7: GALICIA | E7: 12.2288 | F7: 496.271
A8: PRINCIPADO DE ASTURIAS
A9: CANTABRIA | F9: 93.6001
A10: ARABA/ÁLAVA | F10: 4790.6679
A11: GIPUZKOA
A12: BIZKAIA
A13: PAÍS VASCO | F13: 4790.6679
A14: COMUNIDAD FORAL DE NAVARRA | C14: 2266.0981 | F14: 13082.68
A15: LA RIOJA | C15: 13.6794 | F15: 3078.887
A16: HUESCA | F16: 3711.9654
A17: TERUEL | F17: 6733.2111
A18: ZARAGOZA | C18: 116.9484 | F18: 4078.2073
A19: ARAGÓN | C19: 116.9484 | F19: 14523.384
A20: BARCELONA | E20: 8.909 | F20: 4734.8413
A21: GIRONA | E21: 45.3467 | F21: 7047.5418
A22: LLEIDA | E22: 5.9974 | F22: 4266.9959
A23: TARRAGONA | F23: 1420.0515
A24: CATALUÑA | E24: 60.2531 | F24: 17469.43
A25: ILLES BALEARS | F25: 0.5705
A26: ÁVILA | F26: 7250.6272
A27: BURGOS | F27: 70733.982
A28: LEÓN | D28: 616.2157 | E28: 178.9773 | F28: 22722.071
A29: PALENCIA | E29: 127.853 | F29: 60419.165
A30: SALAMANCA | F30: 27094.453
A31: SEGOVIA | E31: 19.4683 | F31: 33483.885
A32: SORIA | D32: 26.9261 | F32: 40796.895
A33: VALLADOLID | E33: 943.6336 | F33: 74550.923
A34: ZAMORA | F34: 48868.304
A35: CASTILLA Y LEÓN | D35: 643.1418 | E35: 1269.9322 | F35: 385920.31
A36: COMUNIDAD DE MADRID | E36: 1351.2523 | F36: 2311.4807
A37: ALBACETE | C37: 44.6478 | E37: 8091.1469 | F37: 16555.708
A38: CIUDAD REAL | E38: 519.0165 | F38: 808.3484
A39: CUENCA | E39: 308.5945 | F39: 123022.59
A40: GUADALAJARA | F40: 30041.185
...

Sheet C07A  CULTIVOS FORRAJEROS
B1: CULTIVOS FORRAJEROS
A2: Provincias y CC.AA. | B2: Maíz Forrajero | C2: Sorgo forrajero | D2: Cereal de invierno para forraje | E2: Total gramíneas forrajeras | F2: Alfalfa | G2: Veza (veza+avena) para forraje | H2: Trébol | I2: Total leguminosas forrrajeras
A3: A CORUÑA | B3: 38725.695 | E3: 38725.695 | F3: 277.9674 | G3: 353.3424 | H3: 213.7843 | I3: 845.0941
A4: LUGO | B4: 21797.972 | D4: 47.8671 | E4: 21845.839 | F4: 291.9888 | G4: 14.4592 | I4: 306.448
A5: OURENSE | B5: 636.8652 | D5: 12.6708 | E5: 649.536 | F5: 19.4682 | I5: 19.4682
A6: PONTEVEDRA | B6: 5723.4809 | E6: 5723.4809 | F6: 43.1233 | I6: 43.1233
A7: GALICIA | B7: 66884.013 | D7: 60.5379 | E7: 66944.551 | F7: 632.5477 | G7: 367.8016 | H7: 213.7843 | I7: 1214.1336
A8: PRINCIPADO DE ASTURIAS | B8: 8181.3776 | E8: 8181.3776 | F8: 6.93 | I8: 6.93
A9: CANTABRIA | B9: 4504.062 | D9: 57.4227 | E9: 4561.4847 | F9: 189.3944 | G9: 121.9318 | I9: 311.3262
A10: ARABA/ÁLAVA | B10: 1577.652 | E10: 1577.652 | F10: 886.802 | I10: 886.802
A11: GIPUZKOA | B11: 243.0629 | E11: 243.0629
A12: BIZKAIA | B12: 71.1481 | E12: 71.1481
A13: PAÍS VASCO | B13: 1891.863 | E13: 1891.863 | F13: 886.802 | I13: 886.802
A14: COMUNIDAD FORAL DE NAVARRA | B14: 1351.6219 | D14: 1068.1497 | E14: 2419.7716 | F14: 3400.1559 | G14: 917.8964 | I14: 4318.0523
A15: LA RIOJA | B15: 2.75 | D15: 102.4471 | E15: 105.1971 | F15: 769.4789 | G15: 299.8049 | I15: 1069.2838
A16: HUESCA | B16: 523.7866 | D16: 1562.9518 | E16: 2086.7384 | F16: 31843.317 | G16: 3777.9766 | I16: 35621.294
A17: TERUEL | D17: 1559.8865 | E17: 1559.8865 | F17: 6701.6645 | G17: 304.3557 | I17: 7006.0202
A18: ZARAGOZA | C18: 9.2572 | D18: 346.3503 | E18: 355.6075 | F18: 32976.99 | G18: 2306.3855 | I18: 35283.376
A19: ARAGÓN | B19: 523.7866 | C19: 9.2572 | D19: 3469.1886 | E19: 4002.2324 | F19: 71521.972 | G19: 6388.7178 | I19: 77910.69
A20: BARCELONA | B20: 72.2511 | C20: 543.1828 | D20: 3779.2507 | E20: 4394.6846 | F20: 1978.5808 | G20: 1115.8879 | I20: 3094.4687
A21: GIRONA | B21: 710.8851 | C21: 310.4645 | D21: 2585.7562 | E21: 3607.1058 | F21: 5180.6066 | G21: 518.6105 | I21: 5699.2171
A22: LLEIDA | B22: 322.2602 | C22: 95.8426 | D22: 3526.5021 | E22: 3944.6049 | F22: 13473.375 | G22: 451.9721 | I22: 13925.347
A23: TARRAGONA | D23: 1199.1124 | E23: 1199.1124 | F23: 230.4435 | I23: 230.4435
A24: CATALUÑA | B24: 1105.3964 | C24: 949.4899 | D24: 11090.621 | E24: 13145.508 | F24: 20863.005 | G24: 2086.4705 | I24: 22949.476
A25: ILLES BALEARS | B25: 313.0093 | C25: 45.9127 | D25: 25701.617 | E25: 26060.539 | F25: 449.2403 | G25: 171.8564 | I25: 621.0967
A26: ÁVILA | D26: 10155.763 | E26: 10155.763 | F26: 965.0731 | G26: 7905.2006 | I26: 8870.2737
A27: BURGOS | B27: 496.6153 | D27: 1264.4883 | E27: 1761.1036 | F27: 10731.005 | G27: 7133.6614 | I27: 17864.666
A28: LEÓN | B28: 589.7683 | D28: 2382.2706 | E28: 2972.0389 | F28: 9583.3143 | G28: 5026.5598 | I28: 14609.874
A29: PALENCIA | B29: 599.883 | D29: 5375.8931 | E29: 5975.7761 | F29: 28170.1 | G29: 17147.736 | I29: 45317.836
A30: SALAMANCA | B30: 311.5884 | D30: 26500.922 | E30: 26812.511 | F30: 765.668 | G30: 4867.9134 | I30: 5633.5814
A31: SEGOVIA | D31: 8515.4384 | E31: 8515.4384 | F31: 290.671 | G31: 3216.4589 | H31: 1057.9009 | I31: 4565.0308
A32: SORIA | D32: 202.6563 | E32: 202.6563 | F32: 577.024 | G32: 389.5235 | I32: 966.5475
A33: VALLADOLID | D33: 5265.5897 | E33: 5265.5897 | F33: 20215.942 | G33: 12154.07 | I33: 32370.012
A34: ZAMORA | B34: 801.2755 | D34: 10961.508 | E34: 11762.783 | F34: 11381.987 | G34: 3796.1424 | I34: 15178.129
A35: CASTILLA Y LEÓN | B35: 2799.1305 | D35: 70624.529 | E35: 73423.66 | F35: 82680.784 | G35: 61637.266 | H35: 1057.9009 | I35: 145375.95
A36: COMUNIDAD DE MADRID | B36: 235.9665 | D36: 2361.0426 | E36: 2597.0091 | F36: 347.1042 | G36: 815.175 | I36: 1162.2792
A37: ALBACETE | B37: 574.6737 | D37: 5478.2031 | E37: 6052.8768 | F37: 4173.3002 | G37: 165.5529 | I37: 4338.8531
A38: CIUDAD REAL | D38: 17159.701 | E38: 17159.701 | F38: 366.4672 | G38: 1049.0224 | I38: 1415.4896
A39: CUENCA | B39: 19.294 | D39: 407.8417 | E39: 427.1357 | F39: 9.485 | I39: 9.485
A40: GUADALAJARA | B40: 212.8218 | D40: 41.1108 | E40: 253.9326 | F40: 75.8101 | G40: 15.1201 | I40: 90.9302
...

Sheet C07B  CULTIVOS FORRAJEROS
B1: CULTIVOS FORRAJEROS
A2: Provincias y CC.AA. | B2: Remolacha forrajera | C2: Nabo forrajero | D2: Pataca, chirivía y otros | E2: Total raíces y Tubérculos forrajeros
A3: A CORUÑA | C3: 182.8457 | E3: 182.8457
A4: LUGO | B4: 32.9667 | E4: 32.9667
A5: OURENSE | B5: 45.3306 | E5: 45.3306
A6: PONTEVEDRA | B6: 4.7217 | C6: 20.1729 | E6: 24.8946
A7: GALICIA | B7: 83.019 | C7: 203.0186 | E7: 286.0376
A8: PRINCIPADO DE ASTURIAS
A9: CANTABRIA
A10: ARABA/ÁLAVA
A11: GIPUZKOA
A12: BIZKAIA
A13: PAÍS VASCO
A14: COMUNIDAD FORAL DE NAVARRA
A15: LA RIOJA
A16: HUESCA | B16: 408.3226 | E16: 408.3226
A17: TERUEL
A18: ZARAGOZA
A19: ARAGÓN | B19: 408.3226 | E19: 408.3226
A20: BARCELONA | C20: 17.943 | E20: 17.943
A21: GIRONA
A22: LLEIDA | C22: 252.0816 | E22: 252.0816
A23: TARRAGONA
A24: CATALUÑA | C24: 270.0246 | E24: 270.0246
A25: ILLES BALEARS
A26: ÁVILA
A27: BURGOS
A28: LEÓN
A29: PALENCIA
A30: SALAMANCA
A31: SEGOVIA | D31: 6.1762 | E31: 6.1762
A32: SORIA
A33: VALLADOLID | B33: 308.7957 | E33: 308.7957
A34: ZAMORA
A35: CASTILLA Y LEÓN | B35: 308.7957 | D35: 6.1762 | E35: 314.9719
A36: COMUNIDAD DE MADRID
A37: ALBACETE
A38: CIUDAD REAL
A39: CUENCA
A40: GUADALAJARA
...

Sheet C07C  CULTIVOS FORRAJEROS
B1: CULTIVOS FORRAJEROS
A2: Provincias y CC.AA. | B2: Praderas polifitas | C2: Coles y berzas forrajeras | D2: Calabaza forrajera | E2: Otras plantas de escarda forrajera | F2: Otros forrajes | G2: Total Cultivos Forrajeros
A3: A CORUÑA | B3: 53826.233 | C3: 72.4946 | E3: 1.3918 | F3: 6717.2427 | G3: 100371
A4: LUGO | B4: 80478.03 | C4: 82.1325 | D4: 3.4285 | F4: 293.9376 | G4: 103042.78
A5: OURENSE | B5: 3324.0449 | C5: 66.117 | E5: 5.7516 | F5: 82.842 | G5: 4193.0903
A6: PONTEVEDRA | B6: 13065.735 | C6: 59.6996 | E6: 7.4793 | F6: 649.6597 | G6: 19574.073
A7: GALICIA | B7: 150694.04 | C7: 280.4437 | D7: 3.4285 | E7: 14.6227 | F7: 7743.682 | G7: 227180.94
A8: PRINCIPADO DE ASTURIAS | B8: 2201.4837 | C8: 3.0372 | F8: 66.1238 | G8: 10458.952
A9: CANTABRIA | B9: 90.0998 | G9: 4962.9107
A10: ARABA/ÁLAVA | B10: 4381.4445 | F10: 348.3748 | G10: 7194.2733
A11: GIPUZKOA | G11: 243.0629
A12: BIZKAIA | G12: 71.1481
A13: PAÍS VASCO | B13: 4381.4445 | F13: 348.3748 | G13: 7508.4843
A14: COMUNIDAD FORAL DE NAVARRA | B14: 2144.0626 | F14: 3692.2624 | G14: 12574.149
A15: LA RIOJA | B15: 14.4165 | F15: 686.6105 | G15: 1875.5079
A16: HUESCA | B16: 7013.7871 | C16: 16.8862 | F16: 15475.273 | G16: 60622.301
A17: TERUEL | B17: 1435.3173 | F17: 11552.023 | G17: 21553.247
A18: ZARAGOZA | B18: 171.3011 | F18: 14492.647 | G18: 50302.931
A19: ARAGÓN | B19: 8620.4055 | C19: 16.8862 | F19: 41519.943 | G19: 132478.48
A20: BARCELONA | B20: 3572.3856 | F20: 8059.2179 | G20: 19138.7
A21: GIRONA | B21: 1993.6179 | F21: 11464.232 | G21: 22764.172
A22: LLEIDA | B22: 5037.306 | F22: 8318.4657 | G22: 31477.805
A23: TARRAGONA | B23: 19.3576 | F23: 376.3746 | G23: 1825.2881
A24: CATALUÑA | B24: 10622.667 | F24: 28218.29 | G24: 75205.965
A25: ILLES BALEARS | C25: 152.3061 | F25: 8862.0127 | G25: 35695.955
A26: ÁVILA | B26: 127.8879 | F26: 14621.253 | G26: 33775.177
A27: BURGOS | B27: 1200.4621 | F27: 3677.9942 | G27: 24504.226
A28: LEÓN | B28: 1784.9105 | F28: 7070.3178 | G28: 26437.141
A29: PALENCIA | B29: 490.4703 | F29: 5660.9439 | G29: 57445.026
A30: SALAMANCA | B30: 1575.5395 | F30: 23677.492 | G30: 57699.124
A31: SEGOVIA | B31: 288.9603 | F31: 2401.3227 | G31: 15776.928
A32: SORIA | B32: 36.8154 | F32: 4210.125 | G32: 5416.1442
A33: VALLADOLID | B33: 341.1078 | F33: 3116.604 | G33: 41402.109
A34: ZAMORA | B34: 2216.8668 | F34: 19361.079 | G34: 48518.858
A35: CASTILLA Y LEÓN | B35: 8063.0206 | F35: 83797.131 | G35: 310974.73
A36: COMUNIDAD DE MADRID | B36: 73.3045 | F36: 1654.4504 | G36: 5487.0432
A37: ALBACETE | B37: 10.9929 | F37: 1153.4025 | G37: 11556.125
A38: CIUDAD REAL | B38: 1526.1466 | F38: 2095.6142 | G38: 22196.951
A39: CUENCA | F39: 1122.4973 | G39: 1559.118
A40: GUADALAJARA | F40: 731.18 | G40: 1076.0428
...

Sheet C08A HORTALIZAS (en campo)
B1: HORTALIZAS (en campo)
A2: Provincias y CC.AA. | B2: Col (1) | C2: Espa-rragos | D2: Espinaca | E2: Apio | F2: Lechuga | G2: Lombarda | H2: Acelga | I2: Escarola | J2: Grelo | K2: Otras hortalizas de hoja y tallo | L2: Total hortalizas de hoja y tallo
A3: A CORUÑA | B3: 103.2869 | F3: 101.094 | H3: 69.2427 | J3: 66.6983 | L3: 340.3219
A4: LUGO | B4: 58.3387 | F4: 80.2556 | H4: 50.0902 | J4: 23.9316 | L4: 212.6161
A5: OURENSE | B5: 128.8587 | F5: 108.8696 | H5: 66.8747 | J5: 6.7295 | L5: 311.3325
A6: PONTEVEDRA | B6: 81.0006 | F6: 100.012 | H6: 62.1371 | J6: 1.3372 | L6: 244.4869
A7: GALICIA | B7: 371.4849 | F7: 390.2312 | H7: 248.3447 | J7: 98.6966 | L7: 1108.7574
A8: PRINCIPADO DE ASTURIAS
A9: CANTABRIA
A10: ARABA/ÁLAVA | B10: 40.2962 | L10: 40.2962
A11: GIPUZKOA
A12: BIZKAIA
A13: PAÍS VASCO | B13: 40.2962 | L13: 40.2962
A14: COMUNIDAD FORAL DE NAVARRA | C14: 1262.1443 | H14: 19.2058 | L14: 1281.3501
A15: LA RIOJA | C15: 109.0812 | E15: 59.6118 | H15: 5.1635 | L15: 173.8565
A16: HUESCA | C16: 8.6626 | L16: 8.6626
A17: TERUEL
A18: ZARAGOZA | C18: 21.6201 | L18: 21.6201
A19: ARAGÓN | C19: 30.2827 | L19: 30.2827
A20: BARCELONA | B20: 57.2745 | F20: 209.6304 | H20: 35.0003 | L20: 301.9052
A21: GIRONA
A22: LLEIDA | F22: 4.8231 | L22: 4.8231
A23: TARRAGONA | B23: 3.1117 | F23: 38.9384 | K23: 110.7422 | L23: 152.7923
A24: CATALUÑA | B24: 60.3862 | F24: 253.3919 | H24: 35.0003 | K24: 110.7422 | L24: 459.5206
A25: ILLES BALEARS | B25: 67.4372 | F25: 6.8081 | L25: 74.2453
A26: ÁVILA
A27: BURGOS
A28: LEÓN | B28: 1.8658 | H28: 50.8558 | L28: 52.7216
A29: PALENCIA | K29: 22.5805 | L29: 22.5805
A30: SALAMANCA
A31: SEGOVIA | C31: 25.244 | F31: 126.5497 | L31: 151.7937
A32: SORIA | F32: 155.4729 | L32: 155.4729
A33: VALLADOLID | B33: 40.3227 | C33: 835.815 | F33: 16.992 | G33: 56.809 | H33: 125.1103 | L33: 1075.049
A34: ZAMORA | B34: 12.4352 | L34: 12.4352
A35: CASTILLA Y LEÓN | B35: 54.6237 | C35: 861.059 | F35: 299.0146 | G35: 56.809 | H35: 175.9661 | K35: 22.5805 | L35: 1470.0529
A36: COMUNIDAD DE MADRID | B36: 5.5777 | C36: 59.1808 | G36: 5.0425 | L36: 69.801
A37: ALBACETE | E37: 47.5346 | F37: 2369.6933 | I37: 126.4912 | L37: 2543.7191
A38: CIUDAD REAL
A39: CUENCA
A40: GUADALAJARA | B40: 13.017 | C40: 1145.2339 | L40: 1158.2509
...

Sheet C08B HORTALIZAS (en campo)
B1: HORTALIZAS (en campo)
A2: Provincias y CC.AA. | B2: Col brócoli | C2: Alcachofa | D2: Coliflor | E2: Otras hortalizas de flor | F2: Total hortalizas de flor | G2: Judías verdes | H2: Gruisantes verdes | I2: Habas verdes | J2: Otras legumbres frescas | K2: Total legumbres frescas
A3: A CORUÑA | D3: 66.1496 | F3: 66.1496 | G3: 83.8612 | H3: 400.3969 | K3: 484.2581
A4: LUGO | C4: 174.891 | D4: 42.153 | F4: 217.044 | G4: 78.9745 | H4: 90.0075 | K4: 168.982
A5: OURENSE | D5: 95.4317 | F5: 95.4317 | G5: 81.9458 | H5: 76.2962 | I5: 0.6897 | K5: 158.9317
A6: PONTEVEDRA | D6: 91.821 | F6: 91.821 | G6: 84.4803 | H6: 65.1916 | K6: 149.6719
A7: GALICIA | C7: 174.891 | D7: 295.5553 | F7: 470.4463 | G7: 329.2618 | H7: 631.8922 | I7: 0.6897 | K7: 961.8437
A8: PRINCIPADO DE ASTURIAS | G8: 3.1006 | K8: 3.1006
A9: CANTABRIA
A10: ARABA/ÁLAVA
A11: GIPUZKOA | G11: 1.4308 | K11: 1.4308
A12: BIZKAIA
A13: PAÍS VASCO | G13: 1.4308 | K13: 1.4308
A14: COMUNIDAD FORAL DE NAVARRA | B14: 593.7711 | C14: 491.9878 | D14: 185.0026 | F14: 1270.7615 | G14: 210.9293 | H14: 425.9871 | K14: 636.9164
A15: LA RIOJA | B15: 151.9787 | D15: 194.1542 | F15: 346.1329 | G15: 119.5364 | H15: 1380.3196 | K15: 1499.856
A16: HUESCA | H16: 2578.0586 | K16: 2578.0586
A17: TERUEL
A18: ZARAGOZA | B18: 894.68 | D18: 64.9777 | F18: 959.6577 | G18: 101.0106 | H18: 311.5129 | I18: 133.6926 | K18: 546.2161
A19: ARAGÓN | B19: 894.68 | D19: 64.9777 | F19: 959.6577 | G19: 101.0106 | H19: 2889.5715 | I19: 133.6926 | K19: 3124.2747
A20: BARCELONA | C20: 194.0541 | F20: 194.0541 | G20: 125.8527 | I20: 17.3614 | K20: 143.2141
A21: GIRONA | C21: 12.0915 | F21: 12.0915 | I21: 5.8498 | K21: 5.8498
A22: LLEIDA | B22: 11.284 | F22: 11.284 | G22: 3.3424 | H22: 642.6245 | K22: 645.9669
A23: TARRAGONA | B23: 192.331 | C23: 180.9323 | D23: 119.4914 | F23: 492.7547 | G23: 39.5356 | I23: 2.5476 | K23: 42.0832
A24: CATALUÑA | B24: 203.615 | C24: 387.0779 | D24: 119.4914 | F24: 710.1843 | G24: 168.7307 | H24: 642.6245 | I24: 25.7588 | K24: 837.114
A25: ILLES BALEARS | C25: 16.5164 | F25: 16.5164
A26: ÁVILA
A27: BURGOS | G27: 504.1594 | K27: 504.1594
A28: LEÓN | H28: 102.3584 | K28: 102.3584
A29: PALENCIA
A30: SALAMANCA | H30: 348.8723 | K30: 348.8723
A31: SEGOVIA
A32: SORIA | C32: 5.4394 | F32: 5.4394
A33: VALLADOLID | H33: 335.6829 | K33: 335.6829
A34: ZAMORA | H34: 171.7457 | K34: 171.7457
A35: CASTILLA Y LEÓN | C35: 5.4394 | F35: 5.4394 | G35: 504.1594 | H35: 958.6593 | K35: 1462.8187
A36: COMUNIDAD DE MADRID | H36: 128.5949 | I36: 47.8834 | K36: 176.4783
A37: ALBACETE | B37: 2452.4442 | C37: 470.6297 | F37: 2923.0739 | H37: 3377.5887 | K37: 3377.5887
A38: CIUDAD REAL | G38: 1.5534 | H38: 219.4632 | K38: 221.0166
A39: CUENCA | B39: 539.4826 | F39: 539.4826 | H39: 974.7208 | K39: 974.7208
A40: GUADALAJARA
...

Sheet C08C HORTALIZAS (en campo)
B1: HORTALIZAS (en campo)
A2: Provincias y CC.AA. | B2: Maíz dulce | C2: Tomate (1) | D2: Sandía | E2: Melón | F2: Calabaza | G2: Calabacín | H2: Pepino | I2: Remolacha de mesa | J2: Berenjena | K2: Pimiento | L2: Otras hortalizas de fruto | M2: Total Hortalizas de fruto
A3: A CORUÑA | C3: 122.1493 | F3: 108.8573 | G3: 92.9609 | K3: 146.75 | M3: 470.7175
A4: LUGO | C4: 111.7873 | F4: 22.145 | G4: 19.75 | K4: 68.6246 | M4: 222.3069
A5: OURENSE | C5: 81.3128 | F5: 78.8002 | G5: 99.3537 | K5: 108.7371 | M5: 368.2038
A6: PONTEVEDRA | C6: 79.5538 | F6: 90.5907 | G6: 44.3721 | K6: 77.1673 | M6: 291.6839
A7: GALICIA | C7: 394.8032 | F7: 300.3932 | G7: 256.4367 | K7: 401.279 | M7: 1352.9121
A8: PRINCIPADO DE ASTURIAS
A9: CANTABRIA | C9: 17.681 | M9: 17.681
A10: ARABA/ÁLAVA
A11: GIPUZKOA
A12: BIZKAIA | F12: 22.0512 | M12: 22.0512
A13: PAÍS VASCO | F13: 22.0512 | M13: 22.0512
A14: COMUNIDAD FORAL DE NAVARRA | B14: 3017.837 | C14: 21.5255 | F14: 587.6205 | G14: 168.1052 | K14: 1336.9286 | M14: 5132.0168
A15: LA RIOJA | C15: 47.5737 | G15: 15.0493 | K15: 111.8886 | L15: 91.3382 | M15: 265.8498
A16: HUESCA | C16: 149.763 | L16: 81.1306 | M16: 230.8936
A17: TERUEL
A18: ZARAGOZA | C18: 395.876 | F18: 27.2186 | G18: 50.9782 | J18: 9.9368 | K18: 9.1608 | M18: 493.1704
A19: ARAGÓN | C19: 545.639 | F19: 27.2186 | G19: 50.9782 | J19: 9.9368 | K19: 9.1608 | L19: 81.1306 | M19: 724.064
A20: BARCELONA | C20: 85.92 | D20: 11.0776 | F20: 7.1973 | G20: 76.4596 | H20: 1.8254 | I20: 1.8124 | K20: 28.7335 | L20: 19.5894 | M20: 232.6152
A21: GIRONA | E21: 28.3515 | M21: 28.3515
A22: LLEIDA | C22: 24.1537 | G22: 8.0279 | J22: 1.6727 | K22: 24.3709 | M22: 58.2252
A23: TARRAGONA | C23: 63.0397 | D23: 83.5943 | E23: 14.2227 | F23: 444.6168 | G23: 12.2852 | H23: 6.655 | J23: 13.539 | K23: 1.8831 | L23: 39.6742 | M23: 679.51
A24: CATALUÑA | C24: 173.1134 | D24: 94.6719 | E24: 42.5742 | F24: 451.8141 | G24: 96.7727 | H24: 8.4804 | I24: 1.8124 | J24: 15.2117 | K24: 54.9875 | L24: 59.2636 | M24: 998.7019
A25: ILLES BALEARS | C25: 221.6782 | D25: 483.4228 | E25: 242.3805 | F25: 250.5582 | G25: 6.0542 | K25: 5.3907 | M25: 1209.4846
A26: ÁVILA | B26: 14.0012 | E26: 2.8641 | K26: 30.8211 | M26: 47.6864
A27: BURGOS
A28: LEÓN | C28: 9.4083 | F28: 3.0176 | K28: 11.9251 | M28: 24.351
A29: PALENCIA
A30: SALAMANCA | B30: 602.7624 | D30: 6.5084 | I30: 231.7819 | M30: 841.0527
A31: SEGOVIA | B31: 103.223 | I31: 113.8852 | M31: 217.1082
A32: SORIA
A33: VALLADOLID | B33: 1.2193 | F33: 15.4474 | G33: 147.3865 | I33: 125.6742 | M33: 289.7274
A34: ZAMORA | C34: 80.4124 | F34: 834.7914 | K34: 5.0075 | M34: 920.2113
A35: CASTILLA Y LEÓN | B35: 721.2059 | C35: 89.8207 | D35: 6.5084 | E35: 2.8641 | F35: 853.2564 | G35: 147.3865 | I35: 471.3413 | K35: 47.7537 | M35: 2340.137
A36: COMUNIDAD DE MADRID | C36: 6.1226 | G36: 54.8805 | K36: 25.3157 | M36: 86.3188
A37: ALBACETE | B37: 72.6971 | C37: 188.1316 | D37: 473.9434 | E37: 428.0628 | F37: 25.9315 | G37: 6.5647 | J37: 12.7808 | K37: 193.9408 | M37: 1402.0527
A38: CIUDAD REAL | C38: 5.149 | D38: 4140.3473 | E38: 7020.5559 | F38: 66.7466 | H38: 1.8156 | K38: 429.7577 | M38: 11664.372
A39: CUENCA
A40: GUADALAJARA | E40: 20.603 | M40: 20.603
...

Sheet C08D HORTALIZAS (en campo)
H1: HORTALIZAS (en campo)
A2: Provincias y CC.AA. | B2: Ajo | C2: Cebolla | D2: Zanahoria | E2: Puerro | F2: Otras hortalizas de raices y bulbos | G2: Total hortalizas de raices y bulbos | H2: Fresa- Fresón | I2: Champiñón | J2: Otras hortalizas | K2: Huerta vacía | L2: Total Hortalizas (en campo)
A3: A CORUÑA | B3: 87.4243 | C3: 73.9518 | D3: 77.0464 | E3: 75.4992 | G3: 313.9217 | H3: 0.4011 | J3: 107.5463 | K3: 104.2542 | L3: 1887.5704
A4: LUGO | B4: 61.8465 | C4: 67.9533 | D4: 52.8306 | E4: 33.9962 | G4: 216.6266 | H4: 0.394 | J4: 77.189 | K4: 27.076 | L4: 1142.2346
A5: OURENSE | B5: 79.842 | C5: 113.1958 | D5: 80.7197 | E5: 76.2551 | G5: 350.0126 | H5: 0.5215 | J5: 75.9103 | K5: 47.2873 | L5: 1407.6314
A6: PONTEVEDRA | B6: 88.4345 | C6: 84.2099 | D6: 76.8354 | E6: 91.636 | G6: 341.1158 | H6: 0.3023 | J6: 52.8137 | K6: 132.7085 | L6: 1304.604
A7: GALICIA | B7: 317.5473 | C7: 339.3108 | D7: 287.4321 | E7: 277.3865 | G7: 1221.6767 | H7: 1.6189 | J7: 313.4593 | K7: 311.326 | L7: 5742.0404
A8: PRINCIPADO DE ASTURIAS | K8: 2.6914 | L8: 5.792
A9: CANTABRIA | K9: 1.242 | L9: 18.923
A10: ARABA/ÁLAVA | L10: 40.2962
A11: GIPUZKOA | J11: 4.8475 | K11: 1.1781 | L11: 7.4564
A12: BIZKAIA | K12: 27.8047 | L12: 49.8559
A13: PAÍS VASCO | J13: 4.8475 | K13: 28.9828 | L13: 97.6085
A14: COMUNIDAD FORAL DE NAVARRA | C14: 1005.7424 | E14: 34.6258 | G14: 1040.3682 | J14: 14.7399 | K14: 29.2048 | L14: 9405.3577
A15: LA RIOJA | C15: 136.2174 | D15: 115.9423 | G15: 252.1597 | I15: 190.1644 | J15: 41.5871 | K15: 81.7738 | L15: 2851.3802
A16: HUESCA | C16: 822.3946 | G16: 822.3946 | K16: 27.8431 | L16: 3667.8525
A17: TERUEL | K17: 4.7015 | L17: 4.7015
A18: ZARAGOZA | B18: 38.404 | C18: 2265.5989 | E18: 276.0557 | G18: 2580.0586 | J18: 6.8618 | K18: 120.6833 | L18: 4728.268
A19: ARAGÓN | B19: 38.404 | C19: 3087.9935 | E19: 276.0557 | G19: 3402.4532 | J19: 6.8618 | K19: 153.2279 | L19: 8400.822
A20: BARCELONA | C20: 20.7019 | D20: 3.3488 | G20: 24.0507 | H20: 1.8254 | J20: 17.449 | K20: 1256.5349 | L20: 2171.6486
A21: GIRONA | J21: 6.5196 | K21: 40.1635 | L21: 92.9759
A22: LLEIDA | C22: 789.529 | D22: 9.3283 | G22: 798.8573 | J22: 85.785 | K22: 27.205 | L22: 1632.1465
A23: TARRAGONA | C23: 7.8791 | D23: 239.5169 | E23: 9.1052 | F23: 173.6082 | G23: 430.1094 | J23: 373.4143 | K23: 1514.3021 | L23: 3684.966
A24: CATALUÑA | C24: 818.11 | D24: 252.194 | E24: 9.1052 | F24: 173.6082 | G24: 1253.0174 | H24: 1.8254 | J24: 483.1679 | K24: 2838.2055 | L24: 7581.737
A25: ILLES BALEARS | C25: 80.5791 | E25: 16.7099 | G25: 97.289 | H25: 18.2354 | K25: 402.6865 | L25: 1818.4572
A26: ÁVILA | C26: 330.8655 | D26: 134.3298 | G26: 465.1953 | K26: 7.4057 | L26: 520.2874
A27: BURGOS | C27: 267.6072 | G27: 267.6072 | K27: 2.6024 | L27: 774.369
A28: LEÓN | C28: 1.8658 | E28: 0.687 | G28: 2.5528 | K28: 22.0713 | L28: 204.0551
A29: PALENCIA | C29: 65.1537 | G29: 65.1537 | L29: 87.7342
A30: SALAMANCA | B30: 417.574 | C30: 67.305 | G30: 484.879 | J30: 36.2281 | K30: 8.5221 | L30: 1719.5542
A31: SEGOVIA | B31: 389.1481 | C31: 98.4774 | D31: 626.3905 | E31: 141.2233 | F31: 191.577 | G31: 1446.8163 | L31: 1815.7182
A32: SORIA | C32: 218.462 | E32: 38.9123 | G32: 257.3743 | L32: 418.2866
A33: VALLADOLID | B33: 1200.1793 | C33: 953.2728 | D33: 742.7082 | E33: 33.6875 | G33: 2929.8478 | J33: 1.2538 | K33: 5.1277 | L33: 4636.6886
A34: ZAMORA | B34: 114.9194 | C34: 511.5857 | G34: 626.5051 | K34: 25.9261 | L34: 1756.8234
A35: CASTILLA Y LEÓN | B35: 2121.8208 | C35: 2514.5951 | D35: 1503.4285 | E35: 214.5101 | F35: 191.577 | G35: 6545.9315 | J35: 37.4819 | K35: 71.6553 | L35: 11933.517
A36: COMUNIDAD DE MADRID | B36: 1050.508 | C36: 558.4362 | F36: 0.5466 | G36: 1609.4908 | J36: 4.574 | K36: 13.9892 | L36: 1960.6521
A37: ALBACETE | B37: 11801.766 | C37: 3306.311 | D37: 207.864 | E37: 169.4714 | G37: 15485.412 | K37: 1635.2546 | L37: 27367.101
A38: CIUDAD REAL | B38: 4369.4871 | C38: 3122.3805 | G38: 7491.8676 | K38: 329.1726 | L38: 19706.429
A39: CUENCA | B39: 3696.8722 | C39: 689.559 | G39: 4386.4312 | I39: 261.5612 | K39: 69.9711 | L39: 6232.1669
A40: GUADALAJARA | B40: 138.4653 | G40: 138.4653 | K40: 47.5826 | L40: 1364.9018
...

Sheet INVERNADEROS 1
C1: CULTIVO EN INVERNADERO
A2: Provincias y CC.AA. | B2: Cultivos Herbáceos
B3: HORTALIZAS | M3: OTROS HERBACEOS
B4: Fresa y Fresón | C4: Tomate | D4: Pimiento | E4: Pepino | F4: Sandía | G4: Calabacín | H4: Berenjena | I4: Melón | J4: Lechuga | K4: Judias Verdes | L4: Otras Hortalizas | M4: Flores | N4: Otros c. herbaceos (1)
A5: A CORUÑA | C5: 0.637 | D5: 7.1661 | J5: 4.5718 | K5: 22.3464 | L5: 9.121 | M5: 115.4042 | N5: 4.9603
A6: LUGO | C6: 2.3806 | D6: 0.8799 | N6: 17.9218
A7: OURENSE | M7: 4.8587 | N7: 0.4018
A8: PONTEVEDRA | C8: 6.668 | D8: 15.1057 | K8: 28.0199 | L8: 0.2659 | M8: 67.1103 | N8: 4.7553
A9: GALICIA | C9: 9.6856 | D9: 23.1517 | J9: 4.5718 | K9: 50.3663 | L9: 9.3869 | M9: 187.3732 | N9: 28.0392
A10: PRINCIPADO DE ASTURIAS | C10: 36.702 | D10: 2.6482 | K10: 8.8096 | L10: 7.4222 | N10: 3.9889
A11: CANTABRIA | C11: 5.2626 | N11: 1.4532
A12: ARABA/ÁLAVA | C12: 5.7048 | K12: 11.3137 | L12: 7.0351
A13: GIPUZKOA | L13: 9.3135 | M13: 32.1538 | N13: 3.9307
A14: BIZKAIA | N14: 85.733
A15: PAÍS VASCO | C15: 5.7048 | K15: 11.3137 | L15: 16.3486 | M15: 32.1538 | N15: 89.6637
A16: COMUNIDAD FORAL DE NAVARRA | C16: 174.9357 | D16: 7.2077 | J16: 28.6635 | L16: 19.5642 | N16: 113.1452
A17: LA RIOJA | D17: 1.3868 | L17: 17.3836
A18: HUESCA
A19: TERUEL
A20: ZARAGOZA | N20: 43.3941
A21: ARAGÓN | N21: 43.3941
A22: BARCELONA | B22: 57.8094 | C22: 189.7411 | E22: 92.3944 | K22: 12.5748 | L22: 28.256 | M22: 79.3721 | N22: 61.1266
A23: GIRONA | L23: 8.6845
A24: LLEIDA | N24: 13.6561
A25: TARRAGONA | E25: 1.1564 | G25: 0.1999 | N25: 0.1842
A26: CATALUÑA | B26: 57.8094 | C26: 189.7411 | E26: 93.5508 | G26: 0.1999 | K26: 12.5748 | L26: 36.9405 | M26: 79.3721 | N26: 74.9669
A27: ILLES BALEARS | B27: 15.1668 | C27: 26.486 | D27: 1.0505 | E27: 1.5682 | I27: 9.8239 | N27: 23.2106
A28: ÁVILA | D28: 1.3319 | L28: 4.8198
A29: BURGOS
A30: LEÓN | C30: 11.3376 | L30: 11.0254 | N30: 8.8226
A31: PALENCIA
A32: SALAMANCA | N32: 6.6932
A33: SEGOVIA | B33: 712.4736
A34: SORIA
A35: VALLADOLID
A36: ZAMORA | C36: 12.2848 | N36: 4.1154
A37: CASTILLA Y LEÓN | B37: 712.4736 | C37: 23.6224 | D37: 1.3319 | L37: 15.8452 | N37: 19.6312
A38: COMUNIDAD DE MADRID | C38: 5.8491 | E38: 112.2545
A39: ALBACETE | C39: 8.3244 | E39: 1.9063
A40: CIUDAD REAL | C40: 4.802 | H40: 0.978 | K40: 1.8973 | L40: 4.7726 | N40: 16.9688
...

Sheet INVERNADEROS 2
A2: Provincias y CC.AA. | B2: CULTIVOS LEÑOSOS | K2: Viveros | L2: Superficie vacia | M2: Total general
B4: Aguacate | C4: Platanera | D4: Mango | E4: Papaya | F4: Frambueso | G4: Piña | H4: Arándano | I4: Moral | J4: Otros leñosos | O4: h | P4: l | Q4: t
A5: A CORUÑA | K5: 6.1967 | L5: 22.5378 | M5: 192.9413 | O5: =+SUM('INVERNADEROS 1'!B5:N5)+L5 -> 186.7446 | P5: =+SUM(B5:J5) -> 0 | Q5: =+O5+P5 -> 186.7446 | R5: =+Q5-M5 -> -6.1967 | S5: 25.9379
A6: LUGO | M6: 21.1823 | O6: =+SUM('INVERNADEROS 1'!B6:N6)+L6 -> 21.1823 | P6: =+SUM(B6:J6) -> 0 | Q6: =+O6+P6 -> 21.1823 | R6: =+Q6-M6 -> 0 | S6: 1.5637
A7: OURENSE | K7: 9.7364 | M7: 14.9969 | O7: =+SUM('INVERNADEROS 1'!B7:N7)+L7 -> 5.2605 | P7: =+SUM(B7:J7) -> 0 | Q7: =+O7+P7 -> 5.2605 | R7: =+Q7-M7 -> -9.7364 | S7: 0
A8: PONTEVEDRA | K8: 74.5624 | L8: 0.7291 | M8: 197.2166 | O8: =+SUM('INVERNADEROS 1'!B8:N8)+L8 -> 122.6542 | P8: =+SUM(B8:J8) -> 0 | Q8: =+O8+P8 -> 122.6542 | R8: =+Q8-M8 -> -74.5624 | S8: 8.7918
A9: GALICIA | K9: 90.4955 | L9: 23.2669 | M9: 426.3371 | O9: =+SUM('INVERNADEROS 1'!B9:N9)+L9 -> 335.8416 | P9: =+SUM(B9:J9) -> 0 | Q9: =+O9+P9 -> 335.8416 | R9: =+Q9-M9 -> -90.4955 | S9: 36.2934
A10: PRINCIPADO DE ASTURIAS | K10: 62.2657 | L10: 8.7363 | M10: 130.5729 | O10: =+SUM('INVERNADEROS 1'!B10:N10)+L10 -> 68.3072 | P10: =+SUM(B10:J10) -> 0 | Q10: =+O10+P10 -> 68.3072 | R10: =+Q10-M10 -> -62.2657 | S10: 30.1917
A11: CANTABRIA | M11: 6.7158 | O11: =+SUM('INVERNADEROS 1'!B11:N11)+L11 -> 6.7158 | P11: =+SUM(B11:J11) -> 0 | Q11: =+O11+P11 -> 6.7158 | R11: =+Q11-M11 -> 0 | S11: 0
A12: ARABA/ÁLAVA | M12: 24.0536 | O12: =+SUM('INVERNADEROS 1'!B12:N12)+L12 -> 24.0536 | P12: =+SUM(B12:J12) -> 0 | Q12: =+O12+P12 -> 24.0536 | R12: =+Q12-M12 -> 0 | S12: 0
A13: GIPUZKOA | L13: 9.0877 | M13: 54.4857 | O13: =+SUM('INVERNADEROS 1'!B13:N13)+L13 -> 54.4857 | P13: =+SUM(B13:J13) -> 0 | Q13: =+O13+P13 -> 54.4857 | R13: =+Q13-M13 -> 0 | S13: 16.9514
A14: BIZKAIA | M14: 85.733 | O14: =+SUM('INVERNADEROS 1'!B14:N14)+L14 -> 85.733 | P14: =+SUM(B14:J14) -> 0 | Q14: =+O14+P14 -> 85.733 | R14: =+Q14-M14 -> 0 | S14: 1.7099
A15: PAÍS VASCO | L15: 9.0877 | M15: 164.2723 | O15: =+SUM('INVERNADEROS 1'!B15:N15)+L15 -> 164.2723 | P15: =+SUM(B15:J15) -> 0 | Q15: =+O15+P15 -> 164.2723 | R15: =+Q15-M15 -> 0 | S15: 18.6613
A16: COMUNIDAD FORAL DE NAVARRA | K16: 93.5238 | L16: 40.1357 | M16: 477.1758 | O16: =+SUM('INVERNADEROS 1'!B16:N16)+L16 -> 383.652 | P16: =+SUM(B16:J16) -> 0 | Q16: =+O16+P16 -> 383.652 | R16: =+Q16-M16 -> -93.5238 | S16: 308.9628
A17: LA RIOJA | L17: 38.7498 | M17: 57.5202 | O17: =+SUM('INVERNADEROS 1'!B17:N17)+L17 -> 57.5202 | P17: =+SUM(B17:J17) -> 0 | Q17: =+O17+P17 -> 57.5202 | R17: =+Q17-M17 -> 0 | S17: 14.7249
A18: HUESCA | O18: =+SUM('INVERNADEROS 1'!B18:N18)+L18 -> 0 | P18: =+SUM(B18:J18) -> 0 | Q18: =+O18+P18 -> 0 | R18: =+Q18-M18 -> 0 | S18: 0
A19: TERUEL | O19: =+SUM('INVERNADEROS 1'!B19:N19)+L19 -> 0 | P19: =+SUM(B19:J19) -> 0 | Q19: =+O19+P19 -> 0 | R19: =+Q19-M19 -> 0 | S19: 0
A20: ZARAGOZA | K20: 272.4772 | L20: 13.6977 | M20: 329.569 | O20: =+SUM('INVERNADEROS 1'!B20:N20)+L20 -> 57.0918 | P20: =+SUM(B20:J20) -> 0 | Q20: =+O20+P20 -> 57.0918 | R20: =+Q20-M20 -> -272.4772 | S20: 28.4563
A21: ARAGÓN | K21: 272.4772 | L21: 13.6977 | M21: 329.569 | O21: =+SUM('INVERNADEROS 1'!B21:N21)+L21 -> 57.0918 | P21: =+SUM(B21:J21) -> 0 | Q21: =+O21+P21 -> 57.0918 | R21: =+Q21-M21 -> -272.4772 | S21: 28.4563
A22: BARCELONA | K22: 1.7975 | L22: 178.6187 | M22: 701.6906 | O22: =+SUM('INVERNADEROS 1'!B22:N22)+L22 -> 699.8931 | P22: =+SUM(B22:J22) -> 0 | Q22: =+O22+P22 -> 699.8931 | R22: =+Q22-M22 -> -1.7975 | S22: 119.2686
A23: GIRONA | K23: 17.1967 | M23: 25.8812 | O23: =+SUM('INVERNADEROS 1'!B23:N23)+L23 -> 8.6845 | P23: =+SUM(B23:J23) -> 0 | Q23: =+O23+P23 -> 8.6845 | R23: =+Q23-M23 -> -17.1967 | S23: 0
A24: LLEIDA | K24: 17.0132 | M24: 30.6693 | O24: =+SUM('INVERNADEROS 1'!B24:N24)+L24 -> 13.6561 | P24: =+SUM(B24:J24) -> 0 | Q24: =+O24+P24 -> 13.6561 | R24: =+Q24-M24 -> -17.0132 | S24: 0
A25: TARRAGONA | L25: 67.7365 | M25: 69.277 | O25: =+SUM('INVERNADEROS 1'!B25:N25)+L25 -> 69.277 | P25: =+SUM(B25:J25) -> 0 | Q25: =+O25+P25 -> 69.277 | R25: =+Q25-M25 -> 0 | S25: 0
A26: CATALUÑA | K26: 36.0074 | L26: 246.3552 | M26: 827.5181 | O26: =+SUM('INVERNADEROS 1'!B26:N26)+L26 -> 791.5107 | P26: =+SUM(B26:J26) -> 0 | Q26: =+O26+P26 -> 791.5107 | R26: =+Q26-M26 -> -36.0074 | S26: 119.2686
A27: ILLES BALEARS | L27: 2.8298 | M27: 80.1358 | O27: =+SUM('INVERNADEROS 1'!B27:N27)+L27 -> 80.1358 | P27: =+SUM(B27:J27) -> 0 | Q27: =+O27+P27 -> 80.1358 | R27: =+Q27-M27 -> 0 | S27: 4.2321
A28: ÁVILA | L28: 0.7226 | M28: 6.8743 | O28: =+SUM('INVERNADEROS 1'!B28:N28)+L28 -> 6.8743 | P28: =+SUM(B28:J28) -> 0 | Q28: =+O28+P28 -> 6.8743 | R28: =+Q28-M28 -> 0 | S28: 0.7227
A29: BURGOS | O29: =+SUM('INVERNADEROS 1'!B29:N29)+L29 -> 0 | P29: =+SUM(B29:J29) -> 0 | Q29: =+O29+P29 -> 0 | R29: =+Q29-M29 -> 0 | S29: 0
A30: LEÓN | M30: 31.1856 | O30: =+SUM('INVERNADEROS 1'!B30:N30)+L30 -> 31.1856 | P30: =+SUM(B30:J30) -> 0 | Q30: =+O30+P30 -> 31.1856 | R30: =+Q30-M30 -> 0 | S30: 4.266
A31: PALENCIA | O31: =+SUM('INVERNADEROS 1'!B31:N31)+L31 -> 0 | P31: =+SUM(B31:J31) -> 0 | Q31: =+O31+P31 -> 0 | R31: =+Q31-M31 -> 0 | S31: 0
A32: SALAMANCA | M32: 6.6932 | O32: =+SUM('INVERNADEROS 1'!B32:N32)+L32 -> 6.6932 | P32: =+SUM(B32:J32) -> 0 | Q32: =+O32+P32 -> 6.6932 | R32: =+Q32-M32 -> 0 | S32: 0.9354
A33: SEGOVIA | K33: 43.6691 | M33: 756.1427 | O33: =+SUM('INVERNADEROS 1'!B33:N33)+L33 -> 712.4736 | P33: =+SUM(B33:J33) -> 0 | Q33: =+O33+P33 -> 712.4736 | R33: =+Q33-M33 -> -43.6691 | S33: 0
A34: SORIA | O34: =+SUM('INVERNADEROS 1'!B34:N34)+L34 -> 0 | P34: =+SUM(B34:J34) -> 0 | Q34: =+O34+P34 -> 0 | R34: =+Q34-M34 -> 0 | S34: 0
A35: VALLADOLID | K35: 31.3768 | M35: 31.3768 | O35: =+SUM('INVERNADEROS 1'!B35:N35)+L35 -> 0 | P35: =+SUM(B35:J35) -> 0 | Q35: =+O35+P35 -> 0 | R35: =+Q35-M35 -> -31.3768 | S35: 13.1699
A36: ZAMORA | M36: 16.4002 | O36: =+SUM('INVERNADEROS 1'!B36:N36)+L36 -> 16.4002 | P36: =+SUM(B36:J36) -> 0 | Q36: =+O36+P36 -> 16.4002 | R36: =+Q36-M36 -> 0 | S36: 0
A37: CASTILLA Y LEÓN | K37: 75.0459 | L37: 0.7226 | M37: 848.6728 | O37: =+SUM('INVERNADEROS 1'!B37:N37)+L37 -> 773.6269 | P37: =+SUM(B37:J37) -> 0 | Q37: =+O37+P37 -> 773.6269 | R37: =+Q37-M37 -> -75.0459 | S37: 19.094
A38: COMUNIDAD DE MADRID | L38: 12.9115 | M38: 131.0151 | O38: =+SUM('INVERNADEROS 1'!B38:N38)+L38 -> 131.0151 | P38: =+SUM(B38:J38) -> 0 | Q38: =+O38+P38 -> 131.0151 | R38: =+Q38-M38 -> 0 | S38: 33.2332
A39: ALBACETE | M39: 10.2307 | O39: =+SUM('INVERNADEROS 1'!B39:N39)+L39 -> 10.2307 | P39: =+SUM(B39:J39) -> 0 | Q39: =+O39+P39 -> 10.2307 | R39: =+Q39-M39 -> 0 | S39: 0
A40: CIUDAD REAL | L40: 19.7648 | M40: 49.1835 | O40: =+SUM('INVERNADEROS 1'!B40:N40)+L40 -> 49.1835 | P40: =+SUM(B40:J40) -> 0 | Q40: =+O40+P40 -> 49.1835 | R40: =+Q40-M40 -> 0 | S40: 9.9465
A41: CUENCA | M41: 2.3767 | O41: =+SUM('INVERNADEROS 1'!B41:N41)+L41 -> 2.3767 | P41: =+SUM(B41:J41) -> 0 | Q41: =+O41+P41 -> 2.3767 | R41: =+Q41-M41 -> 0 | S41: 2.3062
A42: GUADALAJARA | O42: =+SUM('INVERNADEROS 1'!B42:N42)+L42 -> 0 | P42: =+SUM(B42:J42) -> 0 | Q42: =+O42+P42 -> 0 | R42: =+Q42-M42 -> 0 | S42: 0
...

Sheet HUERTOS
B1: CULTIVOS EN HUERTOS FAMILIARES
A2: Provincias y CC.AA | B2: Cereales grano | C2: Legumi-nosas | D2: Tuberculos c. h. | E2: Industriales | F2: Forrajeras | G2: Hortalizas | H2: Frutales citricos | I2: Frutales no citricos | J2: Olivar | K2: Viñedo | L2: Otros cultivos leñosos | M2: Barbecho | N2: Sin distribuir | O2: TOTAL
A3: A CORUÑA | B3: 337.459 | C3: 33.6611 | D3: 632.064 | F3: 345.2565 | G3: 6216.8303 | H3: 5.8055 | I3: 1211.972 | K3: 71.9048 | M3: 215.8184 | N3: 587.7046 | O3: 9658.4762 | R3: =SUM(B3:G3)+M3 -> 7781.0893 | S3: =+SUM(H3:L3) -> 1289.6823 | T3: =+N3 -> 587.7046
A4: LUGO | B4: 193.0743 | C4: 39.045 | D4: 574.7962 | F4: 1054.9722 | G4: 3995.1278 | H4: 2.6666 | I4: 1122.2951 | J4: 0.8177 | K4: 10.9053 | L4: 2.2171 | M4: 278.6936 | N4: 518.4269 | O4: 7793.0378 | R4: =SUM(B4:G4)+M4 -> 6135.7091 | S4: =+SUM(H4:L4) -> 1138.9018 | T4: =+N4 -> 518.4269
A5: OURENSE | B5: 79.077 | C5: 3.3634 | D5: 420.0261 | E5: 1.2113 | F5: 624.4073 | G5: 3007.5151 | H5: 0.7931 | I5: 1368.1477 | J5: 4.2424 | K5: 32.2284 | M5: 433.9202 | N5: 503.1231 | O5: 6478.0551 | R5: =SUM(B5:G5)+M5 -> 4569.5204 | S5: =+SUM(H5:L5) -> 1405.4116 | T5: =+N5 -> 503.1231
A6: PONTEVEDRA | B6: 333.4981 | C6: 16.0822 | D6: 267.6378 | F6: 646.3794 | G6: 2721.1273 | H6: 7.1522 | I6: 1333.033 | K6: 331.4261 | M6: 592.8253 | N6: 1045.6662 | O6: 7294.8276 | R6: =SUM(B6:G6)+M6 -> 4577.5501 | S6: =+SUM(H6:L6) -> 1671.6113 | T6: =+N6 -> 1045.6662
A7: GALICIA | B7: 943.1084 | C7: 92.1517 | D7: 1894.5241 | E7: 1.2113 | F7: 2671.0154 | G7: 15940.601 | H7: 16.4174 | I7: 5035.4478 | J7: 5.0601 | K7: 446.4646 | L7: 2.2171 | M7: 1521.2575 | N7: 2654.9208 | O7: 31224.397 | R7: =SUM(B7:G7)+M7 -> 23063.869 | S7: =+SUM(H7:L7) -> 5505.607 | T7: =+N7 -> 2654.9208
A8: PRINCIPADO DE ASTURIAS | B8: 86.0949 | C8: 375.4547 | D8: 321.1897 | E8: 0.6747 | F8: 160.1551 | G8: 991.4091 | H8: 29.9115 | I8: 876.9568 | J8: 0.8486 | K8: 11.6342 | N8: 621.029 | O8: 3475.3583 | R8: =SUM(B8:G8)+M8 -> 1934.9782 | S8: =+SUM(H8:L8) -> 919.3511 | T8: =+N8 -> 621.029
A9: CANTABRIA | B9: 4.6314 | C9: 20.7433 | D9: 4.5796 | G9: 113.7922 | H9: 3.13 | I9: 186.1891 | K9: 3.1305 | N9: 113.4328 | O9: 449.6289 | R9: =SUM(B9:G9)+M9 -> 143.7465 | S9: =+SUM(H9:L9) -> 192.4496 | T9: =+N9 -> 113.4328
A10: ARABA/ÁLAVA | B10: 5.1617 | C10: 26.0326 | D10: 5.5545 | E10: 1.5238 | G10: 258.4867 | I10: 144.0934 | J10: 19.5473 | K10: 1.8712 | O10: 462.2712 | R10: =SUM(B10:G10)+M10 -> 296.7593 | S10: =+SUM(H10:L10) -> 165.5119 | T10: =+N10 -> 0
A11: GIPUZKOA | B11: 7.191 | D11: 1.2596 | G11: 477.0557 | I11: 1896.9348 | O11: 2382.4411 | R11: =SUM(B11:G11)+M11 -> 485.5063 | S11: =+SUM(H11:L11) -> 1896.9348 | T11: =+N11 -> 0
A12: BIZKAIA | B12: 72.8754 | C12: 149.8505 | G12: 920.6885 | I12: 230.9145 | O12: 1374.3289 | R12: =SUM(B12:G12)+M12 -> 1143.4144 | S12: =+SUM(H12:L12) -> 230.9145 | T12: =+N12 -> 0
A13: PAÍS VASCO | B13: 85.2281 | C13: 175.8831 | D13: 6.8141 | E13: 1.5238 | G13: 1656.2309 | I13: 2271.9427 | J13: 19.5473 | K13: 1.8712 | O13: 4219.0412 | R13: =SUM(B13:G13)+M13 -> 1925.68 | S13: =+SUM(H13:L13) -> 2293.3612 | T13: =+N13 -> 0
A14: COMUNIDAD FORAL DE NAVARRA | B14: 55.3661 | C14: 2.0596 | D14: 168.8233 | F14: 130.232 | G14: 1666.2024 | H14: 0.5754 | I14: 728.9139 | J14: 179.98 | K14: 36.0399 | N14: 46.8402 | O14: 3015.0328 | R14: =SUM(B14:G14)+M14 -> 2022.6834 | S14: =+SUM(H14:L14) -> 945.5092 | T14: =+N14 -> 46.8402
A15: LA RIOJA | B15: 6.1291 | C15: 0.7029 | D15: 91.7423 | E15: 5.3856 | G15: 1072.9126 | I15: 771.6252 | J15: 183.7792 | K15: 42.4301 | L15: 4.1276 | N15: 6.9763 | O15: 2185.8109 | R15: =SUM(B15:G15)+M15 -> 1176.8725 | S15: =+SUM(H15:L15) -> 1001.9621 | T15: =+N15 -> 6.9763
A16: HUESCA | B16: 155.6871 | C16: 0.4253 | D16: 68.3767 | F16: 10.8474 | G16: 366.3059 | I16: 223.5385 | J16: 83.53 | K16: 10.8101 | N16: 11.7412 | O16: 931.2622 | R16: =SUM(B16:G16)+M16 -> 601.6424 | S16: =+SUM(H16:L16) -> 317.8786 | T16: =+N16 -> 11.7412
A17: TERUEL | B17: 2.6142 | D17: 214.0009 | G17: 637.5929 | I17: 565.0857 | J17: 15.2764 | K17: 23.3858 | M17: 9.4129 | O17: 1467.3688 | R17: =SUM(B17:G17)+M17 -> 863.6209 | S17: =+SUM(H17:L17) -> 603.7479 | T17: =+N17 -> 0
A18: ZARAGOZA | B18: 11.1782 | C18: 1.7856 | D18: 136.5115 | F18: 12.0907 | G18: 1254.1562 | H18: 1.6432 | I18: 514.1151 | J18: 113.3068 | K18: 108.8477 | L18: 5.1174 | N18: 55.8247 | O18: 2214.5771 | R18: =SUM(B18:G18)+M18 -> 1415.7222 | S18: =+SUM(H18:L18) -> 743.0302 | T18: =+N18 -> 55.8247
A19: ARAGÓN | B19: 169.4795 | C19: 2.2109 | D19: 418.8891 | F19: 22.9381 | G19: 2258.055 | H19: 1.6432 | I19: 1302.7393 | J19: 212.1132 | K19: 143.0436 | L19: 5.1174 | M19: 9.4129 | N19: 67.5659 | O19: 4613.2081 | R19: =SUM(B19:G19)+M19 -> 2880.9855 | S19: =+SUM(H19:L19) -> 1664.6567 | T19: =+N19 -> 67.5659
A20: BARCELONA | B20: 19.3181 | D20: 95.0966 | F20: 1.6662 | G20: 1949.3474 | H20: 8.1475 | I20: 560.4764 | J20: 203.1206 | K20: 72.6742 | L20: 19.4273 | M20: 7.7232 | N20: 0.5267 | O20: 2937.5242 | R20: =SUM(B20:G20)+M20 -> 2073.1515 | S20: =+SUM(H20:L20) -> 863.846 | T20: =+N20 -> 0.5267
A21: GIRONA | B21: 12.2602 | D21: 16.4354 | E21: 4.2127 | F21: 12.6277 | G21: 670.1419 | H21: 0.08 | I21: 149.2048 | J21: 46.3666 | K21: 21.2566 | N21: 17.593 | O21: 950.1789 | R21: =SUM(B21:G21)+M21 -> 715.6779 | S21: =+SUM(H21:L21) -> 216.908 | T21: =+N21 -> 17.593
A22: LLEIDA | B22: 6.6429 | D22: 11.555 | E22: 0.3252 | F22: 13.3242 | G22: 740.2472 | I22: 211.5353 | J22: 64.8856 | K22: 46.7935 | N22: 9.9417 | O22: 1105.2506 | R22: =SUM(B22:G22)+M22 -> 772.0945 | S22: =+SUM(H22:L22) -> 323.2144 | T22: =+N22 -> 9.9417
A23: TARRAGONA | B23: 2.6782 | D23: 12.757 | F23: 9.0088 | G23: 1332.8235 | H23: 232.9606 | I23: 657.9203 | J23: 269.1744 | K23: 42.4536 | L23: 53.9464 | M23: 4.5931 | O23: 2618.3159 | R23: =SUM(B23:G23)+M23 -> 1361.8606 | S23: =+SUM(H23:L23) -> 1256.4553 | T23: =+N23 -> 0
A24: CATALUÑA | B24: 40.8994 | D24: 135.844 | E24: 4.5379 | F24: 36.6269 | G24: 4692.56 | H24: 241.1881 | I24: 1579.1368 | J24: 583.5472 | K24: 183.1779 | L24: 73.3737 | M24: 12.3163 | N24: 28.0614 | O24: 7611.2696 | R24: =SUM(B24:G24)+M24 -> 4922.7845 | S24: =+SUM(H24:L24) -> 2660.4237 | T24: =+N24 -> 28.0614
A25: ILLES BALEARS | B25: 3.1419 | C25: 2.0185 | D25: 41.9102 | E25: 13.2392 | F25: 14.4085 | G25: 1171.5618 | H25: 1150.7679 | I25: 2415.3557 | J25: 777.6552 | K25: 188.2702 | L25: 279.5224 | N25: 88.4521 | O25: 6146.3036 | R25: =SUM(B25:G25)+M25 -> 1246.2801 | S25: =+SUM(H25:L25) -> 4811.5714 | T25: =+N25 -> 88.4521
A26: ÁVILA | C26: 1.0323 | D26: 20.9203 | F26: 8.9461 | G26: 408.5472 | H26: 11.5716 | I26: 164.9311 | J26: 9.7644 | K26: 6.3962 | N26: 5.8177 | O26: 637.9269 | R26: =SUM(B26:G26)+M26 -> 439.4459 | S26: =+SUM(H26:L26) -> 192.6633 | T26: =+N26 -> 5.8177
A27: BURGOS | B27: 22.972 | C27: 12.4966 | D27: 98.6099 | E27: 5.356 | G27: 282.893 | I27: 2158.2752 | J27: 6.6813 | K27: 31.4143 | N27: 4.3324 | O27: 2623.0307 | R27: =SUM(B27:G27)+M27 -> 422.3275 | S27: =+SUM(H27:L27) -> 2196.3708 | T27: =+N27 -> 4.3324
A28: LEÓN | B28: 36.6236 | C28: 95.4883 | D28: 639.7379 | E28: 11.4656 | F28: 123.5299 | G28: 1643.4571 | I28: 1870.833 | J28: 0.7901 | K28: 41.7363 | M28: 99.3927 | N28: 293.6013 | O28: 4856.6558 | R28: =SUM(B28:G28)+M28 -> 2649.6951 | S28: =+SUM(H28:L28) -> 1913.3594 | T28: =+N28 -> 293.6013
A29: PALENCIA | B29: 0.5376 | D29: 29.4018 | E29: 0.8823 | G29: 117.5116 | I29: 127.6185 | J29: 7.561 | K29: 24.4631 | N29: 10.5795 | O29: 318.5554 | R29: =SUM(B29:G29)+M29 -> 148.3333 | S29: =+SUM(H29:L29) -> 159.6426 | T29: =+N29 -> 10.5795
A30: SALAMANCA | C30: 4.3276 | D30: 179.8426 | E30: 0.2614 | F30: 11.6827 | G30: 329.0806 | I30: 209.6156 | K30: 30.9553 | M30: 1.6777 | N30: 11.665 | O30: 779.1085 | R30: =SUM(B30:G30)+M30 -> 526.8726 | S30: =+SUM(H30:L30) -> 240.5709 | T30: =+N30 -> 11.665
A31: SEGOVIA | B31: 2.0747 | D31: 13.5827 | E31: 2.0747 | G31: 128.3096 | I31: 191.0472 | J31: 0.9077 | K31: 4.6731 | L31: 0.6152 | O31: 343.2849 | R31: =SUM(B31:G31)+M31 -> 146.0417 | S31: =+SUM(H31:L31) -> 197.2432 | T31: =+N31 -> 0
A32: SORIA | B32: 9.2444 | C32: 1.4315 | D32: 19.5826 | E32: 1.1709 | G32: 221.3712 | I32: 324.2794 | J32: 17.4874 | K32: 10.4488 | O32: 605.0162 | R32: =SUM(B32:G32)+M32 -> 252.8006 | S32: =+SUM(H32:L32) -> 352.2156 | T32: =+N32 -> 0
A33: VALLADOLID | C33: 0.133 | D33: 10.3886 | G33: 130.5062 | I33: 109.9129 | J33: 8.101 | K33: 5.6541 | M33: 6.7346 | N33: 4.0795 | O33: 275.5099 | R33: =SUM(B33:G33)+M33 -> 147.7624 | S33: =+SUM(H33:L33) -> 123.668 | T33: =+N33 -> 4.0795
