Workbook

Sheet C01  CEREALES GRANO
B1: CEREALES GRANO
A2: Provincias y CC.AA. | B2: Trigo Duro | C2: Trigo Blando | D2: Trigo Total | E2: Cebada 2 carreras | F2: Cebada 6 carreras | G2: Cebada Total | H2: Avena | I2: Centeno
A3: A CORUÑA | B3: 7.3099 | C3: 1401.8015 | D3: 1409.1114 | E3: 26.0177 | G3: 26.0177 | H3: 200.6724 | I3: 76.1519
A4: LUGO | B4: 35.2647 | C4: 2343.016 | D4: 2378.2807 | E4: 50.5153 | F4: 10.627 | G4: 61.1423 | H4: 75.5192 | I4: 393.2081
A5: OURENSE | C5: 6590.6416 | D5: 6590.6416 | E5: 725.5408 | F5: 27.5472 | G5: 753.088 | H5: 37.3273 | I5: 4479.7557
A6: PONTEVEDRA | C6: 63.5343 | D6: 63.5343 | H6: 6.3975 | I6: 187.5744
A7: GALICIA | B7: 42.5746 | C7: 10398.993 | D7: 10441.568 | E7: 802.0738 | F7: 38.1742 | G7: 840.248 | H7: 319.9164 | I7: 5136.6901
A8: PRINCIPADO DE ASTURIAS
A9: CANTABRIA | C9: 362.7908 | D9: 362.7908 | E9: 157.0824 | G9: 157.0824
A10: ARABA/ÁLAVA | C10: 23391.7 | D10: 23391.7 | E10: 12152.13 | G10: 12152.13 | H10: 7220.0147
A11: GIPUZKOA
A12: BIZKAIA
A13: PAÍS VASCO | C13: 23391.7 | D13: 23391.7 | E13: 12152.13 | G13: 12152.13 | H13: 7220.0147
A14: COMUNIDAD FORAL DE NAVARRA | B14: 3475.2847 | C14: 76258.556 | D14: 79733.84 | E14: 69217.024 | G14: 69217.024 | H14: 9944.2241 | I14: 629.2998
A15: LA RIOJA | B15: 140.1362 | C15: 27030.406 | D15: 27170.542 | E15: 22768.56 | F15: 12.539 | G15: 22781.099 | H15: 1015.1526 | I15: 145.4152
A16: HUESCA | B16: 2266.4353 | C16: 89661.139 | D16: 91927.574 | E16: 166490.59 | F16: 28.6089 | G16: 166519.2 | H16: 5546.3712 | I16: 8.6531
A17: TERUEL | B17: 951.1368 | C17: 31731.987 | D17: 32683.123 | E17: 94937.371 | F17: 49.5055 | G17: 94986.877 | H17: 19600.261 | I17: 7620.9664
A18: ZARAGOZA | B18: 42186.608 | C18: 69797.38 | D18: 111983.99 | E18: 168608.41 | F18: 2277.6702 | G18: 170886.08 | H18: 7102.9591 | I18: 5341.1074
A19: ARAGÓN | B19: 45404.18 | C19: 191190.51 | D19: 236594.68 | E19: 430036.38 | F19: 2355.7846 | G19: 432392.16 | H19: 32249.591 | I19: 12970.727
A20: BARCELONA | B20: 391.0877 | C20: 23299.255 | D20: 23690.343 | E20: 43143.667 | F20: 61.8068 | G20: 43205.474 | H20: 4373.7988 | I20: 466.0591
A21: GIRONA | B21: 97.1245 | C21: 12089.296 | D21: 12186.42 | E21: 16009.088 | F21: 28.5327 | G21: 16037.621 | H21: 3704.6001 | I21: 526.4589
A22: LLEIDA | B22: 3754.9301 | C22: 48379.204 | D22: 52134.135 | E22: 118133.75 | F22: 155.801 | G22: 118289.55 | H22: 3782.6559 | I22: 264.2095
A23: TARRAGONA | C23: 9370.7336 | D23: 9370.7336 | E23: 12911.495 | F23: 69.738 | G23: 12981.233 | H23: 817.8084
A24: CATALUÑA | B24: 4243.1423 | C24: 93138.489 | D24: 97381.631 | E24: 190198 | F24: 315.8785 | G24: 190513.88 | H24: 12678.863 | I24: 1256.7275
A25: ILLES BALEARS | B25: 162.3902 | C25: 3693.218 | D25: 3855.6082 | E25: 3455.9728 | F25: 6641.262 | G25: 10097.235 | H25: 4386.5953
A26: ÁVILA | C26: 33464.905 | D26: 33464.905 | E26: 38178.511 | F26: 3674.3401 | G26: 41852.851 | H26: 4667.9677 | I26: 3756.9926
A27: BURGOS | B27: 2843.2256 | C27: 212094.13 | D27: 214937.36 | E27: 140836.46 | F27: 144.5818 | G27: 140981.04 | H27: 15041.127 | I27: 3793.7616
A28: LEÓN | B28: 5561.9068 | C28: 44650.337 | D28: 50212.244 | E28: 19018.476 | F28: 473.21 | G28: 19491.686 | H28: 13693.903 | I28: 14063.022
A29: PALENCIA | B29: 453.1767 | C29: 131608.84 | D29: 132062.01 | E29: 98354.319 | F29: 1771.8929 | G29: 100126.21 | H29: 23726.231 | I29: 16541.528
A30: SALAMANCA | B30: 1106.8893 | C30: 60845.76 | D30: 61952.649 | E30: 29183.873 | F30: 958.2985 | G30: 30142.171 | H30: 8662.955 | I30: 4265.7526
A31: SEGOVIA | B31: 5.9808 | C31: 76799.973 | D31: 76805.954 | E31: 57594.081 | F31: 4279.5567 | G31: 61873.637 | H31: 2454.1433 | I31: 12630.818
A32: SORIA | B32: 78.1523 | C32: 106089.1 | D32: 106167.25 | E32: 78354.794 | F32: 388.0126 | G32: 78742.807 | H32: 1330.4396 | I32: 14220.857
A33: VALLADOLID | C33: 131165.24 | D33: 131165.24 | E33: 168537.14 | F33: 2529.5224 | G33: 171066.66 | H33: 10895.807 | I33: 9023.3586
A34: ZAMORA | B34: 284.0409 | C34: 69347.356 | D34: 69631.397 | E34: 62284.954 | F34: 5884.8839 | G34: 68169.838 | H34: 20220.347 | I34: 9612.0875
A35: CASTILLA Y LEÓN | B35: 10333.372 | C35: 866065.64 | D35: 876399.02 | E35: 692342.6 | F35: 20104.299 | G35: 712446.9 | H35: 100692.92 | I35: 87908.179
A36: COMUNIDAD DE MADRID | B36: 174.6023 | C36: 20126.933 | D36: 20301.535 | E36: 39305.324 | F36: 331.5576 | G36: 39636.882 | H36: 10044.365 | I36: 725.9818
A37: ALBACETE | B37: 1886.5007 | C37: 63302.331 | D37: 65188.832 | E37: 112570.81 | F37: 11157.319 | G37: 123728.13 | H37: 53222.312 | I37: 1279.1249
A38: CIUDAD REAL | B38: 1349.5466 | C38: 40472.338 | D38: 41821.885 | E38: 133750.88 | F38: 7693.6523 | G38: 141444.53 | H38: 49706.428 | I38: 831.4733
A39: CUENCA | B39: 335.5998 | C39: 59752.645 | D39: 60088.245 | E39: 228311.76 | F39: 15892.882 | G39: 244204.64 | H39: 13838.647 | I39: 22.6539
A40: GUADALAJARA | B40: 1909.6326 | C40: 68317.668 | D40: 70227.301 | E40: 101734.35 | F40: 3717.4634 | G40: 105451.81 | H40: 7793.4541 | I40: 2012.3865
A41: TOLEDO | B41: 1995.7783 | C41: 48072.233 | D41: 50068.012 | E41: 139749.68 | F41: 3574.3146 | G41: 143323.99 | H41: 23511.785 | I41: 5419.6686
A42: CASTILLA-LA MANCHA | B42: 7477.058 | C42: 279917.22 | D42: 287394.27 | E42: 716117.47 | F42: 42035.632 | G42: 758153.1 | H42: 148072.63 | I42: 9565.3072
A43: ALICANTE/ALACANT | B43: 88.1362 | C43: 342.375 | D43: 430.5112 | E43: 1737.5473 | F43: 592.3402 | G43: 2329.8875 | H43: 681.8667
A44: CASTELLÓN/CASTELLÓ | B44: 130.9623 | C44: 318.0668 | D44: 449.0291 | E44: 3091.4608 | F44: 63.9744 | G44: 3155.4352 | H44: 110.5474
A45: VALENCIA/VALÈNCIA | B45: 702.2426 | C45: 2903.4332 | D45: 3605.6758 | E45: 4180.5008 | F45: 447.1544 | G45: 4627.6552 | H45: 4345.8587 | I45: 17.7686
A46: COMUNITAT VALENCIANA | B46: 921.3411 | C46: 3563.875 | D46: 4485.2161 | E46: 9009.5089 | F46: 1103.469 | G46: 10112.978 | H46: 5138.2728 | I46: 17.7686
A47: REGIÓN DE MURCIA | B47: 58.923 | C47: 4594.754 | D47: 4653.677 | E47: 24946.844 | F47: 2211.3756 | G47: 27158.22 | H47: 8995.959 | I47: 186.5829
A48: BADAJOZ | B48: 1323.2943 | C48: 85187.151 | D48: 86510.445 | E48: 34355.331 | F48: 1685.005 | G48: 36040.336 | H48: 37160.067
A49: CÁCERES | C49: 1699.8709 | D49: 1699.8709 | E49: 584.4831 | F49: 85.4382 | G49: 669.9213 | H49: 4765.0706
A50: EXTREMADURA | B50: 1323.2943 | C50: 86887.021 | D50: 88210.316 | E50: 34939.814 | F50: 1770.4432 | G50: 36710.257 | H50: 41925.138
A51: ALMERÍA | B51: 1207.0866 | C51: 386.7905 | D51: 1593.8771 | E51: 3272.5067 | F51: 4254.3667 | G51: 7526.8734 | H51: 3015.357
A52: CÁDIZ | B52: 39209.646 | C52: 12474.465 | D52: 51684.111 | E52: 6566.8009 | F52: 1272.7674 | G52: 7839.5683 | H52: 6964.1628
A53: CÓRDOBA | B53: 41315.219 | C53: 21649.541 | D53: 62964.76 | E53: 8889.8444 | F53: 3508.1395 | G53: 12397.984 | H53: 23121.263 | I53: 1099.8022
A54: GRANADA | B54: 3113.8929 | C54: 11292.13 | D54: 14406.023 | E54: 26017.939 | F54: 8283.0448 | G54: 34300.983 | H54: 17119.167 | I54: 642.8409
A55: HUELVA | B55: 20422.365 | C55: 1409.4661 | D55: 21831.831 | F55: 17.7212 | G55: 17.7212 | H55: 109.7175
A56: JAÉN | B56: 6027.7503 | C56: 398.473 | D56: 6426.2233 | E56: 5745.9176 | F56: 1087.0676 | G56: 6832.9852 | H56: 2297.628
A57: MÁLAGA | B57: 13341.484 | C57: 3777.6174 | D57: 17119.101 | E57: 9045.2928 | F57: 1901.6908 | G57: 10946.984 | H57: 5761.6574 | I57: 27.5136
A58: SEVILLA | B58: 85433.89 | C58: 52267.638 | D58: 137701.53 | E58: 12527.437 | F58: 771.6624 | G58: 13299.099 | H58: 15110.384
A59: ANDALUCÍA | B59: 210071.33 | C59: 103656.12 | D59: 313727.45 | E59: 72065.738 | F59: 21096.46 | G59: 93162.198 | H59: 73499.337 | I59: 1770.1567
A60: PALMAS (Las) | B60: 87.8035 | C60: 63.6077 | D60: 151.4112
A61: Sta.C. de TENERIFE | C61: 21.7028 | D61: 21.7028 | H61: 3.8225
A62: CANARIAS | B62: 87.8035 | C62: 85.3105 | D62: 173.114 | H62: 3.8225
A63: ESPAÑA | B63: 283915.44 | C63: 1790361.5 | D63: 2074277 | E63: 2317514.5 | F63: 98016.875 | G63: 2415531.4 | H63: 456186.8 | I63: 120312.84

Sheet C02  CEREALES GRANO
B1: CEREALES GRANO
A2: Provincias y CC.AA. | B2: Triticale | C2: Mezcla de Cereales | D2: Total Cereales de Invierno | E2: Arroz | F2: Maíz | G2: Sorgo | H2: Otros cereales | I2: Quinoa | J2: Total Cereales Grano
A3: A CORUÑA | B3: 23.3896 | D3: 1735.343 | F3: 4325.5162 | H3: 2.1071 | J3: 6062.9663
A4: LUGO | C4: 2.0368 | D4: 2910.1871 | F4: 1231.0512 | J4: 4141.2383
A5: OURENSE | B5: 46.6129 | D5: 11907.425 | F5: 1029.4382 | J5: 12936.864
A6: PONTEVEDRA | D6: 257.5062 | F6: 3345.0047 | J6: 3602.5109
A7: GALICIA | B7: 70.0025 | C7: 2.0368 | D7: 16810.462 | F7: 9931.0103 | H7: 2.1071 | J7: 26743.579
A8: PRINCIPADO DE ASTURIAS | F8: 25.0949 | J8: 25.0949
A9: CANTABRIA | D9: 519.8732 | F9: 43.6072 | J9: 563.4804
A10: ARABA/ÁLAVA | B10: 244.6802 | D10: 43008.525 | J10: 43008.525
A11: GIPUZKOA | F11: 49.3135 | J11: 49.3135
A12: BIZKAIA | F12: 32.2599 | J12: 32.2599
A13: PAÍS VASCO | B13: 244.6802 | D13: 43008.525 | F13: 81.5734 | J13: 43090.099
A14: COMUNIDAD FORAL DE NAVARRA | B14: 3688.5745 | C14: 381.5367 | D14: 163594.5 | E14: 1339.616 | F14: 20835.776 | J14: 185769.89
A15: LA RIOJA | B15: 2544.4834 | D15: 53656.693 | F15: 107.6205 | J15: 53764.313
A16: HUESCA | B16: 13029.778 | C16: 35.2002 | D16: 277066.78 | E16: 2420.0639 | F16: 49533.464 | G16: 43.2524 | J16: 329063.56
A17: TERUEL | B17: 19936.265 | D17: 174827.49 | F17: 1225.4065 | J17: 176052.9
A18: ZARAGOZA | B18: 37649.186 | C18: 181.1567 | D18: 333144.48 | E18: 1870.5018 | F18: 12700.677 | G18: 155.6795 | J18: 347871.34
A19: ARAGÓN | B19: 70615.229 | C19: 216.3569 | D19: 785038.75 | E19: 4290.5657 | F19: 63459.548 | G19: 198.9319 | J19: 852987.8
A20: BARCELONA | B20: 648.9178 | D20: 72384.592 | F20: 26.1706 | G20: 78.8751 | J20: 72489.638
A21: GIRONA | B21: 395.181 | C21: 54.4227 | D21: 32904.704 | E21: 1580.1259 | F21: 5947.5894 | J21: 40432.419
A22: LLEIDA | B22: 9104.4011 | C22: 199.6095 | D22: 183774.56 | F22: 14735.126 | J22: 198509.69
A23: TARRAGONA | B23: 169.9373 | D23: 23339.712 | E23: 20782.072 | H23: 138.9345 | J23: 44260.718
A24: CATALUÑA | B24: 10318.437 | C24: 254.0322 | D24: 312403.57 | E24: 22362.197 | F24: 20708.886 | G24: 78.8751 | H24: 138.9345 | J24: 355692.46
A25: ILLES BALEARS | B25: 135.6219 | C25: 492.5775 | D25: 18967.638 | F25: 119.3293 | G25: 355.233 | J25: 19442.2
A26: ÁVILA | B26: 2078.9228 | C26: 48.8187 | D26: 85870.458 | F26: 865.0903 | J26: 86735.548
A27: BURGOS | B27: 4239.0652 | D27: 378992.36 | F27: 2080.9635 | J27: 381073.32
A28: LEÓN | B28: 3751.3208 | C28: 282.5637 | D28: 101494.74 | F28: 82427.94 | J28: 183922.68
A29: PALENCIA | B29: 5215.7578 | D29: 277671.74 | F29: 7839.7042 | I29: 23.2625 | J29: 285534.71
A30: SALAMANCA | B30: 1257.8261 | C30: 375.7037 | D30: 106657.06 | F30: 17671.112 | J30: 124328.17
A31: SEGOVIA | B31: 6092.7622 | D31: 159857.32 | F31: 237.1208 | H31: 78.8182 | J31: 160173.25
A32: SORIA | B32: 11851.111 | D32: 212312.47 | F32: 31.7426 | J32: 212344.21
A33: VALLADOLID | B33: 848.6848 | C33: 325.9335 | D33: 323325.68 | F33: 3191.4934 | G33: 225.0905 | H33: 396.0305 | J33: 327138.3
A34: ZAMORA | B34: 2405.0831 | C34: 133.7927 | D34: 170172.55 | F34: 14198.279 | J34: 184370.82
A35: CASTILLA Y LEÓN | B35: 37740.533 | C35: 1166.8123 | D35: 1816354.4 | F35: 128543.45 | G35: 225.0905 | H35: 474.8487 | I35: 23.2625 | J35: 1945621
A36: COMUNIDAD DE MADRID | B36: 8253.6247 | D36: 78962.388 | F36: 3115.0231 | J36: 82077.411
A37: ALBACETE | B37: 12829.629 | C37: 787.7282 | D37: 257035.76 | E37: 158.4495 | F37: 6018.8396 | J37: 263213.04
A38: CIUDAD REAL | B38: 16929.684 | C38: 2317.9689 | D38: 253051.97 | F38: 3122.4004 | J38: 256174.37
A39: CUENCA | B39: 6532.3022 | C39: 1070.4969 | D39: 325756.98 | F39: 437.4058 | J39: 326194.39
A40: GUADALAJARA | B40: 4391.8055 | D40: 189876.76 | F40: 1835.0565 | J40: 191711.81
A41: TOLEDO | B41: 17781.81 | C41: 719.5967 | D41: 240824.87 | F41: 4458.803 | J41: 245283.67
A42: CASTILLA-LA MANCHA | B42: 58465.232 | C42: 4895.7907 | D42: 1266546.3 | E42: 158.4495 | F42: 15872.505 | J42: 1282577.3
A43: ALICANTE/ALACANT | D43: 3442.2654 | E43: 40.806 | F43: 262.4242 | J43: 3745.4956
A44: CASTELLÓN/CASTELLÓ | B44: 26.883 | D44: 3741.8947 | E44: 123.5786 | H44: 6.1394 | J44: 3871.6127
A45: VALENCIA/VALÈNCIA | C45: 23.84 | D45: 12620.798 | E45: 16314.962 | F45: 12.6161 | J45: 28948.376
A46: COMUNITAT VALENCIANA | B46: 26.883 | C46: 23.84 | D46: 19804.958 | E46: 16479.346 | F46: 275.0403 | H46: 6.1394 | J46: 36565.485
A47: REGIÓN DE MURCIA | D47: 40994.439 | E47: 59.6212 | F47: 268.2057 | J47: 41322.266
A48: BADAJOZ | B48: 10365.834 | C48: 1842.4221 | D48: 171919.1 | E48: 13972.442 | F48: 16351.712 | H48: 76.0936 | J48: 202319.35
A49: CÁCERES | B49: 3156.5062 | C49: 199.5806 | D49: 10490.95 | E49: 4280.8108 | F49: 12732.621 | G49: 54.6294 | J49: 27559.011
A50: EXTREMADURA | B50: 13522.34 | C50: 2042.0027 | D50: 182410.05 | E50: 18253.253 | F50: 29084.333 | G50: 54.6294 | H50: 76.0936 | J50: 229878.36
A51: ALMERÍA | D51: 12136.108 | J51: 12136.108
A52: CÁDIZ | B52: 8069.0162 | C52: 3648.4093 | D52: 78205.268 | E52: 1737.151 | F52: 1317.9154 | G52: 2619.9097 | I52: 182.29 | J52: 84062.534
A53: CÓRDOBA | B53: 3469.9759 | C53: 13342.49 | D53: 116396.28 | F53: 38.4623 | H53: 17.7475 | I53: 657.4102 | J53: 117109.9
A54: GRANADA | B54: 1369.7745 | C54: 307.9486 | D54: 68146.738 | F54: 1854.928 | G54: 15.6013 | J54: 70017.267
A55: HUELVA | B55: 1374.7305 | C55: 58.8787 | D55: 23392.879 | F55: 4.4266 | J55: 23397.306
A56: JAÉN | B56: 683.8913 | D56: 16240.728 | F56: 185.9399 | J56: 16426.668
A57: MÁLAGA | B57: 1512.9141 | C57: 134.71 | D57: 35502.88 | F57: 8.4244 | J57: 35511.304
A58: SEVILLA | B58: 22894.83 | C58: 1056.0915 | D58: 190061.93 | E58: 35654.828 | F58: 3033.401 | G58: 1.1689 | H58: 323.2919 | I58: 1468.7242 | J58: 230543.35
A59: ANDALUCÍA | B59: 39375.133 | C59: 18548.529 | D59: 540082.81 | E59: 37391.979 | F59: 6443.4976 | G59: 2636.6799 | H59: 341.0394 | I59: 2308.4244 | J59: 589204.43
A60: PALMAS (Las) | D60: 151.4112 | F60: 136.102 | J60: 287.5132
A61: Sta.C. de TENERIFE | D61: 25.5253 | J61: 25.5253
A62: CANARIAS | D62: 176.9365 | F62: 136.102 | J62: 313.0385
A63: ESPAÑA | B63: 245000.77 | C63: 28023.514 | D63: 5339332.3 | E63: 100335.03 | F63: 299050.6 | G63: 3549.4398 | H63: 1039.1627 | I63: 2331.6869 | J63: 5745638.2

Sheet C03  LEGUMINOSAS GRANO
B1: LEGUMINOSAS GRANO
A2: Provincias y CC.AA. | B2: Judias Secas | C2: Habas Secas | D2: Lentejas | E2: Garban-zos | F2: Guisantes Secos | G2: Veza | H2: Altra-muz | I2: Alga-rroba | J2: Yeros | K2: Otras Leguminosas Grano | L2: Total Leguminosas Grano
A3: A CORUÑA | B3: 103.6366 | F3: 3.319 | G3: 3.6304 | H3: 97.8411 | L3: 208.4271
A4: LUGO | B4: 382.7826 | L4: 382.7826
A5: OURENSE | B5: 22.6865 | K5: 5.6373 | L5: 28.3238
A6: PONTEVEDRA | B6: 17.5449 | L6: 17.5449
A7: GALICIA | B7: 526.6506 | F7: 3.319 | G7: 3.6304 | H7: 97.8411 | K7: 5.6373 | L7: 637.0784
A8: PRINCIPADO DE ASTURIAS | B8: 479.4597 | L8: 479.4597
A9: CANTABRIA
A10: ARABA/ÁLAVA | B10: 42.7689 | C10: 839.7632 | E10: 70.1077 | F10: 485.6377 | G10: 223.9294 | K10: 405.7276 | L10: 2067.9345
A11: GIPUZKOA
A12: BIZKAIA
A13: PAÍS VASCO | B13: 42.7689 | C13: 839.7632 | E13: 70.1077 | F13: 485.6377 | G13: 223.9294 | K13: 405.7276 | L13: 2067.9345
A14: COMUNIDAD FORAL DE NAVARRA | C14: 1246.497 | F14: 4293.15 | G14: 417.9285 | I14: 5.0343 | L14: 5962.6098
A15: LA RIOJA | E15: 276.3375 | F15: 1947.4827 | G15: 119.344 | L15: 2343.1642
A16: HUESCA | C16: 150.221 | F16: 4095.9954 | G16: 865.6571 | H16: 313.3799 | J16: 195.253 | K16: 0.3231 | L16: 5620.8295
A17: TERUEL | C17: 156.3139 | E17: 13.3073 | F17: 293.2618 | G17: 850.2531 | J17: 3438.8963 | K17: 13.4696 | L17: 4765.502
A18: ZARAGOZA | B18: 220.8817 | C18: 64.5746 | D18: 9.7483 | E18: 46.9153 | F18: 4467.9936 | G18: 1341.3007 | J18: 2892.708 | L18: 9044.1222
A19: ARAGÓN | B19: 220.8817 | C19: 371.1095 | D19: 9.7483 | E19: 60.2226 | F19: 8857.2508 | G19: 3057.2109 | H19: 313.3799 | J19: 6526.8573 | K19: 13.7927 | L19: 19430.454
A20: BARCELONA | B20: 49.779 | E20: 8.8568 | F20: 267.9471 | J20: 139.4307 | L20: 466.0136
A21: GIRONA | B21: 28.9499 | C21: 110.3494 | F21: 17.9732 | K21: 263.9693 | L21: 421.2418
A22: LLEIDA | D22: 103.4823 | F22: 1258.8228 | L22: 1362.3051
A23: TARRAGONA
A24: CATALUÑA | B24: 78.7289 | C24: 110.3494 | D24: 103.4823 | E24: 8.8568 | F24: 1544.7431 | J24: 139.4307 | K24: 263.9693 | L24: 2249.5605
A25: ILLES BALEARS | C25: 17.9213 | E25: 43.3694 | F25: 157.3734 | K25: 829.6049 | L25: 1048.269
A26: ÁVILA | B26: 32.7561 | E26: 1631.3509 | F26: 1395.3149 | G26: 1005.5012 | J26: 287.4374 | L26: 4352.3605
A27: BURGOS | B27: 5.546 | C27: 762.5084 | D27: 3402.0806 | E27: 2351.3813 | F27: 8219.2216 | G27: 16332.242 | H27: 6.9953 | J27: 1669.1177 | K27: 227.9127 | L27: 32977.005
A28: LEÓN | B28: 4826.9937 | C28: 724.4773 | D28: 54.1335 | E28: 1669.0092 | F28: 932.8292 | G28: 3195.6109 | L28: 11403.054
A29: PALENCIA | D29: 66.2652 | E29: 862.1956 | F29: 5154.1053 | G29: 17291.712 | H29: 26.0669 | J29: 120.5983 | K29: 349.5621 | L29: 23870.505
A30: SALAMANCA | D30: 1014.1081 | E30: 4342.7054 | F30: 1823.8825 | G30: 624.9183 | L30: 7805.6143
A31: SEGOVIA | D31: 611.7576 | E31: 1282.1498 | F31: 2675.5085 | G31: 1723.3179 | J31: 1947.155 | L31: 8239.8888
A32: SORIA | E32: 536.7562 | F32: 509.8917 | G32: 2193.8645 | J32: 11098.332 | L32: 14338.845
A33: VALLADOLID | D33: 7774.5329 | E33: 3410.0106 | F33: 19226.743 | G33: 16488.126 | J33: 1010.3452 | L33: 47909.757
A34: ZAMORA | D34: 244.2088 | E34: 2363.336 | F34: 5000.4246 | G34: 4025.5134 | H34: 283.2718 | I34: 18.9031 | J34: 80.706 | L34: 12016.364
A35: CASTILLA Y LEÓN | B35: 4865.2958 | C35: 1486.9857 | D35: 13167.087 | E35: 18448.895 | F35: 44937.921 | G35: 62880.806 | H35: 316.334 | I35: 18.9031 | J35: 16213.692 | K35: 577.4748 | L35: 162913.39
A36: COMUNIDAD DE MADRID | D36: 908.1542 | E36: 520.4033 | F36: 4934.7789 | G36: 442.9344 | J36: 1724.8313 | L36: 8531.1021
A37: ALBACETE | D37: 2008.3603 | E37: 12.7202 | F37: 9193.2291 | G37: 941.8622 | J37: 13234.643 | L37: 25390.815
A38: CIUDAD REAL | C38: 63.2813 | D38: 8.5682 | E38: 349.4247 | F38: 13314.834 | G38: 1883.7845 | J38: 7091.7232 | L38: 22711.616
A39: CUENCA | D39: 13513.784 | E39: 543.1583 | F39: 8147.2464 | G39: 2144.5011 | J39: 25802.042 | K39: 1084.8578 | L39: 51235.59
A40: GUADALAJARA | C40: 100.3974 | D40: 215.2159 | E40: 1621.4638 | F40: 3745.2702 | G40: 2008.1678 | J40: 15716.007 | L40: 23406.522
A41: TOLEDO | D41: 2713.3527 | E41: 492.415 | F41: 7718.7481 | G41: 1504.4336 | J41: 5967.7275 | K41: 0.7131 | L41: 18397.39
A42: CASTILLA-LA MANCHA | C42: 163.6787 | D42: 18459.281 | E42: 3019.182 | F42: 42119.328 | G42: 8482.7492 | J42: 67812.142 | K42: 1085.5709 | L42: 141141.93
A43: ALICANTE/ALACANT
A44: CASTELLÓN/CASTELLÓ
A45: VALENCIA/VALÈNCIA | F45: 6.2597 | J45: 591.6288 | K45: 97.3681 | L45: 695.2566
A46: COMUNITAT VALENCIANA | F46: 6.2597 | J46: 591.6288 | K46: 97.3681 | L46: 695.2566
A47: REGIÓN DE MURCIA
A48: BADAJOZ | B48: 217.7476 | C48: 2548.6798 | E48: 2230.6962 | F48: 7018.6672 | G48: 618.0659 | H48: 31.7445 | K48: 2.565 | L48: 12668.166
A49: CÁCERES | C49: 17.0295 | E49: 97.3432 | F49: 186.1919 | G49: 6.3657 | K49: 242.8585 | L49: 549.7888
A50: EXTREMADURA | B50: 217.7476 | C50: 2565.7093 | E50: 2328.0394 | F50: 7204.8591 | G50: 624.4316 | H50: 31.7445 | K50: 245.4235 | L50: 13217.955
A51: ALMERÍA | F51: 522.01 | L51: 522.01
A52: CÁDIZ | C52: 4255.7948 | D52: 249.4223 | E52: 8113.8905 | F52: 2582.8487 | K52: 356.9263 | L52: 15558.883
A53: CÓRDOBA | C53: 4599.4246 | E53: 4729.4074 | F53: 5287.4562 | L53: 14616.288
A54: GRANADA | C54: 111.4564 | E54: 536.6299 | F54: 3213.654 | G54: 428.2387 | J54: 378.8015 | L54: 4668.7805
A55: HUELVA | C55: 19.5192 | E55: 2185.5803 | F55: 560.046 | L55: 2765.1455
A56: JAÉN | C56: 178.8849 | F56: 292.5846 | G56: 291.636 | L56: 763.1055
A57: MÁLAGA | C57: 1180.6256 | E57: 1117.264 | F57: 2154.4435 | G57: 1058.4462 | L57: 5510.7793
A58: SEVILLA | B58: 2.0252 | C58: 5099.8199 | E58: 15980.879 | F58: 3024.6098 | G58: 89.5701 | J58: 251.5215 | L58: 24448.426
A59: ANDALUCÍA | B59: 2.0252 | C59: 15445.525 | D59: 249.4223 | E59: 32663.651 | F59: 17637.653 | G59: 1867.891 | J59: 630.323 | K59: 356.9263 | L59: 68853.417
A60: PALMAS (Las)
A61: Sta.C. de TENERIFE
A62: CANARIAS
A63: ESPAÑA | B63: 6433.5584 | C63: 22247.539 | D63: 32897.175 | E63: 57439.065 | F63: 134129.76 | G63: 78120.856 | H63: 759.2995 | I63: 23.9374 | J63: 93638.905 | K63: 3881.4954 | L63: 429571.59

Sheet C04  TUBERCULOS, FLORES Y 
B1: TUBERCULOS | G1: FLORES Y P.ORNAMENTALES (en campo)
A2: Provincias y CC.AA. | B2: Patata | C2: Batata | D2: Chufa | E2: Otros Tuberculos | F2: Total Tubérculos Consumo Humano | G2: Total Flores y Plantas Ornamentales
A3: A CORUÑA | B3: 1416.6549 | F3: 1416.6549 | G3: 37.695
A4: LUGO | B4: 1531.5206 | F4: 1531.5206 | G4: 0.6155
A5: OURENSE | B5: 4810.3015 | F5: 4810.3015
A6: PONTEVEDRA | B6: 776.5833 | F6: 776.5833 | G6: 17.5812
A7: GALICIA | B7: 8535.0603 | F7: 8535.0603 | G7: 55.8917
A8: PRINCIPADO DE ASTURIAS
A9: CANTABRIA | B9: 137.6047 | F9: 137.6047
A10: ARABA/ÁLAVA | B10: 2369.5395 | F10: 2369.5395
A11: GIPUZKOA | B11: 1.8667 | F11: 1.8667
A12: BIZKAIA
A13: PAÍS VASCO | B13: 2371.4062 | F13: 2371.4062
A14: COMUNIDAD FORAL DE NAVARRA | B14: 92.6299 | F14: 92.6299
A15: LA RIOJA | B15: 911.2474 | F15: 911.2474 | G15: 4.137
A16: HUESCA | B16: 210.7275 | F16: 210.7275 | G16: 86.1735
A17: TERUEL | B17: 56.8018 | F17: 56.8018
A18: ZARAGOZA | B18: 163.623 | F18: 163.623 | G18: 25.6598
A19: ARAGÓN | B19: 431.1523 | F19: 431.1523 | G19: 111.8333
A20: BARCELONA | B20: 94.9829 | F20: 94.9829 | G20: 21.7355
A21: GIRONA | B21: 4.1415 | F21: 4.1415 | G21: 2.4737
A22: LLEIDA | G22: 5.3165
A23: TARRAGONA | B23: 180.6313 | F23: 180.6313
A24: CATALUÑA | B24: 279.7557 | F24: 279.7557 | G24: 29.5257
A25: ILLES BALEARS | B25: 575.4427 | F25: 575.4427
A26: ÁVILA | B26: 3162.0816 | F26: 3162.0816
A27: BURGOS | B27: 1148.8097 | F27: 1148.8097
A28: LEÓN | B28: 1289.0219 | F28: 1289.0219 | G28: 7.4749
A29: PALENCIA | B29: 724.9874 | F29: 724.9874
A30: SALAMANCA | B30: 3497.1963 | F30: 3497.1963
A31: SEGOVIA | B31: 2903.0896 | F31: 2903.0896
A32: SORIA | B32: 162.1435 | F32: 162.1435
A33: VALLADOLID | B33: 5251.8619 | F33: 5251.8619
A34: ZAMORA | B34: 1064.0581 | F34: 1064.0581 | G34: 6.3525
A35: CASTILLA Y LEÓN | B35: 19203.25 | F35: 19203.25 | G35: 13.8274
A36: COMUNIDAD DE MADRID | B36: 134.5669 | F36: 134.5669
A37: ALBACETE | B37: 1674.5104 | F37: 1674.5104 | G37: 59.9189
A38: CIUDAD REAL | B38: 20.7781 | F38: 20.7781 | G38: 10.2737
A39: CUENCA | B39: 22.7132 | F39: 22.7132
A40: GUADALAJARA | B40: 9.9351 | F40: 9.9351
A41: TOLEDO | B41: 341.6912 | F41: 341.6912
A42: CASTILLA-LA MANCHA | B42: 2069.628 | F42: 2069.628 | G42: 70.1926
A43: ALICANTE/ALACANT | B43: 224.0097 | C43: 372.442 | F43: 596.4517 | G43: 6.9551
A44: CASTELLÓN/CASTELLÓ | B44: 121.5999 | F44: 121.5999
A45: VALENCIA/VALÈNCIA | B45: 365.0547 | D45: 440.8522 | F45: 805.9069 | G45: 40.2461
A46: COMUNITAT VALENCIANA | B46: 710.6643 | C46: 372.442 | D46: 440.8522 | F46: 1523.9585 | G46: 47.2012
A47: REGIÓN DE MURCIA | B47: 2698.0977 | C47: 10.8752 | F47: 2708.9729 | G47: 35.3833
A48: BADAJOZ | B48: 431.8523 | D48: 88.368 | F48: 520.2203 | G48: 2.1175
A49: CÁCERES | B49: 231.6362 | C49: 269.8687 | F49: 501.5049
A50: EXTREMADURA | B50: 663.4885 | C50: 269.8687 | D50: 88.368 | F50: 1021.7252 | G50: 2.1175
A51: ALMERÍA | G51: 51.5468
A52: CÁDIZ | B52: 811.3791 | C52: 578.2976 | F52: 1389.6767 | G52: 15.6892
A53: CÓRDOBA | B53: 184.2485 | F53: 184.2485
A54: GRANADA | B54: 461.8638 | F54: 461.8638 | G54: 0.5681
A55: HUELVA | B55: 111.3812 | F55: 111.3812
A56: JAÉN | B56: 9.8419 | F56: 9.8419
A57: MÁLAGA | B57: 451.4292 | F57: 451.4292 | G57: 64.394
A58: SEVILLA | B58: 6697.9407 | C58: 105.814 | F58: 6803.7547 | G58: 116.491
A59: ANDALUCÍA | B59: 8728.0844 | C59: 684.1116 | F59: 9412.196 | G59: 248.6891
A60: PALMAS (Las) | B60: 780.6686 | C60: 44.2941 | F60: 824.9627 | G60: 2.4027
A61: Sta.C. de TENERIFE | B61: 962.6149 | C61: 30.2319 | E61: 16.3267 | F61: 1009.1735 | G61: 5.0488
A62: CANARIAS | B62: 1743.2835 | C62: 74.526 | E62: 16.3267 | F62: 1834.1362 | G62: 7.4515
A63: ESPAÑA | B63: 49285.363 | C63: 1411.8235 | D63: 529.2202 | E63: 16.3267 | F63: 51242.733 | G63: 626.2503

Sheet C05  CULTIVOS INDUSTRIALES
B1: CULTIVOS INDUSTRIALES
A2: Provincias y CC.AA. | B2: Caña de Azúcar | C2: Remolacha Azucarera | D2: Algodón | E2: Lino | F2: Girasol | G2: Soja | H2: Colza | I2: Camelina | J2: Cártamo | K2: Otras Oleaginosas
A3: A CORUÑA | H3: 129.1719
A4: LUGO | F4: 224.9146 | H4: 3.9148
A5: OURENSE | H5: 123.0121
A6: PONTEVEDRA | H6: 2.712
A7: GALICIA | F7: 224.9146 | H7: 258.8108
A8: PRINCIPADO DE ASTURIAS
A9: CANTABRIA | F9: 93.6001
A10: ARABA/ÁLAVA | C10: 410.8984 | E10: 31.2493 | F10: 3046.428 | H10: 1302.0922
A11: GIPUZKOA
A12: BIZKAIA
A13: PAÍS VASCO | C13: 410.8984 | E13: 31.2493 | F13: 3046.428 | H13: 1302.0922
A14: COMUNIDAD FORAL DE NAVARRA | C14: 1.1259 | F14: 5638.0916 | H14: 5177.3639
A15: LA RIOJA | C15: 306.7094 | F15: 996.0147 | H15: 1690.5181
A16: HUESCA | F16: 384.7669 | G16: 281.4893 | H16: 2711.361 | J16: 334.3482
A17: TERUEL | F17: 5245.1942 | H17: 776.4156 | I17: 65.5914 | J17: 253.6963
A18: ZARAGOZA | F18: 2785.183 | H18: 757.3801 | I18: 418.6958
A19: ARAGÓN | F19: 8415.1441 | G19: 281.4893 | H19: 4245.1567 | I19: 484.2872 | J19: 588.0445
A20: BARCELONA | H20: 4681.9502
A21: GIRONA | F21: 2695.8803 | H21: 4137.8639
A22: LLEIDA | F22: 46.4856 | H22: 4167.3217 | I22: 19.9476
A23: TARRAGONA | H23: 481.9577
A24: CATALUÑA | F24: 2742.3659 | H24: 13469.094 | I24: 19.9476
A25: ILLES BALEARS
A26: ÁVILA | C26: 1209.0848 | F26: 4801.8708 | H26: 1226.1847
A27: BURGOS | C27: 1643.9868 | F27: 61400.55 | H27: 7053.4097 | I27: 62.9367 | J27: 170.6082
A28: LEÓN | C28: 5572.814 | F28: 11604.977 | H28: 4703.7815
A29: PALENCIA | C29: 1566.7812 | F29: 50924.041 | G29: 28.2042 | H29: 5674.3723 | I29: 435.0801 | J29: 1181.1211
A30: SALAMANCA | C30: 1949.6066 | F30: 21002.121 | G30: 164.2253 | H30: 3978.5001
A31: SEGOVIA | C31: 769.3314 | F31: 29967.69 | H31: 2641.5774
A32: SORIA | C32: 149.6689 | F32: 33523.176 | H32: 3100.3951 | J32: 3382.9538
A33: VALLADOLID | C33: 4543.6545 | F33: 54217.74 | H33: 12235.293 | J33: 2056.0796
A34: ZAMORA | C34: 2095.6934 | F34: 35301.945 | G34: 44.4162 | H34: 10945.315 | J34: 188.033
A35: CASTILLA Y LEÓN | C35: 19500.622 | F35: 302744.11 | G35: 236.8457 | H35: 51558.829 | I35: 498.0168 | J35: 6978.7957
A36: COMUNIDAD DE MADRID | F36: 342.5691 | H36: 79.4305 | I36: 117.3231 | J36: 52.1116
A37: ALBACETE | F37: 2044.2282 | H37: 4322.4218
A38: CIUDAD REAL | F38: 54.7927 | I38: 70.4224
A39: CUENCA | F39: 118754.47 | H39: 1107.5535 | I39: 57.8456 | J39: 524.8296
A40: GUADALAJARA | E40: 250.452 | F40: 17407.808 | H40: 2752.7067 | J40: 4514.3859
A41: TOLEDO | F41: 429.7172 | H41: 1251.4023 | J41: 53.9923
A42: CASTILLA-LA MANCHA | E42: 250.452 | F42: 138691.01 | H42: 9434.0843 | I42: 128.268 | J42: 5093.2078
A43: ALICANTE/ALACANT | F43: 310.0989
A44: CASTELLÓN/CASTELLÓ
A45: VALENCIA/VALÈNCIA | F45: 169.521
A46: COMUNITAT VALENCIANA | F46: 479.6199
A47: REGIÓN DE MURCIA | F47: 60.3172
A48: BADAJOZ | F48: 9290.9991 | G48: 302.4785 | H48: 17.4268
A49: CÁCERES | F49: 639.0721 | G49: 1140.1189 | J49: 621.1134
A50: EXTREMADURA | F50: 9930.0712 | G50: 1442.5974 | H50: 17.4268 | J50: 621.1134
A51: ALMERÍA
A52: CÁDIZ | C52: 4100.3512 | D52: 7722.8636 | F52: 47947.482 | J52: 1605.1095
A53: CÓRDOBA | D53: 3231.6416 | F53: 20780.239 | H53: 2584.1216
A54: GRANADA | F54: 418.2496
A55: HUELVA | D55: 220.9707 | F55: 14570.693 | H55: 35.2296
A56: JAÉN | D56: 2065.0178 | F56: 173.0213
A57: MÁLAGA | F57: 1586.0611 | H57: 38.2174 | J57: 3125.8559
A58: SEVILLA | C58: 2839.6485 | D58: 33129.665 | F58: 93074.91 | H58: 4010.4701 | J58: 4148.3706
A59: ANDALUCÍA | C59: 6939.9997 | D59: 46370.158 | F59: 178550.66 | H59: 6668.0387 | J59: 8879.336
A60: PALMAS (Las)
A61: Sta.C. de TENERIFE
A62: CANARIAS
A63: ESPAÑA | C63: 27159.355 | D63: 46370.158 | E63: 281.7013 | F63: 651954.92 | G63: 1960.9324 | H63: 93900.845 | I63: 1247.8427 | J63: 22212.609

Sheet C06A  CULTIVOS INDUSTRIALES
B1: CULTIVOS INDUSTRIALES
A2: Provincias y CC.AA. | B2: Pimiento para Pimentón | C2: Perejil | D2: Anís | E2: Azafrán estigmas tostados | F2: Menta en verde | G2: Regaliz | H2: Otros condimentos en fresco | I2: Lavanda | J2: Otras aromáticas
A3: A CORUÑA
A4: LUGO
A5: OURENSE
A6: PONTEVEDRA | H6: 0.3168
A7: GALICIA | H7: 0.3168
A8: PRINCIPADO DE ASTURIAS
A9: CANTABRIA
A10: ARABA/ÁLAVA
A11: GIPUZKOA
A12: BIZKAIA
A13: PAÍS VASCO
A14: COMUNIDAD FORAL DE NAVARRA
A15: LA RIOJA | C15: 4.75 | F15: 4.4576 | I15: 56.9675 | J15: 5.7903
A16: HUESCA
A17: TERUEL | I17: 312.1796 | J17: 80.134
A18: ZARAGOZA
A19: ARAGÓN | I19: 312.1796 | J19: 80.134
A20: BARCELONA | C20: 28.808 | H20: 11.471 | I20: 3.7031
A21: GIRONA | H21: 168.4509
A22: LLEIDA | I22: 27.2436
A23: TARRAGONA | C23: 272.1457 | F23: 53.6498 | H23: 79.9498 | J23: 532.3485
A24: CATALUÑA | C24: 300.9537 | F24: 53.6498 | H24: 259.8717 | I24: 30.9467 | J24: 532.3485
A25: ILLES BALEARS | J25: 0.5705
A26: ÁVILA | I26: 13.4869
A27: BURGOS | I27: 402.4899
A28: LEÓN | I28: 45.3058
A29: PALENCIA | I29: 481.7123
A30: SALAMANCA
A31: SEGOVIA | I31: 85.8182
A32: SORIA | H32: 586.1671 | I32: 27.6089
A33: VALLADOLID | D33: 285.9921 | I33: 268.5301
A34: ZAMORA | H34: 110.4929 | I34: 182.4082
A35: CASTILLA Y LEÓN | D35: 285.9921 | H35: 696.66 | I35: 1507.3603
A36: COMUNIDAD DE MADRID | C36: 5.3383 | F36: 78.6659 | G36: 284.7899
A37: ALBACETE | C37: 247.145 | E37: 7.0273 | I37: 1666.867 | J37: 132.2244
A38: CIUDAD REAL | E38: 6.7522 | J38: 157.3646
A39: CUENCA | D39: 445.3558 | I39: 1734.0645 | J39: 89.8793
A40: GUADALAJARA | I40: 4591.9246 | J40: 523.9078
A41: TOLEDO
A42: CASTILLA-LA MANCHA | C42: 247.145 | D42: 445.3558 | E42: 13.7795 | I42: 7992.8561 | J42: 903.3761
A43: ALICANTE/ALACANT | B43: 3.8624 | C43: 123.9538 | F43: 2.5744 | H43: 67.2193
A44: CASTELLÓN/CASTELLÓ | C44: 1.959 | I44: 552.3022 | J44: 67.1179
A45: VALENCIA/VALÈNCIA | C45: 32.6442 | F45: 0.9692 | H45: 43.6839 | I45: 35.2749
A46: COMUNITAT VALENCIANA | B46: 3.8624 | C46: 158.557 | F46: 3.5436 | H46: 110.9032 | I46: 587.5771 | J46: 67.1179
A47: REGIÓN DE MURCIA | B47: 338.9533 | C47: 398.1044 | H47: 359.8448 | I47: 2580.7398 | J47: 567.5513
A48: BADAJOZ | I48: 448.7403
A49: CÁCERES | B49: 828.2187
A50: EXTREMADURA | B50: 828.2187 | I50: 448.7403
A51: ALMERÍA
A52: CÁDIZ | C52: 3.4272 | F52: 3.7442 | H52: 284.7838 | J52: 60.2101
A53: CÓRDOBA | D53: 163.829 | H53: 18.5244
A54: GRANADA | B54: 32.3803 | D54: 36.4894 | E54: 28.0439
A55: HUELVA
A56: JAÉN
A57: MÁLAGA | D57: 752.3044 | H57: 1211.702 | J57: 371.613
A58: SEVILLA | C58: 15.7745 | D58: 440.8807 | H58: 3829.5174 | J58: 119.4309
A59: ANDALUCÍA | B59: 32.3803 | C59: 19.2017 | D59: 1393.5035 | E59: 28.0439 | F59: 3.7442 | H59: 5344.5276 | J59: 551.254
A60: PALMAS (Las)
A61: Sta.C. de TENERIFE | C61: 8.8541 | E61: 3.7431 | H61: 11.9029
A62: CANARIAS | C62: 8.8541 | E62: 3.7431 | H62: 11.9029
A63: ESPAÑA | B63: 1203.4147 | C63: 1142.9042 | D63: 2124.8514 | E63: 45.5665 | F63: 144.0611 | G63: 284.7899 | H63: 6784.027 | I63: 13517.367 | J63: 2708.1426

Sheet C06B  CULTIVOS INDUSTRIALES 
B1: CULTIVOS INDUSTRIALES
A2: Provincias y CC.AA. | B2: Tabaco | C2: Tomate industria | D2: Lúpulo | E2: Otros cultivos industriales | F2: Total cultivos industriales
A3: A CORUÑA | F3: 129.1719
A4: LUGO | F4: 228.8294
A5: OURENSE | E5: 12.2288 | F5: 135.2409
A6: PONTEVEDRA | F6: 3.0288
A7: GALICIA | E7: 12.2288 | F7: 496.271
A8: PRINCIPADO DE ASTURIAS
A9: CANTABRIA | F9: 93.6001
A10: ARABA/ÁLAVA | F10: 4790.6679
A11: GIPUZKOA
A12: BIZKAIA
A13: PAÍS VASCO | F13: 4790.6679
A14: COMUNIDAD FORAL DE NAVARRA | C14: 2266.0981 | F14: 13082.68
A15: LA RIOJA | C15: 13.6794 | F15: 3078.887
A16: HUESCA | F16: 3711.9654
A17: TERUEL | F17: 6733.2111
A18: ZARAGOZA | C18: 116.9484 | F18: 4078.2073
A19: ARAGÓN | C19: 116.9484 | F19: 14523.384
A20: BARCELONA | E20: 8.909 | F20: 4734.8413
A21: GIRONA | E21: 45.3467 | F21: 7047.5418
A22: LLEIDA | E22: 5.9974 | F22: 4266.9959
A23: TARRAGONA | F23: 1420.0515
A24: CATALUÑA | E24: 60.2531 | F24: 17469.43
A25: ILLES BALEARS | F25: 0.5705
A26: ÁVILA | F26: 7250.6272
A27: BURGOS | F27: 70733.982
A28: LEÓN | D28: 616.2157 | E28: 178.9773 | F28: 22722.071
A29: PALENCIA | E29: 127.853 | F29: 60419.165
A30: SALAMANCA | F30: 27094.453
A31: SEGOVIA | E31: 19.4683 | F31: 33483.885
A32: SORIA | D32: 26.9261 | F32: 40796.895
A33: VALLADOLID | E33: 943.6336 | F33: 74550.923
A34: ZAMORA | F34: 48868.304
A35: CASTILLA Y LEÓN | D35: 643.1418 | E35: 1269.9322 | F35: 385920.31
A36: COMUNIDAD DE MADRID | E36: 1351.2523 | F36: 2311.4807
A37: ALBACETE | C37: 44.6478 | E37: 8091.1469 | F37: 16555.708
A38: CIUDAD REAL | E38: 519.0165 | F38: 808.3484
A39: CUENCA | E39: 308.5945 | F39: 123022.59
A40: GUADALAJARA | F40: 30041.185
A41: TOLEDO | C41: 3.5612 | E41: 1029.0089 | F41: 2767.6819
A42: CASTILLA-LA MANCHA | C42: 48.209 | E42: 9947.7668 | F42: 173195.51
A43: ALICANTE/ALACANT | F43: 507.7088
A44: CASTELLÓN/CASTELLÓ | F44: 621.3791
A45: VALENCIA/VALÈNCIA | F45: 282.0932
A46: COMUNITAT VALENCIANA | F46: 1411.1811
A47: REGIÓN DE MURCIA | E47: 83.7998 | F47: 4389.3106
A48: BADAJOZ | C48: 16489.473 | F48: 26549.118
A49: CÁCERES | B49: 5837.9829 | C49: 2566.0057 | F49: 11632.512
A50: EXTREMADURA | B50: 5837.9829 | C50: 19055.479 | F50: 38181.629
A51: ALMERÍA
A52: CÁDIZ | C52: 886.2464 | E52: 14.0227 | F52: 62628.241
A53: CÓRDOBA | F53: 26778.356
A54: GRANADA | B54: 1.2203 | D54: 4.2801 | F54: 520.6636
A55: HUELVA | F55: 14826.893
A56: JAÉN | F56: 2238.0391
A57: MÁLAGA | F57: 7085.7538
A58: SEVILLA | C58: 3859.7 | E58: 29.6034 | F58: 145497.97
A59: ANDALUCÍA | B59: 1.2203 | C59: 4745.9464 | D59: 4.2801 | E59: 43.6261 | F59: 259575.92
A60: PALMAS (Las) | E60: 17.8539 | F60: 17.8539
A61: Sta.C. de TENERIFE | F61: 24.5001
A62: CANARIAS | E62: 17.8539 | F62: 42.354
A63: ESPAÑA | B63: 5839.2032 | C63: 26246.36 | D63: 647.4219 | E63: 12786.713 | F63: 918563.18

Sheet C07A  CULTIVOS FORRAJEROS
B1: CULTIVOS FORRAJEROS
A2: Provincias y CC.AA. | B2: Maíz Forrajero | C2: Sorgo forrajero | D2: Cereal de invierno para forraje | E2: Total gramíneas forrajeras | F2: Alfalfa | G2: Veza (veza+avena) para forraje | H2: Trébol | I2: Total leguminosas forrrajeras
A3: A CORUÑA | B3: 38725.695 | E3: 38725.695 | F3: 277.9674 | G3: 353.3424 | H3: 213.7843 | I3: 845.0941
A4: LUGO | B4: 21797.972 | D4: 47.8671 | E4: 21845.839 | F4: 291.9888 | G4: 14.4592 | I4: 306.448
A5: OURENSE | B5: 636.8652 | D5: 12.6708 | E5: 649.536 | F5: 19.4682 | I5: 19.4682
A6: PONTEVEDRA | B6: 5723.4809 | E6: 5723.4809 | F6: 43.1233 | I6: 43.1233
A7: GALICIA | B7: 66884.013 | D7: 60.5379 | E7: 66944.551 | F7: 632.5477 | G7: 367.8016 | H7: 213.7843 | I7: 1214.1336
A8: PRINCIPADO DE ASTURIAS | B8: 8181.3776 | E8: 8181.3776 | F8: 6.93 | I8: 6.93
A9: CANTABRIA | B9: 4504.062 | D9: 57.4227 | E9: 4561.4847 | F9: 189.3944 | G9: 121.9318 | I9: 311.3262
A10: ARABA/ÁLAVA | B10: 1577.652 | E10: 1577.652 | F10: 886.802 | I10: 886.802
A11: GIPUZKOA | B11: 243.0629 | E11: 243.0629
A12: BIZKAIA | B12: 71.1481 | E12: 71.1481
A13: PAÍS VASCO | B13: 1891.863 | E13: 1891.863 | F13: 886.802 | I13: 886.802
A14: COMUNIDAD FORAL DE NAVARRA | B14: 1351.6219 | D14: 1068.1497 | E14: 2419.7716 | F14: 3400.1559 | G14: 917.8964 | I14: 4318.0523
A15: LA RIOJA | B15: 2.75 | D15: 102.4471 | E15: 105.1971 | F15: 769.4789 | G15: 299.8049 | I15: 1069.2838
A16: HUESCA | B16: 523.7866 | D16: 1562.9518 | E16: 2086.7384 | F16: 31843.317 | G16: 3777.9766 | I16: 35621.294
A17: TERUEL | D17: 1559.8865 | E17: 1559.8865 | F17: 6701.6645 | G17: 304.3557 | I17: 7006.0202
A18: ZARAGOZA | C18: 9.2572 | D18: 346.3503 | E18: 355.6075 | F18: 32976.99 | G18: 2306.3855 | I18: 35283.376
A19: ARAGÓN | B19: 523.7866 | C19: 9.2572 | D19: 3469.1886 | E19: 4002.2324 | F19: 71521.972 | G19: 6388.7178 | I19: 77910.69
A20: BARCELONA | B20: 72.2511 | C20: 543.1828 | D20: 3779.2507 | E20: 4394.6846 | F20: 1978.5808 | G20: 1115.8879 | I20: 3094.4687
A21: GIRONA | B21: 710.8851 | C21: 310.4645 | D21: 2585.7562 | E21: 3607.1058 | F21: 5180.6066 | G21: 518.6105 | I21: 5699.2171
A22: LLEIDA | B22: 322.2602 | C22: 95.8426 | D22: 3526.5021 | E22: 3944.6049 | F22: 13473.375 | G22: 451.9721 | I22: 13925.347
A23: TARRAGONA | D23: 1199.1124 | E23: 1199.1124 | F23: 230.4435 | I23: 230.4435
A24: CATALUÑA | B24: 1105.3964 | C24: 949.4899 | D24: 11090.621 | E24: 13145.508 | F24: 20863.005 | G24: 2086.4705 | I24: 22949.476
A25: ILLES BALEARS | B25: 313.0093 | C25: 45.9127 | D25: 25701.617 | E25: 26060.539 | F25: 449.2403 | G25: 171.8564 | I25: 621.0967
A26: ÁVILA | D26: 10155.763 | E26: 10155.763 | F26: 965.0731 | G26: 7905.2006 | I26: 8870.2737
A27: BURGOS | B27: 496.6153 | D27: 1264.4883 | E27: 1761.1036 | F27: 10731.005 | G27: 7133.6614 | I27: 17864.666
A28: LEÓN | B28: 589.7683 | D28: 2382.2706 | E28: 2972.0389 | F28: 9583.3143 | G28: 5026.5598 | I28: 14609.874
A29: PALENCIA | B29: 599.883 | D29: 5375.8931 | E29: 5975.7761 | F29: 28170.1 | G29: 17147.736 | I29: 45317.836
A30: SALAMANCA | B30: 311.5884 | D30: 26500.922 | E30: 26812.511 | F30: 765.668 | G30: 4867.9134 | I30: 5633.5814
A31: SEGOVIA | D31: 8515.4384 | E31: 8515.4384 | F31: 290.671 | G31: 3216.4589 | H31: 1057.9009 | I31: 4565.0308
A32: SORIA | D32: 202.6563 | E32: 202.6563 | F32: 577.024 | G32: 389.5235 | I32: 966.5475
A33: VALLADOLID | D33: 5265.5897 | E33: 5265.5897 | F33: 20215.942 | G33: 12154.07 | I33: 32370.012
A34: ZAMORA | B34: 801.2755 | D34: 10961.508 | E34: 11762.783 | F34: 11381.987 | G34: 3796.1424 | I34: 15178.129
A35: CASTILLA Y LEÓN | B35: 2799.1305 | D35: 70624.529 | E35: 73423.66 | F35: 82680.784 | G35: 61637.266 | H35: 1057.9009 | I35: 145375.95
A36: COMUNIDAD DE MADRID | B36: 235.9665 | D36: 2361.0426 | E36: 2597.0091 | F36: 347.1042 | G36: 815.175 | I36: 1162.2792
A37: ALBACETE | B37: 574.6737 | D37: 5478.2031 | E37: 6052.8768 | F37: 4173.3002 | G37: 165.5529 | I37: 4338.8531
A38: CIUDAD REAL | D38: 17159.701 | E38: 17159.701 | F38: 366.4672 | G38: 1049.0224 | I38: 1415.4896
A39: CUENCA | B39: 19.294 | D39: 407.8417 | E39: 427.1357 | F39: 9.485 | I39: 9.485
A40: GUADALAJARA | B40: 212.8218 | D40: 41.1108 | E40: 253.9326 | F40: 75.8101 | G40: 15.1201 | I40: 90.9302
A41: TOLEDO | B41: 964.4101 | D41: 12896.651 | E41: 13861.061 | F41: 3211.2348 | G41: 616.3387 | I41: 3827.5735
A42: CASTILLA-LA MANCHA | B42: 1771.1996 | D42: 35983.508 | E42: 37754.708 | F42: 7836.2973 | G42: 1846.0341 | I42: 9682.3314
A43: ALICANTE/ALACANT | B43: 198.0162 | C43: 10.8292 | E43: 208.8454 | F43: 1317.8265 | I43: 1317.8265
A44: CASTELLÓN/CASTELLÓ | B44: 450.153 | D44: 318.3468 | E44: 768.4998 | F44: 287.782 | G44: 21.6536 | I44: 309.4356
A45: VALENCIA/VALÈNCIA | D45: 58.7357 | E45: 58.7357 | F45: 129.6694 | G45: 39.1792 | I45: 168.8486
A46: COMUNITAT VALENCIANA | B46: 648.1692 | C46: 10.8292 | D46: 377.0825 | E46: 1036.0809 | F46: 1735.2779 | G46: 60.8328 | I46: 1796.1107
A47: REGIÓN DE MURCIA | B47: 59.6284 | E47: 59.6284 | F47: 268.0196 | G47: 743.154 | I47: 1011.1736
A48: BADAJOZ | D48: 12783.129 | E48: 12783.129 | F48: 1925.2684 | G48: 7361.7002 | I48: 9286.9686
A49: CÁCERES | B49: 1.3764 | C49: 282.9596 | D49: 7616.5326 | E49: 7900.8686 | F49: 173.1084 | G49: 2288.027 | I49: 2461.1354
A50: EXTREMADURA | B50: 1.3764 | C50: 282.9596 | D50: 20399.662 | E50: 20683.998 | F50: 2098.3768 | G50: 9649.7272 | I50: 11748.104
A51: ALMERÍA
A52: CÁDIZ | B52: 132.7543 | C52: 31.7297 | D52: 7865.3944 | E52: 8029.8784 | F52: 1871.6282 | G52: 1139.9974 | I52: 3011.6256
A53: CÓRDOBA | D53: 12330.527 | E53: 12330.527 | F53: 250.7116 | G53: 864.6131 | I53: 1115.3247
A54: GRANADA | B54: 110.8763 | D54: 4903.0051 | E54: 5013.8814 | F54: 2633.1625 | I54: 2633.1625
A55: HUELVA | D55: 382.0371 | E55: 382.0371 | F55: 277.1799 | G55: 236.3109 | I55: 513.4908
A56: JAÉN | D56: 601.2192 | E56: 601.2192 | F56: 174.6873 | G56: 182.6755 | I56: 357.3628
A57: MÁLAGA | D57: 4146.2031 | E57: 4146.2031 | F57: 61.2759 | G57: 749.2512 | I57: 810.5271
A58: SEVILLA | D58: 5924.7875 | E58: 5924.7875 | F58: 603.7413 | G58: 85.5017 | I58: 689.243
A59: ANDALUCÍA | B59: 243.6306 | C59: 31.7297 | D59: 36153.173 | E59: 36428.533 | F59: 5872.3867 | G59: 3258.3498 | I59: 9130.7365
A60: PALMAS (Las)
A61: Sta.C. de TENERIFE | D61: 336.6709 | E61: 336.6709
A62: CANARIAS | D62: 336.6709 | E62: 336.6709
A63: ESPAÑA | B63: 90516.981 | C63: 1330.1783 | D63: 207785.65 | E63: 299632.81 | F63: 199557.77 | G63: 88365.018 | H63: 1271.6852 | I63: 289194.48

Sheet C07B  CULTIVOS FORRAJEROS
B1: CULTIVOS FORRAJEROS
A2: Provincias y CC.AA. | B2: Remolacha forrajera | C2: Nabo forrajero | D2: Pataca, chirivía y otros | E2: Total raíces y Tubérculos forrajeros
A3: A CORUÑA | C3: 182.8457 | E3: 182.8457
A4: LUGO | B4: 32.9667 | E4: 32.9667
A5: OURENSE | B5: 45.3306 | E5: 45.3306
A6: PONTEVEDRA | B6: 4.7217 | C6: 20.1729 | E6: 24.8946
A7: GALICIA | B7: 83.019 | C7: 203.0186 | E7: 286.0376
A8: PRINCIPADO DE ASTURIAS
A9: CANTABRIA
A10: ARABA/ÁLAVA
A11: GIPUZKOA
A12: BIZKAIA
A13: PAÍS VASCO
A14: COMUNIDAD FORAL DE NAVARRA
A15: LA RIOJA
A16: HUESCA | B16: 408.3226 | E16: 408.3226
A17: TERUEL
A18: ZARAGOZA
A19: ARAGÓN | B19: 408.3226 | E19: 408.3226
A20: BARCELONA | C20: 17.943 | E20: 17.943
A21: GIRONA
A22: LLEIDA | C22: 252.0816 | E22: 252.0816
A23: TARRAGONA
A24: CATALUÑA | C24: 270.0246 | E24: 270.0246
A25: ILLES BALEARS
A26: ÁVILA
A27: BURGOS
A28: LEÓN
A29: PALENCIA
A30: SALAMANCA
A31: SEGOVIA | D31: 6.1762 | E31: 6.1762
A32: SORIA
A33: VALLADOLID | B33: 308.7957 | E33: 308.7957
A34: ZAMORA
A35: CASTILLA Y LEÓN | B35: 308.7957 | D35: 6.1762 | E35: 314.9719
A36: COMUNIDAD DE MADRID
A37: ALBACETE
A38: CIUDAD REAL
A39: CUENCA
A40: GUADALAJARA
A41: TOLEDO
A42: CASTILLA-LA MANCHA
A43: ALICANTE/ALACANT
A44: CASTELLÓN/CASTELLÓ
A45: VALENCIA/VALÈNCIA
A46: COMUNITAT VALENCIANA
A47: REGIÓN DE MURCIA
... A51: ALMERÍA
A52: CÁDIZ | D52: 24.3469 | E52: 24.3469
A53: CÓRDOBA
A54: GRANADA
A55: HUELVA
A56: JAÉN
A57: MÁLAGA
A58: SEVILLA | D58: 2.4348 | E58: 2.4348
A59: ANDALUCÍA | D59: 26.7817 | E59: 26.7817
A60: PALMAS (Las)
A61: Sta.C. de TENERIFE
A62: CANARIAS
A63: ESPAÑA | B63: 800.1373 | C63: 473.0432 | D63: 32.9579 | E63: 1306.1384

Sheet C07C  CULTIVOS FORRAJEROS
B1: CULTIVOS FORRAJEROS
A2: Provincias y CC.AA. | B2: Praderas polifitas | C2: Coles y berzas forrajeras | D2: Calabaza forrajera | E2: Otras plantas de escarda forrajera | F2: Otros forrajes | G2: Total Cultivos Forrajeros
A3: A CORUÑA | B3: 53826.233 | C3: 72.4946 | E3: 1.3918 | F3: 6717.2427 | G3: 100371
A4: LUGO | B4: 80478.03 | C4: 82.1325 | D4: 3.4285 | F4: 293.9376 | G4: 103042.78
A5: OURENSE | B5: 3324.0449 | C5: 66.117 | E5: 5.7516 | F5: 82.842 | G5: 4193.0903
A6: PONTEVEDRA | B6: 13065.735 | C6: 59.6996 | E6: 7.4793 | F6: 649.6597 | G6: 19574.073
A7: GALICIA | B7: 150694.04 | C7: 280.4437 | D7: 3.4285 | E7: 14.6227 | F7: 7743.682 | G7: 227180.94
A8: PRINCIPADO DE ASTURIAS | B8: 2201.4837 | C8: 3.0372 | F8: 66.1238 | G8: 10458.952
A9: CANTABRIA | B9: 90.0998 | G9: 4962.9107
A10: ARABA/ÁLAVA | B10: 4381.4445 | F10: 348.3748 | G10: 7194.2733
A11: GIPUZKOA | G11: 243.0629
A12: BIZKAIA | G12: 71.1481
A13: PAÍS VASCO | B13: 4381.4445 | F13: 348.3748 | G13: 7508.4843
A14: COMUNIDAD FORAL DE NAVARRA | B14: 2144.0626 | F14: 3692.2624 | G14: 12574.149
A15: LA RIOJA | B15: 14.4165 | F15: 686.6105 | G15: 1875.5079
A16: HUESCA | B16: 7013.7871 | C16: 16.8862 | F16: 15475.273 | G16: 60622.301
A17: TERUEL | B17: 1435.3173 | F17: 11552.023 | G17: 21553.247
A18: ZARAGOZA | B18: 171.3011 | F18: 14492.647 | G18: 50302.931
A19: ARAGÓN | B19: 8620.4055 | C19: 16.8862 | F19: 41519.943 | G19: 132478.48
A20: BARCELONA | B20: 3572.3856 | F20: 8059.2179 | G20: 19138.7
A21: GIRONA | B21: 1993.6179 | F21: 11464.232 | G21: 22764.172
A22: LLEIDA | B22: 5037.306 | F22: 8318.4657 | G22: 31477.805
A23: TARRAGONA | B23: 19.3576 | F23: 376.3746 | G23: 1825.2881
A24: CATALUÑA | B24: 10622.667 | F24: 28218.29 | G24: 75205.965
A25: ILLES BALEARS | C25: 152.3061 | F25: 8862.0127 | G25: 35695.955
A26: ÁVILA | B26: 127.8879 | F26: 14621.253 | G26: 33775.177
A27: BURGOS | B27: 1200.4621 | F27: 3677.9942 | G27: 24504.226
A28: LEÓN | B28: 1784.9105 | F28: 7070.3178 | G28: 26437.141
A29: PALENCIA | B29: 490.4703 | F29: 5660.9439 | G29: 57445.026
A30: SALAMANCA | B30: 1575.5395 | F30: 23677.492 | G30: 57699.124
A31: SEGOVIA | B31: 288.9603 | F31: 2401.3227 | G31: 15776.928
A32: SORIA | B32: 36.8154 | F32: 4210.125 | G32: 5416.1442
A33: VALLADOLID | B33: 341.1078 | F33: 3116.604 | G33: 41402.109
A34: ZAMORA | B34: 2216.8668 | F34: 19361.079 | G34: 48518.858
A35: CASTILLA Y LEÓN | B35: 8063.0206 | F35: 83797.131 | G35: 310974.73
A36: COMUNIDAD DE MADRID | B36: 73.3045 | F36: 1654.4504 | G36: 5487.0432
A37: ALBACETE | B37: 10.9929 | F37: 1153.4025 | G37: 11556.125
A38: CIUDAD REAL | B38: 1526.1466 | F38: 2095.6142 | G38: 22196.951
A39: CUENCA | F39: 1122.4973 | G39: 1559.118
A40: GUADALAJARA | F40: 731.18 | G40: 1076.0428
A41: TOLEDO | B41: 2847.6133 | F41: 18747.54 | G41: 39283.788
A42: CASTILLA-LA MANCHA | B42: 4384.7528 | F42: 23850.234 | G42: 75672.026
A43: ALICANTE/ALACANT | F43: 460.137 | G43: 1986.8089
A44: CASTELLÓN/CASTELLÓ | B44: 85.4453 | F44: 965.4925 | G44: 2128.8732
A45: VALENCIA/VALÈNCIA | B45: 23.7163 | F45: 75.9194 | G45: 327.22
A46: COMUNITAT VALENCIANA | B46: 109.1616 | F46: 1501.5489 | G46: 4442.9021
A47: REGIÓN DE MURCIA | G47: 1070.802
A48: BADAJOZ | B48: 833.3084 | F48: 3392.2961 | G48: 26295.702
A49: CÁCERES | B49: 21628.48 | F49: 6187.2449 | G49: 38177.729
A50: EXTREMADURA | B50: 22461.788 | F50: 9579.541 | G50: 64473.431
A51: ALMERÍA | F51: 36.5972 | G51: 36.5972
A52: CÁDIZ | B52: 211.2636 | F52: 4217.8622 | G52: 15494.977
A53: CÓRDOBA | B53: 18.6293 | F53: 16554.396 | G53: 30018.877
A54: GRANADA | F54: 129.4328 | G54: 7776.4767
A55: HUELVA | F55: 148.4713 | G55: 1043.9992
A56: JAÉN | F56: 1251.6514 | G56: 2210.2334
A57: MÁLAGA | F57: 1452.3148 | G57: 6409.045
A58: SEVILLA | B58: 50.9033 | F58: 5127.0236 | G58: 11794.392
A59: ANDALUCÍA | B59: 280.7962 | F59: 28917.75 | G59: 74784.598
A60: PALMAS (Las)
A61: Sta.C. de TENERIFE | G61: 336.6709
A62: CANARIAS | G62: 336.6709
A63: ESPAÑA | B63: 214141.45 | C63: 452.6732 | D63: 3.4285 | E63: 14.6227 | F63: 240437.95 | G63: 1045183.6

Sheet C08A HORTALIZAS (en campo)
B1: HORTALIZAS (en campo)
A2: Provincias y CC.AA. | B2: Col (1) | C2: Espa-rragos | D2: Espinaca | E2: Apio | F2: Lechuga | G2: Lombarda | H2: Acelga | I2: Escarola | J2: Grelo | K2: Otras hortalizas de hoja y tallo | L2: Total hortalizas de hoja y tallo
A3: A CORUÑA | B3: 103.2869 | F3: 101.094 | H3: 69.2427 | J3: 66.6983 | L3: 340.3219
A4: LUGO | B4: 58.3387 | F4: 80.2556 | H4: 50.0902 | J4: 23.9316 | L4: 212.6161
A5: OURENSE | B5: 128.8587 | F5: 108.8696 | H5: 66.8747 | J5: 6.7295 | L5: 311.3325
A6: PONTEVEDRA | B6: 81.0006 | F6: 100.012 | H6: 62.1371 | J6: 1.3372 | L6: 244.4869
A7: GALICIA | B7: 371.4849 | F7: 390.2312 | H7: 248.3447 | J7: 98.6966 | L7: 1108.7574
A8: PRINCIPADO DE ASTURIAS
A9: CANTABRIA
A10: ARABA/ÁLAVA | B10: 40.2962 | L10: 40.2962
A11: GIPUZKOA
A12: BIZKAIA
A13: PAÍS VASCO | B13: 40.2962 | L13: 40.2962
A14: COMUNIDAD FORAL DE NAVARRA | C14: 1262.1443 | H14: 19.2058 | L14: 1281.3501
A15: LA RIOJA | C15: 109.0812 | E15: 59.6118 | H15: 5.1635 | L15: 173.8565
A16: HUESCA | C16: 8.6626 | L16: 8.6626
A17: TERUEL
A18: ZARAGOZA | C18: 21.6201 | L18: 21.6201
A19: ARAGÓN | C19: 30.2827 | L19: 30.2827
A20: BARCELONA | B20: 57.2745 | F20: 209.6304 | H20: 35.0003 | L20: 301.9052
A21: GIRONA
A22: LLEIDA | F22: 4.8231 | L22: 4.8231
A23: TARRAGONA | B23: 3.1117 | F23: 38.9384 | K23: 110.7422 | L23: 152.7923
A24: CATALUÑA | B24: 60.3862 | F24: 253.3919 | H24: 35.0003 | K24: 110.7422 | L24: 459.5206
A25: ILLES BALEARS | B25: 67.4372 | F25: 6.8081 | L25: 74.2453
A26: ÁVILA
A27: BURGOS
A28: LEÓN | B28: 1.8658 | H28: 50.8558 | L28: 52.7216
A29: PALENCIA | K29: 22.5805 | L29: 22.5805
A30: SALAMANCA
A31: SEGOVIA | C31: 25.244 | F31: 126.5497 | L31: 151.7937
A32: SORIA | F32: 155.4729 | L32: 155.4729
A33: VALLADOLID | B33: 40.3227 | C33: 835.815 | F33: 16.992 | G33: 56.809 | H33: 125.1103 | L33: 1075.049
A34: ZAMORA | B34: 12.4352 | L34: 12.4352
A35: CASTILLA Y LEÓN | B35: 54.6237 | C35: 861.059 | F35: 299.0146 | G35: 56.809 | H35: 175.9661 | K35: 22.5805 | L35: 1470.0529
A36: COMUNIDAD DE MADRID | B36: 5.5777 | C36: 59.1808 | G36: 5.0425 | L36: 69.801
A37: ALBACETE | E37: 47.5346 | F37: 2369.6933 | I37: 126.4912 | L37: 2543.7191
A38: CIUDAD REAL
A39: CUENCA
A40: GUADALAJARA | B40: 13.017 | C40: 1145.2339 | L40: 1158.2509
A41: TOLEDO | B41: 48.7794 | C41: 17.9483 | H41: 11.9816 | K41: 0.7258 | L41: 79.4351
A42: CASTILLA-LA MANCHA | B42: 61.7964 | C42: 1163.1822 | E42: 47.5346 | F42: 2369.6933 | H42: 11.9816 | I42: 126.4912 | K42: 0.7258 | L42: 3781.4051
A43: ALICANTE/ALACANT | B43: 100.9164 | D43: 26.6044 | F43: 331.2519 | H43: 14.351 | L43: 473.1237
A44: CASTELLÓN/CASTELLÓ | B44: 26.958 | F44: 5.0083 | G44: 5.4022 | L44: 37.3685
A45: VALENCIA/VALÈNCIA | B45: 63.9037 | F45: 80.6823 | H45: 1.091 | K45: 2.8766 | L45: 148.5536
A46: COMUNITAT VALENCIANA | B46: 191.7781 | D46: 26.6044 | F46: 416.9425 | G46: 5.4022 | H46: 15.442 | K46: 2.8766 | L46: 659.0458
A47: REGIÓN DE MURCIA | B47: 15.256 | D47: 1.4943 | E47: 355.4107 | F47: 1896.4451 | H47: 17.5535 | L47: 2286.1596
A48: BADAJOZ | C48: 84.3168 | L48: 84.3168
A49: CÁCERES | C49: 628.7022 | L49: 628.7022
A50: EXTREMADURA | C50: 713.019 | L50: 713.019
A51: ALMERÍA | F51: 40.2646 | L51: 40.2646
A52: CÁDIZ | B52: 8.2063 | C52: 614.8588 | E52: 39.988 | L52: 663.0531
A53: CÓRDOBA | C53: 286.6261 | L53: 286.6261
A54: GRANADA | B54: 84.5161 | C54: 3706.8096 | E54: 20.6328 | F54: 1784.3803 | L54: 5596.3388
A55: HUELVA
A56: JAÉN | C56: 824.1887 | L56: 824.1887
A57: MÁLAGA | B57: 13.5799 | C57: 292.3506 | H57: 11.2739 | L57: 317.2044
A58: SEVILLA | B58: 68.714 | C58: 244.0759 | D58: 260.1824 | E58: 5.471 | H58: 15.1342 | L58: 593.5775
A59: ANDALUCÍA | B59: 175.0163 | C59: 5968.9097 | D59: 260.1824 | E59: 66.0918 | F59: 1824.6449 | H59: 26.4081 | L59: 8321.2532
A60: PALMAS (Las) | F60: 6.0454 | H60: 5.3618 | L60: 11.4072
A61: Sta.C. de TENERIFE | B61: 14.8055 | F61: 25.9382 | L61: 40.7437
A62: CANARIAS | B62: 14.8055 | F62: 31.9836 | H62: 5.3618 | L62: 52.1509
A63: ESPAÑA | B63: 1058.4582 | C63: 10166.859 | D63: 288.2811 | E63: 528.6489 | F63: 7489.1552 | G63: 67.2537 | H63: 560.4274 | I63: 126.4912 | J63: 98.6966 | K63: 136.9251 | L63: 20521.196
A65: (1) Se incluye col repollo hojas lisas y col repollo hojas rizadas

Sheet C08B HORTALIZAS (en campo)
B1: HORTALIZAS (en campo)
A2: Provincias y CC.AA. | B2: Col brócoli | C2: Alcachofa | D2: Coliflor | E2: Otras hortalizas de flor | F2: Total hortalizas de flor | G2: Judías verdes | H2: Gruisantes verdes | I2: Habas verdes | J2: Otras legumbres frescas | K2: Total legumbres frescas
A3: A CORUÑA | D3: 66.1496 | F3: 66.1496 | G3: 83.8612 | H3: 400.3969 | K3: 484.2581
A4: LUGO | C4: 174.891 | D4: 42.153 | F4: 217.044 | G4: 78.9745 | H4: 90.0075 | K4: 168.982
A5: OURENSE | D5: 95.4317 | F5: 95.4317 | G5: 81.9458 | H5: 76.2962 | I5: 0.6897 | K5: 158.9317
A6: PONTEVEDRA | D6: 91.821 | F6: 91.821 | G6: 84.4803 | H6: 65.1916 | K6: 149.6719
A7: GALICIA | C7: 174.891 | D7: 295.5553 | F7: 470.4463 | G7: 329.2618 | H7: 631.8922 | I7: 0.6897 | K7: 961.8437
A8: PRINCIPADO DE ASTURIAS | G8: 3.1006 | K8: 3.1006
A9: CANTABRIA
A10: ARABA/ÁLAVA
A11: GIPUZKOA | G11: 1.4308 | K11: 1.4308
A12: BIZKAIA
A13: PAÍS VASCO | G13: 1.4308 | K13: 1.4308
A14: COMUNIDAD FORAL DE NAVARRA | B14: 593.7711 | C14: 491.9878 | D14: 185.0026 | F14: 1270.7615 | G14: 210.9293 | H14: 425.9871 | K14: 636.9164
A15: LA RIOJA | B15: 151.9787 | D15: 194.1542 | F15: 346.1329 | G15: 119.5364 | H15: 1380.3196 | K15: 1499.856
A16: HUESCA | H16: 2578.0586 | K16: 2578.0586
A17: TERUEL
A18: ZARAGOZA | B18: 894.68 | D18: 64.9777 | F18: 959.6577 | G18: 101.0106 | H18: 311.5129 | I18: 133.6926 | K18: 546.2161
A19: ARAGÓN | B19: 894.68 | D19: 64.9777 | F19: 959.6577 | G19: 101.0106 | H19: 2889.5715 | I19: 133.6926 | K19: 3124.2747
A20: BARCELONA | C20: 194.0541 | F20: 194.0541 | G20: 125.8527 | I20: 17.3614 | K20: 143.2141
A21: GIRONA | C21: 12.0915 | F21: 12.0915 | I21: 5.8498 | K21: 5.8498
A22: LLEIDA | B22: 11.284 | F22: 11.284 | G22: 3.3424 | H22: 642.6245 | K22: 645.9669
A23: TARRAGONA | B23: 192.331 | C23: 180.9323 | D23: 119.4914 | F23: 492.7547 | G23: 39.5356 | I23: 2.5476 | K23: 42.0832
A24: CATALUÑA | B24: 203.615 | C24: 387.0779 | D24: 119.4914 | F24: 710.1843 | G24: 168.7307 | H24: 642.6245 | I24: 25.7588 | K24: 837.114
A25: ILLES BALEARS | C25: 16.5164 | F25: 16.5164
A26: ÁVILA
A27: BURGOS | G27: 504.1594 | K27: 504.1594
A28: LEÓN | H28: 102.3584 | K28: 102.3584
A29: PALENCIA
A30: SALAMANCA | H30: 348.8723 | K30: 348.8723
A31: SEGOVIA
A32: SORIA | C32: 5.4394 | F32: 5.4394
A33: VALLADOLID | H33: 335.6829 | K33: 335.6829
A34: ZAMORA | H34: 171.7457 | K34: 171.7457
A35: CASTILLA Y LEÓN | C35: 5.4394 | F35: 5.4394 | G35: 504.1594 | H35: 958.6593 | K35: 1462.8187
A36: COMUNIDAD DE MADRID | H36: 128.5949 | I36: 47.8834 | K36: 176.4783
A37: ALBACETE | B37: 2452.4442 | C37: 470.6297 | F37: 2923.0739 | H37: 3377.5887 | K37: 3377.5887
A38: CIUDAD REAL | G38: 1.5534 | H38: 219.4632 | K38: 221.0166
A39: CUENCA | B39: 539.4826 | F39: 539.4826 | H39: 974.7208 | K39: 974.7208
A40: GUADALAJARA
A41: TOLEDO | H41: 341.8677 | K41: 341.8677
A42: CASTILLA-LA MANCHA | B42: 2991.9268 | C42: 470.6297 | F42: 3462.5565 | G42: 1.5534 | H42: 4913.6404 | K42: 4915.1938
A43: ALICANTE/ALACANT | B43: 216.1929 | C43: 693.4586 | D43: 15.9287 | F43: 925.5802 | I43: 4.6929 | K43: 4.6929
A44: CASTELLÓN/CASTELLÓ | C44: 847.1874 | D44: 8.5576 | F44: 855.745 | G44: 13.6712 | J44: 6.2871 | K44: 19.9583
A45: VALENCIA/VALÈNCIA | C45: 174.4998 | D45: 3.001 | E45: 93.8653 | F45: 271.3661 | G45: 3.6435 | J45: 1.5538 | K45: 5.1973
A46: COMUNITAT VALENCIANA | B46: 216.1929 | C46: 1715.1458 | D46: 27.4873 | E46: 93.8653 | F46: 2052.6913 | G46: 17.3147 | I46: 4.6929 | J46: 7.8409 | K46: 29.8485
A47: REGIÓN DE MURCIA | B47: 3602.9283 | C47: 2560.2107 | D47: 504.457 | F47: 6667.596 | I47: 226.2402 | K47: 226.2402
A48: BADAJOZ | B48: 31.2767 | F48: 31.2767
A49: CÁCERES | B49: 130.4358 | F49: 130.4358
A50: EXTREMADURA | B50: 161.7125 | F50: 161.7125
A51: ALMERÍA | G51: 12.8882 | H51: 4.8226 | K51: 17.7108
A52: CÁDIZ | B52: 3.7178 | D52: 654.7872 | F52: 658.505
A53: CÓRDOBA | C53: 13.1909 | F53: 13.1909 | I53: 28.6254 | K53: 28.6254
A54: GRANADA | B54: 1032.1533 | C54: 239.6739 | D54: 67.6037 | E54: 32.5992 | F54: 1372.0301 | G54: 357.9652 | H54: 57.5044 | I54: 58.9843 | K54: 474.4539
A55: HUELVA | B55: 0.2834 | F55: 0.2834
A56: JAÉN
A57: MÁLAGA | C57: 83.1154 | D57: 13.4858 | F57: 96.6012 | G57: 17.7809 | K57: 17.7809
A58: SEVILLA | B58: 44.7707 | C58: 127.5328 | D58: 38.4764 | F58: 210.7799 | H58: 88.2797 | I58: 15.5187 | K58: 103.7984
A59: ANDALUCÍA | B59: 1080.9252 | C59: 463.513 | D59: 774.3531 | E59: 32.5992 | F59: 2351.3905 | G59: 388.6343 | H59: 150.6067 | I59: 103.1284 | K59: 642.3694
A60: PALMAS (Las) | B60: 2.2919 | D60: 25.167 | F60: 27.4589
A61: Sta.C. de TENERIFE
A62: CANARIAS | B62: 2.2919 | D62: 25.167 | F62: 27.4589
A63: ESPAÑA | B63: 9900.0224 | C63: 6285.4117 | D63: 2190.6456 | E63: 126.4645 | F63: 18502.544 | G63: 1845.662 | H63: 12121.896 | I63: 542.086 | J63: 7.8409 | K63: 14517.485

Sheet C08C HORTALIZAS (en campo)
B1: HORTALIZAS (en campo)
A2: Provincias y CC.AA. | B2: Maíz dulce | C2: Tomate (1) | D2: Sandía | E2: Melón | F2: Calabaza | G2: Calabacín | H2: Pepino | I2: Remolacha de mesa | J2: Berenjena | K2: Pimiento | L2: Otras hortalizas de fruto | M2: Total Hortalizas de fruto
A3: A CORUÑA | C3: 122.1493 | F3: 108.8573 | G3: 92.9609 | K3: 146.75 | M3: 470.7175
A4: LUGO | C4: 111.7873 | F4: 22.145 | G4: 19.75 | K4: 68.6246 | M4: 222.3069
A5: OURENSE | C5: 81.3128 | F5: 78.8002 | G5: 99.3537 | K5: 108.7371 | M5: 368.2038
A6: PONTEVEDRA | C6: 79.5538 | F6: 90.5907 | G6: 44.3721 | K6: 77.1673 | M6: 291.6839
A7: GALICIA | C7: 394.8032 | F7: 300.3932 | G7: 256.4367 | K7: 401.279 | M7: 1352.9121
A8: PRINCIPADO DE ASTURIAS
A9: CANTABRIA | C9: 17.681 | M9: 17.681
A10: ARABA/ÁLAVA
A11: GIPUZKOA
A12: BIZKAIA | F12: 22.0512 | M12: 22.0512
A13: PAÍS VASCO | F13: 22.0512 | M13: 22.0512
A14: COMUNIDAD FORAL DE NAVARRA | B14: 3017.837 | C14: 21.5255 | F14: 587.6205 | G14: 168.1052 | K14: 1336.9286 | M14: 5132.0168
A15: LA RIOJA | C15: 47.5737 | G15: 15.0493 | K15: 111.8886 | L15: 91.3382 | M15: 265.8498
A16: HUESCA | C16: 149.763 | L16: 81.1306 | M16: 230.8936
A17: TERUEL
A18: ZARAGOZA | C18: 395.876 | F18: 27.2186 | G18: 50.9782 | J18: 9.9368 | K18: 9.1608 | M18: 493.1704
A19: ARAGÓN | C19: 545.639 | F19: 27.2186 | G19: 50.9782 | J19: 9.9368 | K19: 9.1608 | L19: 81.1306 | M19: 724.064
A20: BARCELONA | C20: 85.92 | D20: 11.0776 | F20: 7.1973 | G20: 76.4596 | H20: 1.8254 | I20: 1.8124 | K20: 28.7335 | L20: 19.5894 | M20: 232.6152
A21: GIRONA | E21: 28.3515 | M21: 28.3515
A22: LLEIDA | C22: 24.1537 | G22: 8.0279 | J22: 1.6727 | K22: 24.3709 | M22: 58.2252
A23: TARRAGONA | C23: 63.0397 | D23: 83.5943 | E23: 14.2227 | F23: 444.6168 | G23: 12.2852 | H23: 6.655 | J23: 13.539 | K23: 1.8831 | L23: 39.6742 | M23: 679.51
A24: CATALUÑA | C24: 173.1134 | D24: 94.6719 | E24: 42.5742 | F24: 451.8141 | G24: 96.7727 | H24: 8.4804 | I24: 1.8124 | J24: 15.2117 | K24: 54.9875 | L24: 59.2636 | M24: 998.7019
A25: ILLES BALEARS | C25: 221.6782 | D25: 483.4228 | E25: 242.3805 | F25: 250.5582 | G25: 6.0542 | K25: 5.3907 | M25: 1209.4846
A26: ÁVILA | B26: 14.0012 | E26: 2.8641 | K26: 30.8211 | M26: 47.6864
A27: BURGOS
A28: LEÓN | C28: 9.4083 | F28: 3.0176 | K28: 11.9251 | M28: 24.351
A29: PALENCIA
A30: SALAMANCA | B30: 602.7624 | D30: 6.5084 | I30: 231.7819 | M30: 841.0527
A31: SEGOVIA | B31: 103.223 | I31: 113.8852 | M31: 217.1082
A32: SORIA
A33: VALLADOLID | B33: 1.2193 | F33: 15.4474 | G33: 147.3865 | I33: 125.6742 | M33: 289.7274
A34: ZAMORA | C34: 80.4124 | F34: 834.7914 | K34: 5.0075 | M34: 920.2113
A35: CASTILLA Y LEÓN | B35: 721.2059 | C35: 89.8207 | D35: 6.5084 | E35: 2.8641 | F35: 853.2564 | G35: 147.3865 | I35: 471.3413 | K35: 47.7537 | M35: 2340.137
A36: COMUNIDAD DE MADRID | C36: 6.1226 | G36: 54.8805 | K36: 25.3157 | M36: 86.3188
A37: ALBACETE | B37: 72.6971 | C37: 188.1316 | D37: 473.9434 | E37: 428.0628 | F37: 25.9315 | G37: 6.5647 | J37: 12.7808 | K37: 193.9408 | M37: 1402.0527
A38: CIUDAD REAL | C38: 5.149 | D38: 4140.3473 | E38: 7020.5559 | F38: 66.7466 | H38: 1.8156 | K38: 429.7577 | M38: 11664.372
A39: CUENCA
A40: GUADALAJARA | E40: 20.603 | M40: 20.603
A41: TOLEDO | C41: 1247.016 | E41: 983.3623 | G41: 2.8523 | H41: 4.8043 | K41: 1.7186 | L41: 5.4931 | M41: 2245.2466
A42: CASTILLA-LA MANCHA | B42: 72.6971 | C42: 1440.2966 | D42: 4614.2907 | E42: 8452.584 | F42: 92.6781 | G42: 9.417 | H42: 6.6199 | J42: 12.7808 | K42: 625.4171 | L42: 5.4931 | M42: 15332.274
A43: ALICANTE/ALACANT | B43: 20.3896 | C43: 45.6534 | D43: 153.5541 | E43: 1732.1272 | F43: 486.7319 | G43: 43.9271 | J43: 9.7808 | K43: 152.8647 | M43: 2645.0288
A44: CASTELLÓN/CASTELLÓ | B44: 0.7601 | C44: 82.429 | D44: 226.1038 | E44: 53.6897 | F44: 83.5034 | G44: 38.5005 | H44: 1.1573 | J44: 32.1686 | K44: 30.6883 | L44: 0.3001 | M44: 549.3008
A45: VALENCIA/VALÈNCIA | B45: 21.2864 | C45: 99.8935 | D45: 351.8176 | E45: 24.1739 | F45: 1209.8781 | G45: 12.7118 | H45: 2.8077 | J45: 7.9992 | K45: 170.4705 | L45: 1.8394 | M45: 1902.8781
A46: COMUNITAT VALENCIANA | B46: 42.4361 | C46: 227.9759 | D46: 731.4755 | E46: 1809.9908 | F46: 1780.1134 | G46: 95.1394 | H46: 3.965 | J46: 49.9486 | K46: 354.0235 | L46: 2.1395 | M46: 5097.2077
A47: REGIÓN DE MURCIA | B47: 66.9896 | C47: 165.7655 | D47: 2913.4394 | E47: 9257.8651 | F47: 604.6307 | G47: 80.4664 | I47: 76.2269 | J47: 2.2239 | K47: 305.6053 | M47: 13473.213
A48: BADAJOZ | C48: 0.4302 | D48: 12.4388 | E48: 409.2172 | F48: 87.5418 | G48: 8.4601 | K48: 158.4721 | M48: 676.5602
A49: CÁCERES | C49: 207.98 | D49: 119.9477 | E49: 0.1697 | G49: 6.7941 | J49: 0.1697 | K49: 2.7875 | L49: 9.4527 | M49: 347.3014
A50: EXTREMADURA | C50: 208.4102 | D50: 132.3865 | E50: 409.3869 | F50: 87.5418 | G50: 15.2542 | J50: 0.1697 | K50: 161.2596 | L50: 9.4527 | M50: 1023.8616
A51: ALMERÍA | C51: 15.0926 | D51: 1704.6103 | E51: 415.529 | G51: 97.19 | K51: 13.9815 | M51: 2246.4034
A52: CÁDIZ | B52: 692.0911 | C52: 85.0537 | D52: 28.6386 | E52: 1724.5412 | F52: 108.6473 | G52: 29.2374 | I52: 82.7654 | J52: 3.324 | K52: 40.2288 | M52: 2794.5275
A53: CÓRDOBA | D53: 103.1306 | E53: 141.5787 | F53: 16.1679 | G53: 59.883 | I53: 80.5754 | K53: 31.0047 | M53: 432.3403
A54: GRANADA | C54: 275.9417 | D54: 43.9853 | G54: 380.3728 | J54: 5.2327 | K54: 276.0476 | L54: 2.1041 | M54: 983.6842
A55: HUELVA | C55: 3.5466 | F55: 9.5794 | M55: 13.126
A56: JAÉN | C56: 71.8686 | G56: 34.5436 | J56: 20.6146 | K56: 48.7889 | M56: 175.8157
A57: MÁLAGA | D57: 202.2594 | E57: 16.8044 | G57: 36.5536 | J57: 4.9639 | K57: 9.3868 | M57: 269.9681
A58: SEVILLA | B58: 1530.1776 | C58: 77.013 | D58: 1571.2678 | E58: 231.1512 | F58: 512.6385 | G58: 26.682 | I58: 274.3444 | J58: 11.4077 | K58: 1396.585 | M58: 5631.2672
A59: ANDALUCÍA | B59: 2222.2687 | C59: 528.5162 | D59: 3653.892 | E59: 2529.6045 | F59: 647.0331 | G59: 664.4624 | I59: 437.6852 | J59: 45.5429 | K59: 1816.0233 | L59: 2.1041 | M59: 12547.132
A60: PALMAS (Las) | B60: 154.3384 | C60: 95.2383 | F60: 8.2087 | G60: 3.6261 | M60: 261.4115
A61: Sta.C. de TENERIFE | B61: 98.8276 | D61: 1.7989 | F61: 2.5344 | G61: 3.4901 | M61: 106.651
A62: CANARIAS | B62: 253.166 | C62: 95.2383 | D62: 1.7989 | F62: 10.7431 | G62: 7.1162 | M62: 368.0625
A63: ESPAÑA | B63: 6396.6004 | C63: 4184.16 | D63: 12631.886 | E63: 22747.25 | F63: 5715.6524 | G63: 1667.5189 | H63: 19.0653 | I63: 987.0658 | J63: 135.8144 | K63: 5255.0334 | L63: 250.9218 | M63: 59990.969
A65: (1) No se incluye el tomate con destino a industria

Sheet C08D HORTALIZAS (en campo)
H1: HORTALIZAS (en campo)
A2: Provincias y CC.AA. | B2: Ajo | C2: Cebolla | D2: Zanahoria | E2: Puerro | F2: Otras hortalizas de raices y bulbos | G2: Total hortalizas de raices y bulbos | H2: Fresa- Fresón | I2: Champiñón | J2: Otras hortalizas | K2: Huerta vacía | L2: Total Hortalizas (en campo)
A3: A CORUÑA | B3: 87.4243 | C3: 73.9518 | D3: 77.0464 | E3: 75.4992 | G3: 313.9217 | H3: 0.4011 | J3: 107.5463 | K3: 104.2542 | L3: 1887.5704
A4: LUGO | B4: 61.8465 | C4: 67.9533 | D4: 52.8306 | E4: 33.9962 | G4: 216.6266 | H4: 0.394 | J4: 77.189 | K4: 27.076 | L4: 1142.2346
A5: OURENSE | B5: 79.842 | C5: 113.1958 | D5: 80.7197 | E5: 76.2551 | G5: 350.0126 | H5: 0.5215 | J5: 75.9103 | K5: 47.2873 | L5: 1407.6314
A6: PONTEVEDRA | B6: 88.4345 | C6: 84.2099 | D6: 76.8354 | E6: 91.636 | G6: 341.1158 | H6: 0.3023 | J6: 52.8137 | K6: 132.7085 | L6: 1304.604
A7: GALICIA | B7: 317.5473 | C7: 339.3108 | D7: 287.4321 | E7: 277.3865 | G7: 1221.6767 | H7: 1.6189 | J7: 313.4593 | K7: 311.326 | L7: 5742.0404
A8: PRINCIPADO DE ASTURIAS | K8: 2.6914 | L8: 5.792
A9: CANTABRIA | K9: 1.242 | L9: 18.923
A10: ARABA/ÁLAVA | L10: 40.2962
A11: GIPUZKOA | J11: 4.8475 | K11: 1.1781 | L11: 7.4564
A12: BIZKAIA | K12: 27.8047 | L12: 49.8559
A13: PAÍS VASCO | J13: 4.8475 | K13: 28.9828 | L13: 97.6085
A14: COMUNIDAD FORAL DE NAVARRA | C14: 1005.7424 | E14: 34.6258 | G14: 1040.3682 | J14: 14.7399 | K14: 29.2048 | L14: 9405.3577
A15: LA RIOJA | C15: 136.2174 | D15: 115.9423 | G15: 252.1597 | I15: 190.1644 | J15: 41.5871 | K15: 81.7738 | L15: 2851.3802
A16: HUESCA | C16: 822.3946 | G16: 822.3946 | K16: 27.8431 | L16: 3667.8525
A17: TERUEL | K17: 4.7015 | L17: 4.7015
A18: ZARAGOZA | B18: 38.404 | C18: 2265.5989 | E18: 276.0557 | G18: 2580.0586 | J18: 6.8618 | K18: 120.6833 | L18: 4728.268
A19: ARAGÓN | B19: 38.404 | C19: 3087.9935 | E19: 276.0557 | G19: 3402.4532 | J19: 6.8618 | K19: 153.2279 | L19: 8400.822
A20: BARCELONA | C20: 20.7019 | D20: 3.3488 | G20: 24.0507 | H20: 1.8254 | J20: 17.449 | K20: 1256.5349 | L20: 2171.6486
A21: GIRONA | J21: 6.5196 | K21: 40.1635 | L21: 92.9759
A22: LLEIDA | C22: 789.529 | D22: 9.3283 | G22: 798.8573 | J22: 85.785 | K22: 27.205 | L22: 1632.1465
A23: TARRAGONA | C23: 7.8791 | D23: 239.5169 | E23: 9.1052 | F23: 173.6082 | G23: 430.1094 | J23: 373.4143 | K23: 1514.3021 | L23: 3684.966
A24: CATALUÑA | C24: 818.11 | D24: 252.194 | E24: 9.1052 | F24: 173.6082 | G24: 1253.0174 | H24: 1.8254 | J24: 483.1679 | K24: 2838.2055 | L24: 7581.737
A25: ILLES BALEARS | C25: 80.5791 | E25: 16.7099 | G25: 97.289 | H25: 18.2354 | K25: 402.6865 | L25: 1818.4572
A26: ÁVILA | C26: 330.8655 | D26: 134.3298 | G26: 465.1953 | K26: 7.4057 | L26: 520.2874
A27: BURGOS | C27: 267.6072 | G27: 267.6072 | K27: 2.6024 | L27: 774.369
A28: LEÓN | C28: 1.8658 | E28: 0.687 | G28: 2.5528 | K28: 22.0713 | L28: 204.0551
A29: PALENCIA | C29: 65.1537 | G29: 65.1537 | L29: 87.7342
A30: SALAMANCA | B30: 417.574 | C30: 67.305 | G30: 484.879 | J30: 36.2281 | K30: 8.5221 | L30: 1719.5542
A31: SEGOVIA | B31: 389.1481 | C31: 98.4774 | D31: 626.3905 | E31: 141.2233 | F31: 191.577 | G31: 1446.8163 | L31: 1815.7182
A32: SORIA | C32: 218.462 | E32: 38.9123 | G32: 257.3743 | L32: 418.2866
A33: VALLADOLID | B33: 1200.1793 | C33: 953.2728 | D33: 742.7082 | E33: 33.6875 | G33: 2929.8478 | J33: 1.2538 | K33: 5.1277 | L33: 4636.6886
A34: ZAMORA | B34: 114.9194 | C34: 511.5857 | G34: 626.5051 | K34: 25.9261 | L34: 1756.8234
A35: CASTILLA Y LEÓN | B35: 2121.8208 | C35: 2514.5951 | D35: 1503.4285 | E35: 214.5101 | F35: 191.577 | G35: 6545.9315 | J35: 37.4819 | K35: 71.6553 | L35: 11933.517
A36: COMUNIDAD DE MADRID | B36: 1050.508 | C36: 558.4362 | F36: 0.5466 | G36: 1609.4908 | J36: 4.574 | K36: 13.9892 | L36: 1960.6521
A37: ALBACETE | B37: 11801.766 | C37: 3306.311 | D37: 207.864 | E37: 169.4714 | G37: 15485.412 | K37: 1635.2546 | L37: 27367.101
A38: CIUDAD REAL | B38: 4369.4871 | C38: 3122.3805 | G38: 7491.8676 | K38: 329.1726 | L38: 19706.429
A39: CUENCA | B39: 3696.8722 | C39: 689.559 | G39: 4386.4312 | I39: 261.5612 | K39: 69.9711 | L39: 6232.1669
A40: GUADALAJARA | B40: 138.4653 | G40: 138.4653 | K40: 47.5826 | L40: 1364.9018
A41: TOLEDO | B41: 35.6629 | C41: 547.6158 | F41: 2.2047 | G41: 585.4834 | J41: 1.8525 | K41: 9.4965 | L41: 3263.3818
A42: CASTILLA-LA MANCHA | B42: 20042.253 | C42: 7665.8663 | D42: 207.864 | E42: 169.4714 | F42: 2.2047 | G42: 28087.66 | I42: 261.5612 | J42: 1.8525 | K42: 2091.4774 | L42: 57933.981
A43: ALICANTE/ALACANT | C43: 8.5829 | G43: 8.5829 | K43: 6200.577 | L43: 10257.585
A44: CASTELLÓN/CASTELLÓ | B44: 3.6104 | G44: 3.6104 | K44: 1883.1105 | L44: 3349.0935
A45: VALENCIA/VALÈNCIA | B45: 2.5541 | C45: 61.5972 | E45: 3.7863 | G45: 67.9376 | H45: 0.2091 | K45: 3018.3818 | L45: 5414.5236
A46: COMUNITAT VALENCIANA | B46: 6.1645 | C46: 70.1801 | E46: 3.7863 | G46: 80.1309 | H46: 0.2091 | K46: 11102.069 | L46: 19021.203
A47: REGIÓN DE MURCIA | C47: 26.1883 | F47: 24.7104 | G47: 50.8987 | J47: 107.8116 | K47: 18852.943 | L47: 41664.861
A48: BADAJOZ | B48: 926.3966 | C48: 227.7333 | G48: 1154.1299 | K48: 60.1959 | L48: 2006.4795
A49: CÁCERES | J49: 10.7182 | K49: 109.8846 | L49: 1227.0422
A50: EXTREMADURA | B50: 926.3966 | C50: 227.7333 | G50: 1154.1299 | J50: 10.7182 | K50: 170.0805 | L50: 3233.5217
A51: ALMERÍA | C51: 2.5258 | G51: 2.5258 | K51: 2.665 | L51: 2309.5696
A52: CÁDIZ | B52: 9.2733 | C52: 2.6093 | D52: 715.1106 | E52: 277.1908 | F52: 41.4295 | G52: 1045.6135 | H52: 3.9451 | J52: 296.2008 | K52: 31.2478 | L52: 5493.0928
A53: CÓRDOBA | B53: 692.5185 | C53: 346.3635 | G53: 1038.882 | K53: 476.062 | L53: 2275.7267
A54: GRANADA | B54: 1552.4602 | C54: 11.1659 | G54: 1563.6261 | J54: 2.6339 | K54: 7872.4915 | L54: 17865.258
A55: HUELVA | H55: 36.6865 | J55: 10.8669 | K55: 2.5533 | L55: 63.5161
A56: JAÉN | B56: 98.315 | G56: 98.315 | K56: 58.5487 | L56: 1156.8681
A57: MÁLAGA | B57: 714.0699 | C57: 384.7635 | G57: 1098.8334 | K57: 224.1688 | L57: 2024.5568
A58: SEVILLA | B58: 635.3211 | C58: 1156.1651 | D58: 710.887 | G58: 2502.3732 | J58: 7.5989 | K58: 240.6528 | L58: 9290.0479
A59: ANDALUCÍA | B59: 3701.958 | C59: 1903.5931 | D59: 1425.9976 | E59: 277.1908 | F59: 41.4295 | G59: 7350.169 | H59: 40.6316 | J59: 317.3005 | K59: 8908.3899 | L59: 40478.637
A60: PALMAS (Las) | C60: 15.888 | E60: 0.7751 | G60: 16.6631 | K60: 584.8303 | L60: 901.771
A61: Sta.C. de TENERIFE | C61: 12.3791 | D61: 6.3991 | G61: 18.7782 | K61: 2070.9673 | L61: 2237.1402
A62: CANARIAS | C62: 28.2671 | D62: 6.3991 | E62: 0.7751 | G62: 35.4413 | K62: 2655.7976 | L62: 3138.9112
A63: ESPAÑA | B63: 28205.053 | C63: 18462.813 | D63: 3799.2576 | E63: 1279.6168 | F63: 434.0764 | G63: 52180.816 | H63: 62.5204 | I63: 451.7256 | J63: 1344.4022 | K63: 47715.742 | L63: 215287.4

Sheet INVERNADEROS 1
C1: CULTIVO EN INVERNADERO
A2: Provincias y CC.AA. | B2: Cultivos Herbáceos
B3: HORTALIZAS | M3: OTROS HERBACEOS
B4: Fresa y Fresón | C4: Tomate | D4: Pimiento | E4: Pepino | F4: Sandía | G4: Calabacín | H4: Berenjena | I4: Melón | J4: Lechuga | K4: Judias Verdes | L4: Otras Hortalizas | M4: Flores | N4: Otros c. herbaceos (1)
A5: A CORUÑA | C5: 0.637 | D5: 7.1661 | J5: 4.5718 | K5: 22.3464 | L5: 9.121 | M5: 115.4042 | N5: 4.9603
A6: LUGO | C6: 2.3806 | D6: 0.8799 | N6: 17.9218
A7: OURENSE | M7: 4.8587 | N7: 0.4018
A8: PONTEVEDRA | C8: 6.668 | D8: 15.1057 | K8: 28.0199 | L8: 0.2659 | M8: 67.1103 | N8: 4.7553
A9: GALICIA | C9: 9.6856 | D9: 23.1517 | J9: 4.5718 | K9: 50.3663 | L9: 9.3869 | M9: 187.3732 | N9: 28.0392
A10: PRINCIPADO DE ASTURIAS | C10: 36.702 | D10: 2.6482 | K10: 8.8096 | L10: 7.4222 | N10: 3.9889
A11: CANTABRIA | C11: 5.2626 | N11: 1.4532
A12: ARABA/ÁLAVA | C12: 5.7048 | K12: 11.3137 | L12: 7.0351
A13: GIPUZKOA | L13: 9.3135 | M13: 32.1538 | N13: 3.9307
A14: BIZKAIA | N14: 85.733
A15: PAÍS VASCO | C15: 5.7048 | K15: 11.3137 | L15: 16.3486 | M15: 32.1538 | N15: 89.6637
A16: COMUNIDAD FORAL DE NAVARRA | C16: 174.9357 | D16: 7.2077 | J16: 28.6635 | L16: 19.5642 | N16: 113.1452
A17: LA RIOJA | D17: 1.3868 | L17: 17.3836
A18: HUESCA
A19: TERUEL
A20: ZARAGOZA | N20: 43.3941
A21: ARAGÓN | N21: 43.3941
A22: BARCELONA | B22: 57.8094 | C22: 189.7411 | E22: 92.3944 | K22: 12.5748 | L22: 28.256 | M22: 79.3721 | N22: 61.1266
A23: GIRONA | L23: 8.6845
A24: LLEIDA | N24: 13.6561
A25: TARRAGONA | E25: 1.1564 | G25: 0.1999 | N25: 0.1842
A26: CATALUÑA | B26: 57.8094 | C26: 189.7411 | E26: 93.5508 | G26: 0.1999 | K26: 12.5748 | L26: 36.9405 | M26: 79.3721 | N26: 74.9669
A27: ILLES BALEARS | B27: 15.1668 | C27: 26.486 | D27: 1.0505 | E27: 1.5682 | I27: 9.8239 | N27: 23.2106
A28: ÁVILA | D28: 1.3319 | L28: 4.8198
A29: BURGOS
A30: LEÓN | C30: 11.3376 | L30: 11.0254 | N30: 8.8226
A31: PALENCIA
A32: SALAMANCA | N32: 6.6932
A33: SEGOVIA | B33: 712.4736
A34: SORIA
A35: VALLADOLID
A36: ZAMORA | C36: 12.2848 | N36: 4.1154
A37: CASTILLA Y LEÓN | B37: 712.4736 | C37: 23.6224 | D37: 1.3319 | L37: 15.8452 | N37: 19.6312
A38: COMUNIDAD DE MADRID | C38: 5.8491 | E38: 112.2545
A39: ALBACETE | C39: 8.3244 | E39: 1.9063
A40: CIUDAD REAL | C40: 4.802 | H40: 0.978 | K40: 1.8973 | L40: 4.7726 | N40: 16.9688
A41: CUENCA | N41: 2.3767
A42: GUADALAJARA
A43: TOLEDO | L43: 1.5235 | N43: 2.4768
A44: CASTILLA-LA MANCHA | C44: 13.1264 | E44: 1.9063 | H44: 0.978 | K44: 1.8973 | L44: 6.2961 | N44: 21.8223
A45: ALICANTE/ALACANT | C45: 25.6394 | D45: 383.4505 | E45: 3.1471 | H45: 13.1629 | K45: 2.2121 | L45: 8.0695
A46: CASTELLÓN/CASTELLÓ | C46: 12.6932 | K46: 5.1429 | L46: 4.2523 | N46: 4.1609
A47: VALENCIA/VALÈNCIA | C47: 45.6478 | I47: 1.495 | L47: 20.5608 | M47: 6.2035 | N47: 19.9742
A48: COMUNITAT VALENCIANA | C48: 83.9804 | D48: 383.4505 | E48: 3.1471 | H48: 13.1629 | I48: 1.495 | K48: 7.355 | L48: 32.8826 | M48: 6.2035 | N48: 24.1351
A49: REGIÓN DE MURCIA | C49: 1554.2847 | D49: 1858.6802 | E49: 29.985 | F49: 67.2405 | H49: 1.2443 | I49: 173.7089 | L49: 26.0903 | M49: 131.0736 | N49: 3.3147
A50: BADAJOZ | N50: 1.1732
A51: CÁCERES | N51: 8.4787
A52: EXTREMADURA | N52: 9.6519
A53: ALMERÍA | C53: 4084.8017 | D53: 4817.5952 | E53: 1396.7675 | F53: 637.7127 | G53: 1385.0401 | H53: 1068.9503 | I53: 132.8967 | K53: 21.109 | L53: 25.6104 | M53: 215.4208 | N53: 2.5936
A54: CÁDIZ | C54: 254.199 | D54: 60.2135 | E54: 17.7277 | F54: 92.7005 | G54: 38.5938 | H54: 8.3864 | I54: 58.2632 | M54: 130.5047 | N54: 22.9798
A55: CÓRDOBA | N55: 37.7431
A56: GRANADA | C56: 2894.8724 | D56: 196.7248 | E56: 1089.4182 | F56: 244.2692 | G56: 10.0297 | K56: 3.3764 | L56: 38.3418 | N56: 18.0898
A57: HUELVA | B57: 11672.34 | N57: 9.1615
A58: JAÉN | C58: 2.5545 | L58: 6.7128 | N58: 7.0801
A59: MÁLAGA | C59: 266.9736 | D59: 80.2648 | E59: 19.2578 | G59: 33.4836 | K59: 5.6307 | N59: 2.7996
A60: SEVILLA | B60: 93.8703 | C60: 139.5124 | L60: 10.9264 | M60: 61.3455 | N60: 7.4182
A61: ANDALUCÍA | B61: 11766.21 | C61: 7642.9136 | D61: 5154.7983 | E61: 2523.1712 | F61: 974.6824 | G61: 1467.1472 | H61: 1077.3367 | I61: 191.1599 | K61: 30.1161 | L61: 81.5914 | M61: 407.271 | N61: 107.8657
A62: PALMAS (Las) | C62: 559.8522 | D62: 39.7712 | E62: 27.4811 | F62: 14.1834 | I62: 75.8228 | L62: 22.0779 | N62: 211.5058
A63: Sta.C. de TENERIFE | C63: 7.5418 | F63: 8.6937 | G63: 55.9292 | H63: 31.9389 | J63: 31.2617 | L63: 37.2742 | M63: 21.9033 | N63: 32.2875
A64: CANARIAS | C64: 567.394 | D64: 39.7712 | E64: 27.4811 | F64: 22.8771 | G64: 55.9292 | H64: 31.9389 | I64: 75.8228 | J64: 31.2617 | L64: 59.3521 | M64: 21.9033 | N64: 243.7933
A65: ESPAÑA | B65: 12551.66 | C65: 10339.688 | D65: 7473.477 | E65: 2793.0642 | F65: 1064.8 | G65: 1523.2763 | H65: 1124.6608 | I65: 452.0105 | J65: 64.497 | K65: 122.4328 | L65: 329.1037 | M65: 865.3505 | N65: 808.076
O66: =SUM(B66:N66) -> 0
A67: (1) En otros cultivos herbáceos está incluida la superficie de huerto en invernadero | O67: =SUM(B67:N67) -> 0

Sheet INVERNADEROS 2
A2: Provincias y CC.AA. | B2: CULTIVOS LEÑOSOS | K2: Viveros | L2: Superficie vacia | M2: Total general
B4: Aguacate | C4: Platanera | D4: Mango | E4: Papaya | F4: Frambueso | G4: Piña | H4: Arándano | I4: Moral | J4: Otros leñosos | O4: h | P4: l | Q4: t
A5: A CORUÑA | K5: 6.1967 | L5: 22.5378 | M5: 192.9413 | O5: =+SUM('INVERNADEROS 1'!B5:N5)+L5 -> 186.7446 | P5: =+SUM(B5:J5) -> 0 | Q5: =+O5+P5 -> 186.7446 | R5: =+Q5-M5 -> -6.1967 | S5: 25.9379
A6: LUGO | M6: 21.1823 | O6: =+SUM('INVERNADEROS 1'!B6:N6)+L6 -> 21.1823 | P6: =+SUM(B6:J6) -> 0 | Q6: =+O6+P6 -> 21.1823 | R6: =+Q6-M6 -> 0 | S6: 1.5637
A7: OURENSE | K7: 9.7364 | M7: 14.9969 | O7: =+SUM('INVERNADEROS 1'!B7:N7)+L7 -> 5.2605 | P7: =+SUM(B7:J7) -> 0 | Q7: =+O7+P7 -> 5.2605 | R7: =+Q7-M7 -> -9.7364 | S7: 0
A8: PONTEVEDRA | K8: 74.5624 | L8: 0.7291 | M8: 197.2166 | O8: =+SUM('INVERNADEROS 1'!B8:N8)+L8 -> 122.6542 | P8: =+SUM(B8:J8) -> 0 | Q8: =+O8+P8 -> 122.6542 | R8: =+Q8-M8 -> -74.5624 | S8: 8.7918
A9: GALICIA | K9: 90.4955 | L9: 23.2669 | M9: 426.3371 | O9: =+SUM('INVERNADEROS 1'!B9:N9)+L9 -> 335.8416 | P9: =+SUM(B9:J9) -> 0 | Q9: =+O9+P9 -> 335.8416 | R9: =+Q9-M9 -> -90.4955 | S9: 36.2934
A10: PRINCIPADO DE ASTURIAS | K10: 62.2657 | L10: 8.7363 | M10: 130.5729 | O10: =+SUM('INVERNADEROS 1'!B10:N10)+L10 -> 68.3072 | P10: =+SUM(B10:J10) -> 0 | Q10: =+O10+P10 -> 68.3072 | R10: =+Q10-M10 -> -62.2657 | S10: 30.1917
A11: CANTABRIA | M11: 6.7158 | O11: =+SUM('INVERNADEROS 1'!B11:N11)+L11 -> 6.7158 | P11: =+SUM(B11:J11) -> 0 | Q11: =+O11+P11 -> 6.7158 | R11: =+Q11-M11 -> 0 | S11: 0
A12: ARABA/ÁLAVA | M12: 24.0536 | O12: =+SUM('INVERNADEROS 1'!B12:N12)+L12 -> 24.0536 | P12: =+SUM(B12:J12) -> 0 | Q12: =+O12+P12 -> 24.0536 | R12: =+Q12-M12 -> 0 | S12: 0
A13: GIPUZKOA | L13: 9.0877 | M13: 54.4857 | O13: =+SUM('INVERNADEROS 1'!B13:N13)+L13 -> 54.4857 | P13: =+SUM(B13:J13) -> 0 | Q13: =+O13+P13 -> 54.4857 | R13: =+Q13-M13 -> 0 | S13: 16.9514
A14: BIZKAIA | M14: 85.733 | O14: =+SUM('INVERNADEROS 1'!B14:N14)+L14 -> 85.733 | P14: =+SUM(B14:J14) -> 0 | Q14: =+O14+P14 -> 85.733 | R14: =+Q14-M14 -> 0 | S14: 1.7099
A15: PAÍS VASCO | L15: 9.0877 | M15: 164.2723 | O15: =+SUM('INVERNADEROS 1'!B15:N15)+L15 -> 164.2723 | P15: =+SUM(B15:J15) -> 0 | Q15: =+O15+P15 -> 164.2723 | R15: =+Q15-M15 -> 0 | S15: 18.6613
A16: COMUNIDAD FORAL DE NAVARRA | K16: 93.5238 | L16: 40.1357 | M16: 477.1758 | O16: =+SUM('INVERNADEROS 1'!B16:N16)+L16 -> 383.652 | P16: =+SUM(B16:J16) -> 0 | Q16: =+O16+P16 -> 383.652 | R16: =+Q16-M16 -> -93.5238 | S16: 308.9628
A17: LA RIOJA | L17: 38.7498 | M17: 57.5202 | O17: =+SUM('INVERNADEROS 1'!B17:N17)+L17 -> 57.5202 | P17: =+SUM(B17:J17) -> 0 | Q17: =+O17+P17 -> 57.5202 | R17: =+Q17-M17 -> 0 | S17: 14.7249
A18: HUESCA | O18: =+SUM('INVERNADEROS 1'!B18:N18)+L18 -> 0 | P18: =+SUM(B18:J18) -> 0 | Q18: =+O18+P18 -> 0 | R18: =+Q18-M18 -> 0 | S18: 0
A19: TERUEL | O19: =+SUM('INVERNADEROS 1'!B19:N19)+L19 -> 0 | P19: =+SUM(B19:J19) -> 0 | Q19: =+O19+P19 -> 0 | R19: =+Q19-M19 -> 0 | S19: 0
A20: ZARAGOZA | K20: 272.4772 | L20: 13.6977 | M20: 329.569 | O20: =+SUM('INVERNADEROS 1'!B20:N20)+L20 -> 57.0918 | P20: =+SUM(B20:J20) -> 0 | Q20: =+O20+P20 -> 57.0918 | R20: =+Q20-M20 -> -272.4772 | S20: 28.4563
A21: ARAGÓN | K21: 272.4772 | L21: 13.6977 | M21: 329.569 | O21: =+SUM('INVERNADEROS 1'!B21:N21)+L21 -> 57.0918 | P21: =+SUM(B21:J21) -> 0 | Q21: =+O21+P21 -> 57.0918 | R21: =+Q21-M21 -> -272.4772 | S21: 28.4563
A22: BARCELONA | K22: 1.7975 | L22: 178.6187 | M22: 701.6906 | O22: =+SUM('INVERNADEROS 1'!B22:N22)+L22 -> 699.8931 | P22: =+SUM(B22:J22) -> 0 | Q22: =+O22+P22 -> 699.8931 | R22: =+Q22-M22 -> -1.7975 | S22: 119.2686
A23: GIRONA | K23: 17.1967 | M23: 25.8812 | O23: =+SUM('INVERNADEROS 1'!B23:N23)+L23 -> 8.6845 | P23: =+SUM(B23:J23) -> 0 | Q23: =+O23+P23 -> 8.6845 | R23: =+Q23-M23 -> -17.1967 | S23: 0
A24: LLEIDA | K24: 17.0132 | M24: 30.6693 | O24: =+SUM('INVERNADEROS 1'!B24:N24)+L24 -> 13.6561 | P24: =+SUM(B24:J24) -> 0 | Q24: =+O24+P24 -> 13.6561 | R24: =+Q24-M24 -> -17.0132 | S24: 0
A25: TARRAGONA | L25: 67.7365 | M25: 69.277 | O25: =+SUM('INVERNADEROS 1'!B25:N25)+L25 -> 69.277 | P25: =+SUM(B25:J25) -> 0 | Q25: =+O25+P25 -> 69.277 | R25: =+Q25-M25 -> 0 | S25: 0
A26: CATALUÑA | K26: 36.0074 | L26: 246.3552 | M26: 827.5181 | O26: =+SUM('INVERNADEROS 1'!B26:N26)+L26 -> 791.5107 | P26: =+SUM(B26:J26) -> 0 | Q26: =+O26+P26 -> 791.5107 | R26: =+Q26-M26 -> -36.0074 | S26: 119.2686
A27: ILLES BALEARS | L27: 2.8298 | M27: 80.1358 | O27: =+SUM('INVERNADEROS 1'!B27:N27)+L27 -> 80.1358 | P27: =+SUM(B27:J27) -> 0 | Q27: =+O27+P27 -> 80.1358 | R27: =+Q27-M27 -> 0 | S27: 4.2321
A28: ÁVILA | L28: 0.7226 | M28: 6.8743 | O28: =+SUM('INVERNADEROS 1'!B28:N28)+L28 -> 6.8743 | P28: =+SUM(B28:J28) -> 0 | Q28: =+O28+P28 -> 6.8743 | R28: =+Q28-M28 -> 0 | S28: 0.7227
A29: BURGOS | O29: =+SUM('INVERNADEROS 1'!B29:N29)+L29 -> 0 | P29: =+SUM(B29:J29) -> 0 | Q29: =+O29+P29 -> 0 | R29: =+Q29-M29 -> 0 | S29: 0
A30: LEÓN | M30: 31.1856 | O30: =+SUM('INVERNADEROS 1'!B30:N30)+L30 -> 31.1856 | P30: =+SUM(B30:J30) -> 0 | Q30: =+O30+P30 -> 31.1856 | R30: =+Q30-M30 -> 0 | S30: 4.266
A31: PALENCIA | O31: =+SUM('INVERNADEROS 1'!B31:N31)+L31 -> 0 | P31: =+SUM(B31:J31) -> 0 | Q31: =+O31+P31 -> 0 | R31: =+Q31-M31 -> 0 | S31: 0
A32: SALAMANCA | M32: 6.6932 | O32: =+SUM('INVERNADEROS 1'!B32:N32)+L32 -> 6.6932 | P32: =+SUM(B32:J32) -> 0 | Q32: =+O32+P32 -> 6.6932 | R32: =+Q32-M32 -> 0 | S32: 0.9354
A33: SEGOVIA | K33: 43.6691 | M33: 756.1427 | O33: =+SUM('INVERNADEROS 1'!B33:N33)+L33 -> 712.4736 | P33: =+SUM(B33:J33) -> 0 | Q33: =+O33+P33 -> 712.4736 | R33: =+Q33-M33 -> -43.6691 | S33: 0
A34: SORIA | O34: =+SUM('INVERNADEROS 1'!B34:N34)+L34 -> 0 | P34: =+SUM(B34:J34) -> 0 | Q34: =+O34+P34 -> 0 | R34: =+Q34-M34 -> 0 | S34: 0
A35: VALLADOLID | K35: 31.3768 | M35: 31.3768 | O35: =+SUM('INVERNADEROS 1'!B35:N35)+L35 -> 0 | P35: =+SUM(B35:J35) -> 0 | Q35: =+O35+P35 -> 0 | R35: =+Q35-M35 -> -31.3768 | S35: 13.1699
A36: ZAMORA | M36: 16.4002 | O36: =+SUM('INVERNADEROS 1'!B36:N36)+L36 -> 16.4002 | P36: =+SUM(B36:J36) -> 0 | Q36: =+O36+P36 -> 16.4002 | R36: =+Q36-M36 -> 0 | S36: 0
A37: CASTILLA Y LEÓN | K37: 75.0459 | L37: 0.7226 | M37: 848.6728 | O37: =+SUM('INVERNADEROS 1'!B37:N37)+L37 -> 773.6269 | P37: =+SUM(B37:J37) -> 0 | Q37: =+O37+P37 -> 773.6269 | R37: =+Q37-M37 -> -75.0459 | S37: 19.094
A38: COMUNIDAD DE MADRID | L38: 12.9115 | M38: 131.0151 | O38: =+SUM('INVERNADEROS 1'!B38:N38)+L38 -> 131.0151 | P38: =+SUM(B38:J38) -> 0 | Q38: =+O38+P38 -> 131.0151 | R38: =+Q38-M38 -> 0 | S38: 33.2332
A39: ALBACETE | M39: 10.2307 | O39: =+SUM('INVERNADEROS 1'!B39:N39)+L39 -> 10.2307 | P39: =+SUM(B39:J39) -> 0 | Q39: =+O39+P39 -> 10.2307 | R39: =+Q39-M39 -> 0 | S39: 0
A40: CIUDAD REAL | L40: 19.7648 | M40: 49.1835 | O40: =+SUM('INVERNADEROS 1'!B40:N40)+L40 -> 49.1835 | P40: =+SUM(B40:J40) -> 0 | Q40: =+O40+P40 -> 49.1835 | R40: =+Q40-M40 -> 0 | S40: 9.9465
A41: CUENCA | M41: 2.3767 | O41: =+SUM('INVERNADEROS 1'!B41:N41)+L41 -> 2.3767 | P41: =+SUM(B41:J41) -> 0 | Q41: =+O41+P41 -> 2.3767 | R41: =+Q41-M41 -> 0 | S41: 2.3062
A42: GUADALAJARA | O42: =+SUM('INVERNADEROS 1'!B42:N42)+L42 -> 0 | P42: =+SUM(B42:J42) -> 0 | Q42: =+O42+P42 -> 0 | R42: =+Q42-M42 -> 0 | S42: 0
A43: TOLEDO | L43: 4.9979 | M43: 8.9982 | O43: =+SUM('INVERNADEROS 1'!B43:N43)+L43 -> 8.9982 | P43: =+SUM(B43:J43) -> 0 | Q43: =+O43+P43 -> 8.9982 | R43: =+Q43-M43 -> 0 | S43: 0
A44: CASTILLA-LA MANCHA | L44: 24.7627 | M44: 70.7891 | O44: =+SUM('INVERNADEROS 1'!B44:N44)+L44 -> 70.7891 | P44: =+SUM(B44:J44) -> 0 | Q44: =+O44+P44 -> 70.7891 | R44: =+Q44-M44 -> 0 | S44: 12.2527
A45: ALICANTE/ALACANT | J45: 45.0902 | K45: 52.3752 | L45: 223.6034 | M45: 756.7503 | O45: =+SUM('INVERNADEROS 1'!B45:N45)+L45 -> 659.2849 | P45: =+SUM(B45:J45) -> 45.0902 | Q45: =+O45+P45 -> 704.3751 | R45: =+Q45-M45 -> -52.3752 | S45: 117.8473
A46: CASTELLÓN/CASTELLÓ | I46: 1.057 | K46: 20.4148 | L46: 8.1538 | M46: 55.8749 | O46: =+SUM('INVERNADEROS 1'!B46:N46)+L46 -> 34.4031 | P46: =+SUM(B46:J46) -> 1.057 | Q46: =+O46+P46 -> 35.4601 | R46: =+Q46-M46 -> -20.4148 | S46: 4.0073
A47: VALENCIA/VALÈNCIA | K47: 147.6195 | L47: 94.7968 | M47: 336.2976 | O47: =+SUM('INVERNADEROS 1'!B47:N47)+L47 -> 188.6781 | P47: =+SUM(B47:J47) -> 0 | Q47: =+O47+P47 -> 188.6781 | R47: =+Q47-M47 -> -147.6195 | S47: 66.9619
A48: COMUNITAT VALENCIANA | I48: 1.057 | J48: 45.0902 | K48: 220.4095 | L48: 326.554 | M48: 1148.9228 | O48: =+SUM('INVERNADEROS 1'!B48:N48)+L48 -> 882.3661 | P48: =+SUM(B48:J48) -> 46.1472 | Q48: =+O48+P48 -> 928.5133 | R48: =+Q48-M48 -> -220.4095 | S48: 188.8165
A49: REGIÓN DE MURCIA | K49: 263.9965 | L49: 2553.6365 | M49: 6663.2552 | O49: =+SUM('INVERNADEROS 1'!B49:N49)+L49 -> 6399.2587 | P49: =+SUM(B49:J49) -> 0 | Q49: =+O49+P49 -> 6399.2587 | R49: =+Q49-M49 -> -263.9965 | S49: 2622.1063
A50: BADAJOZ | K50: 28.4429 | L50: 40.4192 | M50: 70.0353 | O50: =+SUM('INVERNADEROS 1'!B50:N50)+L50 -> 41.5924 | P50: =+SUM(B50:J50) -> 0 | Q50: =+O50+P50 -> 41.5924 | R50: =+Q50-M50 -> -28.4429 | S50: 75.0048
A51: CÁCERES | F51: 2.4505 | K51: 10.3968 | L51: 2.207 | M51: 23.533 | O51: =+SUM('INVERNADEROS 1'!B51:N51)+L51 -> 10.6857 | P51: =+SUM(B51:J51) -> 2.4505 | Q51: =+O51+P51 -> 13.1362 | R51: =+Q51-M51 -> -10.3968 | S51: 26.6541
A52: EXTREMADURA | F52: 2.4505 | K52: 38.8397 | L52: 42.6262 | M52: 93.5683 | O52: =+SUM('INVERNADEROS 1'!B52:N52)+L52 -> 52.2781 | P52: =+SUM(B52:J52) -> 2.4505 | Q52: =+O52+P52 -> 54.7286 | R52: =+Q52-M52 -> -38.8397 | S52: 101.6589
A53: ALMERÍA | D53: 1.1543 | K53: 160.6581 | L53: 20641.66 | M53: 34591.97 | O53: =+SUM('INVERNADEROS 1'!B53:N53)+L53 -> 34430.158 | P53: =+SUM(B53:J53) -> 1.1543 | Q53: =+O53+P53 -> 34431.312 | R53: =+Q53-M53 -> -160.6581 | S53: 26858.611
A54: CÁDIZ | K54: 30.9197 | L54: 167.3521 | M54: 881.8404 | O54: =+SUM('INVERNADEROS 1'!B54:N54)+L54 -> 850.9207 | P54: =+SUM(B54:J54) -> 0 | Q54: =+O54+P54 -> 850.9207 | R54: =+Q54-M54 -> -30.9197 | S54: 144.6868
A55: CÓRDOBA | J55: 24.855 | K55: 7.4323 | M55: 70.0304 | O55: =+SUM('INVERNADEROS 1'!B55:N55)+L55 -> 37.7431 | P55: =+SUM(B55:J55) -> 24.855 | Q55: =+O55+P55 -> 62.5981 | R55: =+Q55-M55 -> -7.4323 | S55: 15.9935
A56: GRANADA | B56: 12.981 | D56: 101.658 | K56: 0.5184 | L56: 1106.3529 | M56: 5716.6326 | O56: =+SUM('INVERNADEROS 1'!B56:N56)+L56 -> 5601.4752 | P56: =+SUM(B56:J56) -> 114.639 | Q56: =+O56+P56 -> 5716.1142 | R56: =+Q56-M56 -> -0.5184 | S56: 1671.229
A57: HUELVA | F57: 1769.8276 | H57: 5004.0491 | I57: 63.2328 | J57: 163.1701 | L57: 719.0277 | M57: 19400.808 | O57: =+SUM('INVERNADEROS 1'!B57:N57)+L57 -> 12400.529 | P57: =+SUM(B57:J57) -> 7000.2796 | Q57: =+O57+P57 -> 19400.808 | R57: =+Q57-M57 -> 0 | S57: 2677.1601
A58: JAÉN | K58: 5.6193 | L58: 16.0691 | M58: 38.0358 | O58: =+SUM('INVERNADEROS 1'!B58:N58)+L58 -> 32.4165 | P58: =+SUM(B58:J58) -> 0 | Q58: =+O58+P58 -> 32.4165 | R58: =+Q58-M58 -> -5.6193 | S58: 35.4554
A59: MÁLAGA | B59: 2.9693 | D59: 100.8165 | K59: 143.6503 | L59: 293.1375 | M59: 948.9837 | O59: =+SUM('INVERNADEROS 1'!B59:N59)+L59 -> 701.5476 | P59: =+SUM(B59:J59) -> 103.7858 | Q59: =+O59+P59 -> 805.3334 | R59: =+Q59-M59 -> -143.6503 | S59: 267.9286
A60: SEVILLA | H60: 13.1136 | K60: 14.5443 | L60: 122.886 | M60: 463.6167 | O60: =+SUM('INVERNADEROS 1'!B60:N60)+L60 -> 435.9588 | P60: =+SUM(B60:J60) -> 13.1136 | Q60: =+O60+P60 -> 449.0724 | R60: =+Q60-M60 -> -14.5443 | S60: 69.8937
A61: ANDALUCÍA | B61: 15.9503 | D61: 203.6288 | F61: 1769.8276 | H61: 5017.1627 | I61: 63.2328 | J61: 188.0251 | K61: 363.3424 | L61: 23066.485 | M61: 62111.918 | O61: =+SUM('INVERNADEROS 1'!B61:N61)+L61 -> 54490.749 | P61: =+SUM(B61:J61) -> 7257.8273 | Q61: =+O61+P61 -> 61748.576 | R61: =+Q61-M61 -> -363.3424 | S61: 31740.958
A62: PALMAS (Las) | B62: 110.2108 | C62: 694.3412 | J62: 8.8522 | K62: 12.6997 | L62: 372.5491 | M62: 2149.3474 | O62: =+SUM('INVERNADEROS 1'!B62:N62)+L62 -> 1323.2435 | P62: =+SUM(B62:J62) -> 813.4042 | Q62: =+O62+P62 -> 2136.6477 | R62: =+Q62-M62 -> -12.6997 | S62: 1456.8471
A63: Sta.C. de TENERIFE | B63: 59.979 | C63: 2154.6682 | D63: 80.8077 | E63: 445.6371 | G63: 147.7466 | J63: 46.5722 | K63: 68.0919 | L63: 196.6491 | M63: 3426.9821 | O63: =+SUM('INVERNADEROS 1'!B63:N63)+L63 -> 423.4794 | P63: =+SUM(B63:J63) -> 2935.4108 | Q63: =+O63+P63 -> 3358.8902 | R63: =+Q63-M63 -> -68.0919 | S63: 259.8906
A64: CANARIAS | B64: 170.1898 | C64: 2849.0094 | D64: 80.8077 | E64: 445.6371 | G64: 147.7466 | J64: 55.4244 | K64: 80.7916 | L64: 569.1982 | M64: 5576.3295 | O64: =+SUM('INVERNADEROS 1'!B64:N64)+L64 -> 1746.7229 | P64: =+SUM(B64:J64) -> 3748.815 | Q64: =+O64+P64 -> 5495.5379 | R64: =+Q64-M64 -> -80.7916 | S64: 1716.7377
A65: ESPAÑA | B65: 186.1401 | C65: 2849.0094 | D65: 284.4365 | E65: 445.6371 | F65: 1772.2781 | G65: 147.7466 | H65: 5017.1627 | I65: 64.2898 | J65: 288.5397 | K65: 1597.1952 | L65: 26979.756 | M65: 79144.288 | O65: =+SUM('INVERNADEROS 1'!B65:N65)+L65 -> 66491.853 | P65: =+SUM(B65:J65) -> 11055.24 | Q65: =+O65+P65 -> 77547.093 | R65: =+Q65-M65 -> -1597.1952 | S65: 36995.649
N66: =SUM(B66:L66) -> 0 | O66: =+N66+'INVERNADEROS 1'!O66 -> 0 | P66: =+SUM(B66:J66) -> 0 | Q66: =+O66+P66+L66 -> 0 | R66: =+Q66-M66 -> 0
N67: =SUM(B67:L67) -> 0 | O67: =+N67+'INVERNADEROS 1'!O67 -> 0 | P67: =+SUM(B67:J67) -> 0 | Q67: =+O67+P67+L67 -> 0 | R67: =+Q67-M67 -> 0

Sheet HUERTOS
B1: CULTIVOS EN HUERTOS FAMILIARES
A2: Provincias y CC.AA | B2: Cereales grano | C2: Legumi-nosas | D2: Tuberculos c. h. | E2: Industriales | F2: Forrajeras | G2: Hortalizas | H2: Frutales citricos | I2: Frutales no citricos | J2: Olivar | K2: Viñedo | L2: Otros cultivos leñosos | M2: Barbecho | N2: Sin distribuir | O2: TOTAL
A3: A CORUÑA | B3: 337.459 | C3: 33.6611 | D3: 632.064 | F3: 345.2565 | G3: 6216.8303 | H3: 5.8055 | I3: 1211.972 | K3: 71.9048 | M3: 215.8184 | N3: 587.7046 | O3: 9658.4762 | R3: =SUM(B3:G3)+M3 -> 7781.0893 | S3: =+SUM(H3:L3) -> 1289.6823 | T3: =+N3 -> 587.7046
A4: LUGO | B4: 193.0743 | C4: 39.045 | D4: 574.7962 | F4: 1054.9722 | G4: 3995.1278 | H4: 2.6666 | I4: 1122.2951 | J4: 0.8177 | K4: 10.9053 | L4: 2.2171 | M4: 278.6936 | N4: 518.4269 | O4: 7793.0378 | R4: =SUM(B4:G4)+M4 -> 6135.7091 | S4: =+SUM(H4:L4) -> 1138.9018 | T4: =+N4 -> 518.4269
A5: OURENSE | B5: 79.077 | C5: 3.3634 | D5: 420.0261 | E5: 1.2113 | F5: 624.4073 | G5: 3007.5151 | H5: 0.7931 | I5: 1368.1477 | J5: 4.2424 | K5: 32.2284 | M5: 433.9202 | N5: 503.1231 | O5: 6478.0551 | R5: =SUM(B5:G5)+M5 -> 4569.5204 | S5: =+SUM(H5:L5) -> 1405.4116 | T5: =+N5 -> 503.1231
A6: PONTEVEDRA | B6: 333.4981 | C6: 16.0822 | D6: 267.6378 | F6: 646.3794 | G6: 2721.1273 | H6: 7.1522 | I6: 1333.033 | K6: 331.4261 | M6: 592.8253 | N6: 1045.6662 | O6: 7294.8276 | R6: =SUM(B6:G6)+M6 -> 4577.5501 | S6: =+SUM(H6:L6) -> 1671.6113 | T6: =+N6 -> 1045.6662
A7: GALICIA | B7: 943.1084 | C7: 92.1517 | D7: 1894.5241 | E7: 1.2113 | F7: 2671.0154 | G7: 15940.601 | H7: 16.4174 | I7: 5035.4478 | J7: 5.0601 | K7: 446.4646 | L7: 2.2171 | M7: 1521.2575 | N7: 2654.9208 | O7: 31224.397 | R7: =SUM(B7:G7)+M7 -> 23063.869 | S7: =+SUM(H7:L7) -> 5505.607 | T7: =+N7 -> 2654.9208
A8: PRINCIPADO DE ASTURIAS | B8: 86.0949 | C8: 375.4547 | D8: 321.1897 | E8: 0.6747 | F8: 160.1551 | G8: 991.4091 | H8: 29.9115 | I8: 876.9568 | J8: 0.8486 | K8: 11.6342 | N8: 621.029 | O8: 3475.3583 | R8: =SUM(B8:G8)+M8 -> 1934.9782 | S8: =+SUM(H8:L8) -> 919.3511 | T8: =+N8 -> 621.029
A9: CANTABRIA | B9: 4.6314 | C9: 20.7433 | D9: 4.5796 | G9: 113.7922 | H9: 3.13 | I9: 186.1891 | K9: 3.1305 | N9: 113.4328 | O9: 449.6289 | R9: =SUM(B9:G9)+M9 -> 143.7465 | S9: =+SUM(H9:L9) -> 192.4496 | T9: =+N9 -> 113.4328
A10: ARABA/ÁLAVA | B10: 5.1617 | C10: 26.0326 | D10: 5.5545 | E10: 1.5238 | G10: 258.4867 | I10: 144.0934 | J10: 19.5473 | K10: 1.8712 | O10: 462.2712 | R10: =SUM(B10:G10)+M10 -> 296.7593 | S10: =+SUM(H10:L10) -> 165.5119 | T10: =+N10 -> 0
A11: GIPUZKOA | B11: 7.191 | D11: 1.2596 | G11: 477.0557 | I11: 1896.9348 | O11: 2382.4411 | R11: =SUM(B11:G11)+M11 -> 485.5063 | S11: =+SUM(H11:L11) -> 1896.9348 | T11: =+N11 -> 0
A12: BIZKAIA | B12: 72.8754 | C12: 149.8505 | G12: 920.6885 | I12: 230.9145 | O12: 1374.3289 | R12: =SUM(B12:G12)+M12 -> 1143.4144 | S12: =+SUM(H12:L12) -> 230.9145 | T12: =+N12 -> 0
A13: PAÍS VASCO | B13: 85.2281 | C13: 175.8831 | D13: 6.8141 | E13: 1.5238 | G13: 1656.2309 | I13: 2271.9427 | J13: 19.5473 | K13: 1.8712 | O13: 4219.0412 | R13: =SUM(B13:G13)+M13 -> 1925.68 | S13: =+SUM(H13:L13) -> 2293.3612 | T13: =+N13 -> 0
A14: COMUNIDAD FORAL DE NAVARRA | B14: 55.3661 | C14: 2.0596 | D14: 168.8233 | F14: 130.232 | G14: 1666.2024 | H14: 0.5754 | I14: 728.9139 | J14: 179.98 | K14: 36.0399 | N14: 46.8402 | O14: 3015.0328 | R14: =SUM(B14:G14)+M14 -> 2022.6834 | S14: =+SUM(H14:L14) -> 945.5092 | T14: =+N14 -> 46.8402
A15: LA RIOJA | B15: 6.1291 | C15: 0.7029 | D15: 91.7423 | E15: 5.3856 | G15: 1072.9126 | I15: 771.6252 | J15: 183.7792 | K15: 42.4301 | L15: 4.1276 | N15: 6.9763 | O15: 2185.8109 | R15: =SUM(B15:G15)+M15 -> 1176.8725 | S15: =+SUM(H15:L15) -> 1001.9621 | T15: =+N15 -> 6.9763
A16: HUESCA | B16: 155.6871 | C16: 0.4253 | D16: 68.3767 | F16: 10.8474 | G16: 366.3059 | I16: 223.5385 | J16: 83.53 | K16: 10.8101 | N16: 11.7412 | O16: 931.2622 | R16: =SUM(B16:G16)+M16 -> 601.6424 | S16: =+SUM(H16:L16) -> 317.8786 | T16: =+N16 -> 11.7412
A17: TERUEL | B17: 2.6142 | D17: 214.0009 | G17: 637.5929 | I17: 565.0857 | J17: 15.2764 | K17: 23.3858 | M17: 9.4129 | O17: 1467.3688 | R17: =SUM(B17:G17)+M17 -> 863.6209 | S17: =+SUM(H17:L17) -> 603.7479 | T17: =+N17 -> 0
A18: ZARAGOZA | B18: 11.1782 | C18: 1.7856 | D18: 136.5115 | F18: 12.0907 | G18: 1254.1562 | H18: 1.6432 | I18: 514.1151 | J18: 113.3068 | K18: 108.8477 | L18: 5.1174 | N18: 55.8247 | O18: 2214.5771 | R18: =SUM(B18:G18)+M18 -> 1415.7222 | S18: =+SUM(H18:L18) -> 743.0302 | T18: =+N18 -> 55.8247
A19: ARAGÓN | B19: 169.4795 | C19: 2.2109 | D19: 418.8891 | F19: 22.9381 | G19: 2258.055 | H19: 1.6432 | I19: 1302.7393 | J19: 212.1132 | K19: 143.0436 | L19: 5.1174 | M19: 9.4129 | N19: 67.5659 | O19: 4613.2081 | R19: =SUM(B19:G19)+M19 -> 2880.9855 | S19: =+SUM(H19:L19) -> 1664.6567 | T19: =+N19 -> 67.5659
A20: BARCELONA | B20: 19.3181 | D20: 95.0966 | F20: 1.6662 | G20: 1949.3474 | H20: 8.1475 | I20: 560.4764 | J20: 203.1206 | K20: 72.6742 | L20: 19.4273 | M20: 7.7232 | N20: 0.5267 | O20: 2937.5242 | R20: =SUM(B20:G20)+M20 -> 2073.1515 | S20: =+SUM(H20:L20) -> 863.846 | T20: =+N20 -> 0.5267
A21: GIRONA | B21: 12.2602 | D21: 16.4354 | E21: 4.2127 | F21: 12.6277 | G21: 670.1419 | H21: 0.08 | I21: 149.2048 | J21: 46.3666 | K21: 21.2566 | N21: 17.593 | O21: 950.1789 | R21: =SUM(B21:G21)+M21 -> 715.6779 | S21: =+SUM(H21:L21) -> 216.908 | T21: =+N21 -> 17.593
A22: LLEIDA | B22: 6.6429 | D22: 11.555 | E22: 0.3252 | F22: 13.3242 | G22: 740.2472 | I22: 211.5353 | J22: 64.8856 | K22: 46.7935 | N22: 9.9417 | O22: 1105.2506 | R22: =SUM(B22:G22)+M22 -> 772.0945 | S22: =+SUM(H22:L22) -> 323.2144 | T22: =+N22 -> 9.9417
A23: TARRAGONA | B23: 2.6782 | D23: 12.757 | F23: 9.0088 | G23: 1332.8235 | H23: 232.9606 | I23: 657.9203 | J23: 269.1744 | K23: 42.4536 | L23: 53.9464 | M23: 4.5931 | O23: 2618.3159 | R23: =SUM(B23:G23)+M23 -> 1361.8606 | S23: =+SUM(H23:L23) -> 1256.4553 | T23: =+N23 -> 0
A24: CATALUÑA | B24: 40.8994 | D24: 135.844 | E24: 4.5379 | F24: 36.6269 | G24: 4692.56 | H24: 241.1881 | I24: 1579.1368 | J24: 583.5472 | K24: 183.1779 | L24: 73.3737 | M24: 12.3163 | N24: 28.0614 | O24: 7611.2696 | R24: =SUM(B24:G24)+M24 -> 4922.7845 | S24: =+SUM(H24:L24) -> 2660.4237 | T24: =+N24 -> 28.0614
A25: ILLES BALEARS | B25: 3.1419 | C25: 2.0185 | D25: 41.9102 | E25: 13.2392 | F25: 14.4085 | G25: 1171.5618 | H25: 1150.7679 | I25: 2415.3557 | J25: 777.6552 | K25: 188.2702 | L25: 279.5224 | N25: 88.4521 | O25: 6146.3036 | R25: =SUM(B25:G25)+M25 -> 1246.2801 | S25: =+SUM(H25:L25) -> 4811.5714 | T25: =+N25 -> 88.4521
A26: ÁVILA | C26: 1.0323 | D26: 20.9203 | F26: 8.9461 | G26: 408.5472 | H26: 11.5716 | I26: 164.9311 | J26: 9.7644 | K26: 6.3962 | N26: 5.8177 | O26: 637.9269 | R26: =SUM(B26:G26)+M26 -> 439.4459 | S26: =+SUM(H26:L26) -> 192.6633 | T26: =+N26 -> 5.8177
A27: BURGOS | B27: 22.972 | C27: 12.4966 | D27: 98.6099 | E27: 5.356 | G27: 282.893 | I27: 2158.2752 | J27: 6.6813 | K27: 31.4143 | N27: 4.3324 | O27: 2623.0307 | R27: =SUM(B27:G27)+M27 -> 422.3275 | S27: =+SUM(H27:L27) -> 2196.3708 | T27: =+N27 -> 4.3324
A28: LEÓN | B28: 36.6236 | C28: 95.4883 | D28: 639.7379 | E28: 11.4656 | F28: 123.5299 | G28: 1643.4571 | I28: 1870.833 | J28: 0.7901 | K28: 41.7363 | M28: 99.3927 | N28: 293.6013 | O28: 4856.6558 | R28: =SUM(B28:G28)+M28 -> 2649.6951 | S28: =+SUM(H28:L28) -> 1913.3594 | T28: =+N28 -> 293.6013
A29: PALENCIA | B29: 0.5376 | D29: 29.4018 | E29: 0.8823 | G29: 117.5116 | I29: 127.6185 | J29: 7.561 | K29: 24.4631 | N29: 10.5795 | O29: 318.5554 | R29: =SUM(B29:G29)+M29 -> 148.3333 | S29: =+SUM(H29:L29) -> 159.6426 | T29: =+N29 -> 10.5795
A30: SALAMANCA | C30: 4.3276 | D30: 179.8426 | E30: 0.2614 | F30: 11.6827 | G30: 329.0806 | I30: 209.6156 | K30: 30.9553 | M30: 1.6777 | N30: 11.665 | O30: 779.1085 | R30: =SUM(B30:G30)+M30 -> 526.8726 | S30: =+SUM(H30:L30) -> 240.5709 | T30: =+N30 -> 11.665
A31: SEGOVIA | B31: 2.0747 | D31: 13.5827 | E31: 2.0747 | G31: 128.3096 | I31: 191.0472 | J31: 0.9077 | K31: 4.6731 | L31: 0.6152 | O31: 343.2849 | R31: =SUM(B31:G31)+M31 -> 146.0417 | S31: =+SUM(H31:L31) -> 197.2432 | T31: =+N31 -> 0
A32: SORIA | B32: 9.2444 | C32: 1.4315 | D32: 19.5826 | E32: 1.1709 | G32: 221.3712 | I32: 324.2794 | J32: 17.4874 | K32: 10.4488 | O32: 605.0162 | R32: =SUM(B32:G32)+M32 -> 252.8006 | S32: =+SUM(H32:L32) -> 352.2156 | T32: =+N32 -> 0
A33: VALLADOLID | C33: 0.133 | D33: 10.3886 | G33: 130.5062 | I33: 109.9129 | J33: 8.101 | K33: 5.6541 | M33: 6.7346 | N33: 4.0795 | O33: 275.5099 | R33: =SUM(B33:G33)+M33 -> 147.7624 | S33: =+SUM(H33:L33) -> 123.668 | T33: =+N33 -> 4.0795
A34: ZAMORA | B34: 1.9638 | C34: 16.2149 | D34: 159.8336 | E34: 3.1972 | F34: 0.8426 | G34: 428.8735 | I34: 613.2408 | J34: 19.4942 | K34: 30.8029 | M34: 18.1867 | N34: 38.0368 | O34: 1330.687 | R34: =SUM(B34:G34)+M34 -> 629.1123 | S34: =+SUM(H34:L34) -> 663.5379 | T34: =+N34 -> 38.0368
A35: CASTILLA Y LEÓN | B35: 73.4161 | C35: 131.1242 | D35: 1171.9 | E35: 24.4081 | F35: 145.0013 | G35: 3690.55 | H35: 11.5716 | I35: 5769.7537 | J35: 70.7871 | K35: 186.5441 | L35: 0.6152 | M35: 125.9917 | N35: 368.1122 | O35: 11769.775 | R35: =SUM(B35:G35)+M35 -> 5362.3914 | S35: =+SUM(H35:L35) -> 6039.2717 | T35: =+N35 -> 368.1122
A36: COMUNIDAD DE MADRID | B36: 4.3014 | D36: 46.1938 | E36: 0.6798 | G36: 260.9211 | H36: 2.1118 | I36: 37.4439 | K36: 11.7134 | N36: 0.615 | O36: 363.9802 | R36: =SUM(B36:G36)+M36 -> 312.0961 | S36: =+SUM(H36:L36) -> 51.2691 | T36: =+N36 -> 0.615
A37: ALBACETE | B37: 19.573 | D37: 11.65 | G37: 872.0075 | I37: 329.4532 | J37: 74.6245 | K37: 31.5031 | L37: 9.9031 | M37: 37.0936 | N37: 1.0862 | O37: 1386.8942 | R37: =SUM(B37:G37)+M37 -> 940.3241 | S37: =+SUM(H37:L37) -> 445.4839 | T37: =+N37 -> 1.0862
A38: CIUDAD REAL | B38: 42.2305 | D38: 69.1982 | E38: 0.6093 | F38: 4.1307 | G38: 450.2984 | I38: 375.3291 | J38: 69.2299 | K38: 7.4989 | M38: 2.6584 | O38: 1021.1834 | R38: =SUM(B38:G38)+M38 -> 569.1255 | S38: =+SUM(H38:L38) -> 452.0579 | T38: =+N38 -> 0
A39: CUENCA | D39: 1.7439 | G39: 221.6851 | I39: 372.3988 | J39: 16.4083 | K39: 49.7785 | M39: 5.5483 | N39: 15.8373 | O39: 683.4002 | R39: =SUM(B39:G39)+M39 -> 228.9773 | S39: =+SUM(H39:L39) -> 438.5856 | T39: =+N39 -> 15.8373
A40: GUADALAJARA | B40: 402.4127 | D40: 6.5081 | G40: 358.4604 | I40: 242.2987 | M40: 10.7813 | N40: 22.2646 | O40: 1042.7258 | R40: =SUM(B40:G40)+M40 -> 778.1625 | S40: =+SUM(H40:L40) -> 242.2987 | T40: =+N40 -> 22.2646
A41: TOLEDO | D41: 43.3209 | F41: 23.5548 | G41: 694.931 | H41: 4.3507 | I41: 69.2969 | J41: 5.5958 | K41: 1.507 | M41: 40.1 | N41: 0.7118 | O41: 883.3689 | R41: =SUM(B41:G41)+M41 -> 801.9067 | S41: =+SUM(H41:L41) -> 80.7504 | T41: =+N41 -> 0.7118
A42: CASTILLA-LA MANCHA | B42: 464.2162 | D42: 132.4211 | E42: 0.6093 | F42: 27.6855 | G42: 2597.3824 | H42: 4.3507 | I42: 1388.7767 | J42: 165.8585 | K42: 90.2875 | L42: 9.9031 | M42: 96.1816 | N42: 39.8999 | O42: 5017.5725 | R42: =SUM(B42:G42)+M42 -> 3318.4961 | S42: =+SUM(H42:L42) -> 1659.1765 | T42: =+N42 -> 39.8999
A43: ALICANTE/ALACANT | B43: 0.4793 | C43: 0.7038 | D43: 2.7178 | E43: 1.1101 | F43: 0.5785 | G43: 543.3886 | H43: 770.5533 | I43: 1101.6719 | J43: 953.4757 | K43: 62.5833 | L43: 23.2363 | M43: 5.7289 | N43: 8.0373 | O43: 3474.2648 | R43: =SUM(B43:G43)+M43 -> 554.707 | S43: =+SUM(H43:L43) -> 2911.5205 | T43: =+N43 -> 8.0373
A44: CASTELLÓN/CASTELLÓ | B44: 45.909 | D44: 17.7434 | F44: 0.1631 | G44: 1327.7674 | H44: 429.0015 | I44: 1164.4794 | J44: 944.8208 | K44: 133.4307 | L44: 63.0068 | M44: 15.5315 | N44: 16.2253 | O44: 4158.0789 | R44: =SUM(B44:G44)+M44 -> 1407.1144 | S44: =+SUM(H44:L44) -> 2734.7392 | T44: =+N44 -> 16.2253
A45: VALENCIA/VALÈNCIA | B45: 7.0553 | D45: 44.0916 | E45: 3.1951 | F45: 19.3771 | G45: 1884.9104 | H45: 387.6784 | I45: 1349.3651 | J45: 373.3612 | K45: 79.1562 | L45: 18.2366 | M45: 16.3589 | N45: 5.6232 | O45: 4188.4091 | R45: =SUM(B45:G45)+M45 -> 1974.9884 | S45: =+SUM(H45:L45) -> 2207.7975 | T45: =+N45 -> 5.6232
A46: COMUNITAT VALENCIANA | B46: 53.4436 | C46: 0.7038 | D46: 64.5528 | E46: 4.3052 | F46: 20.1187 | G46: 3756.0664 | H46: 1587.2332 | I46: 3615.5164 | J46: 2271.6577 | K46: 275.1702 | L46: 104.4797 | M46: 37.6193 | N46: 29.8858 | O46: 11820.753 | R46: =SUM(B46:G46)+M46 -> 3936.8098 | S46: =+SUM(H46:L46) -> 7854.0572 | T46: =+N46 -> 29.8858
A47: REGIÓN DE MURCIA | B47: 1.2163 | D47: 26.4426 | E47: 21.8312 | F47: 4.4125 | G47: 1100.149 | H47: 1555.743 | I47: 1391.776 | J47: 1195.8267 | K47: 50.6653 | L47: 59.2837 | N47: 32.8658 | O47: 5440.2121 | R47: =SUM(B47:G47)+M47 -> 1154.0516 | S47: =+SUM(H47:L47) -> 4253.2947 | T47: =+N47 -> 32.8658
A48: BADAJOZ | C48: 5.7407 | D48: 62.6927 | E48: 18.8331 | F48: 4.3345 | G48: 777.7269 | H48: 55.7945 | I48: 807.5528 | J48: 378.3833 | K48: 125.0621 | N48: 154.3136 | O48: 2390.4342 | R48: =SUM(B48:G48)+M48 -> 869.3279 | S48: =+SUM(H48:L48) -> 1366.7927 | T48: =+N48 -> 154.3136
A49: CÁCERES | B49: 46.3515 | C49: 3.4435 | D49: 39.455 | E49: 16.033 | F49: 2.2156 | G49: 1139.9413 | H49: 41.174 | I49: 744.3749 | J49: 363.0456 | K49: 477.2267 | L49: 0.6986 | M49: 5.3167 | N49: 37.7577 | O49: 2917.0341 | R49: =SUM(B49:G49)+M49 -> 1252.7566 | S49: =+SUM(H49:L49) -> 1626.5198 | T49: =+N49 -> 37.7577
A50: EXTREMADURA | B50: 46.3515 | C50: 9.1842 | D50: 102.1477 | E50: 34.8661 | F50: 6.5501 | G50: 1917.6682 | H50: 96.9685 | I50: 1551.9277 | J50: 741.4289 | K50: 602.2888 | L50: 0.6986 | M50: 5.3167 | N50: 192.0713 | O50: 5307.4683 | R50: =SUM(B50:G50)+M50 -> 2122.0845 | S50: =+SUM(H50:L50) -> 2993.3125 | T50: =+N50 -> 192.0713
A51: ALMERÍA | D51: 3.5984 | G51: 29.3474 | H51: 69.4423 | I51: 194.7021 | J51: 302.3162 | K51: 42.9677 | M51: 13.0414 | N51: 5.4892 | O51: 660.9047 | R51: =SUM(B51:G51)+M51 -> 45.9872 | S51: =+SUM(H51:L51) -> 609.4283 | T51: =+N51 -> 5.4892
A52: CÁDIZ | B52: 10.048 | D52: 39.6159 | E52: 19.2776 | F52: 15.7163 | G52: 688.7706 | H52: 71.5843 | I52: 154.7559 | J52: 132.4146 | K52: 13.4132 | M52: 17.4932 | O52: 1163.0896 | R52: =SUM(B52:G52)+M52 -> 790.9216 | S52: =+SUM(H52:L52) -> 372.168 | T52: =+N52 -> 0
A53: CÓRDOBA | C53: 0.2805 | D53: 59.0728 | G53: 415.4118 | H53: 42.6476 | I53: 371.4981 | J53: 179.536 | K53: 31.2587 | N53: 16.1721 | O53: 1115.8776 | R53: =SUM(B53:G53)+M53 -> 474.7651 | S53: =+SUM(H53:L53) -> 624.9404 | T53: =+N53 -> 16.1721
A54: GRANADA | B54: 13.5261 | C54: 1.5393 | D54: 138.6248 | E54: 1.2121 | F54: 7.5897 | G54: 2092.2023 | H54: 161.8869 | I54: 1152.5647 | J54: 1035.6702 | K54: 205.2698 | M54: 13.9821 | N54: 3.945 | O54: 4828.013 | R54: =SUM(B54:G54)+M54 -> 2268.6764 | S54: =+SUM(H54:L54) -> 2555.3916 | T54: =+N54 -> 3.945
A55: HUELVA | D55: 6.7975 | F55: 12.6838 | G55: 149.6157 | H55: 162.1706 | I55: 284.6371 | J55: 144.3567 | K55: 37.3858 | N55: 26.3397 | O55: 823.9869 | R55: =SUM(B55:G55)+M55 -> 169.097 | S55: =+SUM(H55:L55) -> 628.5502 | T55: =+N55 -> 26.3397
A56: JAÉN | D56: 15.3363 | E56: 1.3812 | G56: 449.8945 | H56: 14.6992 | I56: 331.9334 | J56: 188.1912 | K56: 24.7612 | L56: 1.04 | O56: 1027.237 | R56: =SUM(B56:G56)+M56 -> 466.612 | S56: =+SUM(H56:L56) -> 560.625 | T56: =+N56 -> 0
A57: MÁLAGA | C57: 5.6392 | D57: 4.225 | E57: 0.3578 | F57: 11.156 | G57: 395.5424 | H57: 815.1547 | I57: 884.3376 | J57: 266.6381 | K57: 84.78 | L57: 4.8952 | N57: 42.0051 | O57: 2514.7311 | R57: =SUM(B57:G57)+M57 -> 416.9204 | S57: =+SUM(H57:L57) -> 2055.8056 | T57: =+N57 -> 42.0051
A58: SEVILLA | B58: 1.4177 | C58: 13.5884 | D58: 7.6558 | E58: 6.0863 | F58: 1.8262 | G58: 312.2853 | H58: 148.2299 | I58: 169.7451 | J58: 196.9877 | K58: 21.0501 | L58: 7.7329 | M58: 12.4688 | N58: 21.335 | O58: 920.4092 | R58: =SUM(B58:G58)+M58 -> 355.3285 | S58: =+SUM(H58:L58) -> 543.7457 | T58: =+N58 -> 21.335
A59: ANDALUCÍA | B59: 24.9918 | C59: 21.0474 | D59: 274.9265 | E59: 28.315 | F59: 48.972 | G59: 4533.07 | H59: 1485.8155 | I59: 3544.174 | J59: 2446.1107 | K59: 460.8865 | L59: 13.6681 | M59: 56.9855 | N59: 115.2861 | O59: 13054.249 | R59: =SUM(B59:G59)+M59 -> 4988.3082 | S59: =+SUM(H59:L59) -> 7950.6548 | T59: =+N59 -> 115.2861
A60: PALMAS (Las) | B60: 134.044 | C60: 9.0658 | D60: 149.5644 | E60: 0.6228 | G60: 2373.4387 | H60: 260.0481 | I60: 418.965 | J60: 163.0725 | K60: 102.6856 | L60: 9.5953 | N60: 7.7677 | O60: 3628.8699 | R60: =SUM(B60:G60)+M60 -> 2666.7357 | S60: =+SUM(H60:L60) -> 954.3665 | T60: =+N60 -> 7.7677
A61: Sta.C. de TENERIFE | B61: 56.6417 | C61: 3.886 | D61: 352.7346 | E61: 2.3699 | F61: 3.3204 | G61: 936.012 | H61: 281.8933 | I61: 976.2327 | J61: 33.2812 | K61: 357.9154 | M61: 75.1362 | N61: 6.9083 | O61: 3086.3317 | R61: =SUM(B61:G61)+M61 -> 1430.1008 | S61: =+SUM(H61:L61) -> 1649.3226 | T61: =+N61 -> 6.9083
A62: CANARIAS | B62: 190.6857 | C62: 12.9518 | D62: 502.299 | E62: 2.9927 | F62: 3.3204 | G62: 3309.4507 | H62: 541.9414 | I62: 1395.1977 | J62: 196.3537 | K62: 460.601 | L62: 9.5953 | M62: 75.1362 | N62: 14.676 | O62: 6715.2016 | R62: =SUM(B62:G62)+M62 -> 4096.8365 | S62: =+SUM(H62:L62) -> 2603.6891 | T62: =+N62 -> 14.676
A63: ESPAÑA | B63: 2252.7014 | C63: 846.2361 | D63: 5405.1999 | E63: 144.5799 | F63: 3291.4365 | G63: 50728.582 | H63: 6729.3692 | I63: 33862.873 | J63: 9050.5541 | K63: 3194.219 | L63: 562.6019 | M63: 1940.2177 | N63: 4420.6906 | O63: 122429.26 | R63: =SUM(B63:G63)+M63 -> 64608.954 | S63: =+SUM(H63:L63) -> 53399.618 | T63: =+N63 -> 4420.6906

Sheet HORTALIZAS en huerto
A1: Provincias y CC.AA | B1: Col (1) | C1: Esparragos | D1: Espinaca | E1: Apio | F1: Lechuga | G1: Lombarda | H1: Acelga | I1: Escarola | J1: Grelo | K1: Otras hortalizas de hoja y tallo
A2: A CORUÑA | B2: 430.7092 | F2: 404.9895 | H2: 372.5073 | J2: 0.2992
A3: LUGO | B3: 223.57381 | F3: 250.62267 | H3: 224.16419 | J3: 12.404955
A4: OURENSE | B4: 190.0188 | F4: 189.011 | H4: 198.03 | J4: 0.0675
A5: PONTEVEDRA | B5: 139.20596 | F5: 167.40148 | H5: 182.46944
A6: GALICIA | B6: 983.50777 | F6: 1012.0246 | H6: 977.17093 | J6: 12.771655
A7: PRINCIPADO DE ASTURIAS | B7: 26.606 | F7: 17.7693 | G7: 0.2947 | H7: 1.636 | J7: 0.2981
A8: CANTABRIA | B8: 2.4036 | F8: 3.0759 | H8: 0.8557
A9: ARABA/ÁLAVA | F9: 1.682141
A10: GIPUZKOA | F10: 9.929119
A11: BIZKAIA | H11: 2.305246
A12: PAÍS VASCO | F12: 11.61126 | H12: 2.305246
A13: COMUNIDAD FORAL DE NAVARRA | C13: 74.1502 | F13: 95.1845 | H13: 21.8107
A14: LA RIOJA | B14: 0.28501 | C14: 19.995485 | E14: 0.596104 | F14: 18.072293 | H14: 5.308381
A15: HUESCA | C15: 0.8298 | F15: 29.2297 | H15: 10.3781 | K15: 0.6053
A16: TERUEL | B16: 0.5032 | C16: 0.1549 | D16: 0.1953 | F16: 26.6622 | H16: 5.5174 | K16: 0.1606
A17: ZARAGOZA | C17: 2.8135 | F17: 15.4744 | H17: 4.7114 | I17: 0.2851
A18: ARAGÓN | B18: 0.5032 | C18: 3.7982 | D18: 0.1953 | F18: 71.3663 | H18: 20.6069 | I18: 0.2851 | K18: 0.7659
A19: BARCELONA | F19: 18.3025 | H19: 14.3955
A20: GIRONA | B20: 2.1657 | F20: 35.5804
A21: LLEIDA | E21: 2.7362 | F21: 48.7532 | H21: 14.4537
A22: TARRAGONA | F22: 12.4907 | H22: 0.8441
A23: CATALUÑA | B23: 2.1657 | E23: 2.7362 | F23: 115.1268 | H23: 29.6933
A24: ILLES BALEARS | B24: 13.5756 | F24: 22.6455
A25: ÁVILA | F25: 17.7078
A26: BURGOS | B26: 0.7302 | F26: 7.524 | G26: 0.3486 | H26: 0.286
A27: LEÓN | B27: 21.8282 | F27: 32.2186 | G27: 0.7154 | H27: 0.9837 | J27: 3.5212
A28: PALENCIA | F28: 6.1263 | H28: 2.3078
A29: SALAMANCA | B29: 4.0541 | F29: 5.1934 | K29: 1.7303
A30: SEGOVIA | B30: 1.2414 | F30: 1.303 | H30: 1.3237
A31: SORIA | F31: 27.6928 | H31: 2.0071
A32: VALLADOLID | C32: 1.7904 | F32: 0.8725
A33: ZAMORA | B33: 2.0983 | F33: 14.8799 | H33: 5.2681
A34: CASTILLA Y LEÓN | B34: 29.9522 | C34: 1.7904 | F34: 113.5183 | G34: 1.064 | H34: 12.1764 | J34: 3.5212 | K34: 1.7303
A35: COMUNIDAD DE MADRID | F35: 7.8362
A36: ALBACETE | C36: 2.7538
A37: CIUDAD REAL | D37: 0.6384 | F37: 6.7215
A38: CUENCA | C38: 10.0504
A39: GUADALAJARA | C39: 39.1697 | D39: 14.6618
A40: TOLEDO | B40: 3.6831 | F40: 30.4651 | H40: 10.1283
A41: CASTILLA-LA MANCHA | B41: 3.6831 | C41: 51.9739 | D41: 15.3002 | F41: 37.1866 | H41: 10.1283
A42: ALICANTE/ALACANT | B42: 0.462888 | F42: 11.532259 | H42: 2.144495
A43: CASTELLÓN/CASTELLÓ | B43: 0.9951 | F43: 2.3547
A44: VALENCIA/VALÈNCIA | F44: 7.1466 | H44: 0.0926
A45: COMUNITAT VALENCIANA | B45: 1.457988 | F45: 21.033559 | H45: 2.237095
A46: REGIÓN DE MURCIA | F46: 4.0603
A47: BADAJOZ | F47: 3.0248 | H47: 0.7483
A48: CÁCERES | C48: 0.4683 | F48: 0.4566
A49: EXTREMADURA | C49: 0.4683 | F49: 3.4814 | H49: 0.7483
A50: ALMERÍA
A51: CÁDIZ | B51: 34.30393 | C51: 0.199189 | E51: 1.867971 | F51: 3.349276 | H51: 3.014959
A52: CÓRDOBA | C52: 0.805486 | F52: 0.183147
A53: GRANADA | B53: 0.338777 | C53: 9.793251 | F53: 2.447207 | H53: 1.115439
A54: HUELVA | F54: 0.5225
A55: JAÉN | C55: 0.4452 | F55: 2.8316
A56: MÁLAGA | B56: 0.902782
A57: SEVILLA | C57: 0.6832 | F57: 2.4497 | H57: 0.5676
A58: ANDALUCÍA | B58: 35.545489 | C58: 11.926326 | E58: 1.867971 | F58: 11.78343 | H58: 4.697998
A59: PALMAS (Las) | B59: 15.5842 | D59: 26.834 | F59: 14.9522 | H59: 0.8765
A60: Sta.C. de TENERIFE | B60: 4.4792 | D60: 4.5251 | F60: 29.9951 | H60: 1.8499
A61: CANARIAS | B61: 20.0634 | D61: 31.3591 | F61: 44.9473 | H61: 2.7264
A62: ESPAÑA | B62: 1119.7491 | C62: 164.10281 | D62: 46.8546 | E62: 5.200275 | F62: 1610.7236 | G62: 1.3587 | H62: 1092.1017 | I62: 0.2851 | J62: 16.590955 | K62: 2.4962
A64: (1) Se incluye col repollo hojas lisas y col repollo hojas rizadas

Sheet HORTALIZAS en huerto(2)
A1: Provincias y CC.AA | B1: Col brócoli | C1: Alcachofa | D1: Coliflor | E1: Judías verdes | F1: Gruisantes verdes | G1: Habas verdes | H1: Otras legumbres frescas
A2: A CORUÑA | B2: 0.12 | D2: 393.9184 | E2: 393.6409 | F2: 386.1454 | M2: =+K2-L2 -> 0
A3: LUGO | B3: 0.02519 | D3: 283.602 | E3: 285.8526 | F3: 224.3437 | G3: 11.7416 | M3: =+K3-L3 -> 0
A4: OURENSE | B4: 0.074 | C4: 0.3853 | D4: 156.6373 | E4: 188.8879 | F4: 165.155 | G4: 19.1888 | M4: =+K4-L4 -> 0
A5: PONTEVEDRA | D5: 152.61565 | E5: 179.80374 | F5: 159.75349 | G5: 5.41625 | M5: =+K5-L5 -> 0
A6: GALICIA | B6: 0.21919 | C6: 0.3853 | D6: 986.77335 | E6: 1048.1851 | F6: 935.39759 | G6: 36.34665 | M6: =+K6-L6 -> 0
A7: PRINCIPADO DE ASTURIAS | B7: 0.5891 | C7: 1.1445 | D7: 4.3084 | E7: 43.3178 | F7: 2.4805 | G7: 11.5725 | M7: =+K7-L7 -> 0
A8: CANTABRIA | E8: 20.9755 | G8: 2.3101 | M8: =+K8-L8 -> 0
A9: ARABA/ÁLAVA | E9: 10.790705 | G9: 7.114209 | M9: =+K9-L9 -> 0
A10: GIPUZKOA | E10: 35.15743 | M10: =+K10-L10 -> 0
A11: BIZKAIA | C11: 2.136167 | E11: 59.262423 | M11: =+K11-L11 -> 0
A12: PAÍS VASCO | C12: 2.136167 | E12: 105.21056 | G12: 7.114209 | M12: =+K12-L12 -> 0
A13: COMUNIDAD FORAL DE NAVARRA | B13: 6.676 | C13: 23.8598 | D13: 29.2225 | E13: 112.0866 | F13: 1.1198 | G13: 17.824 | M13: =+K13-L13 -> 0
A14: LA RIOJA | C14: 50.555951 | D14: 0.144112 | E14: 81.886281 | F14: 10.396032 | G14: 27.282979 | M14: =+K14-L14 -> 0
A15: HUESCA | C15: 1.3788 | E15: 37.8719 | G15: 1.6784 | M15: =+K15-L15 -> 0
A16: TERUEL | C16: 6.4538 | E16: 45.8794 | G16: 0.6804 | M16: =+K16-L16 -> 0
A17: ZARAGOZA | C17: 21.1769 | D17: 0.2063 | E17: 36.2818 | G17: 1.3447 | M17: =+K17-L17 -> 0
A18: ARAGÓN | C18: 29.0095 | D18: 0.2063 | E18: 120.0331 | G18: 3.7035 | M18: =+K18-L18 -> 0
A19: BARCELONA | C19: 1.3397 | D19: 4.2205 | E19: 32.4363 | F19: 3.7216 | G19: 13.1348 | M19: =+K19-L19 -> 0
A20: GIRONA | E20: 145.0643 | G20: 3.6267 | M20: =+K20-L20 -> 0
A21: LLEIDA | C21: 8.7774 | D21: 2.1587 | E21: 16.0076 | F21: 18.3751 | G21: 9.6146 | M21: =+K21-L21 -> 0
A22: TARRAGONA | B22: 3.519 | C22: 21.6995 | E22: 21.6133 | G22: 0.1682 | M22: =+K22-L22 -> 0
A23: CATALUÑA | B23: 3.519 | C23: 31.8166 | D23: 6.3792 | E23: 215.1215 | F23: 22.0967 | G23: 26.5443 | M23: =+K23-L23 -> 0
A24: ILLES BALEARS | C24: 26.4882 | D24: 1.1661 | E24: 4.6277 | M24: =+K24-L24 -> 0
A25: ÁVILA | E25: 11.1327 | M25: =+K25-L25 -> 0
A26: BURGOS | E26: 7.9977 | F26: 1.2351 | G26: 0.3681 | M26: =+K26-L26 -> 0
A27: LEÓN | C27: 0.5686 | D27: 2.1063 | E27: 67.0875 | F27: 4.547 | G27: 26.7408 | M27: =+K27-L27 -> 0
A28: PALENCIA | D28: 0.2143 | E28: 3.0266 | F28: 0.4286 | M28: =+K28-L28 -> 0
A29: SALAMANCA | B29: 7.0769 | E29: 24.0526 | F29: 0.8575 | G29: 15.0118 | M29: =+K29-L29 -> 0
A30: SEGOVIA | B30: 0.049 | D30: 0.049 | E30: 9.9368 | M30: =+K30-L30 -> 0
A31: SORIA | E31: 46.6926 | G31: 0.5701 | M31: =+K31-L31 -> 0
A32: VALLADOLID | D32: 0.3632 | E32: 1.4011 | G32: 0.317 | M32: =+K32-L32 -> 0
A33: ZAMORA | B33: 1.6877 | D33: 2.5385 | E33: 18.2431 | G33: 0.3788 | M33: =+K33-L33 -> 0
A34: CASTILLA Y LEÓN | B34: 8.8136 | C34: 0.5686 | D34: 5.2713 | E34: 189.5707 | F34: 7.0682 | G34: 43.3866 | M34: =+K34-L34 -> 0
A35: COMUNIDAD DE MADRID | C35: 5.7827 | D35: 0.8138 | E35: 2.3877 | G35: 5.6767 | M35: =+K35-L35 -> 0
A36: ALBACETE | B36: 141.8245 | E36: 1.1877 | G36: 14.1338 | M36: =+K36-L36 -> 0
A37: CIUDAD REAL | E37: 13.1516 | G37: 2.9588 | M37: =+K37-L37 -> 0
A38: CUENCA | M38: =+K38-L38 -> 0
A39: GUADALAJARA | E39: 23.9668 | M39: =+K39-L39 -> 0
A40: TOLEDO | E40: 8.3565 | G40: 3.784 | M40: =+K40-L40 -> 0
A41: CASTILLA-LA MANCHA | B41: 141.8245 | E41: 46.6626 | G41: 20.8766 | M41: =+K41-L41 -> 0
A42: ALICANTE/ALACANT | B42: 0.394468 | C42: 7.166641 | D42: 3.704811 | E42: 3.180124 | F42: 0.227933 | G42: 8.493114 | M42: =+K42-L42 -> 0
A43: CASTELLÓN/CASTELLÓ | C43: 15.9564 | E43: 18.1233 | G43: 0.952 | H43: 0.7235 | M43: =+K43-L43 -> 0
A44: VALENCIA/VALÈNCIA | C44: 8.6008 | D44: 14.183 | E44: 37.3888 | G44: 3.3495 | H44: 0.1485 | M44: =+K44-L44 -> 0
A45: COMUNITAT VALENCIANA | B45: 0.394468 | C45: 31.723841 | D45: 17.887811 | E45: 58.692224 | F45: 0.227933 | G45: 12.794614 | H45: 0.872 | M45: =+K45-L45 -> 0
A46: REGIÓN DE MURCIA | C46: 11.2073 | E46: 0.9848 | G46: 0.5819 | M46: =+K46-L46 -> 0
A47: BADAJOZ | C47: 0.0951 | D47: 2.1185 | E47: 0.0951 | M47: =+K47-L47 -> 0
A48: CÁCERES | B48: 3.6355 | E48: 10.0042 | G48: 4.8409 | M48: =+K48-L48 -> 0
A49: EXTREMADURA | B49: 3.6355 | C49: 0.0951 | D49: 2.1185 | E49: 10.0993 | G49: 4.8409 | M49: =+K49-L49 -> 0
A50: ALMERÍA | M50: =+K50-L50 -> 0
A51: CÁDIZ | C51: 1.17041 | D51: 0.933986 | E51: 9.337555 | G51: 2.057451 | M51: =+K51-L51 -> 0
A52: CÓRDOBA | C52: 0.432667 | E52: 1.038357 | G52: 4.095266 | M52: =+K52-L52 -> 0
A53: GRANADA | C53: 1.570531 | D53: 3.69888 | E53: 12.501052 | F53: 0.102126 | G53: 21.821201 | M53: =+K53-L53 -> 0
A54: HUELVA | F54: 0.4254 | G54: 1.4306 | M54: =+K54-L54 -> 0
A55: JAÉN | E55: 5.2651 | G55: 4.2036 | M55: =+K55-L55 -> 0
A56: MÁLAGA | E56: 3.546593 | M56: =+K56-L56 -> 0
A57: SEVILLA | C57: 1.4968 | D57: 0.067 | M57: =+K57-L57 -> 0
A58: ANDALUCÍA | C58: 4.670408 | D58: 4.699866 | E58: 31.688657 | F58: 0.527526 | G58: 33.608118 | M58: =+K58-L58 -> 0
A59: PALMAS (Las) | B59: 32.2211 | D59: 5.0448 | E59: 4.2546 | G59: 3.1392 | M59: =+K59-L59 -> 0
A60: Sta.C. de TENERIFE | B60: 0.7404 | E60: 1.9591 | F60: 1.4757 | M60: =+K60-L60 -> 0
A61: CANARIAS | B61: 32.9615 | D61: 5.0448 | E61: 6.2137 | F61: 1.4757 | G61: 3.1392 | M61: =+K61-L61 -> 0
A62: ESPAÑA | B62: 198.63286 | C62: 219.44397 | D62: 1064.036 | E62: 2097.7439 | F62: 980.78998 | G62: 257.60287 | H62: 0.872 | M62: =+K62-L62 -> 0

Sheet HORTALIZAS en huerto(3)
A1: Provincias y CC.AA | B1: Maíz dulce | C1: Tomate | D1: Sandía | E1: Melón | F1: Calabaza | G1: Calabacín | H1: Pepino | I1: Remolacha de mesa | J1: Berenjena | K1: Pimiento | L1: Otras hortalizas de fruto
A2: A CORUÑA | D2: 0.1902 | F2: 28.4449 | G2: 363.3448 | K2: 437.3828 | Q2: =+O2-P2 -> 0
A3: LUGO | D3: 0.1603 | F3: 66.902748 | G3: 259.69651 | H3: 0.0778 | I3: 1.865 | K3: 221.18192 | Q3: =+O3-P3 -> 0
A4: OURENSE | E4: 0.0252 | F4: 22.5942 | G4: 179.3665 | K4: 193.1273 | Q4: =+O4-P4 -> 0
A5: PONTEVEDRA | E5: 0.041777 | F5: 2.439555 | G5: 151.34274 | H5: 0.013284 | K5: 174.96926 | Q5: =+O5-P5 -> 0
A6: GALICIA | D6: 0.3505 | E6: 0.066977 | F6: 120.3814 | G6: 953.75055 | H6: 0.091084 | I6: 1.865 | K6: 1026.6613 | Q6: =+O6-P6 -> 0
A7: PRINCIPADO DE ASTURIAS | F7: 20.9348 | G7: 20.3405 | J7: 0.7636 | K7: 41.7053 | Q7: =+O7-P7 -> 0
A8: CANTABRIA | F8: 8.0917 | G8: 0.4446 | J8: 0.1772 | K8: 13.3477 | Q8: =+O8-P8 -> 0
A9: ARABA/ÁLAVA | F9: 0.684996 | G9: 12.292297 | K9: 0.147167 | Q9: =+O9-P9 -> 0
A10: GIPUZKOA | K10: 23.16169 | Q10: =+O10-P10 -> 0
A11: BIZKAIA | F11: 11.288365 | G11: 19.555912 | K11: 38.078341 | Q11: =+O11-P11 -> 0
A12: PAÍS VASCO | F12: 11.973361 | G12: 31.848209 | K12: 61.387198 | Q12: =+O12-P12 -> 0
A13: COMUNIDAD FORAL DE NAVARRA | E13: 0.3546 | F13: 8.9094 | G13: 64.6407 | H13: 0.3077 | J13: 8.3238 | K13: 249.3547 | Q13: =+O13-P13 -> 0
A14: LA RIOJA | D14: 4.329381 | E14: 3.701085 | F14: 0.867481 | G14: 46.537126 | H14: 9.039155 | J14: 0.278898 | K14: 82.507306 | Q14: =+O14-P14 -> 0
A15: HUESCA | D15: 1.0783 | E15: 0.8055 | F15: 1.4771 | G15: 42.6609 | H15: 10.561 | J15: 6.0547 | K15: 11.4929 | Q15: =+O15-P15 -> 0
A16: TERUEL | D16: 5.6909 | E16: 4.1813 | F16: 14.0309 | G16: 54.2582 | H16: 12.0538 | J16: 1.7564 | K16: 35.536 | Q16: =+O16-P16 -> 0
A17: ZARAGOZA | D17: 3.4034 | E17: 2.9165 | F17: 11.069 | G17: 35.7196 | H17: 5.7074 | J17: 1.1045 | K17: 27.8866 | Q17: =+O17-P17 -> 0
A18: ARAGÓN | D18: 10.1726 | E18: 7.9033 | F18: 26.577 | G18: 132.6387 | H18: 28.3222 | J18: 8.9156 | K18: 74.9155 | Q18: =+O18-P18 -> 0
A19: BARCELONA | F19: 3.4972 | G19: 45.1051 | H19: 5.0573 | J19: 4.6489 | K19: 31.9462 | L19: 5.7698 | Q19: =+O19-P19 -> 0
A20: GIRONA | F20: 9.6457 | G20: 9.944 | H20: 4.0982 | J20: 1.3517 | K20: 5.562 | Q20: =+O20-P20 -> 0
A21: LLEIDA | D21: 1.0698 | E21: 0.6368 | F21: 0.5078 | G21: 20.5581 | H21: 0.2804 | J21: 3.0154 | K21: 2.3872 | Q21: =+O21-P21 -> 0
A22: TARRAGONA | D22: 3.7079 | E22: 2.1059 | F22: 1.4351 | G22: 44.7222 | H22: 0.9487 | J22: 14.5444 | K22: 17.0567 | Q22: =+O22-P22 -> 0
A23: CATALUÑA | D23: 4.7777 | E23: 2.7427 | F23: 15.0858 | G23: 120.3294 | H23: 10.3846 | J23: 23.5604 | K23: 56.9521 | L23: 5.7698 | Q23: =+O23-P23 -> 0
A24: ILLES BALEARS | D24: 13.2817 | E24: 108.4935 | F24: 1.0392 | G24: 4.6964 | J24: 6.2923 | K24: 14.8414 | Q24: =+O24-P24 -> 0
A25: ÁVILA | D25: 12.3977 | E25: 13.7326 | F25: 3.4843 | G25: 16.899 | H25: 6.341 | J25: 3.2212 | K25: 41.4439 | Q25: =+O25-P25 -> 0
A26: BURGOS | D26: 0.5574 | G26: 6.4644 | K26: 10.9221 | Q26: =+O26-P26 -> 0
A27: LEÓN | D27: 0.4046 | E27: 0.1757 | F27: 28.9001 | G27: 24.0882 | H27: 2.6657 | K27: 101.0684 | Q27: =+O27-P27 -> 0
A28: PALENCIA | G28: 3.7441 | K28: 0.9871 | Q28: =+O28-P28 -> 0
A29: SALAMANCA | D29: 0.0633 | E29: 9.7547 | G29: 14.2237 | K29: 16.0563 | Q29: =+O29-P29 -> 0
A30: SEGOVIA | D30: 17.0305 | E30: 10.9499 | F30: 2.0747 | G30: 5.8001 | H30: 0.9462 | K30: 8.6495 | L30: 1.2258 | Q30: =+O30-P30 -> 0
A31: SORIA | G31: 28.1801 | H31: 0.9515 | K31: 1.1498 | Q31: =+O31-P31 -> 0
A32: VALLADOLID | D32: 3.4062 | G32: 9.0122 | K32: 23.7142 | Q32: =+O32-P32 -> 0
A33: ZAMORA | D33: 5.2761 | E33: 26.2859 | F33: 23.4389 | G33: 19.9064 | H33: 1.1597 | J33: 7.5979 | K33: 18.2539 | Q33: =+O33-P33 -> 0
A34: CASTILLA Y LEÓN | D34: 39.1358 | E34: 60.8988 | F34: 57.898 | G34: 128.3182 | H34: 12.0641 | J34: 10.8191 | K34: 222.2452 | L34: 1.2258 | Q34: =+O34-P34 -> 0
A35: COMUNIDAD DE MADRID | G35: 49.0467 | H35: 0.2501 | K35: 16.8761 | Q35: =+O35-P35 -> 0
A36: ALBACETE | D36: 5.1844 | E36: 75.0846 | F36: 8.4818 | G36: 2.8097 | H36: 16.203 | K36: 12.2613 | L36: 2.3214 | Q36: =+O36-P36 -> 0
A37: CIUDAD REAL | D37: 18.2634 | E37: 34.231 | F37: 1.317 | G37: 16.5166 | H37: 18.7468 | J37: 11.101 | K37: 32.5912 | Q37: =+O37-P37 -> 0
A38: CUENCA | F38: 2.0797 | G38: 24.8396 | H38: 15.0335 | K38: 9.8929 | Q38: =+O38-P38 -> 0
A39: GUADALAJARA | D39: 0.3352 | G39: 58.3148 | H39: 22.7148 | K39: 15.4673 | Q39: =+O39-P39 -> 0
A40: TOLEDO | D40: 30.2507 | E40: 35.3492 | F40: 5.4376 | G40: 43.1923 | H40: 19.8351 | K40: 35.8472 | Q40: =+O40-P40 -> 0
A41: CASTILLA-LA MANCHA | D41: 54.0337 | E41: 144.6648 | F41: 17.3161 | G41: 145.673 | H41: 92.5332 | J41: 11.101 | K41: 106.0599 | L41: 2.3214 | Q41: =+O41-P41 -> 0
A42: ALICANTE/ALACANT | D42: 12.166198 | E42: 2.253344 | F42: 18.906498 | G42: 16.889152 | H42: 5.780265 | J42: 11.931159 | K42: 13.914693 | Q42: =+O42-P42 -> 0
A43: CASTELLÓN/CASTELLÓ | D43: 16.5586 | E43: 31.3763 | F43: 14.236 | G43: 18.2204 | H43: 1.9535 | J43: 6.1307 | K43: 22.094 | Q43: =+O43-P43 -> 0
A44: VALENCIA/VALÈNCIA | D44: 39.0529 | E44: 13.9913 | F44: 110.9145 | G44: 20.1986 | H44: 1.5543 | J44: 17.2681 | K44: 62.4281 | Q44: =+O44-P44 -> 0
A45: COMUNITAT VALENCIANA | D45: 67.777698 | E45: 47.620944 | F45: 144.057 | G45: 55.308152 | H45: 9.288065 | J45: 35.329959 | K45: 98.436793 | Q45: =+O45-P45 -> 0
A46: REGIÓN DE MURCIA | D46: 0.347 | E46: 2.3537 | F46: 0.2578 | G46: 2.3971 | H46: 0.2578 | J46: 0.5274 | K46: 18.3687 | Q46: =+O46-P46 -> 0
A47: BADAJOZ | D47: 24.0919 | E47: 36.7145 | F47: 4.0364 | G47: 45.2764 | H47: 9.1101 | J47: 30.5717 | K47: 74.6009 | Q47: =+O47-P47 -> 0
A48: CÁCERES | D48: 85.8068 | E48: 97.1669 | F48: 27.4052 | G48: 33.9706 | H48: 3.9182 | J48: 6.3088 | K48: 87.4347 | Q48: =+O48-P48 -> 0
A49: EXTREMADURA | D49: 109.8987 | E49: 133.8814 | F49: 31.4416 | G49: 79.247 | H49: 13.0283 | J49: 36.8805 | K49: 162.0356 | Q49: =+O49-P49 -> 0
A50: ALMERÍA | E50: 23.221993 | J50: 0.223726 | K50: 2.383571 | Q50: =+O50-P50 -> 0
A51: CÁDIZ | D51: 14.797209 | E51: 50.178821 | F51: 3.607437 | G51: 8.02692 | H51: 20.579928 | J51: 1.737048 | K51: 69.786316 | Q51: =+O51-P51 -> 0
A52: CÓRDOBA | D52: 10.442854 | E52: 17.088789 | F52: 7.755389 | G52: 26.319524 | H52: 11.510574 | J52: 9.669769 | K52: 27.003063 | Q52: =+O52-P52 -> 0
A53: GRANADA | D53: 4.915642 | E53: 6.065994 | F53: 15.71848 | G53: 41.837436 | H53: 102.3869 | J53: 17.691478 | K53: 104.20569 | Q53: =+O53-P53 -> 0
A54: HUELVA | D54: 13.8938 | E54: 12.9869 | F54: 7.5433 | H54: 1.1498 | J54: 1.3339 | K54: 23.7195 | Q54: =+O54-P54 -> 0
A55: JAÉN | D55: 3.8738 | E55: 8.3412 | G55: 24.01 | J55: 22.1966 | K55: 26.0642 | Q55: =+O55-P55 -> 0
A56: MÁLAGA | D56: 1.092098 | E56: 0.61771 | F56: 3.47137 | G56: 1.873682 | J56: 0.881323 | K56: 14.086903 | Q56: =+O56-P56 -> 0
A57: SEVILLA | D57: 2.6766 | E57: 2.3026 | F57: 11.3382 | G57: 6.5173 | J57: 2.7473 | K57: 28.1844 | Q57: =+O57-P57 -> 0
A58: ANDALUCÍA | D58: 51.692003 | E58: 120.80401 | F58: 49.434176 | G58: 108.58486 | H58: 135.62721 | J58: 56.481144 | K58: 295.43364 | Q58: =+O58-P58 -> 0
A59: PALMAS (Las) | D59: 4.0175 | E59: 2.2232 | F59: 42.96 | G59: 28.6838 | K59: 14.3396 | Q59: =+O59-P59 -> 0
A60: Sta.C. de TENERIFE | F60: 51.7814 | G60: 3.3091 | K60: 1.1452 | Q60: =+O60-P60 -> 0
A61: CANARIAS | D61: 4.0175 | E61: 2.2232 | F61: 94.7414 | G61: 31.9929 | K61: 15.4848 | Q61: =+O61-P61 -> 0
A62: ESPAÑA | D62: 359.81428 | E62: 635.70901 | F62: 609.00622 | G62: 1975.7941 | H62: 311.19351 | I62: 1.865 | J62: 199.4509 | K62: 2556.6132 | L62: 9.317 | Q62: =+O62-P62 -> 0

Sheet HORTALIZAS en huerto(4)
A1: Provincias y CC.AA | B1: Ajo | C1: Cebolla | D1: Zanajoria | E1: Puerro | F1: Otras hortalizas raíces y bulbos | G1: Fresa-Fresón | H1: Otras hortalizas | I1: Huerta vacía | J1: Total general
A2: A CORUÑA | B2: 407.2382 | C2: 434.0429 | D2: 344.2167 | E2: 439.4949 | G2: 0.0783 | H2: 410.247 | I2: 595.3626 | J2: 6216.8303 | O2: =+M2-N2 -> 0
A3: LUGO | B3: 185.46 | C3: 194.10312 | D3: 238.2472 | E3: 272.90548 | F3: 0.406844 | G3: 2.26716 | H3: 246.3008 | I3: 537.70709 | J3: 3995.1278 | O3: =+M3-N3 -> 0
A4: OURENSE | B4: 172.7948 | C4: 215.7982 | D4: 169.6225 | E4: 184.1441 | G4: 0.253 | H4: 169.8157 | I4: 390.6405 | J4: 3007.5151 | O4: =+M4-N4 -> 0
A5: PONTEVEDRA | B5: 135.25497 | C5: 193.73023 | D5: 172.98157 | E5: 168.05361 | G5: 0.217544 | H5: 131.09796 | I5: 461.94876 | J5: 2721.1273 | O5: =+M5-N5 -> 0
A6: GALICIA | B6: 900.74797 | C6: 1037.6745 | D6: 925.06797 | E6: 1064.5981 | F6: 0.406844 | G6: 2.816004 | H6: 957.46146 | I6: 1985.6589 | J6: 15940.601 | O6: =+M6-N6 -> 0
A7: PRINCIPADO DE ASTURIAS | B7: 5.0785 | C7: 100.8961 | D7: 0.4726 | E7: 4.9109 | G7: 0.9818 | I7: 581.9504 | J7: 991.4091 | O7: =+M7-N7 -> 0
A8: CANTABRIA | C8: 0.6427 | I8: 24.3186 | J8: 113.7922 | O8: =+M8-N8 -> 0
A9: ARABA/ÁLAVA | B9: 2.116727 | C9: 1.648641 | I9: 199.58651 | J9: 258.4867 | O9: =+M9-N9 -> 0
A10: GIPUZKOA | I10: 371.24564 | J10: 477.0557 | O10: =+M10-N10 -> 0
A11: BIZKAIA | B11: 0.078131 | C11: 105.28462 | D11: 1.964611 | I11: 222.01356 | J11: 920.6885 | O11: =+M11-N11 -> 0
A12: PAÍS VASCO | B12: 2.194858 | C12: 106.93326 | D12: 1.964611 | I12: 792.84571 | J12: 1656.2309 | O12: =+M12-N12 -> 0
A13: COMUNIDAD FORAL DE NAVARRA | B13: 6.8474 | C13: 125.6096 | D13: 0.6613 | E13: 1.4231 | H13: 7.8169 | I13: 533.1843 | J13: 1666.2024 | O13: =+M13-N13 -> 0
A14: LA RIOJA | B14: 32.125607 | C14: 126.26394 | D14: 0.374672 | E14: 1.81449 | G14: 2.045751 | H14: 6.734359 | I14: 405.58748 | J14: 1072.9126 | O14: =+M14-N14 -> 0
A15: HUESCA | B15: 1.5372 | C15: 31.5792 | E15: 1.8505 | G15: 0.9314 | I15: 86.0135 | J15: 366.3059 | O15: =+M15-N15 -> 0
A16: TERUEL | B16: 5.1587 | C16: 73.7683 | D16: 0.5128 | E16: 1.0001 | H16: 0.1544 | I16: 161.145 | J16: 637.5929 | O16: =+M16-N16 -> 0
A17: ZARAGOZA | B17: 5.4207 | C17: 107.2894 | E17: 0.5529 | G17: 1.5547 | H17: 85.1837 | I17: 673.8524 | J17: 1254.1562 | O17: =+M17-N17 -> 0
A18: ARAGÓN | B18: 12.1166 | C18: 212.6369 | D18: 0.5128 | E18: 3.4035 | G18: 2.4861 | H18: 85.3381 | I18: 921.0109 | J18: 2258.055 | O18: =+M18-N18 -> 0
A19: BARCELONA | B19: 1.1006 | C19: 95.7951 | H19: 161.0536 | I19: 1260.4881 | J19: 1949.3474 | O19: =+M19-N19 -> 0
A20: GIRONA | B20: 1.7237 | C20: 33.0089 | D20: 2.9809 | H20: 13.8524 | I20: 233.4471 | J20: 670.1419 | O20: =+M20-N20 -> 0
A21: LLEIDA | B21: 0.1365 | C21: 97.9004 | E21: 0.774 | H21: 4.9519 | I21: 372.4575 | J21: 740.2472 | O21: =+M21-N21 -> 0
A22: TARRAGONA | C22: 19.5114 | D22: 5.6775 | H22: 111.6595 | I22: 895.7891 | J22: 1332.8235 | O22: =+M22-N22 -> 0
A23: CATALUÑA | B23: 2.9608 | C23: 246.2158 | D23: 8.6584 | E23: 0.774 | H23: 291.5174 | I23: 2762.1818 | J23: 4692.56 | O23: =+M23-N23 -> 0
A24: ILLES BALEARS | B24: 2.5314 | C24: 109.3885 | H24: 3.1582 | I24: 710.2343 | J24: 1171.5618 | O24: =+M24-N24 -> 0
A25: ÁVILA | C25: 3.6147 | E25: 0.8906 | I25: 208.3099 | J25: 408.5472 | O25: =+M25-N25 -> 0
A26: BURGOS | B26: 20.2841 | C26: 25.9111 | D26: 0.3953 | E26: 1.0925 | I26: 161.7093 | J26: 282.893 | O26: =+M26-N26 -> 0
A27: LEÓN | B27: 32.1688 | C27: 130.513 | D27: 5.7731 | E27: 4.6187 | G27: 2.9575 | H27: 6.3399 | I27: 1030.7115 | J27: 1643.4571 | O27: =+M27-N27 -> 0
A28: PALENCIA | B28: 3.3332 | C28: 21.2343 | D28: 0.4286 | H28: 18.5476 | I28: 34.1943 | J28: 117.5116 | O28: =+M28-N28 -> 0
A29: SALAMANCA | B29: 4.3035 | C29: 25.4485 | I29: 150.4953 | J29: 329.0806 | O29: =+M29-N29 -> 0
A30: SEGOVIA | B30: 11.1456 | C30: 2.3089 | H30: 2.3788 | I30: 21.3344 | J30: 128.3096 | O30: =+M30-N30 -> 0
A31: SORIA | B31: 8.9448 | C31: 45.0354 | E31: 2.1804 | G31: 1.1709 | H31: 2.5813 | I31: 8.2392 | J31: 221.3712 | O31: =+M31-N31 -> 0
A32: VALLADOLID | B32: 2.0026 | C32: 6.3997 | D32: 0.0774 | I32: 57.0835 | J32: 130.5062 | O32: =+M32-N32 -> 0
A33: ZAMORA | B33: 21.2929 | C33: 31.1428 | D33: 5.1792 | E33: 5.182 | F33: 3.1685 | I33: 155.1873 | J33: 428.8735 | O33: =+M33-N33 -> 0
A34: CASTILLA Y LEÓN | B34: 103.4755 | C34: 291.6084 | D34: 11.8536 | E34: 13.9642 | F34: 3.1685 | G34: 4.1284 | H34: 29.8476 | I34: 1827.2647 | J34: 3690.55 | O34: =+M34-N34 -> 0
A35: COMUNIDAD DE MADRID | B35: 0.3891 | C35: 4.3644 | H35: 27.3621 | I35: 101.3169 | J35: 260.9211 | O35: =+M35-N35 -> 0
A36: ALBACETE | B36: 11.9039 | C36: 2.5413 | H36: 67.6999 | I36: 374.2638 | J36: 872.0075 | O36: =+M36-N36 -> 0
A37: CIUDAD REAL | B37: 4.4164 | C37: 19.0872 | I37: 146.3239 | J37: 450.2984 | O37: =+M37-N37 -> 0
A38: CUENCA | B38: 0.8719 | C38: 8.9205 | I38: 73.7165 | J38: 221.6851 | O38: =+M38-N38 -> 0
A39: GUADALAJARA | B39: 6.784 | C39: 7.259 | H39: 25.1217 | I39: 62.5036 | J39: 358.4604 | O39: =+M39-N39 -> 0
A40: TOLEDO | B40: 5.2586 | C40: 35.1939 | H40: 19.0354 | I40: 204.9429 | J40: 694.931 | O40: =+M40-N40 -> 0
A41: CASTILLA-LA MANCHA | B41: 29.2348 | C41: 73.0019 | H41: 111.857 | I41: 861.7507 | J41: 2597.3824 | O41: =+M41-N41 -> 0
A42: ALICANTE/ALACANT | C42: 30.777283 | E42: 2.651224 | H42: 3.383234 | I42: 292.30999 | J42: 543.3886 | O42: =+M42-N42 -> 0
A43: CASTELLÓN/CASTELLÓ | C43: 28.1268 | G43: 0.1727 | H43: 60.3961 | I43: 909.3841 | J43: 1327.7674 | O43: =+M43-N43 -> 0
A44: VALENCIA/VALÈNCIA | B44: 2.1861 | C44: 54.0628 | G44: 0.2727 | H44: 5.5428 | I44: 1241.8298 | J44: 1884.9104 | O44: =+M44-N44 -> 0
A45: COMUNITAT VALENCIANA | B45: 2.1861 | C45: 112.96688 | E45: 2.651224 | G45: 0.4454 | H45: 69.322134 | I45: 2443.5239 | J45: 3756.0664 | O45: =+M45-N45 -> 0
A46: REGIÓN DE MURCIA | B46: 0.2578 | C46: 8.3188 | I46: 987.069 | J46: 1100.149 | O46: =+M46-N46 -> 0
A47: BADAJOZ | B47: 11.9981 | C47: 59.0076 | D47: 0.3789 | H47: 33.6193 | I47: 271.6051 | J47: 777.7269 | O47: =+M47-N47 -> 0
A48: CÁCERES | B48: 7.8344 | C48: 52.8574 | G48: 2.6446 | H48: 84.9522 | I48: 477.5805 | J48: 1139.9413 | O48: =+M48-N48 -> 0
A49: EXTREMADURA | B49: 19.8325 | C49: 111.865 | D49: 0.3789 | G49: 2.6446 | H49: 118.5715 | I49: 749.1856 | J49: 1917.6682 | O49: =+M49-N49 -> 0
A50: ALMERÍA | C50: 0.621528 | I50: 2.018903 | J50: 29.347399 | O50: =+M50-N50 -> 0
A51: CÁDIZ | C51: 31.27179 | D51: 0.933986 | E51: 10.904741 | I51: 290.19207 | J51: 688.7706 | O51: =+M51-N51 -> 0
A52: CÓRDOBA | B52: 1.99504 | C52: 4.987986 | H52: 24.889708 | I52: 85.637225 | J52: 415.4118 | O52: =+M52-N52 -> 0
A53: GRANADA | B53: 17.626582 | C53: 71.994376 | H53: 6.199715 | I53: 1225.9397 | J53: 2092.2023 | O53: =+M53-N53 -> 0
A54: HUELVA | B54: 0.5225 | C54: 14.7191 | I54: 30.5543 | J54: 149.6157 | O54: =+M54-N54 -> 0
A55: JAÉN | B55: 7.1773 | C55: 5.5021 | I55: 263.4051 | J55: 449.8945 | O55: =+M55-N55 -> 0
A56: MÁLAGA | C56: 9.206454 | F56: 0.606919 | H56: 68.452805 | I56: 270.90892 | J56: 395.5424 | O56: =+M56-N56 -> 0
A57: SEVILLA | C57: 11.521 | D57: 6.9033 | I57: 170.0686 | J57: 312.2853 | O57: =+M57-N57 -> 0
A58: ANDALUCÍA | B58: 27.321422 | C58: 149.82433 | D58: 7.837286 | E58: 10.904741 | F58: 0.606919 | H58: 99.542228 | I58: 2338.7248 | J58: 4533.07 | O58: =+M58-N58 -> 0
A59: PALMAS (Las) | C59: 94.3336 | E59: 12.2319 | H59: 4.5673 | I59: 1922.2127 | J59: 2373.4387 | O59: =+M59-N59 -> 0
A60: Sta.C. de TENERIFE | C60: 35.8085 | G60: 3.9061 | H60: 12.1283 | I60: 745.4817 | J60: 936.012 | O60: =+M60-N60 -> 0
A61: CANARIAS | C61: 130.1421 | E61: 12.2319 | G61: 3.9061 | H61: 16.6956 | I61: 2667.6944 | J61: 3309.4507 | O61: =+M61-N61 -> 0
A62: ESPAÑA | B62: 1147.3004 | C62: 2948.3531 | D62: 957.78214 | E62: 1116.6761 | F62: 4.182263 | G62: 19.454155 | H62: 1825.2246 | I62: 20693.502 | J62: 50728.582 | O62: =+M62-N62 -> 0

Sheet C10  FRUTALES CITRICOS
B1: FRUTALES CITRICOS
A2: Provincias y CC.AA. | B2: Naranjo | C2: Mandarino satsuma | D2: Mandarino clementina | E2: Mandarinos híbridos y otros | F2: Total Mandarino | G2: Limonero | H2: Naranjo Amargo | I2: Pomelo | J2: Limero | K2: Otros Citricos | L2: Total Citricos
A3: A CORUÑA | B3: 79.6034 | G3: 81.8177 | L3: 161.4211
A4: LUGO | B4: 80.1685 | G4: 67.5915 | L4: 147.76
A5: OURENSE | B5: 54.9361 | G5: 75.3173 | L5: 130.2534
A6: PONTEVEDRA | B6: 37.9069 | G6: 48.7612 | L6: 86.6681
A7: GALICIA | B7: 252.6149 | G7: 273.4877 | L7: 526.1026
A8: PRINCIPADO DE ASTURIAS
A9: CANTABRIA
A10: ARABA/ÁLAVA
A11: GIPUZKOA
A12: BIZKAIA
A13: PAÍS VASCO
A14: COMUNIDAD FORAL DE NAVARRA
A15: LA RIOJA
A16: HUESCA
A17: TERUEL
A18: ZARAGOZA
A19: ARAGÓN
... A22: LLEIDA
A23: TARRAGONA | B23: 2003.5031 | C23: 92.6513 | D23: 4922.604 | E23: 1987.6739 | F23: 7002.9292 | G23: 10.4885 | L23: 9016.9208
A24: CATALUÑA | B24: 2003.5031 | C24: 92.6513 | D24: 4922.604 | E24: 1987.6739 | F24: 7002.9292 | G24: 10.4885 | L24: 9016.9208
A25: ILLES BALEARS | B25: 495.9119 | D25: 21.0079 | E25: 46.1797 | F25: 67.1876 | G25: 407.1328 | L25: 970.2323
A26: ÁVILA
A27: BURGOS
A28: LEÓN
A29: PALENCIA
A30: SALAMANCA
A31: SEGOVIA
A32: SORIA
A33: VALLADOLID
A34: ZAMORA
A35: CASTILLA Y LEÓN
A36: COMUNIDAD DE MADRID
A37: ALBACETE
... A42: CASTILLA-LA MANCHA
A43: ALICANTE/ALACANT | B43: 9207.2 | C43: 131.1509 | D43: 2568.0354 | E43: 4572.4477 | F43: 7271.634 | G43: 15609.523 | H43: 8.1213 | I43: 790.2629 | J43: 52.6803 | K43: 0.8398 | L43: 32940.261
A44: CASTELLÓN/CASTELLÓ | B44: 7511.9242 | C44: 21.7009 | D44: 16963.864 | E44: 6904.0217 | F44: 23889.586 | G44: 56.604 | H44: 14.5229 | I44: 26.4508 | J44: 44.4181 | K44: 515.8115 | L44: 32059.318
A45: VALENCIA/VALÈNCIA | B45: 53423.576 | C45: 3992.8832 | D45: 13382.718 | E45: 14620.306 | F45: 31995.907 | G45: 217.3883 | H45: 27.8845 | I45: 520.9331 | J45: 37.446 | K45: 195.936 | L45: 86419.071
A46: COMUNITAT VALENCIANA | B46: 70142.7 | C46: 4145.735 | D46: 32914.617 | E46: 26096.776 | F46: 63157.128 | G46: 15883.515 | H46: 50.5287 | I46: 1337.6468 | J46: 134.5444 | K46: 712.5873 | L46: 151418.65
A47: REGIÓN DE MURCIA | B47: 8685.0227 | C47: 50.4641 | D47: 3423.3798 | E47: 3348.2241 | F47: 6822.068 | G47: 28422.331 | I47: 983.2919 | J47: 20.9187 | L47: 44933.632
A48: BADAJOZ | B48: 16.721 | L48: 16.721
A49: CÁCERES | B49: 1.7198 | I49: 58.6985 | L49: 60.4183
A50: EXTREMADURA | B50: 18.4408 | I50: 58.6985 | L50: 77.1393
A51: ALMERÍA | B51: 4083.6863 | D51: 1450.8848 | E51: 1291.7174 | F51: 2742.6022 | G51: 2676.3005 | H51: 13.5728 | I51: 80.2221 | J51: 1.2375 | L51: 9597.6214
A52: CÁDIZ | B52: 705.2419 | D52: 0.2017 | E52: 73.7508 | F52: 73.9525 | G52: 54.3393 | L52: 833.5337
A53: CÓRDOBA | B53: 11327.347 | E53: 156.2982 | F53: 156.2982 | G53: 2.2028 | H53: 36.8995 | I53: 147.1653 | L53: 11669.912
A54: GRANADA | B54: 1350.3661 | G54: 248.3315 | L54: 1598.6976
A55: HUELVA | B55: 9901.0202 | D55: 3088.7211 | E55: 10773.106 | F55: 13861.827 | G55: 511.3659 | L55: 24274.213
A56: JAÉN | B56: 5.1966 | L56: 5.1966
A57: MÁLAGA | B57: 2169.9183 | D57: 149.04 | E57: 385.7775 | F57: 534.8175 | G57: 5241.4127 | H57: 5.8164 | I57: 35.9744 | K57: 61.9121 | L57: 8049.8514
A58: SEVILLA | B58: 30353.237 | D58: 393.1562 | E58: 3386.1427 | F58: 3779.2989 | G58: 91.5459 | H58: 178.1742 | I58: 512.8933 | L58: 34915.149
A59: ANDALUCÍA | B59: 59896.013 | D59: 5082.0038 | E59: 16066.792 | F59: 21148.796 | G59: 8825.4986 | H59: 234.4629 | I59: 776.2551 | J59: 1.2375 | K59: 61.9121 | L59: 90944.175
A60: PALMAS (Las) | B60: 387.73 | G60: 183.6225 | L60: 571.3525
A61: Sta.C. de TENERIFE | B61: 422.7271 | G61: 53.1825 | H61: 6.3154 | I61: 7.9835 | L61: 490.2085
A62: CANARIAS | B62: 810.4571 | G62: 236.805 | H62: 6.3154 | I62: 7.9835 | L62: 1061.561
A63: ESPAÑA | B63: 142304.66 | C63: 4288.8504 | D63: 46363.612 | E63: 47545.646 | F63: 98198.109 | G63: 54059.258 | H63: 291.307 | I63: 3163.8758 | J63: 156.7006 | K63: 774.4994 | L63: 298948.41

Sheet C11A  FRUTALES NO CITRICOS
A1: Provincias y CC.AA. | B1: Manzano | C1: Manzano no comercial | D1: Peral | E1: Membrillero | F1: Nispero | G1: Total Frutales Pepita
A2: A CORUÑA | B2: 572.4355 | C2: 504.8525 | D2: 78.2265 | E2: 7.2462 | F2: 78.6476 | G2: 1241.4083
A3: LUGO | B3: 571.1812 | C3: 885.7079 | D3: 124.7747 | F3: 57.0624 | G3: 1638.7262
A4: OURENSE | B4: 106.2543 | C4: 299.8312 | D4: 86.597 | E4: 3.8541 | F4: 70.8731 | G4: 567.4097
A5: PONTEVEDRA | B5: 533.0838 | C5: 174.7549 | D5: 58.1237 | E5: 1.9914 | F5: 45.4519 | G5: 813.4057
A6: GALICIA | B6: 1782.9548 | C6: 1865.1465 | D6: 347.7219 | E6: 13.0917 | F6: 252.035 | G6: 4260.9499
A7: PRINCIPADO DE ASTURIAS | B7: 3412.362 | C7: 206.8928 | D7: 8.4718 | F7: 2.8221 | G7: 3630.5487
A8: CANTABRIA | B8: 2.8484 | G8: 2.8484
A9: ARABA/ÁLAVA | B9: 58.9215 | D9: 42.5313 | G9: 101.4528
A10: GIPUZKOA | B10: 1247.5497 | G10: 1247.5497
A11: BIZKAIA | B11: 61.1161 | C11: 6.2665 | G11: 67.3826
A12: PAÍS VASCO | B12: 1367.5873 | C12: 6.2665 | D12: 42.5313 | G12: 1416.3851
A13: COMUNIDAD FORAL DE NAVARRA | B13: 411.3949 | C13: 1.6312 | D13: 777.3858 | E13: 1.8329 | G13: 1192.2448
A14: LA RIOJA | B14: 561.5912 | C14: 58.6326 | D14: 2461.8087 | G14: 3082.0325
A15: HUESCA | B15: 440.4106 | D15: 1290.6037 | E15: 67.3258 | G15: 1798.3401
A16: TERUEL | B16: 17.5979 | C16: 5.8963 | D16: 12.6813 | E16: 5.0237 | G16: 41.1992
A17: ZARAGOZA | B17: 2372.8984 | C17: 3.3382 | D17: 2589.7004 | E17: 4.2782 | G17: 4970.2152
A18: ARAGÓN | B18: 2830.9069 | C18: 9.2345 | D18: 3892.9854 | E18: 76.6277 | G18: 6809.7545
A19: BARCELONA | B19: 50.4209 | C19: 7.8939 | D19: 122.1307 | F19: 10.6884 | G19: 191.1339
A20: GIRONA | B20: 2393.8724 | D20: 21.4971 | E20: 0.6765 | G20: 2416.046
A21: LLEIDA | B21: 5969.9883 | D21: 6792.7831 | E21: 65.1981 | G21: 12827.969
A22: TARRAGONA | B22: 92.9906 | C22: 4.6762 | D22: 43.3072 | F22: 6.4108 | G22: 147.3848
A23: CATALUÑA | B23: 8507.2722 | C23: 12.5701 | D23: 6979.7181 | E23: 65.8746 | F23: 17.0992 | G23: 15582.534
A24: ILLES BALEARS | B24: 177.0659 | C24: 17.0522 | D24: 3.0734 | E24: 6.9698 | G24: 204.1613
A25: ÁVILA | B25: 376.3489 | C25: 226.1292 | D25: 104.1752 | G25: 706.6533
A26: BURGOS | B26: 97.7704 | D26: 4.0271 | G26: 101.7975
A27: LEÓN | B27: 302.688 | C27: 194.05 | D27: 862.8004 | G27: 1359.5384
A28: PALENCIA
A29: SALAMANCA | B29: 15.3238 | C29: 14.2116 | D29: 5.9306 | G29: 35.466
A30: SEGOVIA | B30: 28.5893 | D30: 0.721 | G30: 29.3103
A31: SORIA | B31: 1359.3353 | G31: 1359.3353
A32: VALLADOLID
A33: ZAMORA | B33: 30.2792 | C33: 21.8805 | D33: 41.8701 | E33: 0.1742 | G33: 94.204
A34: CASTILLA Y LEÓN | B34: 2210.3349 | C34: 456.2713 | D34: 1019.5244 | E34: 0.1742 | G34: 3686.3048
A35: COMUNIDAD DE MADRID
A36: ALBACETE | B36: 0.3291 | E36: 1.0035 | F36: 3.2646 | G36: 4.5972
A37: CIUDAD REAL
A38: CUENCA | B38: 14.8343 | C38: 9.4828 | D38: 5.0613 | E38: 1.609 | G38: 30.9874
A39: GUADALAJARA | B39: 42.7937 | C39: 12.3383 | D39: 7.4266 | G39: 62.5586
A40: TOLEDO | B40: 2.6899 | C40: 1.5577 | D40: 36.7614 | G40: 41.009
A41: CASTILLA-LA MANCHA | B41: 60.647 | C41: 23.3788 | D41: 49.2493 | E41: 2.6125 | F41: 3.2646 | G41: 139.1522
A42: ALICANTE/ALACANT | B42: 281.2818 | C42: 0.4842 | D42: 52.5468 | F42: 949.8281 | G42: 1284.1409
A43: CASTELLÓN/CASTELLÓ | B43: 18.0842 | C43: 22.773 | D43: 33.8611 | E43: 1.7461 | F43: 43.8076 | G43: 120.272
A44: VALENCIA/VALÈNCIA | B44: 22.3097 | C44: 9.1812 | D44: 175.1637 | E44: 4.8974 | F44: 34.9983 | G44: 246.5503
A45: COMUNITAT VALENCIANA | B45: 321.6757 | C45: 32.4384 | D45: 261.5716 | E45: 6.6435 | F45: 1028.634 | G45: 1650.9632
A46: REGIÓN DE MURCIA | B46: 1.612 | D46: 996.5945 | G46: 998.2065
A47: BADAJOZ | B47: 16.1139 | D47: 128.5831 | E47: 6.6953 | G47: 151.3923
A48: CÁCERES | D48: 2.7319 | G48: 2.7319
A49: EXTREMADURA | B49: 16.1139 | D49: 131.315 | E49: 6.6953 | G49: 154.1242
A50: ALMERÍA
A51: CÁDIZ | E51: 1.2462 | G51: 1.2462
A52: CÓRDOBA | B52: 26.247 | D52: 0.579 | E52: 343.9958 | F52: 1.2097 | G52: 372.0315
A53: GRANADA | B53: 266.7682 | D53: 49.5313 | E53: 68.1784 | F53: 329.5722 | G53: 714.0501
A54: HUELVA | D54: 1.3912 | F54: 11.3188 | G54: 12.71
A55: JAÉN | D55: 19.8427 | F55: 0.2474 | G55: 20.0901
A56: MÁLAGA | B56: 5.7245 | F56: 4.6785 | G56: 10.403
A57: SEVILLA | D57: 4.287 | E57: 61.158 | G57: 65.445
A58: ANDALUCÍA | B58: 298.7397 | D58: 75.6312 | E58: 474.5784 | F58: 347.0266 | G58: 1195.9759
A59: PALMAS (Las) | B59: 12.0854 | C59: 9.1622 | D59: 5.2358 | E59: 6.5879 | F59: 56.1939 | G59: 89.2652
A60: Sta.C. de TENERIFE | D60: 10.9372 | F60: 13.2822 | G60: 24.2194
A61: CANARIAS | B61: 12.0854 | C61: 9.1622 | D61: 16.173 | E61: 6.5879 | F61: 69.4761 | G61: 113.4846
A62: ESPAÑA | B62: 21975.192 | C62: 2698.6771 | D62: 17063.755 | E62: 661.6885 | F62: 1720.3576 | G62: 44119.671

Sheet C11B  FRUTALES NO CITRICOS
A1: Provincias y CC.AA. | B1: Cerezo | C1: Melocotonero | D1: Nectarina | E1: Paraguayo (melocotón plano) | F1: Platerina (nectarina plana) | G1: Albaricoquero | H1: Ciruelo | I1: Total frutales Hueso
A2: A CORUÑA | B2: 82.2155 | C2: 121.8929 | H2: 152.146 | I2: 356.2544
A3: LUGO | B3: 110.3028 | C3: 65.3273 | H3: 94.7964 | I3: 270.4265
A4: OURENSE | B4: 121.2482 | C4: 99.506 | H4: 102.3202 | I4: 323.0744
A5: PONTEVEDRA | B5: 38.6861 | C5: 79.6552 | H5: 64.871 | I5: 183.2123
A6: GALICIA | B6: 352.4526 | C6: 366.3814 | H6: 414.1336 | I6: 1132.9676
A7: PRINCIPADO DE ASTURIAS | B7: 3.7683 | C7: 0.2046 | H7: 5.8353 | I7: 9.8082
A8: CANTABRIA
A9: ARABA/ÁLAVA | C9: 2.187 | I9: 2.187
A10: GIPUZKOA
A11: BIZKAIA | B11: 31.945 | I11: 31.945
A12: PAÍS VASCO | B12: 31.945 | C12: 2.187 | I12: 34.132
A13: COMUNIDAD FORAL DE NAVARRA | B13: 402.4527 | C13: 119.9672 | D13: 30.0775 | E13: 7.5191 | G13: 22.8631 | H13: 114.4464 | I13: 697.326
A14: LA RIOJA | B14: 117.537 | C14: 470.2573 | D14: 46.9395 | E14: 2.5307 | G14: 7.257 | H14: 156.3903 | I14: 800.9118
A15: HUESCA | B15: 511.8621 | C15: 4520.3778 | D15: 6223.947 | E15: 2393.2313 | F15: 194.1986 | G15: 636.958 | H15: 142.373 | I15: 14622.948
A16: TERUEL | B16: 215.1391 | C16: 1490.5174 | G16: 200.0871 | H16: 27.1701 | I16: 1932.9137
A17: ZARAGOZA | B17: 11251.74 | C17: 2969.9966 | D17: 2200.2619 | E17: 1466.0484 | F17: 321.5343 | G17: 1949.1198 | H17: 2424.1612 | I17: 22582.862
A18: ARAGÓN | B18: 11978.741 | C18: 8980.8918 | D18: 8424.2089 | E18: 3859.2797 | F18: 515.7329 | G18: 2786.1649 | H18: 2593.7043 | I18: 39138.724
A19: BARCELONA | B19: 657.4047 | C19: 228.0169 | G19: 0.8013 | H19: 259.6319 | I19: 1145.8548
A20: GIRONA | B20: 21.9892 | C20: 7.9452 | G20: 9.9786 | I20: 39.913
A21: LLEIDA | B21: 1056.7426 | C21: 3674.5824 | D21: 7034.5746 | E21: 3353.6762 | F21: 1314.5409 | G21: 1726.8557 | H21: 136.7821 | I21: 18297.754
A22: TARRAGONA | B22: 933.6478 | C22: 189.7333 | D22: 130.6045 | E22: 30.9957 | G22: 386.8729 | H22: 204.7674 | I22: 1876.6216
A23: CATALUÑA | B23: 2669.7843 | C23: 4100.2778 | D23: 7165.1791 | E23: 3384.6719 | F23: 1314.5409 | G23: 2124.5085 | H23: 601.1814 | I23: 21360.144
A24: ILLES BALEARS | B24: 3.0734 | G24: 186.5464 | H24: 131.5733 | I24: 321.1931
A25: ÁVILA | B25: 505.8929 | C25: 45.9481 | I25: 551.841
A26: BURGOS | B26: 1.906 | I26: 1.906
A27: LEÓN | B27: 375.643 | H27: 3.9093 | I27: 379.5523
A28: PALENCIA | B28: 4.0419 | I28: 4.0419
A29: SALAMANCA | B29: 207.3616 | H29: 47.3286 | I29: 254.6902
A30: SEGOVIA | B30: 12.1399 | G30: 11.9405 | H30: 9.6319 | I30: 33.7123
A31: SORIA | C31: 0.3775 | I31: 0.3775
A32: VALLADOLID | B32: 3.5992 | I32: 3.5992
A33: ZAMORA | B33: 110.9771 | G33: 0.0998 | H33: 14.3794 | I33: 125.4563
A34: CASTILLA Y LEÓN | B34: 1221.5616 | C34: 46.3256 | G34: 12.0403 | H34: 75.2492 | I34: 1355.1767
A35: COMUNIDAD DE MADRID | H35: 219.2644 | I35: 219.2644
A36: ALBACETE | B36: 15.9903 | C36: 1419.0582 | E36: 45.5822 | G36: 1685.0342 | H36: 201.2575 | I36: 3366.9224
A37: CIUDAD REAL | C37: 23.3373 | G37: 2.2401 | I37: 25.5774
A38: CUENCA | B38: 40.7028 | C38: 0.4496 | G38: 0.9757 | H38: 3.9341 | I38: 46.0622
A39: GUADALAJARA | B39: 36.9692 | H39: 3.6524 | I39: 40.6216
A40: TOLEDO | B40: 94.305 | C40: 82.8029 | G40: 11.2982 | H40: 268.203 | I40: 456.6091
A41: CASTILLA-LA MANCHA | B41: 187.9673 | C41: 1525.648 | E41: 45.5822 | G41: 1699.5482 | H41: 477.047 | I41: 3935.7927
A42: ALICANTE/ALACANT | B42: 2390.3188 | C42: 94.0778 | D42: 336.2911 | E42: 150.1702 | G42: 348.851 | H42: 136.0841 | I42: 3455.793
A43: CASTELLÓN/CASTELLÓ | B43: 390.8757 | C43: 137.9272 | D43: 8.6993 | G43: 40.0983 | H43: 21.207 | I43: 598.8075
A44: VALENCIA/VALÈNCIA | B44: 75.8053 | C44: 1275.8203 | D44: 784.9072 | E44: 369.6706 | F44: 63.0773 | G44: 2337.428 | H44: 802.9101 | I44: 5709.6188
A45: COMUNITAT VALENCIANA | B45: 2856.9998 | C45: 1507.8253 | D45: 1129.8976 | E45: 519.8408 | F45: 63.0773 | G45: 2726.3773 | H45: 960.2012 | I45: 9764.2193
A46: REGIÓN DE MURCIA | B46: 251.6922 | C46: 6701.5152 | D46: 4146.3474 | E46: 2075.6193 | F46: 79.4785 | G46: 7361.138 | H46: 165.9415 | I46: 20781.732
A47: BADAJOZ | C47: 2583.7483 | D47: 3702.4696 | E47: 432.6186 | F47: 165.1766 | G47: 72.3414 | H47: 4055.2316 | I47: 11011.586
A48: CÁCERES | B48: 9695.3469 | C48: 178.3683 | D48: 82.1834 | E48: 2.3444 | G48: 1.9216 | H48: 858.9665 | I48: 10819.131
A49: EXTREMADURA | B49: 9695.3469 | C49: 2762.1166 | D49: 3784.653 | E49: 434.963 | F49: 165.1766 | G49: 74.263 | H49: 4914.1981 | I49: 21830.717
A50: ALMERÍA | C50: 241.5656 | D50: 100.4138 | E50: 86.715 | I50: 428.6944
A51: CÁDIZ | H51: 0.7572 | I51: 0.7572
A52: CÓRDOBA | C52: 4.007 | H52: 15.4051 | I52: 19.4121
A53: GRANADA | B53: 930.2173 | C53: 491.0714 | E53: 51.629 | F53: 49.374 | G53: 3.9289 | H53: 31.5148 | I53: 1557.7354
A54: HUELVA | C54: 336.9036 | H54: 167.627 | I54: 504.5306
A55: JAÉN | B55: 438.6424 | C55: 19.1452 | G55: 3.968 | H55: 62.6805 | I55: 524.4361
A56: MÁLAGA | C56: 99.4129 | G56: 48.3865 | H56: 22.6327 | I56: 170.4321
A57: SEVILLA | C57: 1131.5984 | D57: 968.9473 | G57: 3.0593 | H57: 200.4159 | I57: 2304.0209
A58: ANDALUCÍA | B58: 1368.8597 | C58: 2323.7041 | D58: 1069.3611 | E58: 138.344 | F58: 49.374 | G58: 59.3427 | H58: 501.0332 | I58: 5510.0188
A59: PALMAS (Las) | C59: 24.5705 | G59: 9.2674 | H59: 22.2024 | I59: 56.0403
A60: Sta.C. de TENERIFE | C60: 16.4905 | H60: 17.7886 | I60: 34.2791
A61: CANARIAS | C61: 41.061 | G61: 9.2674 | H61: 39.991 | I61: 90.3194
A62: ESPAÑA | B62: 31142.182 | C62: 28948.363 | D62: 25796.664 | E62: 10468.351 | F62: 2187.3802 | G62: 17069.317 | H62: 11370.19 | I62: 126982.45

Sheet C12  FRUTALES NO CITRICOS
A1: Provincias y CC.AA. | B1: Higuera | C1: Chirimoyo | D1: Aguacate | E1: Platanera | F1: Caqui | G1: Kiwi | H1: Chumbera | I1: Mango | J1: Granado | K1: Moral | L1: Papaya | M1: Azufaifo | N1: Guayabo | O1: Total Frutales Carnosos
A2: A CORUÑA | B2: 98.4844 | G2: 115.6994 | J2: 73.5882 | O2: 287.772
A3: LUGO | B3: 100.1842 | G3: 3.1989 | J3: 29.6697 | O3: 133.0528
A4: OURENSE | B4: 62.4519 | G4: 2.6802 | J4: 100.9387 | O4: 166.0708
A5: PONTEVEDRA | B5: 24.9374 | D5: 26.832 | G5: 444.0829 | J5: 66.4855 | O5: 562.3378
A6: GALICIA | B6: 286.0579 | D6: 26.832 | G6: 565.6614 | J6: 270.6821 | O6: 1149.2334
A7: PRINCIPADO DE ASTURIAS | G7: 276.3277 | O7: 276.3277
A8: CANTABRIA
A9: ARABA/ÁLAVA
A10: GIPUZKOA
A11: BIZKAIA | G11: 32.8039 | J11: 0.3686 | O11: 33.1725
A12: PAÍS VASCO | G12: 32.8039 | J12: 0.3686 | O12: 33.1725
A13: COMUNIDAD FORAL DE NAVARRA | G13: 49.8824 | O13: 49.8824
A14: LA RIOJA | G14: 1.5114 | O14: 1.5114
A15: HUESCA | B15: 108.4184 | F15: 65.1255 | G15: 201.551 | J15: 14.6512 | O15: 389.7461
A16: TERUEL
A17: ZARAGOZA | B17: 25.9136 | J17: 37.1729 | O17: 63.0865
A18: ARAGÓN | B18: 134.332 | F18: 65.1255 | G18: 201.551 | J18: 51.8241 | O18: 452.8326
A19: BARCELONA | B19: 37.0597 | O19: 37.0597
A20: GIRONA | B20: 5.409 | J20: 0.6765 | O20: 6.0855
A21: LLEIDA | B21: 577.2311 | F21: 35.9031 | J21: 42.5383 | O21: 655.6725
A22: TARRAGONA | B22: 32.6141 | D22: 5.6544 | F22: 103.4302 | J22: 73.2866 | K22: 10.6523 | O22: 225.6376
A23: CATALUÑA | B23: 652.3139 | D23: 5.6544 | F23: 139.3333 | J23: 116.5014 | K23: 10.6523 | O23: 924.4553
A24: ILLES BALEARS | B24: 2833.1182 | D24: 121.9853 | H24: 67.1561 | J24: 28.24 | M24: 61.3502 | O24: 3111.8498
A25: ÁVILA | B25: 221.6722 | O25: 221.6722
A26: BURGOS
A27: LEÓN
A28: PALENCIA
A29: SALAMANCA
A30: SEGOVIA
A31: SORIA
A32: VALLADOLID
A33: ZAMORA | K33: 167.3891 | O33: 167.3891
A34: CASTILLA Y LEÓN | B34: 221.6722 | K34: 167.3891 | O34: 389.0613
A35: COMUNIDAD DE MADRID | B35: 308.3095 | H35: 39.3272 | O35: 347.6367
A36: ALBACETE | B36: 8.5397 | O36: 8.5397
A37: CIUDAD REAL | B37: 2.7791 | O37: 2.7791
A38: CUENCA | B38: 0.8165 | O38: 0.8165
A39: GUADALAJARA
A40: TOLEDO | B40: 1586.1566 | O40: 1586.1566
A41: CASTILLA-LA MANCHA | B41: 1598.2919 | O41: 1598.2919
A42: ALICANTE/ALACANT | B42: 474.5852 | D42: 723.3857 | F42: 17.0955 | H42: 193.3611 | J42: 2865.8878 | M42: 0.6862 | O42: 4275.0015
A43: CASTELLÓN/CASTELLÓ | B43: 11.3552 | D43: 1145.7731 | F43: 175.4759 | I43: 0.7283 | J43: 42.1663 | O43: 1375.4988
A44: VALENCIA/VALÈNCIA | B44: 90.1588 | D44: 2341.4539 | F44: 13861.891 | G44: 624.5471 | I44: 3.7123 | J44: 708.2905 | L44: 6.0623 | M44: 2.2879 | N44: 11.6166 | O44: 17650.02
A45: COMUNITAT VALENCIANA | B45: 576.0992 | D45: 4210.6127 | F45: 14054.462 | G45: 624.5471 | H45: 193.3611 | I45: 4.4406 | J45: 3616.3446 | L45: 6.0623 | M45: 2.9741 | N45: 11.6166 | O45: 23300.52
A46: REGIÓN DE MURCIA | B46: 113.4063 | F46: 8.6652 | H46: 294.3054 | J46: 436.0918 | K46: 3.3293 | O46: 855.798
A47: BADAJOZ | B47: 7635.0204 | F47: 86.1848 | J47: 26.3961 | O47: 7747.6013
A48: CÁCERES | B48: 5118.7578 | G48: 5.64 | H48: 14.9576 | O48: 5139.3554
A49: EXTREMADURA | B49: 12753.778 | F49: 86.1848 | G49: 5.64 | H49: 14.9576 | J49: 26.3961 | O49: 12886.957
A50: ALMERÍA | B50: 10.8253 | D50: 8.0576 | H50: 5.0709 | J50: 14.2788 | M50: 4.6826 | O50: 42.9152
A51: CÁDIZ | B51: 29.3805 | D51: 1837.011 | H51: 32.1241 | J51: 5.4226 | O51: 1903.9382
A52: CÓRDOBA | B52: 7.5869 | H52: 4.3856 | J52: 84.9833 | O52: 96.9558
A53: GRANADA | B53: 1210.3171 | C53: 2552.0518 | D53: 4768.063 | F53: 61.6033 | H53: 23.4801 | I53: 1202.0606 | J53: 36.8112 | O53: 9854.3871
A54: HUELVA | B54: 995.6524 | D54: 242.7545 | F54: 418.4994 | I54: 26.6832 | J54: 259.441 | K54: 323.8103 | N54: 115.1075 | O54: 2381.9483
A55: JAÉN | B55: 2.2094 | F55: 1.9658 | J55: 15.6505 | O55: 19.8257
A56: MÁLAGA | B56: 111.4728 | C56: 6.1445 | D56: 11655.849 | H56: 26.4303 | I56: 4322.8404 | J56: 102.3699 | K56: 14.3024 | O56: 16239.409
A57: SEVILLA | B57: 60.2768 | D57: 442.1028 | F57: 181.7705 | H57: 7.2045 | J57: 104.7076 | K57: 0.1782 | O57: 796.2404
A58: ANDALUCÍA | B58: 2427.7212 | C58: 2558.1963 | D58: 18953.838 | F58: 663.839 | H58: 98.6955 | I58: 5551.5842 | J58: 623.6649 | K58: 338.2909 | M58: 4.6826 | N58: 115.1075 | O58: 31335.62
A59: PALMAS (Las) | B59: 81.8494 | D59: 192.3064 | E59: 529.3414 | H59: 144.4471 | I59: 63.2658 | K59: 16.9509 | L59: 8.89 | N59: 0.7764 | O59: 1037.8274
A60: Sta.C. de TENERIFE | B60: 69.0948 | C60: 7.377 | D60: 1061.0602 | E60: 6399.0927 | H60: 134.1333 | I60: 244.0452 | L60: 10.418 | O60: 7925.2212
A61: CANARIAS | B61: 150.9442 | C61: 7.377 | D61: 1253.3666 | E61: 6928.4341 | H61: 278.5804 | I61: 307.311 | K61: 16.9509 | L61: 19.308 | N61: 0.7764 | O61: 8963.0486
A62: ESPAÑA | B62: 22056.045 | C62: 2565.5733 | D62: 24572.289 | E62: 6928.4341 | F62: 15017.61 | G62: 1757.9249 | H62: 986.3833 | I62: 5863.3358 | J62: 5170.1136 | K62: 536.6125 | L62: 25.3703 | M62: 69.0069 | N62: 127.5005 | O62: 85676.198

Sheet C13  FRUTALES NO CITRICOS
A1: Provincias y CC.AA. | B1: Almendro | C1: Almedro abandonado | D1: Almendro no comercial | E1: Nogal Fruto | F1: Castaño | G1: Avellano | H1: Pistacho | I1: Total Frutos secos
A2: A CORUÑA | E2: 67.4004 | F2: 2147.2218 | I2: 2214.6222
A3: LUGO | E3: 126.6111 | F3: 3300.427 | I3: 3427.0381
A4: OURENSE | E4: 120.8212 | F4: 5709.5015 | G4: 7.7967 | H4: 0.8205 | I4: 5838.9399
A5: PONTEVEDRA | E5: 2.7604 | F5: 818.0048 | G5: 0.2485 | I5: 821.0137
A6: GALICIA | E6: 317.5931 | F6: 11975.155 | G6: 8.0452 | H6: 0.8205 | I6: 12301.614
A7: PRINCIPADO DE ASTURIAS | E7: 281.6117 | F7: 86.0277 | I7: 367.6394
A8: CANTABRIA | E8: 21.4942 | I8: 21.4942
A9: ARABA/ÁLAVA | B9: 54.9097 | C9: 2.0609 | D9: 11.1171 | E9: 73.078 | G9: 255.1019 | I9: 396.2676
A10: GIPUZKOA | E10: 105.1445 | G10: 8.9971 | I10: 114.1416
A11: BIZKAIA | E11: 15.3567 | I11: 15.3567
A12: PAÍS VASCO | B12: 54.9097 | C12: 2.0609 | D12: 11.1171 | E12: 193.5792 | G12: 264.099 | I12: 525.7659
A13: COMUNIDAD FORAL DE NAVARRA | B13: 3938.3154 | C13: 1321.0987 | D13: 27.16 | E13: 296.739 | G13: 389.8685 | H13: 13.0149 | I13: 5986.1965
A14: LA RIOJA | B14: 8573.3969 | C14: 5308.1256 | D14: 0.5313 | E14: 940.8532 | G14: 10.9172 | H14: 86.0447 | I14: 14919.869
A15: HUESCA | B15: 23005.412 | C15: 2682.742 | D15: 6.2572 | E15: 372.7025 | G15: 19.9125 | H15: 195.0139 | I15: 26282.04
A16: TERUEL | B16: 23404.934 | C16: 4776.6909 | D16: 8.7214 | E16: 191.2748 | H16: 347.2426 | I16: 28728.864
A17: ZARAGOZA | B17: 45798.174 | C17: 15447.138 | D17: 101.8818 | E17: 356.1078 | G17: 21.4513 | H17: 1155.4288 | I17: 62880.182
A18: ARAGÓN | B18: 92208.52 | C18: 22906.571 | D18: 116.8604 | E18: 920.0851 | G18: 41.3638 | H18: 1697.6853 | I18: 117891.09
A19: BARCELONA | B19: 692.4911 | C19: 1052.767 | D19: 19.7913 | E19: 85.8931 | G19: 10.6559 | I19: 1861.5984
A20: GIRONA | E20: 46.6417 | G20: 2015.1045 | I20: 2061.7462
A21: LLEIDA | B21: 22833.232 | C21: 3260.4699 | D21: 94.6839 | E21: 1508.2761 | G21: 1.5432 | H21: 1267.6405 | I21: 28965.846
A22: TARRAGONA | B22: 13212.973 | C22: 9864.3375 | D22: 89.6369 | E22: 343.0042 | G22: 11001.288 | H22: 23.7712 | I22: 34535.01
A23: CATALUÑA | B23: 36738.696 | C23: 14177.574 | D23: 204.1121 | E23: 1983.8151 | G23: 13028.591 | H23: 1291.4117 | I23: 67424.201
A24: ILLES BALEARS | B24: 7878.2344 | C24: 2315.3704 | D24: 8597.7958 | E24: 17.351 | I24: 18808.752
A25: ÁVILA | B25: 91.0664 | D25: 16.4084 | E25: 3.9493 | F25: 235.2061 | H25: 372.536 | I25: 719.1662
A26: BURGOS | B26: 75.8706 | C26: 171.5212 | D26: 39.4078 | E26: 716.3426 | G26: 9.8653 | H26: 6.249 | I26: 1019.2565
A27: LEÓN | B27: 60.7055 | C27: 5.8054 | D27: 9.318 | E27: 312.7928 | F27: 3298.1353 | G27: 4.2996 | H27: 108.6506 | I27: 3799.7072
A28: PALENCIA | B28: 159.4768 | C28: 67.3459 | D28: 11.1221 | E28: 4.0419 | H28: 192.1886 | I28: 434.1753
A29: SALAMANCA | B29: 817.0759 | C29: 48.5132 | D29: 10.1883 | E29: 13.1787 | F29: 193.7387 | H29: 10.5402 | I29: 1093.235
A30: SEGOVIA | B30: 39.6465 | C30: 87.2675 | H30: 58.8667 | I30: 185.7807
A31: SORIA | B31: 1158.8783 | C31: 268.0273 | D31: 2.0304 | E31: 25.3083 | I31: 1454.2443
A32: VALLADOLID | B32: 1993.8395 | C32: 190.2649 | D32: 50.8981 | E32: 206.6363 | H32: 464.8934 | I32: 2906.5322
A33: ZAMORA | B33: 918.98 | C33: 277.8845 | D33: 187.1272 | E33: 48.5437 | F33: 2241.4208 | H33: 940.9753 | I33: 4614.9315
A34: CASTILLA Y LEÓN | B34: 5315.5395 | C34: 1116.6299 | D34: 326.5003 | E34: 1330.7936 | F34: 5968.5009 | G34: 14.1649 | H34: 2154.8998 | I34: 16227.029
A35: COMUNIDAD DE MADRID | B35: 609.816 | C35: 574.3132 | E35: 2.1351 | H35: 1370.2556 | I35: 2556.5199
A36: ALBACETE | B36: 68564.063 | C36: 2758.0371 | D36: 7.0549 | E36: 2105.8623 | H36: 14491.159 | I36: 87926.176
A37: CIUDAD REAL | B37: 24578.96 | C37: 886.8514 | D37: 85.2563 | E37: 159.7212 | F37: 6.5843 | H37: 18687.867 | I37: 44405.24
A38: CUENCA | B38: 35571.258 | C38: 2439.3924 | D38: 117.887 | E38: 1036.7871 | G38: 3.9694 | H38: 10608.671 | I38: 49777.965
A39: GUADALAJARA | B39: 421.0143 | C39: 676.3019 | D39: 1.7699 | E39: 229.4521 | H39: 1302.4871 | I39: 2631.0253
A40: TOLEDO | B40: 29624.596 | C40: 1227.1587 | D40: 617.1565 | E40: 428.3824 | H40: 24350.837 | I40: 56248.131
A41: CASTILLA-LA MANCHA | B41: 158759.89 | C41: 7987.7415 | D41: 829.1246 | E41: 3960.2051 | F41: 6.5843 | G41: 3.9694 | H41: 69441.021 | I41: 240988.54
A42: ALICANTE/ALACANT | B42: 18068.961 | C42: 8320.5741 | D42: 489.8072 | E42: 110.6184 | F42: 2.6044 | I42: 26992.565
A43: CASTELLÓN/CASTELLÓ | B43: 29199.416 | C43: 8236.6817 | D43: 487.1627 | E43: 402.3183 | G43: 1106.7426 | I43: 39432.321
A44: VALENCIA/VALÈNCIA | B44: 38555.105 | C44: 7723.1179 | D44: 337.4797 | E44: 683.0699 | G44: 261.7911 | H44: 317.0166 | I44: 47877.58
A45: COMUNITAT VALENCIANA | B45: 85823.482 | C45: 24280.374 | D45: 1314.4496 | E45: 1196.0066 | F45: 2.6044 | G45: 1368.5337 | H45: 317.0166 | I45: 114302.47
A46: REGIÓN DE MURCIA | B46: 108178.11 | C46: 9939.4999 | D46: 2658.6965 | E46: 44.6828 | H46: 1739.7157 | I46: 122560.7
A47: BADAJOZ | B47: 19597.031 | C47: 664.7269 | D47: 605.4994 | E47: 1360.8041 | H47: 3295.1092 | I47: 25523.17
A48: CÁCERES | B48: 6022.2485 | C48: 452.465 | E48: 1309.1246 | F48: 2827.5395 | H48: 847.7404 | I48: 11459.118
A49: EXTREMADURA | B49: 25619.279 | C49: 1117.1919 | D49: 605.4994 | E49: 2669.9287 | F49: 2827.5395 | H49: 4142.8496 | I49: 36982.288
A50: ALMERÍA | B50: 47922.608 | C50: 3851.4953 | D50: 1411.2965 | H50: 158.062 | I50: 53343.462
A51: CÁDIZ | B51: 4002.0149 | C51: 5.7002 | D51: 21.3179 | H51: 420.7696 | I51: 4449.8026
A52: CÓRDOBA | B52: 14948.344 | C52: 344.104 | D52: 11.1324 | E52: 187.7728 | H52: 129.5424 | I52: 15620.895
A53: GRANADA | B53: 100551.55 | C53: 11804.421 | D53: 32.1776 | E53: 388.5262 | F53: 69.0933 | H53: 3358.8496 | I53: 116204.62
A54: HUELVA | B54: 1907.1248 | C54: 169.7039 | D54: 85.3923 | E54: 19.6217 | F54: 3369.8371 | I54: 5551.6798
A55: JAÉN | B55: 6737.0775 | C55: 857.7549 | D55: 34.1509 | E55: 174.9788 | H55: 926.2131 | I55: 8730.1752
A56: MÁLAGA | B56: 9951.8183 | C56: 5845.5822 | D56: 4283.4776 | E56: 232.5304 | F56: 977.36 | H56: 2213.4214 | I56: 23504.19
A57: SEVILLA | B57: 14588.668 | C57: 508.8535 | D57: 10.2758 | E57: 119.7799 | F57: 56.5931 | H57: 368.548 | I57: 15652.718
A58: ANDALUCÍA | B58: 200609.21 | C58: 23387.615 | D58: 5889.221 | E58: 1123.2098 | F58: 4472.8835 | H58: 7575.4061 | I58: 243057.55
A59: PALMAS (Las) | B59: 5.9001 | C59: 16.5695 | E59: 9.8168 | F59: 20.273 | I59: 52.5594
A60: Sta.C. de TENERIFE | B60: 25.2373 | C60: 301.6411 | F60: 199.1353 | I60: 526.0137
A61: CANARIAS | B61: 31.1374 | C61: 318.2106 | E61: 9.8168 | F61: 219.4083 | I61: 578.5731
A62: ESPAÑA | B62: 734338.53 | C62: 114752.38 | D62: 20581.068 | E62: 15309.9 | F62: 25558.704 | G62: 15129.553 | H62: 89830.141 | I62: 1015500.3
A64: (1) Datilera, grosella, azufaifo

Sheet C13  FRUTALES NO CITRICOS (2)
A1: Provincias y CC.AA. | B1: Frambueso | C1: Arándano | D1: Otros Frutales No citricos(1) | E1: Total Frutales No citricos
A2: A CORUÑA | D2: 89.8414 | E2: 4189.8983
A3: LUGO | D3: 16.3035 | E3: 5485.5471
A4: OURENSE | D4: 30.7184 | E4: 6926.2132
A5: PONTEVEDRA | D5: 10.7576 | E5: 2390.7271
A6: GALICIA | D6: 147.6209 | E6: 18992.386
A7: PRINCIPADO DE ASTURIAS | C7: 24.9291 | E7: 4309.2531
A8: CANTABRIA | E8: 24.3426
A9: ARABA/ÁLAVA | E9: 499.9074
A10: GIPUZKOA | E10: 1361.6913
A11: BIZKAIA | C11: 42.5041 | E11: 190.3609
A12: PAÍS VASCO | C12: 42.5041 | E12: 2051.9596
A13: COMUNIDAD FORAL DE NAVARRA | E13: 7925.6497
A14: LA RIOJA | E14: 18804.325
A15: HUESCA | D15: 1.3784 | E15: 43094.452
A16: TERUEL | E16: 30702.977
A17: ZARAGOZA | D17: 0.6348 | E17: 90496.981
A18: ARAGÓN | D18: 2.0132 | E18: 164294.41
A19: BARCELONA | E19: 3235.6468
A20: GIRONA | E20: 4523.7907
A21: LLEIDA | D21: 12.3899 | E21: 60759.632
A22: TARRAGONA | D22: 16.4902 | E22: 36801.145
A23: CATALUÑA | D23: 28.8801 | E23: 105320.21
A24: ILLES BALEARS | D24: 22.4449 | E24: 22468.401
A25: ÁVILA | E25: 2199.3327
A26: BURGOS | D26: 4.321 | E26: 1127.281
A27: LEÓN | E27: 5538.7979
A28: PALENCIA | E28: 438.2172
A29: SALAMANCA | E29: 1383.3912
A30: SEGOVIA | E30: 248.8033
A31: SORIA | E31: 2813.9571
A32: VALLADOLID | E32: 2910.1314
A33: ZAMORA | E33: 5001.9809
A34: CASTILLA Y LEÓN | D34: 4.321 | E34: 21661.893
A35: COMUNIDAD DE MADRID | E35: 3123.421
A36: ALBACETE | D36: 37.8576 | E36: 91344.093
A37: CIUDAD REAL | D37: 3.7882 | E37: 44437.385
A38: CUENCA | D38: 79.0624 | E38: 49934.893
A39: GUADALAJARA | E39: 2734.2055
A40: TOLEDO | D40: 3.9018 | E40: 58335.807
A41: CASTILLA-LA MANCHA | D41: 124.61 | E41: 246786.38
A42: ALICANTE/ALACANT | D42: 357.1656 | E42: 36364.666
A43: CASTELLÓN/CASTELLÓ | C43: 1.5316 | D43: 16.674 | E43: 41545.105
A44: VALENCIA/VALÈNCIA | D44: 36.6992 | E44: 71520.469
A45: COMUNITAT VALENCIANA | C45: 1.5316 | D45: 410.5388 | E45: 149430.24
A46: REGIÓN DE MURCIA | D46: 9.6391 | E46: 145206.08
A47: BADAJOZ | D47: 15.0842 | E47: 44448.834
A48: CÁCERES | B48: 5.4851 | D48: 21.1879 | E48: 27447.009
A49: EXTREMADURA | B49: 5.4851 | D49: 36.2721 | E49: 71895.844
A50: ALMERÍA | D50: 6.3878 | E50: 53821.459
A51: CÁDIZ | D51: 14.9336 | E51: 6370.6778
A52: CÓRDOBA | E52: 16109.294
A53: GRANADA | D53: 23.0611 | E53: 128353.86
A54: HUELVA | B54: 280.1972 | C54: 1294.141 | D54: 65.3363 | E54: 10090.543
A55: JAÉN | D55: 2.1904 | E55: 9296.7175
A56: MÁLAGA | D56: 206.8528 | E56: 40131.287
A57: SEVILLA | D57: 26.4443 | E57: 18844.869
A58: ANDALUCÍA | B58: 280.1972 | C58: 1294.141 | D58: 345.2063 | E58: 283018.7
A59: PALMAS (Las) | D59: 23.6938 | E59: 1259.3861
A60: Sta.C. de TENERIFE | D60: 24.776 | E60: 8534.5094
A61: CANARIAS | D61: 48.4698 | E61: 9793.8955
A62: ESPAÑA | B62: 285.6823 | C62: 1363.1058 | D62: 1180.0162 | E62: 1275107.4
A64: (1) Datilera, grosella

Sheet C16A  VIÑEDO MESA
A1: Provincias y CC.AA. | B1: Viñedo Uva de Mesa blanca sin semilla | C1: Viñedo Uva de Mesa blanca con semilla | D1: Viñedo Uva de Mesa roja sin semilla | E1: Viñedo Uva de Mesa roja con semilla | F1: Total Viñedo Uva de Mesa
A2: A CORUÑA | C2: 5.8137 | F2: 5.8137
A3: LUGO
A4: OURENSE | C4: 5.1242 | F4: 5.1242
A5: PONTEVEDRA | C5: 10.0024 | F5: 10.0024
A6: GALICIA | C6: 20.9403 | F6: 20.9403
A7: PRINCIPADO DE ASTURIAS
A8: CANTABRIA
A9: ARABA/ÁLAVA
A10: GIPUZKOA
A11: BIZKAIA
A12: PAÍS VASCO
A13: COMUNIDAD FORAL DE NAVARRA
A14: LA RIOJA
A15: HUESCA
A16: TERUEL
A17: ZARAGOZA | C17: 1.9638 | F17: 1.9638
A18: ARAGÓN | C18: 1.9638 | F18: 1.9638
A19: BARCELONA | B19: 15.5282 | F19: 15.5282
A20: GIRONA
A21: LLEIDA | C21: 15.019 | F21: 15.019
A22: TARRAGONA
A23: CATALUÑA | B23: 15.5282 | C23: 15.019 | F23: 30.5472
A24: ILLES BALEARS
A25: ÁVILA
A26: BURGOS
A27: LEÓN
A28: PALENCIA
A29: SALAMANCA
A30: SEGOVIA
A31: SORIA
A32: VALLADOLID
A33: ZAMORA
A34: CASTILLA Y LEÓN
A35: COMUNIDAD DE MADRID
A36: ALBACETE | B36: 2171.9357 | F36: 2171.9357
A37: CIUDAD REAL
A38: CUENCA
A39: GUADALAJARA
A40: TOLEDO | C40: 5.1385 | F40: 5.1385
A41: CASTILLA-LA MANCHA | B41: 2171.9357 | C41: 5.1385 | F41: 2177.0742
A42: ALICANTE/ALACANT | B42: 181.1513 | C42: 4926.5705 | D42: 128.8638 | E42: 294.1259 | F42: 5530.7115
A43: CASTELLÓN/CASTELLÓ | C43: 1.7061 | E43: 2.8414 | F43: 4.5475
A44: VALENCIA/VALÈNCIA | B44: 7.5929 | C44: 131.447 | D44: 20.8227 | E44: 0.8517 | F44: 160.7143
A45: COMUNITAT VALENCIANA | B45: 188.7442 | C45: 5059.7236 | D45: 149.6865 | E45: 297.819 | F45: 5695.9733
A46: REGIÓN DE MURCIA | B46: 2049.6583 | C46: 440.6518 | D46: 3116.178 | E46: 721.4281 | F46: 6327.9162
A47: BADAJOZ | B47: 199.1466 | F47: 199.1466
A48: CÁCERES
A49: EXTREMADURA | B49: 199.1466 | F49: 199.1466
A50: ALMERÍA | B50: 5.051 | C50: 15.6616 | D50: 92.0574 | E50: 116.5495 | F50: 229.3195
A51: CÁDIZ | C51: 0.2017 | F51: 0.2017
A52: CÓRDOBA | C52: 6.7177 | F52: 6.7177
A53: GRANADA | D53: 354.593 | F53: 354.593
A54: HUELVA | C54: 0.5781 | F54: 0.5781
A55: JAÉN
A56: MÁLAGA | B56: 0.8217 | C56: 3.8273 | E56: 4.7218 | F56: 9.3708
A57: SEVILLA | B57: 21.3232 | C57: 161.5621 | D57: 57.7299 | E57: 330.5159 | F57: 571.1311
A58: ANDALUCÍA | B58: 27.1959 | C58: 188.5485 | D58: 504.3803 | E58: 451.7872 | F58: 1171.9119
A59: PALMAS (Las) | B59: 3.0919 | C59: 0.7764 | F59: 3.8683
A60: Sta.C. de TENERIFE
A61: CANARIAS | B61: 3.0919 | C61: 0.7764 | F61: 3.8683
A62: ESPAÑA | B62: 4655.3008 | C62: 5732.7619 | D62: 3770.2448 | E62: 1471.0343 | F62: 15629.342

Sheet C16B  VIÑEDO TRANSF.
A1: Provincias y CC.AA. | B1: Viñedo Uva de Transformación Sin clasificar | C1: Viñedo Uva de Transformación Uva Blanca | D1: Viñedo Uva de Transformación Uva Tinta | E1: Total Viñedo Uva de Transformación | F1: Total Viñedo
A2: A CORUÑA | B2: 2204.1765 | C2: 52.3649 | D2: 0.0553 | E2: 2256.5967 | F2: 2262.4104
A3: LUGO | B3: 2212.0421 | C3: 93.8237 | E3: 2305.8658 | F3: 2305.8658
A4: OURENSE | B4: 7807.6502 | C4: 328.557 | D4: 3.2246 | E4: 8139.4318 | F4: 8144.556
A5: PONTEVEDRA | B5: 10969.041 | C5: 523.0178 | D5: 43.2036 | E5: 11535.263 | F5: 11545.265
A6: GALICIA | B6: 23192.91 | C6: 997.7634 | D6: 46.4835 | E6: 24237.157 | F6: 24258.097
A7: PRINCIPADO DE ASTURIAS | B7: 1.0098 | E7: 1.0098 | F7: 1.0098
A8: CANTABRIA | B8: 21.1423 | E8: 21.1423 | F8: 21.1423
A9: ARABA/ÁLAVA | C9: 371.6844 | D9: 10378.194 | E9: 10749.879 | F9: 10749.879
A10: GIPUZKOA | C10: 734.414 | D10: 1.8397 | E10: 736.2537 | F10: 736.2537
A11: BIZKAIA | C11: 262.8107 | D11: 13.9819 | E11: 276.7926 | F11: 276.7926
A12: PAÍS VASCO | C12: 1368.9091 | D12: 10394.016 | E12: 11762.925 | F12: 11762.925
A13: COMUNIDAD FORAL DE NAVARRA | B13: 8322.3531 | C13: 412.6749 | D13: 8318.8503 | E13: 17053.878 | F13: 17053.878
A14: LA RIOJA | B14: 18662.624 | C14: 2584.3357 | D14: 32122.724 | E14: 53369.684 | F14: 53369.684
A15: HUESCA | B15: 761.8965 | C15: 599.7547 | D15: 2790.087 | E15: 4151.7382 | F15: 4151.7382
A16: TERUEL | B16: 512.1172 | C16: 32.117 | D16: 1185.7777 | E16: 1730.0119 | F16: 1730.0119
A17: ZARAGOZA | B17: 4586.772 | C17: 2287.1453 | D17: 19888.813 | E17: 26762.73 | F17: 26764.694
A18: ARAGÓN | B18: 5860.7857 | C18: 2919.017 | D18: 23864.678 | E18: 32644.48 | F18: 32646.444
A19: BARCELONA | B19: 25319.211 | C19: 191.7948 | D19: 3.8557 | E19: 25514.861 | F19: 25530.389
A20: GIRONA | B20: 3017.5552 | E20: 3017.5552 | F20: 3017.5552
A21: LLEIDA | B21: 4748.437 | D21: 3.4035 | E21: 4751.8405 | F21: 4766.8595
A22: TARRAGONA | B22: 18965.272 | C22: 3975.4878 | D22: 584.747 | E22: 23525.507 | F22: 23525.507
A23: CATALUÑA | B23: 52050.475 | C23: 4167.2826 | D23: 592.0062 | E23: 56809.764 | F23: 56840.311
A24: ILLES BALEARS | B24: 926.5659 | C24: 401.6081 | D24: 1838.8755 | E24: 3167.0495 | F24: 3167.0495
A25: ÁVILA | B25: 2645.3219 | C25: 49.6124 | D25: 122.6812 | E25: 2817.6155 | F25: 2817.6155
A26: BURGOS | B26: 19353.479 | C26: 8.0211 | D26: 6636.1376 | E26: 25997.637 | F26: 25997.637
A27: LEÓN | B27: 4310.0576 | C27: 190.163 | E27: 4500.2206 | F27: 4500.2206
A28: PALENCIA | B28: 107.9134 | D28: 157.3385 | E28: 265.2519 | F28: 265.2519
A29: SALAMANCA | B29: 1741.1914 | D29: 6.5773 | E29: 1747.7687 | F29: 1747.7687
A30: SEGOVIA | B30: 2770.2396 | E30: 2770.2396 | F30: 2770.2396
A31: SORIA | B31: 3442.8178 | E31: 3442.8178 | F31: 3442.8178
A32: VALLADOLID | B32: 11338.19 | C32: 10813.418 | D32: 5613.9536 | E32: 27765.561 | F32: 27765.561
A33: ZAMORA | B33: 11438.391 | D33: 289.3686 | E33: 11727.76 | F33: 11727.76
A34: CASTILLA Y LEÓN | B34: 57147.601 | C34: 11061.214 | D34: 12826.057 | E34: 81034.872 | F34: 81034.872
A35: COMUNIDAD DE MADRID | B35: 7009.9252 | C35: 976.0392 | D35: 152.0898 | E35: 8138.0542 | F35: 8138.0542
A36: ALBACETE | B36: 39365.611 | C36: 17727.796 | D36: 32621.581 | E36: 89714.989 | F36: 91886.924
A37: CIUDAD REAL | B37: 40541.501 | C37: 70957.19 | D37: 29355.6 | E37: 140854.29 | F37: 140854.29
A38: CUENCA | B38: 41261.395 | C38: 26479.727 | D38: 30869.544 | E38: 98610.666 | F38: 98610.666
A39: GUADALAJARA | B39: 948.1704 | C39: 99.7867 | D39: 255.0068 | E39: 1302.9639 | F39: 1302.9639
A40: TOLEDO | B40: 78017.819 | C40: 9468.8871 | D40: 4421.1028 | E40: 91907.809 | F40: 91912.947
A41: CASTILLA-LA MANCHA | B41: 200134.5 | C41: 124733.39 | D41: 97522.835 | E41: 422390.72 | F41: 424567.79
A42: ALICANTE/ALACANT | B42: 5350.2308 | C42: 67.9597 | D42: 412.8272 | E42: 5831.0177 | F42: 11361.729
A43: CASTELLÓN/CASTELLÓ | B43: 478.623 | D43: 74.1792 | E43: 552.8022 | F43: 557.3497
A44: VALENCIA/VALÈNCIA | B44: 19434.372 | C44: 6157.3381 | D44: 24743.732 | E44: 50335.442 | F44: 50496.157
A45: COMUNITAT VALENCIANA | B45: 25263.226 | C45: 6225.2978 | D45: 25230.739 | E45: 56719.262 | F45: 62415.236
A46: REGIÓN DE MURCIA | B46: 7736.1868 | D46: 9930.3108 | E46: 17666.498 | F46: 23994.414
A47: BADAJOZ | B47: 66265.481 | C47: 5440.2934 | D47: 1721.7425 | E47: 73427.516 | F47: 73626.663
A48: CÁCERES | B48: 2926.4454 | C48: 83.8085 | D48: 98.3168 | E48: 3108.5707 | F48: 3108.5707
A49: EXTREMADURA | B49: 69191.926 | C49: 5524.1019 | D49: 1820.0593 | E49: 76536.087 | F49: 76735.234
A50: ALMERÍA | B50: 459.6712 | D50: 21.0875 | E50: 480.7587 | F50: 710.0782
A51: CÁDIZ | B51: 1079.2007 | C51: 4415.4872 | D51: 126.5968 | E51: 5621.2847 | F51: 5621.4864
A52: CÓRDOBA | B52: 3510.7214 | C52: 1269.9765 | D52: 30.8987 | E52: 4811.5966 | F52: 4818.3143
A53: GRANADA | B53: 3018.8472 | C53: 494.7698 | D53: 347.6802 | E53: 3861.2972 | F53: 4215.8902
A54: HUELVA | B54: 899.8192 | C54: 426.36 | E54: 1326.1792 | F54: 1326.7573
A55: JAÉN | B55: 194.5175 | C55: 40.5481 | E55: 235.0656 | F55: 235.0656
A56: MÁLAGA | B56: 2478.0126 | C56: 189.8365 | D56: 1.944 | E56: 2669.7931 | F56: 2679.1639
A57: SEVILLA | B57: 1808.6685 | C57: 72.42 | E57: 1881.0885 | F57: 2452.2196
A58: ANDALUCÍA | B58: 13449.458 | C58: 6909.3981 | D58: 528.2072 | E58: 20887.064 | F58: 22058.976
A59: PALMAS (Las) | B59: 1340.1902 | C59: 7.673 | D59: 193.6271 | E59: 1541.4903 | F59: 1545.3586
A60: Sta.C. de TENERIFE | B60: 3640.1424 | C60: 1344.4473 | D60: 456.9255 | E60: 5441.5152 | F60: 5441.5152
A61: CANARIAS | B61: 4980.3326 | C61: 1352.1203 | D61: 650.5526 | E61: 6983.0055 | F61: 6986.8738
A62: ESPAÑA | B62: 493951.02 | C62: 169633.15 | D62: 225838.48 | E62: 889422.65 | F62: 905051.99

Sheet C17 OLIVAR
A1: Provincias y CC.AA. | B1: Olivar Aceituna de Mesa | C1: Olivar de Doble Aptitud (mesa y almazara) | D1: Olivar Aceituna de Almazara | E1: Total Olivar
A2: A CORUÑA
A3: LUGO | D3: 39.7068 | E3: 39.7068
A4: OURENSE | B4: 3.8388 | D4: 122.1825 | E4: 126.0213
A5: PONTEVEDRA | D5: 71.2494 | E5: 71.2494
A6: GALICIA | B6: 3.8388 | D6: 233.1387 | E6: 236.9775
A7: PRINCIPADO DE ASTURIAS
A8: CANTABRIA
A9: ARABA/ÁLAVA | D9: 492.5646 | E9: 492.5646
A10: GIPUZKOA
A11: BIZKAIA
A12: PAÍS VASCO | D12: 492.5646 | E12: 492.5646
A13: COMUNIDAD FORAL DE NAVARRA | C13: 81.8309 | D13: 11281.894 | E13: 11363.725
A14: LA RIOJA | C14: 5.8043 | D14: 3996.44 | E14: 4002.2443
A15: HUESCA | B15: 17.8052 | C15: 977.4434 | D15: 9749.1508 | E15: 10744.399
A16: TERUEL | C16: 4306.7917 | D16: 27096.173 | E16: 31402.965
A17: ZARAGOZA | B17: 448.0207 | C17: 295.5792 | D17: 21250.394 | E17: 21993.994
A18: ARAGÓN | B18: 465.8259 | C18: 5579.8143 | D18: 58095.718 | E18: 64141.358
A19: BARCELONA | B19: 22.5186 | C19: 205.2173 | D19: 2620.7626 | E19: 2848.4985
A20: GIRONA | C20: 32.1975 | D20: 5292.5532 | E20: 5324.7507
A21: LLEIDA | B21: 275.5264 | C21: 280.2585 | D21: 34199.693 | E21: 34755.478
A22: TARRAGONA | B22: 642.9765 | C22: 1739.2175 | D22: 71524.518 | E22: 73906.712
A23: CATALUÑA | B23: 941.0215 | C23: 2256.8908 | D23: 113637.53 | E23: 116835.44
A24: ILLES BALEARS | B24: 136.658 | C24: 125.8153 | D24: 10453.652 | E24: 10716.125
A25: ÁVILA | D25: 2874.5209 | E25: 2874.5209
A26: BURGOS
A27: LEÓN | C27: 8.6311 | D27: 5.1025 | E27: 13.7336
A28: PALENCIA | C28: 26.0363 | D28: 4.0419 | E28: 30.0782
A29: SALAMANCA | B29: 8.5437 | D29: 1579.3861 | E29: 1587.9298
A30: SEGOVIA
A31: SORIA | D31: 316.9479 | E31: 316.9479
A32: VALLADOLID | C32: 1.7478 | D32: 1657.8876 | E32: 1659.6354
A33: ZAMORA | C33: 53.487 | D33: 771.4437 | E33: 824.9307
A34: CASTILLA Y LEÓN | B34: 8.5437 | C34: 89.9022 | D34: 7209.3306 | E34: 7307.7765
A35: COMUNIDAD DE MADRID | B35: 12.8112 | C35: 75.3259 | D35: 29885.427 | E35: 29973.564
A36: ALBACETE | B36: 167.7091 | D36: 42269.505 | E36: 42437.214
A37: CIUDAD REAL | B37: 21.2077 | D37: 218654.05 | E37: 218675.26
A38: CUENCA | B38: 378.4996 | D38: 35101.742 | E38: 35480.241
A39: GUADALAJARA | D39: 20255.088 | E39: 20255.088
A40: TOLEDO | B40: 436.3405 | D40: 156345.53 | E40: 156781.88
A41: CASTILLA-LA MANCHA | B41: 1003.7569 | D41: 472625.92 | E41: 473629.68
A42: ALICANTE/ALACANT | B42: 3.3264 | C42: 36.9211 | D42: 31972.293 | E42: 32012.541
A43: CASTELLÓN/CASTELLÓ | B43: 13.9807 | C43: 34.7974 | D43: 29456.64 | E43: 29505.418
A44: VALENCIA/VALÈNCIA | B44: 9.2696 | C44: 10.6626 | D44: 34599.513 | E44: 34619.445
A45: COMUNITAT VALENCIANA | B45: 26.5767 | C45: 82.3811 | D45: 96028.446 | E45: 96137.404
A46: REGIÓN DE MURCIA | B46: 248.131 | C46: 204.8995 | D46: 28615.848 | E46: 29068.879
A47: BADAJOZ | B47: 11759.18 | C47: 70124.362 | D47: 163323.83 | E47: 245207.37
A48: CÁCERES | B48: 22722.865 | C48: 417.7305 | D48: 36458.909 | E48: 59599.505
A49: EXTREMADURA | B49: 34482.045 | C49: 70542.093 | D49: 199782.74 | E49: 304806.88
A50: ALMERÍA | B50: 64.1694 | C50: 40.6515 | D50: 36619.344 | E50: 36724.165
A51: CÁDIZ | B51: 701.1603 | C51: 75.1584 | D51: 48447.342 | E51: 49223.661
A52: CÓRDOBA | B52: 1256.4792 | C52: 82145.959 | D52: 302537.3 | E52: 385939.73
A53: GRANADA | C53: 13849.813 | D53: 204273.18 | E53: 218122.99
A54: HUELVA | B54: 5956.4765 | C54: 2148.1733 | D54: 17815.004 | E54: 25919.654
A55: JAÉN | B55: 565.881 | C55: 369.0386 | D55: 595663.34 | E55: 596598.26
A56: MÁLAGA | B56: 66.7226 | C56: 21922.614 | D56: 127488.3 | E56: 149477.64
A57: SEVILLA | B57: 43740.844 | C57: 48484.856 | D57: 169614.76 | E57: 261840.46
A58: ANDALUCÍA | B58: 52351.733 | C58: 169036.26 | D58: 1502458.6 | E58: 1723846.6
A59: PALMAS (Las) | B59: 22.2605 | C59: 747.3268 | D59: 9.5774 | E59: 779.1647
A60: Sta.C. de TENERIFE | D60: 20.6482 | E60: 20.6482
A61: CANARIAS | B61: 22.2605 | C61: 747.3268 | D61: 30.2256 | E61: 799.8129
A62: ESPAÑA | B62: 89703.202 | C62: 248828.35 | D62: 2534827.4 | E62: 2873359

Sheet C17  OTROS CULTIVOS LEÑOSO
A1: Provincias y CC.AA. | B1: Algarrobo | C1: Alcaparra | D1: Caña Vulgar | E1: Mimbrera | F1: Bambú | G1: Otros cultivos Leñosos | H1: Total Otros cultivos leñosos | I1: Total Viveros
A2: A CORUÑA | I2: 200.0736
A3: LUGO | I3: 177.6422
A4: OURENSE | G4: 0.9945 | H4: 0.9945 | I4: 224.0054
A5: PONTEVEDRA | I5: 364.2625
A6: GALICIA | G6: 0.9945 | H6: 0.9945 | I6: 965.9837
A7: PRINCIPADO DE ASTURIAS | I7: 36.066
A8: CANTABRIA
A9: ARABA/ÁLAVA | I9: 30.6578
A10: GIPUZKOA
A11: BIZKAIA | I11: 206.5807
A12: PAÍS VASCO | I12: 237.2385
A13: COMUNIDAD FORAL DE NAVARRA | I13: 118.6967
A14: LA RIOJA | I14: 248.6124
A15: HUESCA | I15: 116.7984
A16: TERUEL | I16: 50.966
A17: ZARAGOZA | I17: 308.0872
A18: ARAGÓN | I18: 475.8516
A19: BARCELONA | B19: 116.475 | H19: 116.475 | I19: 375.2653
A20: GIRONA | B20: 31.7112 | G20: 4.073 | H20: 35.7842 | I20: 514.9498
A21: LLEIDA | I21: 108.2013
A22: TARRAGONA | B22: 7767.1956 | H22: 7767.1956 | I22: 1155.2694
A23: CATALUÑA | B23: 7915.3818 | G23: 4.073 | H23: 7919.4548 | I23: 2153.6858
A24: ILLES BALEARS | B24: 18462.731 | C24: 23.5188 | H24: 18486.25 | I24: 224.8074
A25: ÁVILA | I25: 171.0962
A26: BURGOS | I26: 76.1301
A27: LEÓN | I27: 12.6321
A28: PALENCIA
A29: SALAMANCA | E29: 7.47 | H29: 7.47 | I29: 40.1685
A30: SEGOVIA | I30: 239.4336
A31: SORIA
A32: VALLADOLID | I32: 723.254
A33: ZAMORA | G33: 40.3671 | H33: 40.3671 | I33: 67.6522
A34: CASTILLA Y LEÓN | E34: 7.47 | G34: 40.3671 | H34: 47.8371 | I34: 1330.3667
A35: COMUNIDAD DE MADRID | I35: 10.2431
A36: ALBACETE | I36: 33.9132
A37: CIUDAD REAL
A38: CUENCA | E38: 33.3561 | H38: 33.3561 | I38: 275.1925
A39: GUADALAJARA | E39: 205.5398 | H39: 205.5398 | I39: 52.1948
A40: TOLEDO | D40: 48.0205 | H40: 48.0205
A41: CASTILLA-LA MANCHA | D41: 48.0205 | E41: 238.8959 | H41: 286.9164 | I41: 361.3005
A42: ALICANTE/ALACANT | B42: 945.9504 | H42: 945.9504 | I42: 2955.33
A43: CASTELLÓN/CASTELLÓ | B43: 6307.5373 | F43: 5.4674 | G43: 1.3571 | H43: 6314.3618 | I43: 1216.9239
A44: VALENCIA/VALÈNCIA | B44: 8830.3293 | H44: 8830.3293 | I44: 4994.5773
A45: COMUNITAT VALENCIANA | B45: 16083.817 | F45: 5.4674 | G45: 1.3571 | H45: 16090.641 | I45: 9166.8312
A46: REGIÓN DE MURCIA | B46: 1889.2845 | H46: 1889.2845 | I46: 845.7394
A47: BADAJOZ | I47: 295.9794
A48: CÁCERES | I48: 318.9794
A49: EXTREMADURA | I49: 614.9588
A50: ALMERÍA | B50: 397.7536 | C50: 708.7974 | H50: 1106.551 | I50: 159.4064
A51: CÁDIZ | B51: 96.1516 | H51: 96.1516 | I51: 71.0981
A52: CÓRDOBA | I52: 469.234
A53: GRANADA | B53: 80.6462 | G53: 20.3262 | H53: 100.9724 | I53: 325.5821
A54: HUELVA | B54: 1218.9764 | H54: 1218.9764
A55: JAÉN | B55: 4.3685 | H55: 4.3685 | I55: 59.264
A56: MÁLAGA | B56: 583.398 | H56: 583.398 | I56: 352.9658
A57: SEVILLA | B57: 479.0733 | G57: 25.3985 | H57: 504.4718 | I57: 237.9485
A58: ANDALUCÍA | B58: 2860.3676 | C58: 708.7974 | G58: 45.7247 | H58: 3614.8897 | I58: 1675.4989
A59: PALMAS (Las) | D59: 16.7577 | G59: 131.0501 | H59: 147.8078 | I59: 8.4758
A60: Sta.C. de TENERIFE | I60: 425.9571
A61: CANARIAS | D61: 16.7577 | G61: 131.0501 | H61: 147.8078 | I61: 434.4329
A62: ESPAÑA | B62: 47211.582 | C62: 732.3162 | D62: 64.7782 | E62: 246.3659 | F62: 5.4674 | G62: 223.5665 | H62: 48484.076 | I62: 18900.314
