Workbook

Sheet PORTADA
E1: Informe consumo de alimentación fuera del hogar
J5: Principales variables
J6: Perfil sociodemográfico
J7: Lugares y motivos de consumo
J8: Metodología
J9: Glosario variables
J10: Conclusiones

Sheet VARIABLES
A6: Periodicidad
A8: Trim 1: de enero a marzo
A9: Trim 2: de abril a junio
A10: Trim 3: de julio a septiembre
A11: Trim 4: de octubre a diciembre
A12: TAM : Últimos 12 meses
A14: Variables
A16: Volumen (millones de consumiciones): Volumen total en consumiciones realizado por los individuos residentes en España.
A17: Volumen (millones de kilos o litros consumidos): Volumen total de kilos o litros consumidos por los individuos residentes en España.
A18: Valor (euros): Gasto total realizado por los individuos residentes en España.
A19: Penetración (%): Porcentaje de individuos que han consumido el producto/categoría a lo largo del periodo de estudio.
A20: Frecuencia: Actos de consumo.
... A37: * No se incluye Canarias

Sheet Conclusiones 
A6: El consumo extradoméstico cierra en el segundo trimestre de 2026 con más consumidores, más visitas y más valor, pero menos volumen. Aunque el consumo fuera del hogar avanza durante el segundo trimestre del año creciendo en clientela y frecuencia, disminuye en ocasiones de entornos sociales con amigos y familiares, además se reduce el desembolso medio por individuo. El valor se impulsa a través del aumento de los precios medios. El 91,6 % de los españoles ha consumido alimentos y bebidas fuera de casa, por encima del 90,5 % registrado un año antes. Sin embargo, la mayor presencia de consumidores no impulsa el crecimiento del mercado. La evolución del periodo está marcada por una reducción del volumen consumido (4,1 %), una menor compra media (2,3 %) y un gasto medio estable respecto al mismo periodo del año anterior (253,46 €) y eso a pesar de que salimos un 2,2 % más (26,8 veces por trimestre). Por tanto, es evidente que más alcance y más visitas, no significa necesariamente mas consumo. La evolución por categorías pone de manifiesto un cambio en los hábitos de consumo fuera del hogar. Los alimentos ganan relevancia fuera de casa, mientras que las bebidas caen. Los españoles realizan un 5,0 % más de ocasiones de consumo de alimentos, aunque el volumen solo crece un 0,5 %, reflejando consumiciones más frecuentes, pero de menor tamaño. Si bien, bebemos menos fuera de casa, se reducen las consumiciones un 4,3 % siendo la caída del volumen del 8,0 %. Existe una polarización del consumo fuera del hogar en función de la edad. Los jóvenes consumen más fuera de casa, con aumentos del 72,7 % entre los 15-19 años y del 45,5 % entre los 20-24 años. Sin embargo, no compensa la caída de los adultos, entre los 35-49 años (5,2 %) y los 50-59 años (9,7 %), y el retroceso de adultos de 60 a 75 años (8,2 %). Desde una perspectiva territorial, también existen diferencias con focos de crecimiento aislados como el área metropolitana de Barcelona y la región resto centro frente a una mayoría de regiones en retroceso.
A7: La comida es el principal momento de consumo fuera del hogar, aumentando su alcance hasta representar el 40,3 % del volumen total, consumido fuera de casa, si bien pierde un 1,6 % a cierre de trimestre 2 2026. La cena continúa perdiendo relevancia (20,1 % vs 20,4 %), al igual que otros momentos vinculados a la tarde y la noche, lo que refleja una menor actividad nocturna. Los establecimientos mantienen su posición dominante (71,1 %), aunque con una evolución negativa (4,9 %), mientras crece el consumo asociado al propio hogar (4,0 %) que ya representa un 11,6 % del volumen total, o en colegios, institutos o universidades. Si tenemos en cuenta el entorno o canal de consumo extradoméstico, los restaurantes crecen un 2,1 % algo lógico si tenemos en cuenta que el consumo de alimentos crecía en este periodo, mientras que bares, cafeterías, cervecerías pierden el 10,1 % del volumen frente al segundo trimestre del año anterior. Además, el componente social pierde intensidad, con una reducción de las ocasiones compartidas con familiares y amigos y un mayor peso de los consumos ligados al trabajo, los estudios y las compras.

Sheet METODOLOGÍA 
A2: Informe consumo de alimentación fuera del hogar
A4: Metodología del panel de consumo alimentario fuera de hogares: alimentación
B6: El panel de consumo alimentario fuera de los hogares, estudio elaborado por el Ministerio de Agricultura, Pesca y Alimentación, tiene por objeto conocer la demanda total de alimentos y bebidas en el sector extradoméstico desde el punto de vista del consumidor final residente en España peninsular y Baleares, identificando los principales factores que caracterizan los hábitos alimentarios de los españoles fuera de su hogar y conociendo la importancia de los distintos tipos de establecimientos donde el consumidor compra los productos para su consumo extradoméstico. En particular, este informe se centra en la demanda total de alimentación en el sector extradoméstico. Para ello se aplica la siguiente metodología: Universo: Los individuos residentes en España peninsular e Islas Baleares de edades comprendidas entre 15-75 años (>18 años para la declaración de vino y derivados, cerveza, sidra y bebidas espirituosas). El estudio no recoge el consumo realizado por el turismo, permitiendo así cuantificar el consumo per cápita real de los españoles. Asimismo, no recoge el consumo realizado en las Islas Canarias ni en las ciudades autónomas de Ceuta y Melilla. Muestra*: 10.500 panelistas al año (8.500 individuos al trimestre) de entre 15 y 75 años. De ellos, 3.000 individuos declaran el consumo detallado de alimentos. La información se recoge mediante una aplicación de smartphone, con lectura de códigos EAN para aquellos productos que los tengan, y declaración manual guiada por categorías en el resto. La recogida de información se realiza en el momento de consumo, para lo cual los formularios están diseñados para una rápida declaración. Las posibilidades de respuesta están adaptadas a la realidad de las diferentes opciones de restauración al componerse de diferentes productos, así como de las recetas que hay disponibles, según elección del panelista. La asignación del precio no se hace por tipo de receta o plato de forma independiente, si no por menú u opción elegida, es decir por el precio total pagado por ticket. De ahí que no se pueda asignar un valor por tipo de producto de forma concreta en el caso de algunas categorías de productos de consumo extradoméstico, sino que se obtiene un dato global de facturación del grupo. En el caso de productos que se adquieren por unidades, como pueden ser las bebidas o los aperitivos, sí es posible asignar un valor de adquisición. * Desde T2 de 2018 **Los informes desde T1 2024 están elaborados con el panel ya adaptado al nuevo censo de población publicado por el INE (censo 2021). Por ello, los datos pueden sufrir alguna ligera variación respecto a informes de meses anteriores. En todo caso, la tendencia en el consumo alimentario fuera del hogar no se ha visto afectada. Para más información consultar el apartado de metodología de la web.

Sheet DESPLEGABLES
C2: KPI | F2: PERFIL - NOMECLATURA | K2: Motivos | N2: %POBLACION | O2: 0 | P2: 1
C3: 1 | D3: Volumen (millones de consumiciones) | E3: VOLUMEN (miles consumiciones) | F3: 1 | G3: TotalAlimentacion | K3: 1 | L3: DISTRIBUCION VOLUMEN POR CRITERIO (consumiciones) | N3: .T.Alimentos TOTAL ING | O3: T.ESPAÑA | P3: 100
C4: 2 | D4: Volumen (millones de kilos o litros) | E4: VOLUMEN (miles kg ó litros) | F4: 2 | G4: .T.Alimentos TOTAL ING | K4: 2 | L4: DISTRIBUCION VOLUMEN POR CRITERIO (kg o litros) | N4: 0 | O4: BCN AM | P4: 9.5390535
C5: 3 | D5: Valor (millones de euros) | E5: VALOR (miles euros) | F5: 3 | G5: Total Bebidas | K5: 3 | L5: CONSUMO PER CAPITA (kg o litros por individuo) | N5: 0 | O5: REST.CAT ARAGON | P5: 13.260336
C6: 4 | D6: % Penetración (población 15-75 años) | E6: PENETRACION (%) | F6: 4 | G6: Total Bebidas Frias | N6: 0 | O6: LEVANTE | P6: 15.940248
C7: 5 | D7: Frecuencia (actos de consumo) | E7: FRECUENCIA COMPRA (actos) | F7: 5 | G7: Total Bebidas Calientes | N7: 0 | O7: ANDALUCIA | P7: 20.080118
C8: 6 | D8: Consumo medio (consumiciones por consumidor) | E8: COMPRA MEDIA (Consumiciones) | F8: 6 | G8: Total Aperitivos | N8: 0 | O8: MDD AM | P8: 13.617304
C9: 7 | D9: Consumo medio (kilos o litros por consumidor) | E9: CONSUMO MEDIO (kg ó litros por consumidor) | N9: 0 | O9: RTO CENTRO | P9: 9.5414632
C10: 8 | D10: Consumo por acto (consumiciones) | E10: VOLUMEN POR ACTO (consumiciones) | N10: 0 | O10: NORTE-CENTRO | P10: 9.2405598
C11: 9 | D11: Consumo per cápita (kilos o litros por individuo) | E11: CONSUMO PER CAPITA (kg ó litros por individuo) | N11: 0 | O11: NOROESTE | P11: 8.7809218
C12: 10 | D12: Gasto per cápita (euros por individuo) | E12: GASTO PER CAPITA (€ por individuo) | N12: 0 | O12: <2MIL | P12: 5.7199069
C13: 11 | D13: Precio medio (€/kg o L) | E13: PRECIO MEDIO (kg ó litros) | N13: 0 | O13: 2-5MIL | P13: 6.4097901
N14: 0 | O14: 5-10MIL | P14: 7.9702166
N15: 0 | O15: 10-30MIL | P15: 18.011835
N16: 0 | O16: 30-100MIL | P16: 21.314428
N17: 0 | O17: 100-200MIL | P17: 9.9002701
N18: 0 | O18: 200-500MIL | P18: 13.459976
N19: 0 | O19: >500MIL | P19: 17.213585
N20: 0 | O20: DE 15 A 19 AÑOS | P20: 7.09855
N21: 0 | O21: DE 20 A 24 AÑOS | P21: 7.1000905
N22: 0 | O22: DE 25 A 34 AÑOS | P22: 14.64018
N23: 0 | O23: DE 35 A 49 AÑOS | P23: 27.660196
N24: 0 | O24: DE 50 A 59 AÑOS | P24: 19.960391
N25: 0 | O25: DE 60 A 75 AÑOS | P25: 23.540599
... N31: 0 | O31: HOMBRE | P31: 49.79995
O32: MUJER | P32: 50.200078

Sheet KPI_DATOS
B2: 0 | C2: 0 | D2: TRIM 2 24 | E2: TRIM 3 24 | F2: TRIM 4 24 | G2: TRIM 1 25 | H2: TRIM 2 25 | I2: TRIM 3 25 | J2: TRIM 4 25 | K2: TRIM 1 26 | L2: TRIM 2 26
A3: =B3&C3 -> VOLUMEN (miles Consumiciones)TotalAlimentacion | B3: VOLUMEN (miles Consumiciones) | C3: TotalAlimentacion | D3: 2900176 | E3: 4046382 | F3: 2772704 | G3: 2733018 | H3: 2840569 | I3: 3874077 | J3: 2752227 | K3: 2687067 | L3: 2848800
A4: =B3&C4 -> VOLUMEN (miles Consumiciones).T.Alimentos TOTAL ING | B4: 0 | C4: .T.Alimentos TOTAL ING | D4: 1171655 | E4: 1643940 | F4: 1145535 | G4: 1130641 | H4: 1169273 | I4: 1585310 | J4: 1132279 | K4: 1128410 | L4: 1228221
A5: =B3&C5 -> VOLUMEN (miles Consumiciones)Total Bebidas | B5: 0 | C5: Total Bebidas | D5: 1618014 | E5: 2267297 | F5: 1515358 | G5: 1486302 | H5: 1557475 | I5: 2149927 | J5: 1505844 | K5: 1449869 | L5: 1489874
A6: =B3&C6 -> VOLUMEN (miles Consumiciones)Total Bebidas Frias | B6: 0 | C6: Total Bebidas Frias | D6: 984158 | E6: 1491032 | F6: 890214.9 | G6: 852162.9 | H6: 964620.4 | I6: 1412090 | J6: 854306.8 | K6: 799335.1 | L6: 891336.9
A7: =B3&C7 -> VOLUMEN (miles Consumiciones)Total Bebidas Calientes | B7: 0 | C7: Total Bebidas Calientes | D7: 633856.5 | E7: 776264.6 | F7: 625143.6 | G7: 634139.5 | H7: 592854.7 | I7: 737836.9 | J7: 651537.3 | K7: 650534.2 | L7: 598537.5
A8: =B3&C8 -> VOLUMEN (miles Consumiciones)Total Aperitivos | B8: 0 | C8: Total Aperitivos | D8: 110506.6 | E8: 135145.6 | F8: 111810.7 | G8: 116074.9 | H8: 113821.6 | I8: 138839.7 | J8: 114104.4 | K8: 108787.4 | L8: 130703.8
A9: =B9&C9 -> VOLUMEN (Miles kg ó litros)TotalAlimentacion | B9: VOLUMEN (Miles kg ó litros) | C9: TotalAlimentacion | D9: 883396 | E9: 1315575.8 | F9: 832287.34 | G9: 817354.68 | H9: 878197.76 | I9: 1241772.6 | J9: 812866.06 | K9: 805355.34 | L9: 841906.91
A10: =B9&C10 -> VOLUMEN (Miles kg ó litros).T.Alimentos TOTAL ING | B10: 0 | C10: .T.Alimentos TOTAL ING | D10: 372997.05 | E10: 532973.67 | F10: 360562.31 | G10: 363167.45 | H10: 374273.11 | I10: 508098.02 | J10: 358516.33 | K10: 367443.65 | L10: 376084.37
A11: =B9&C11 -> VOLUMEN (Miles kg ó litros)Total Bebidas | B11: 0 | C11: Total Bebidas | D11: 499115.49 | E11: 767143.08 | F11: 459500 | G11: 442214.77 | H11: 491381.02 | I11: 718314.4 | J11: 442961.09 | K11: 426830.04 | L11: 452018.96
A12: =B9&C12 -> VOLUMEN (Miles kg ó litros)Total Bebidas Frias | B12: 0 | C12: Total Bebidas Frias | D12: 435075.51 | E12: 688673.79 | F12: 395295.66 | G12: 377314.71 | H12: 431196 | I12: 644305.99 | J12: 376189.36 | K12: 359094.55 | L12: 390910.64
A13: =B9&C13 -> VOLUMEN (Miles kg ó litros)Total Bebidas Calientes | B13: 0 | C13: Total Bebidas Calientes | D13: 64039.979 | E13: 78469.286 | F13: 64204.337 | G13: 64900.057 | H13: 60185.021 | I13: 74008.405 | J13: 66771.731 | K13: 67735.492 | L13: 61108.315
A14: =B9&C14 -> VOLUMEN (Miles kg ó litros)Total Aperitivos | B14: 0 | C14: Total Aperitivos | D14: 11283.45 | E14: 15459.029 | F14: 12225.029 | G14: 11972.463 | H14: 12543.626 | I14: 15360.196 | J14: 11388.636 | K14: 11081.657 | L14: 13803.58
A15: =B15&C15 -> VALOR (Miles Euros)TotalAlimentacion | B15: VALOR (Miles Euros) | C15: TotalAlimentacion | D15: 8227662 | E15: 11951200 | F15: 7990992 | G15: 7830530 | H15: 8244287 | I15: 11699540 | J15: 8088205 | K15: 7849904 | L15: 8452106
A16: =B15&C16 -> VALOR (Miles Euros).T.Alimentos TOTAL ING | B16: 0 | C16: .T.Alimentos TOTAL ING | D16: 5477959 | E16: 8006886 | F16: 5379315 | G16: 5310900 | H16: 5571363 | I16: 7942736 | J16: 5524333 | K16: 5396978 | L16: 5876764
A17: =B15&C17 -> VALOR (Miles Euros)Total Bebidas | B17: 0 | C17: Total Bebidas | D17: 2652668 | E17: 3812512 | F17: 2512798 | G17: 2419150 | H17: 2568413 | I17: 3629556 | J17: 2465304 | K17: 2356272 | L17: 2453265
A18: =B15&C18 -> VALOR (Miles Euros)Total Bebidas Frias | B18: 0 | C18: Total Bebidas Frias | D18: 1919954 | E18: 2914173 | F18: 1777767 | G18: 1674249 | H18: 1877952 | I18: 2774797 | J18: 1698576 | K18: 1589661 | L18: 1759680
A19: =B15&C19 -> VALOR (Miles Euros)Total Bebidas Calientes | B19: 0 | C19: Total Bebidas Calientes | D19: 732714.2 | E19: 898338.7 | F19: 735031.9 | G19: 744901.2 | H19: 690460.7 | I19: 854759.3 | J19: 766727.6 | K19: 766610.4 | L19: 693585.5
A20: =B15&C20 -> VALOR (Miles Euros)Total Aperitivos | B20: 0 | C20: Total Aperitivos | D20: 97035.13 | E20: 131803.9 | F20: 98878.77 | G20: 100480.5 | H20: 104511.6 | I20: 127251.9 | J20: 98568.15 | K20: 96655.23 | L20: 122077
A21: =B21&C21 -> PENETRACION (%)TotalAlimentacion | B21: PENETRACION (%) | C21: TotalAlimentacion | D21: 90.62217 | E21: 91.671 | F21: 91.00283 | G21: 90.06156 | H21: 90.4474 | I21: 91.20715 | J21: 90.65229 | K21: 91.37186 | L21: 91.5853
A22: =B21&C22 -> PENETRACION (%).T.Alimentos TOTAL ING | B22: 0 | C22: .T.Alimentos TOTAL ING | D22: 80.71718 | E22: 82.42254 | F22: 79.79079 | G22: 78.71038 | H22: 79.51106 | I22: 81.42354 | J22: 79.62246 | K22: 79.68672 | L22: 82.22069
A23: =B21&C23 -> PENETRACION (%)Total Bebidas | B23: 0 | C23: Total Bebidas | D23: 86.04392 | E23: 88.39309 | F23: 86.87743 | G23: 85.96108 | H23: 85.5504 | I23: 87.70922 | J23: 86.13348 | K23: 86.13432 | L23: 89.1999
A24: =B21&C24 -> PENETRACION (%)Total Bebidas Frias | B24: 0 | C24: Total Bebidas Frias | D24: 80.75916 | E24: 84.92157 | F24: 80.11025 | G24: 79.1919 | H24: 80.21913 | I24: 83.6136 | J24: 78.74654 | K24: 78.45107 | L24: 84.08534
A25: =B21&C25 -> PENETRACION (%)Total Bebidas Calientes | B25: 0 | C25: Total Bebidas Calientes | D25: 67.10987 | E25: 68.23751 | F25: 69.44415 | G25: 67.68888 | H25: 66.13644 | I25: 67.56464 | J25: 69.39255 | K25: 68.43119 | L25: 67.17547
A26: =B21&C26 -> PENETRACION (%)Total Aperitivos | B26: 0 | C26: Total Aperitivos | D26: 31.20548 | E26: 36.52927 | F26: 30.77507 | G26: 29.51961 | H26: 31.8002 | I26: 35.34304 | J26: 30.53125 | K26: 30.13621 | L26: 37.15305
A27: =B27&C27 -> FRECUENCIA COMPRA (Actos)TotalAlimentacion | B27: FRECUENCIA COMPRA (Actos) | C27: TotalAlimentacion | D27: 27.064148 | E27: 36.696897 | F27: 25.822495 | G27: 25.594861 | H27: 26.225948 | I27: 35.070467 | J27: 25.767801 | K27: 24.807177 | L27: 26.790876
A28: =B27&C28 -> FRECUENCIA COMPRA (Actos).T.Alimentos TOTAL ING | B28: 0 | C28: .T.Alimentos TOTAL ING | D28: 12.888554 | E28: 17.680839 | F28: 12.537186 | G28: 12.483238 | H28: 12.817169 | I28: 17.021745 | J28: 12.378163 | K28: 12.043778 | L28: 12.644577
A29: =B27&C29 -> FRECUENCIA COMPRA (Actos)Total Bebidas | B29: 0 | C29: Total Bebidas | D29: 23.247697 | E29: 30.906171 | F29: 22.294202 | G29: 22.003583 | H29: 22.659303 | I29: 29.623264 | J29: 22.174316 | K29: 21.387433 | L29: 22.373048
A30: =B27&C30 -> FRECUENCIA COMPRA (Actos)Total Bebidas Frias | B30: 0 | C30: Total Bebidas Frias | D30: 13.704606 | E30: 19.481702 | F30: 12.918141 | G30: 12.442784 | H30: 13.702157 | I30: 18.868924 | J30: 12.402054 | K30: 11.631282 | L30: 12.919926
A31: =B27&C31 -> FRECUENCIA COMPRA (Actos)Total Bebidas Calientes | B31: 0 | C31: Total Bebidas Calientes | D31: 16.082981 | E31: 19.537147 | F31: 15.465592 | G31: 15.998295 | H31: 15.492842 | I31: 18.725542 | J31: 16.038622 | K31: 16.000869 | L31: 15.755161
A32: =B27&C32 -> FRECUENCIA COMPRA (Actos)Total Aperitivos | B32: 0 | C32: Total Aperitivos | D32: 4.8889144 | E32: 5.6550384 | F32: 4.7319831 | G32: 5.1388205 | H32: 5.0639684 | I32: 5.6312986 | J32: 4.8463205 | K32: 4.7590564 | L32: 5.1016969
A33: =B33&C33 -> COMPRA MEDIA (Consumiciones)TotalAlimentacion | B33: COMPRA MEDIA (Consumiciones) | C33: TotalAlimentacion | D33: 90.151346 | E33: 124.34196 | F33: 85.828491 | G33: 84.448324 | H33: 87.396341 | I33: 118.20194 | J33: 84.487092 | K33: 80.766872 | L33: 85.427668
A34: =B33&C34 -> COMPRA MEDIA (Consumiciones).T.Alimentos TOTAL ING | B34: 0 | C34: .T.Alimentos TOTAL ING | D34: 40.889911 | E34: 56.185309 | F34: 40.442542 | G34: 39.974297 | H34: 40.923464 | I34: 54.181313 | J34: 39.573335 | K34: 38.890909 | L34: 41.02587
A35: =B33&C35 -> COMPRA MEDIA (Consumiciones)Total Bebidas | B35: 0 | C35: Total Bebidas | D35: 52.971762 | E35: 72.255833 | F35: 49.135007 | G35: 48.116412 | H35: 50.662082 | I35: 68.212477 | J35: 48.651116 | K35: 46.229559 | L35: 45.871988
A36: =B33&C36 -> COMPRA MEDIA (Consumiciones)Total Bebidas Frias | B36: 0 | C36: Total Bebidas Frias | D36: 34.328538 | E36: 49.459736 | F36: 31.303259 | G36: 29.945381 | H36: 33.462822 | I36: 46.997072 | J36: 30.190282 | K36: 27.983191 | L36: 29.112797
A37: =B33&C37 -> COMPRA MEDIA (Consumiciones)Total Bebidas Calientes | B37: 0 | C37: Total Bebidas Calientes | D37: 26.606444 | E37: 32.045679 | F37: 25.358696 | G37: 26.07087 | H37: 24.945456 | I37: 30.389684 | J37: 26.128307 | K37: 26.108581 | L37: 24.470513
A38: =B33&C38 -> COMPRA MEDIA (Consumiciones)Total Aperitivos | B38: 0 | C38: Total Aperitivos | D38: 9.9756176 | E38: 10.421822 | F38: 10.234511 | G38: 10.942483 | H38: 9.9604458 | I38: 10.931881 | J38: 10.400225 | K38: 9.9141886 | L38: 9.6617595
A39: =B39&C39 -> CONSUMO MEDIO (kg ó litros por consumidor)TotalAlimentacion | B39: CONSUMO MEDIO (kg ó litros por consumidor) | C39: TotalAlimentacion | D39: 27.460174 | E39: 40.426551 | F39: 25.763286 | G39: 25.255682 | H39: 27.019682 | I39: 37.887718 | J39: 24.953134 | K39: 24.207075 | L39: 25.24647
A40: =B39&C40 -> CONSUMO MEDIO (kg ó litros por consumidor).T.Alimentos TOTAL ING | B40: 0 | C40: .T.Alimentos TOTAL ING | D40: 13.017327 | E40: 18.215561 | F40: 12.729472 | G40: 12.839941 | H40: 13.09921 | I40: 17.365321 | J40: 12.530204 | K40: 12.664029 | L40: 12.562225
A41: =B39&C41 -> CONSUMO MEDIO (kg ó litros por consumidor)Total Bebidas | B41: 0 | C41: Total Bebidas | D41: 16.340419 | E41: 24.447861 | F41: 14.899143 | G41: 14.315925 | H41: 15.983811 | I41: 22.790543 | J41: 14.311278 | K41: 13.609619 | L41: 13.91729
A42: =B39&C42 -> CONSUMO MEDIO (kg ó litros por consumidor)Total Bebidas Frias | B42: 0 | C42: Total Bebidas Frias | D42: 15.175923 | E42: 22.844328 | F42: 13.900062 | G42: 13.259006 | H42: 14.958252 | I42: 21.443743 | J42: 13.294127 | K42: 12.571212 | L42: 12.767902
A43: =B39&C43 -> CONSUMO MEDIO (kg ó litros por consumidor)Total Bebidas Calientes | B43: 0 | C43: Total Bebidas Calientes | D43: 2.6881102 | E43: 3.2393614 | F43: 2.6044229 | G43: 2.6681841 | H43: 2.5323959 | I43: 3.0482238 | J43: 2.6777167 | K43: 2.7185006 | L43: 2.4983428
A44: =B39&C44 -> CONSUMO MEDIO (kg ó litros por consumidor)Total Aperitivos | B44: 0 | C44: Total Aperitivos | D44: 1.0185761 | E44: 1.1921309 | F44: 1.1190091 | G44: 1.1286546 | H44: 1.0976837 | I44: 1.2094224 | J44: 1.0380351 | K44: 1.0099114 | L44: 1.0203749
A45: =B45&C45 -> VOLUMEN POR ACTO (consumiciones)TotalAlimentacion | B45: VOLUMEN POR ACTO (consumiciones) | C45: TotalAlimentacion | D45: 3.3310247 | E45: 3.3883507 | F45: 3.3237877 | G45: 3.299425 | H45: 3.3324378 | I45: 3.3704126 | J45: 3.2787855 | K45: 3.2557865 | L45: 3.1886851
A46: =B45&C46 -> VOLUMEN POR ACTO (consumiciones).T.Alimentos TOTAL ING | B46: 0 | C46: .T.Alimentos TOTAL ING | D46: 3.1725756 | E46: 3.1777512 | F46: 3.2258069 | G46: 3.2022378 | H46: 3.1928629 | I46: 3.1830645 | J46: 3.1970282 | K46: 3.2291287 | L46: 3.2445427
A47: =B45&C47 -> VOLUMEN POR ACTO (consumiciones)Total Bebidas | B47: 0 | C47: Total Bebidas | D47: 2.278581 | E47: 2.3379096 | F47: 2.2039365 | G47: 2.1867535 | H47: 2.2358182 | I47: 2.3026658 | J47: 2.19403 | K47: 2.1615291 | L47: 2.0503236
A48: =B45&C48 -> VOLUMEN POR ACTO (consumiciones)Total Bebidas Frias | B48: 0 | C48: Total Bebidas Frias | D48: 2.5048906 | E48: 2.538779 | F48: 2.4232014 | G48: 2.4066463 | H48: 2.4421573 | I48: 2.4907129 | J48: 2.434297 | K48: 2.4058561 | L48: 2.2533254
A49: =B45&C49 -> VOLUMEN POR ACTO (consumiciones)Total Bebidas Calientes | B49: 0 | C49: Total Bebidas Calientes | D49: 1.654323 | E49: 1.6402435 | F49: 1.6396848 | G49: 1.6296031 | H49: 1.6101278 | I49: 1.6229 | J49: 1.6290868 | K49: 1.6316977 | L49: 1.5531744
A50: =B45&C50 -> VOLUMEN POR ACTO (consumiciones)Total Aperitivos | B50: 0 | C50: Total Aperitivos | D50: 2.0404566 | E50: 1.8429268 | F50: 2.1628376 | G50: 2.1293763 | H50: 1.966925 | I50: 1.9412718 | J50: 2.1460043 | K50: 2.0832257 | L50: 1.8938325
A51: =B51&C51 -> CONSUMO PER CAPITA (kg ó litros por individuo)TotalAlimentacion | B51: CONSUMO PER CAPITA (kg ó litros por individuo) | C51: TotalAlimentacion | D51: 24.885006 | E51: 37.059423 | F51: 23.445319 | G51: 22.745661 | H51: 24.4386 | I51: 34.556308 | J51: 22.620587 | K51: 22.118455 | L51: 23.122055
A52: =B51&C52 -> CONSUMO PER CAPITA (kg ó litros por individuo).T.Alimentos TOTAL ING | B52: 0 | C52: .T.Alimentos TOTAL ING | D52: 10.507219 | E52: 15.013728 | F52: 10.156947 | G52: 10.106366 | H52: 10.415321 | I52: 14.139459 | J52: 9.9768567 | K52: 10.09155 | L52: 10.328748
A53: =B51&C53 -> CONSUMO PER CAPITA (kg ó litros por individuo)Total Bebidas | B53: 0 | C53: Total Bebidas | D53: 14.059937 | E53: 21.61022 | F53: 12.943993 | G53: 12.306124 | H53: 13.674214 | I53: 19.989408 | J53: 12.326801 | K53: 11.722553 | L53: 12.414209
A54: =B51&C54 -> CONSUMO PER CAPITA (kg ó litros por individuo)Total Bebidas Frias | B54: 0 | C54: Total Bebidas Frias | D54: 12.255948 | E54: 19.399762 | F54: 11.135374 | G54: 10.500059 | H54: 11.99938 | I54: 17.929886 | J54: 10.468665 | K54: 9.8622507 | L54: 10.735934
A55: =B51&C55 -> CONSUMO PER CAPITA (kg ó litros por individuo)Total Bebidas Calientes | B55: 0 | C55: Total Bebidas Calientes | D55: 1.8039873 | E55: 2.2104595 | F55: 1.8086193 | G55: 1.806064 | H55: 1.6748365 | I55: 2.0595214 | J55: 1.8581359 | K55: 1.8603023 | L55: 1.6782735
A56: =B51&C56 -> CONSUMO PER CAPITA (kg ó litros por individuo)Total Aperitivos | B56: 0 | C56: Total Aperitivos | D56: 0.31785156 | E56: 0.43547672 | F56: 0.34437584 | G56: 0.33317443 | H56: 0.3490656 | I56: 0.42744664 | J56: 0.31692509 | K56: 0.30434903 | L56: 0.37910039
A57: =B57&C57 -> GASTO PER CAPITA (€ por individuo)TotalAlimentacion | B57: GASTO PER CAPITA (€ por individuo) | C57: TotalAlimentacion | D57: 231.77082 | E57: 336.66216 | F57: 225.10418 | G57: 217.91101 | H57: 229.42308 | I57: 325.57725 | J57: 225.08007 | K57: 215.59147 | L57: 232.12788
A58: =B57&C58 -> GASTO PER CAPITA (€ por individuo).T.Alimentos TOTAL ING | B58: 0 | C58: .T.Alimentos TOTAL ING | D58: 154.31252 | E58: 225.55188 | F58: 151.53391 | G58: 147.79381 | H58: 155.04061 | I58: 221.03214 | J58: 153.73213 | K58: 148.22374 | L58: 161.39893
A59: =B57&C59 -> GASTO PER CAPITA (€ por individuo)Total Bebidas | B59: 0 | C59: Total Bebidas | D59: 74.724881 | E59: 107.39747 | F59: 70.78485 | G59: 67.321042 | H59: 71.474126 | I59: 101.00407 | J59: 68.604926 | K59: 64.713165 | L59: 67.376252
A60: =B57&C60 -> GASTO PER CAPITA (€ por individuo)Total Bebidas Frias | B60: 0 | C60: Total Bebidas Frias | D60: 54.084535 | E60: 82.091497 | F60: 50.079227 | G60: 46.591644 | H60: 52.259898 | I60: 77.217647 | J60: 47.268278 | K60: 43.658795 | L60: 48.327689
A61: =B57&C61 -> GASTO PER CAPITA (€ por individuo)Total Bebidas Calientes | B61: 0 | C61: Total Bebidas Calientes | D61: 20.640342 | E61: 25.305969 | F61: 20.705656 | G61: 20.729399 | H61: 19.214229 | I61: 23.786421 | J61: 21.336635 | K61: 21.054355 | L61: 19.048572
A62: =B57&C62 -> GASTO PER CAPITA (€ por individuo)Total Aperitivos | B62: 0 | C62: Total Aperitivos | D62: 2.7334519 | E62: 3.7128806 | F62: 2.7853888 | G62: 2.796211 | H62: 2.9083618 | I62: 3.5411915 | J62: 2.7429729 | K62: 2.6545602 | L62: 3.3527126
A63: =B63&C63 -> PRECIO MEDIO (kg ó litros)TotalAlimentacion | B63: PRECIO MEDIO (kg ó litros) | C63: TotalAlimentacion | D63: 9.3136736 | E63: 9.0843874 | F63: 9.6012418 | G63: 9.580333 | H63: 9.387734 | I63: 9.4216444 | J63: 9.950231 | K63: 9.747131 | L63: 10.039241
A64: =B63&C64 -> PRECIO MEDIO (kg ó litros).T.Alimentos TOTAL ING | B64: 0 | C64: .T.Alimentos TOTAL ING | D64: 14.686333 | E64: 15.023042 | F64: 14.919238 | G64: 14.623833 | H64: 14.885822 | I64: 15.632291 | J64: 15.408874 | K64: 14.687907 | L64: 15.626185
A65: =B63&C65 -> PRECIO MEDIO (kg ó litros)Total Bebidas | B65: 0 | C65: Total Bebidas | D65: 5.3147378 | E65: 4.9697535 | F65: 5.4685484 | G65: 5.4705319 | H65: 5.2269276 | I65: 5.0528794 | J65: 5.5655091 | K65: 5.5203987 | L65: 5.4273498
A66: =B63&C66 -> PRECIO MEDIO (kg ó litros)Total Bebidas Frias | B66: 0 | C66: Total Bebidas Frias | D66: 4.4129213 | E66: 4.2315724 | F66: 4.4973096 | G66: 4.4372747 | H66: 4.3552167 | I66: 4.3066447 | J66: 4.5152154 | K66: 4.4268592 | L66: 4.5014891
A67: =B63&C67 -> PRECIO MEDIO (kg ó litros)Total Bebidas Calientes | B67: 0 | C67: Total Bebidas Calientes | D67: 11.441512 | E67: 11.448284 | F67: 11.448322 | G67: 11.477666 | H67: 11.472301 | I67: 11.54949 | J67: 11.482818 | K67: 11.317706 | L67: 11.3501
A68: =B63&C68 -> PRECIO MEDIO (kg ó litros)Total Aperitivos | B68: 0 | C68: Total Aperitivos | D68: 8.599775 | E68: 8.526014 | F68: 8.0882237 | G68: 8.3926339 | H68: 8.3318489 | I68: 8.284523 | J68: 8.6549565 | K68: 8.7220917 | L68: 8.843865

Sheet KPI
A2: Informe consumo de alimentacion fuera del hogar
A3: 2
A5: Dimensión
A7: 11 | C7: 4 | D7: 5 | E7: 6 | F7: 7 | G7: 8 | H7: 9 | I7: 10 | J7: 11 | K7: 12
A8: =VLOOKUP(A7,DESPLEGABLES!C3:E13,3,0) -> PRECIO MEDIO (kg ó litros) | C8: =KPI_DATOS!D2 -> TRIM 2 24 | D8: =KPI_DATOS!E2 -> TRIM 3 24 | E8: =KPI_DATOS!F2 -> TRIM 4 24 | F8: =KPI_DATOS!G2 -> TRIM 1 25 | G8: =KPI_DATOS!H2 -> TRIM 2 25 | H8: =KPI_DATOS!I2 -> TRIM 3 25 | I8: =KPI_DATOS!J2 -> TRIM 4 25 | J8: =KPI_DATOS!K2 -> TRIM 1 26 | K8: =KPI_DATOS!L2 -> TRIM 2 26 | M8: ="Evolución "&K8&" vs "&G8 -> Evolución TRIM 2 26 vs TRIM 2 25
A9: Total Alimentacion | B9: TotalAlimentacion | C9: =IF($A$7<4,VLOOKUP($A$8&$B9,KPI_DATOS!$A:$L,C$7,0)/1000,VLOOKUP($A$8&$B9,KPI_DATOS!$A:$L,C$7,0)) -> 9.3136736 | D9: =IF($A$7<4,VLOOKUP($A$8&$B9,KPI_DATOS!$A:$L,D$7,0)/1000,VLOOKUP($A$8&$B9,KPI_DATOS!$A:$L,D$7,0)) -> 9.0843874 | E9: =IF($A$7<4,VLOOKUP($A$8&$B9,KPI_DATOS!$A:$L,E$7,0)/1000,VLOOKUP($A$8&$B9,KPI_DATOS!$A:$L,E$7,0)) -> 9.6012418 | F9: =IF($A$7<4,VLOOKUP($A$8&$B9,KPI_DATOS!$A:$L,F$7,0)/1000,VLOOKUP($A$8&$B9,KPI_DATOS!$A:$L,F$7,0)) -> 9.580333 | G9: =IF($A$7<4,VLOOKUP($A$8&$B9,KPI_DATOS!$A:$L,G$7,0)/1000,VLOOKUP($A$8&$B9,KPI_DATOS!$A:$L,G$7,0)) -> 9.387734 | H9: =IF($A$7<4,VLOOKUP($A$8&$B9,KPI_DATOS!$A:$L,H$7,0)/1000,VLOOKUP($A$8&$B9,KPI_DATOS!$A:$L,H$7,0)) -> 9.4216444 | I9: =IF($A$7<4,VLOOKUP($A$8&$B9,KPI_DATOS!$A:$L,I$7,0)/1000,VLOOKUP($A$8&$B9,KPI_DATOS!$A:$L,I$7,0)) -> 9.950231 | J9: =IF($A$7<4,VLOOKUP($A$8&$B9,KPI_DATOS!$A:$L,J$7,0)/1000,VLOOKUP($A$8&$B9,KPI_DATOS!$A:$L,J$7,0)) -> 9.747131 | K9: =IF($A$7<4,VLOOKUP($A$8&$B9,KPI_DATOS!$A:$L,K$7,0)/1000,VLOOKUP($A$8&$B9,KPI_DATOS!$A:$L,K$7,0)) -> 10.039241 | M9: =IFERROR(IF($A$7=4,(K9-G9),((K9/G9-1)*100)),"-") -> 6.9399767
A10: .T.Alimentos TOTAL ING | C10: =IF($A$7<4,VLOOKUP($A$8&$A10,KPI_DATOS!$A:$L,C$7,0)/1000,VLOOKUP($A$8&$A10,KPI_DATOS!$A:$L,C$7,0)) -> 14.686333 | D10: =IF($A$7<4,VLOOKUP($A$8&$A10,KPI_DATOS!$A:$L,D$7,0)/1000,VLOOKUP($A$8&$A10,KPI_DATOS!$A:$L,D$7,0)) -> 15.023042 | E10: =IF($A$7<4,VLOOKUP($A$8&$A10,KPI_DATOS!$A:$L,E$7,0)/1000,VLOOKUP($A$8&$A10,KPI_DATOS!$A:$L,E$7,0)) -> 14.919238 | F10: =IF($A$7<4,VLOOKUP($A$8&$A10,KPI_DATOS!$A:$L,F$7,0)/1000,VLOOKUP($A$8&$A10,KPI_DATOS!$A:$L,F$7,0)) -> 14.623833 | G10: =IF($A$7<4,VLOOKUP($A$8&$A10,KPI_DATOS!$A:$L,G$7,0)/1000,VLOOKUP($A$8&$A10,KPI_DATOS!$A:$L,G$7,0)) -> 14.885822 | H10: =IF($A$7<4,VLOOKUP($A$8&$A10,KPI_DATOS!$A:$L,H$7,0)/1000,VLOOKUP($A$8&$A10,KPI_DATOS!$A:$L,H$7,0)) -> 15.632291 | I10: =IF($A$7<4,VLOOKUP($A$8&$A10,KPI_DATOS!$A:$L,I$7,0)/1000,VLOOKUP($A$8&$A10,KPI_DATOS!$A:$L,I$7,0)) -> 15.408874 | J10: =IF($A$7<4,VLOOKUP($A$8&$A10,KPI_DATOS!$A:$L,J$7,0)/1000,VLOOKUP($A$8&$A10,KPI_DATOS!$A:$L,J$7,0)) -> 14.687907 | K10: =IF($A$7<4,VLOOKUP($A$8&$A10,KPI_DATOS!$A:$L,K$7,0)/1000,VLOOKUP($A$8&$A10,KPI_DATOS!$A:$L,K$7,0)) -> 15.626185 | M10: =IFERROR(IF($A$7=4,(K10-G10),((K10/G10-1)*100)),"-") -> 4.9736121
A11: Total Bebidas | C11: =IF($A$7<4,VLOOKUP($A$8&$A11,KPI_DATOS!$A:$L,C$7,0)/1000,VLOOKUP($A$8&$A11,KPI_DATOS!$A:$L,C$7,0)) -> 5.3147378 | D11: =IF($A$7<4,VLOOKUP($A$8&$A11,KPI_DATOS!$A:$L,D$7,0)/1000,VLOOKUP($A$8&$A11,KPI_DATOS!$A:$L,D$7,0)) -> 4.9697535 | E11: =IF($A$7<4,VLOOKUP($A$8&$A11,KPI_DATOS!$A:$L,E$7,0)/1000,VLOOKUP($A$8&$A11,KPI_DATOS!$A:$L,E$7,0)) -> 5.4685484 | F11: =IF($A$7<4,VLOOKUP($A$8&$A11,KPI_DATOS!$A:$L,F$7,0)/1000,VLOOKUP($A$8&$A11,KPI_DATOS!$A:$L,F$7,0)) -> 5.4705319 | G11: =IF($A$7<4,VLOOKUP($A$8&$A11,KPI_DATOS!$A:$L,G$7,0)/1000,VLOOKUP($A$8&$A11,KPI_DATOS!$A:$L,G$7,0)) -> 5.2269276 | H11: =IF($A$7<4,VLOOKUP($A$8&$A11,KPI_DATOS!$A:$L,H$7,0)/1000,VLOOKUP($A$8&$A11,KPI_DATOS!$A:$L,H$7,0)) -> 5.0528794 | I11: =IF($A$7<4,VLOOKUP($A$8&$A11,KPI_DATOS!$A:$L,I$7,0)/1000,VLOOKUP($A$8&$A11,KPI_DATOS!$A:$L,I$7,0)) -> 5.5655091 | J11: =IF($A$7<4,VLOOKUP($A$8&$A11,KPI_DATOS!$A:$L,J$7,0)/1000,VLOOKUP($A$8&$A11,KPI_DATOS!$A:$L,J$7,0)) -> 5.5203987 | K11: =IF($A$7<4,VLOOKUP($A$8&$A11,KPI_DATOS!$A:$L,K$7,0)/1000,VLOOKUP($A$8&$A11,KPI_DATOS!$A:$L,K$7,0)) -> 5.4273498 | M11: =IFERROR(IF($A$7=4,(K11-G11),((K11/G11-1)*100)),"-") -> 3.8344175
A12: Total Bebidas Frias | C12: =IF($A$7<4,VLOOKUP($A$8&$A12,KPI_DATOS!$A:$L,C$7,0)/1000,VLOOKUP($A$8&$A12,KPI_DATOS!$A:$L,C$7,0)) -> 4.4129213 | D12: =IF($A$7<4,VLOOKUP($A$8&$A12,KPI_DATOS!$A:$L,D$7,0)/1000,VLOOKUP($A$8&$A12,KPI_DATOS!$A:$L,D$7,0)) -> 4.2315724 | E12: =IF($A$7<4,VLOOKUP($A$8&$A12,KPI_DATOS!$A:$L,E$7,0)/1000,VLOOKUP($A$8&$A12,KPI_DATOS!$A:$L,E$7,0)) -> 4.4973096 | F12: =IF($A$7<4,VLOOKUP($A$8&$A12,KPI_DATOS!$A:$L,F$7,0)/1000,VLOOKUP($A$8&$A12,KPI_DATOS!$A:$L,F$7,0)) -> 4.4372747 | G12: =IF($A$7<4,VLOOKUP($A$8&$A12,KPI_DATOS!$A:$L,G$7,0)/1000,VLOOKUP($A$8&$A12,KPI_DATOS!$A:$L,G$7,0)) -> 4.3552167 | H12: =IF($A$7<4,VLOOKUP($A$8&$A12,KPI_DATOS!$A:$L,H$7,0)/1000,VLOOKUP($A$8&$A12,KPI_DATOS!$A:$L,H$7,0)) -> 4.3066447 | I12: =IF($A$7<4,VLOOKUP($A$8&$A12,KPI_DATOS!$A:$L,I$7,0)/1000,VLOOKUP($A$8&$A12,KPI_DATOS!$A:$L,I$7,0)) -> 4.5152154 | J12: =IF($A$7<4,VLOOKUP($A$8&$A12,KPI_DATOS!$A:$L,J$7,0)/1000,VLOOKUP($A$8&$A12,KPI_DATOS!$A:$L,J$7,0)) -> 4.4268592 | K12: =IF($A$7<4,VLOOKUP($A$8&$A12,KPI_DATOS!$A:$L,K$7,0)/1000,VLOOKUP($A$8&$A12,KPI_DATOS!$A:$L,K$7,0)) -> 4.5014891 | M12: =IFERROR(IF($A$7=4,(K12-G12),((K12/G12-1)*100)),"-") -> 3.3585571
A13: Total Bebidas Calientes | C13: =IF($A$7<4,VLOOKUP($A$8&$A13,KPI_DATOS!$A:$L,C$7,0)/1000,VLOOKUP($A$8&$A13,KPI_DATOS!$A:$L,C$7,0)) -> 11.441512 | D13: =IF($A$7<4,VLOOKUP($A$8&$A13,KPI_DATOS!$A:$L,D$7,0)/1000,VLOOKUP($A$8&$A13,KPI_DATOS!$A:$L,D$7,0)) -> 11.448284 | E13: =IF($A$7<4,VLOOKUP($A$8&$A13,KPI_DATOS!$A:$L,E$7,0)/1000,VLOOKUP($A$8&$A13,KPI_DATOS!$A:$L,E$7,0)) -> 11.448322 | F13: =IF($A$7<4,VLOOKUP($A$8&$A13,KPI_DATOS!$A:$L,F$7,0)/1000,VLOOKUP($A$8&$A13,KPI_DATOS!$A:$L,F$7,0)) -> 11.477666 | G13: =IF($A$7<4,VLOOKUP($A$8&$A13,KPI_DATOS!$A:$L,G$7,0)/1000,VLOOKUP($A$8&$A13,KPI_DATOS!$A:$L,G$7,0)) -> 11.472301 | H13: =IF($A$7<4,VLOOKUP($A$8&$A13,KPI_DATOS!$A:$L,H$7,0)/1000,VLOOKUP($A$8&$A13,KPI_DATOS!$A:$L,H$7,0)) -> 11.54949 | I13: =IF($A$7<4,VLOOKUP($A$8&$A13,KPI_DATOS!$A:$L,I$7,0)/1000,VLOOKUP($A$8&$A13,KPI_DATOS!$A:$L,I$7,0)) -> 11.482818 | J13: =IF($A$7<4,VLOOKUP($A$8&$A13,KPI_DATOS!$A:$L,J$7,0)/1000,VLOOKUP($A$8&$A13,KPI_DATOS!$A:$L,J$7,0)) -> 11.317706 | K13: =IF($A$7<4,VLOOKUP($A$8&$A13,KPI_DATOS!$A:$L,K$7,0)/1000,VLOOKUP($A$8&$A13,KPI_DATOS!$A:$L,K$7,0)) -> 11.3501 | M13: =IFERROR(IF($A$7=4,(K13-G13),((K13/G13-1)*100)),"-") -> -1.0651845
A14: Total Aperitivos | C14: =IF($A$7<4,VLOOKUP($A$8&$A14,KPI_DATOS!$A:$L,C$7,0)/1000,VLOOKUP($A$8&$A14,KPI_DATOS!$A:$L,C$7,0)) -> 8.599775 | D14: =IF($A$7<4,VLOOKUP($A$8&$A14,KPI_DATOS!$A:$L,D$7,0)/1000,VLOOKUP($A$8&$A14,KPI_DATOS!$A:$L,D$7,0)) -> 8.526014 | E14: =IF($A$7<4,VLOOKUP($A$8&$A14,KPI_DATOS!$A:$L,E$7,0)/1000,VLOOKUP($A$8&$A14,KPI_DATOS!$A:$L,E$7,0)) -> 8.0882237 | F14: =IF($A$7<4,VLOOKUP($A$8&$A14,KPI_DATOS!$A:$L,F$7,0)/1000,VLOOKUP($A$8&$A14,KPI_DATOS!$A:$L,F$7,0)) -> 8.3926339 | G14: =IF($A$7<4,VLOOKUP($A$8&$A14,KPI_DATOS!$A:$L,G$7,0)/1000,VLOOKUP($A$8&$A14,KPI_DATOS!$A:$L,G$7,0)) -> 8.3318489 | H14: =IF($A$7<4,VLOOKUP($A$8&$A14,KPI_DATOS!$A:$L,H$7,0)/1000,VLOOKUP($A$8&$A14,KPI_DATOS!$A:$L,H$7,0)) -> 8.284523 | I14: =IF($A$7<4,VLOOKUP($A$8&$A14,KPI_DATOS!$A:$L,I$7,0)/1000,VLOOKUP($A$8&$A14,KPI_DATOS!$A:$L,I$7,0)) -> 8.6549565 | J14: =IF($A$7<4,VLOOKUP($A$8&$A14,KPI_DATOS!$A:$L,J$7,0)/1000,VLOOKUP($A$8&$A14,KPI_DATOS!$A:$L,J$7,0)) -> 8.7220917 | K14: =IF($A$7<4,VLOOKUP($A$8&$A14,KPI_DATOS!$A:$L,K$7,0)/1000,VLOOKUP($A$8&$A14,KPI_DATOS!$A:$L,K$7,0)) -> 8.843865 | M14: =IFERROR(IF($A$7=4,(K14-G14),((K14/G14-1)*100)),"-") -> 6.1452876

Sheet PERFIL_DATOS
B2: 0 | C2: 0 | D2: 0 | E2: TRIM 2 24 | F2: TRIM 3 24 | G2: TRIM 4 24 | H2: TRIM 1 25 | I2: TRIM 2 25 | J2: TRIM 3 25 | K2: TRIM 4 25 | L2: TRIM 1 26 | M2: TRIM 2 26
A3: =B3&C3&D3 -> DISTRIBUCION VOLUMEN POR CRITERIO (Consumiciones)TotalAlimentacionT.ESPAÑA | B3: DISTRIBUCION VOLUMEN POR CRITERIO (Consumiciones) | C3: TotalAlimentacion | D3: T.ESPAÑA | E3: 100 | F3: 100 | G3: 100 | H3: 100 | I3: 100 | J3: 100 | K3: 100 | L3: 100 | M3: 100
A4: =B4&C4&D4 -> DISTRIBUCION VOLUMEN POR CRITERIO (Consumiciones)TotalAlimentacionBCN AM | B4: =B$3 -> DISTRIBUCION VOLUMEN POR CRITERIO (Consumiciones) | C4: =$C$3 -> TotalAlimentacion | D4: BCN AM | E4: 9.5656471 | F4: 9.4915285 | G4: 9.731825 | H4: 9.688103 | I4: 9.6465919 | J4: 10.197554 | K4: 9.8205744 | L4: 10.239953 | M4: 10.296662
A5: =B5&C5&D5 -> DISTRIBUCION VOLUMEN POR CRITERIO (Consumiciones)TotalAlimentacionREST.CAT ARAGON | B5: =B$3 -> DISTRIBUCION VOLUMEN POR CRITERIO (Consumiciones) | C5: =$C$3 -> TotalAlimentacion | D5: REST.CAT ARAGON | E5: 14.266279 | F5: 14.347298 | G5: 15.442597 | H5: 15.148466 | I5: 14.860959 | J5: 15.658698 | K5: 15.546668 | L5: 15.546218 | M5: 14.347364
A6: =B6&C6&D6 -> DISTRIBUCION VOLUMEN POR CRITERIO (Consumiciones)TotalAlimentacionLEVANTE | B6: =B$3 -> DISTRIBUCION VOLUMEN POR CRITERIO (Consumiciones) | C6: =$C$3 -> TotalAlimentacion | D6: LEVANTE | E6: 14.424207 | F6: 14.361724 | G6: 14.379692 | H6: 14.681063 | I6: 14.969856 | J6: 14.504211 | K6: 15.196534 | L6: 14.819452 | M6: 15.683239
A7: =B7&C7&D7 -> DISTRIBUCION VOLUMEN POR CRITERIO (Consumiciones)TotalAlimentacionANDALUCIA | B7: =B$3 -> DISTRIBUCION VOLUMEN POR CRITERIO (Consumiciones) | C7: =$C$3 -> TotalAlimentacion | D7: ANDALUCIA | E7: 20.116669 | F7: 20.278876 | G7: 19.951279 | H7: 19.772885 | I7: 19.401116 | J7: 19.073222 | K7: 19.633148 | L7: 19.716903 | M7: 19.79854
A8: =B8&C8&D8 -> DISTRIBUCION VOLUMEN POR CRITERIO (Consumiciones)TotalAlimentacionMDD AM | B8: =B$3 -> DISTRIBUCION VOLUMEN POR CRITERIO (Consumiciones) | C8: =$C$3 -> TotalAlimentacion | D8: MDD AM | E8: 13.753265 | F8: 13.165168 | G8: 13.078118 | H8: 12.714475 | I8: 13.789096 | J8: 13.082381 | K8: 12.79042 | L8: 12.502074 | M8: 12.900786
A9: =B9&C9&D9 -> DISTRIBUCION VOLUMEN POR CRITERIO (Consumiciones)TotalAlimentacionRTO CENTRO | B9: =B$3 -> DISTRIBUCION VOLUMEN POR CRITERIO (Consumiciones) | C9: =$C$3 -> TotalAlimentacion | D9: RTO CENTRO | E9: 8.5054459 | F9: 8.5617522 | G9: 8.8182006 | H9: 8.7914716 | I9: 8.2818266 | J9: 8.6194028 | K9: 8.8209657 | L9: 9.0733502 | M9: 9.0406592
A10: =B10&C10&D10 -> DISTRIBUCION VOLUMEN POR CRITERIO (Consumiciones)TotalAlimentacionNORTE-CENTRO | B10: =B$3 -> DISTRIBUCION VOLUMEN POR CRITERIO (Consumiciones) | C10: =$C$3 -> TotalAlimentacion | D10: NORTE-CENTRO | E10: 9.6015518 | F10: 10.314108 | G10: 9.5559569 | H10: 9.4839149 | I10: 9.733226 | J10: 9.4715541 | K10: 8.8333738 | L10: 9.1186636 | M10: 9.308056
A11: =B11&C11&D11 -> DISTRIBUCION VOLUMEN POR CRITERIO (Consumiciones)TotalAlimentacionNOROESTE | B11: =B$3 -> DISTRIBUCION VOLUMEN POR CRITERIO (Consumiciones) | C11: =$C$3 -> TotalAlimentacion | D11: NOROESTE | E11: 9.7669452 | F11: 9.4795425 | G11: 9.0423356 | H11: 9.7196359 | I11: 9.317341 | J11: 9.3929677 | K11: 9.3583305 | L11: 8.983386 | M11: 8.6246806
A12: =B12&C12&D12 -> DISTRIBUCION VOLUMEN POR CRITERIO (Consumiciones)TotalAlimentacion<2MIL | B12: =B$3 -> DISTRIBUCION VOLUMEN POR CRITERIO (Consumiciones) | C12: =$C$3 -> TotalAlimentacion | D12: <2MIL | E12: 5.5038108 | F12: 5.4811706 | G12: 5.3324625 | H12: 5.6440426 | I12: 5.3222506 | J12: 5.509795 | K12: 5.4647346 | L12: 5.6859468 | M12: 4.7831684
A13: =B13&C13&D13 -> DISTRIBUCION VOLUMEN POR CRITERIO (Consumiciones)TotalAlimentacion2-5MIL | B13: =B$3 -> DISTRIBUCION VOLUMEN POR CRITERIO (Consumiciones) | C13: =$C$3 -> TotalAlimentacion | D13: 2-5MIL | E13: 4.5335593 | F13: 4.6242594 | G13: 4.091937 | H13: 4.0235044 | I13: 4.0653827 | J13: 4.0758199 | K13: 4.341873 | L13: 4.9121105 | M13: 4.467976
A14: =B14&C14&D14 -> DISTRIBUCION VOLUMEN POR CRITERIO (Consumiciones)TotalAlimentacion5-10MIL | B14: =B$3 -> DISTRIBUCION VOLUMEN POR CRITERIO (Consumiciones) | C14: =$C$3 -> TotalAlimentacion | D14: 5-10MIL | E14: 7.7464161 | F14: 7.4341671 | G14: 7.5857574 | H14: 7.6456686 | I14: 7.9956762 | J14: 7.6559991 | K14: 7.8359816 | L14: 7.6886769 | M14: 7.2942502
A15: =B15&C15&D15 -> DISTRIBUCION VOLUMEN POR CRITERIO (Consumiciones)TotalAlimentacion10-30MIL | B15: =B$3 -> DISTRIBUCION VOLUMEN POR CRITERIO (Consumiciones) | C15: =$C$3 -> TotalAlimentacion | D15: 10-30MIL | E15: 17.950842 | F15: 17.542778 | G15: 17.958047 | H15: 17.196381 | I15: 17.538902 | J15: 17.598424 | K15: 17.361795 | L15: 17.450521 | M15: 18.658144
... A32: =B32&C32&D32 -> DISTRIBUCION VOLUMEN POR CRITERIO (Consumiciones)TotalAlimentacionMUJER | B32: =B$3 -> DISTRIBUCION VOLUMEN POR CRITERIO (Consumiciones) | C32: =$C$3 -> TotalAlimentacion | D32: MUJER | E32: 43.624525 | F32: 43.686385 | G32: 43.487116 | H32: 43.585187 | I32: 43.510649 | J32: 43.550915 | K32: 44.010287 | L32: 42.892715 | M32: 45.417404
A33: =B33&C33&D33 -> DISTRIBUCION VOLUMEN POR CRITERIO (Consumiciones).T.Alimentos TOTAL INGT.ESPAÑA | B33: =B$3 -> DISTRIBUCION VOLUMEN POR CRITERIO (Consumiciones) | C33: .T.Alimentos TOTAL ING | D33: T.ESPAÑA | E33: 100 | F33: 100 | G33: 100 | H33: 100 | I33: 100 | J33: 100 | K33: 100 | L33: 100 | M33: 100
A34: =B34&C34&D34 -> DISTRIBUCION VOLUMEN POR CRITERIO (Consumiciones).T.Alimentos TOTAL INGBCN AM | B34: =B$3 -> DISTRIBUCION VOLUMEN POR CRITERIO (Consumiciones) | C34: =C$33 -> .T.Alimentos TOTAL ING | D34: BCN AM | E34: 10.267468 | F34: 10.198797 | G34: 10.160536 | H34: 10.083086 | I34: 9.3698905 | J34: 10.768992 | K34: 10.321802 | L34: 10.735353 | M34: 10.96538
A35: =B35&C35&D35 -> DISTRIBUCION VOLUMEN POR CRITERIO (Consumiciones).T.Alimentos TOTAL INGREST.CAT ARAGON | B35: =B$3 -> DISTRIBUCION VOLUMEN POR CRITERIO (Consumiciones) | C35: =C$33 -> .T.Alimentos TOTAL ING | D35: REST.CAT ARAGON | E35: 13.742091 | F35: 14.366254 | G35: 16.125033 | H35: 15.800082 | I35: 14.802899 | J35: 16.061212 | K35: 17.051257 | L35: 16.3791 | M35: 15.390569
A36: =B36&C36&D36 -> DISTRIBUCION VOLUMEN POR CRITERIO (Consumiciones).T.Alimentos TOTAL INGLEVANTE | B36: =B$3 -> DISTRIBUCION VOLUMEN POR CRITERIO (Consumiciones) | C36: =C$33 -> .T.Alimentos TOTAL ING | D36: LEVANTE | E36: 16.027892 | F36: 15.949767 | G36: 15.822974 | H36: 15.842553 | I36: 17.006875 | J36: 15.857649 | K36: 16.388002 | L36: 16.041386 | M36: 17.420668
A37: =B37&C37&D37 -> DISTRIBUCION VOLUMEN POR CRITERIO (Consumiciones).T.Alimentos TOTAL INGANDALUCIA | B37: =B$3 -> DISTRIBUCION VOLUMEN POR CRITERIO (Consumiciones) | C37: =C$33 -> .T.Alimentos TOTAL ING | D37: ANDALUCIA | E37: 21.033675 | F37: 21.019113 | G37: 20.477035 | H37: 20.347838 | I37: 20.021056 | J37: 19.263683 | K37: 19.652921 | L37: 19.57223 | M37: 19.11025
A38: =B38&C38&D38 -> DISTRIBUCION VOLUMEN POR CRITERIO (Consumiciones).T.Alimentos TOTAL INGMDD AM | B38: =B$3 -> DISTRIBUCION VOLUMEN POR CRITERIO (Consumiciones) | C38: =C$33 -> .T.Alimentos TOTAL ING | D38: MDD AM | E38: 15.781403 | F38: 14.330377 | G38: 14.746673 | H38: 14.600258 | I38: 15.764676 | J38: 14.527386 | K38: 14.549108 | L38: 14.711399 | M38: 14.271096
A39: =B39&C39&D39 -> DISTRIBUCION VOLUMEN POR CRITERIO (Consumiciones).T.Alimentos TOTAL INGRTO CENTRO | B39: =B$3 -> DISTRIBUCION VOLUMEN POR CRITERIO (Consumiciones) | C39: =C$33 -> .T.Alimentos TOTAL ING | D39: RTO CENTRO | E39: 7.8518762 | F39: 7.7621446 | G39: 8.1794323 | H39: 8.104538 | I39: 7.715312 | J39: 8.4154393 | K39: 8.2769618 | L39: 8.67022 | M39: 8.4253485
A40: =B40&C40&D40 -> DISTRIBUCION VOLUMEN POR CRITERIO (Consumiciones).T.Alimentos TOTAL INGNORTE-CENTRO | B40: =B$3 -> DISTRIBUCION VOLUMEN POR CRITERIO (Consumiciones) | C40: =C$33 -> .T.Alimentos TOTAL ING | D40: NORTE-CENTRO | E40: 7.5304838 | F40: 8.7840919 | G40: 7.7000275 | H40: 7.8909654 | I40: 8.3429327 | J40: 8.1152393 | K40: 6.9900378 | L40: 7.3390266 | M40: 7.8262796
A41: =B41&C41&D41 -> DISTRIBUCION VOLUMEN POR CRITERIO (Consumiciones).T.Alimentos TOTAL INGNOROESTE | B41: =B$3 -> DISTRIBUCION VOLUMEN POR CRITERIO (Consumiciones) | C41: =C$33 -> .T.Alimentos TOTAL ING | D41: NOROESTE | E41: 7.7651476 | F41: 7.5894315 | G41: 6.7882649 | H41: 7.3306788 | I41: 6.9763374 | J41: 6.9903741 | K41: 6.7699057 | L41: 6.551312 | M41: 6.5904475
A42: =B42&C42&D42 -> DISTRIBUCION VOLUMEN POR CRITERIO (Consumiciones).T.Alimentos TOTAL ING<2MIL | B42: =B$3 -> DISTRIBUCION VOLUMEN POR CRITERIO (Consumiciones) | C42: =C$33 -> .T.Alimentos TOTAL ING | D42: <2MIL | E42: 4.7371846 | F42: 4.7054777 | G42: 4.7099949 | H42: 4.7941301 | I42: 4.6194841 | J42: 4.6510411 | K42: 5.1163918 | L42: 5.3203313 | M42: 4.5913219
A43: =B43&C43&D43 -> DISTRIBUCION VOLUMEN POR CRITERIO (Consumiciones).T.Alimentos TOTAL ING2-5MIL | B43: =B$3 -> DISTRIBUCION VOLUMEN POR CRITERIO (Consumiciones) | C43: =C$33 -> .T.Alimentos TOTAL ING | D43: 2-5MIL | E43: 3.9717357 | F43: 4.2431555 | G43: 3.5498086 | H43: 3.6447944 | I43: 3.570794 | J43: 3.7195293 | K43: 3.9495319 | L43: 4.598886 | M43: 4.1215856
A44: =B44&C44&D44 -> DISTRIBUCION VOLUMEN POR CRITERIO (Consumiciones).T.Alimentos TOTAL ING5-10MIL | B44: =B$3 -> DISTRIBUCION VOLUMEN POR CRITERIO (Consumiciones) | C44: =C$33 -> .T.Alimentos TOTAL ING | D44: 5-10MIL | E44: 7.8380564 | F44: 7.3529448 | G44: 7.4459183 | H44: 7.5313402 | I44: 8.2225417 | J44: 7.5081151 | K44: 7.4478587 | L44: 7.4070427 | M44: 7.2206541
A45: =B45&C45&D45 -> DISTRIBUCION VOLUMEN POR CRITERIO (Consumiciones).T.Alimentos TOTAL ING10-30MIL | B45: =B$3 -> DISTRIBUCION VOLUMEN POR CRITERIO (Consumiciones) | C45: =C$33 -> .T.Alimentos TOTAL ING | D45: 10-30MIL | E45: 16.996104 | F45: 16.803527 | G45: 17.454142 | H45: 16.099602 | I45: 16.689995 | J45: 16.443068 | K45: 16.521175 | L45: 16.38502 | M45: 18.197637
... A62: =B62&C62&D62 -> DISTRIBUCION VOLUMEN POR CRITERIO (Consumiciones).T.Alimentos TOTAL INGMUJER | B62: =B$3 -> DISTRIBUCION VOLUMEN POR CRITERIO (Consumiciones) | C62: =C$33 -> .T.Alimentos TOTAL ING | D62: MUJER | E62: 48.049656 | F62: 48.225434 | G62: 48.220858 | H62: 48.685781 | I62: 48.329646 | J62: 48.542014 | K62: 49.168164 | L62: 47.458699 | M62: 50.013475
A63: =B63&C63&D63 -> DISTRIBUCION VOLUMEN POR CRITERIO (Consumiciones)Total BebidasT.ESPAÑA | B63: =B$3 -> DISTRIBUCION VOLUMEN POR CRITERIO (Consumiciones) | C63: Total Bebidas | D63: T.ESPAÑA | E63: 100 | F63: 100 | G63: 100 | H63: 100 | I63: 100 | J63: 100 | K63: 100 | L63: 100 | M63: 100
A64: =B64&C64&D64 -> DISTRIBUCION VOLUMEN POR CRITERIO (Consumiciones)Total BebidasBCN AM | B64: =B$3 -> DISTRIBUCION VOLUMEN POR CRITERIO (Consumiciones) | C64: =$C$63 -> Total Bebidas | D64: BCN AM | E64: 8.9008748 | F64: 9.0143153 | G64: 9.4478071 | H64: 9.2826155 | I64: 9.6020931 | J64: 9.7765087 | K64: 9.4758952 | L64: 9.9933787 | M64: 9.7755582
A65: =B65&C65&D65 -> DISTRIBUCION VOLUMEN POR CRITERIO (Consumiciones)Total BebidasREST.CAT ARAGON | B65: =B$3 -> DISTRIBUCION VOLUMEN POR CRITERIO (Consumiciones) | C65: =$C$63 -> Total Bebidas | D65: REST.CAT ARAGON | E65: 14.420277 | F65: 14.273692 | G65: 14.851553 | H65: 14.654195 | I65: 14.7572 | J65: 15.477419 | K65: 14.601997 | L65: 15.236666 | M65: 13.682258
A66: =B66&C66&D66 -> DISTRIBUCION VOLUMEN POR CRITERIO (Consumiciones)Total BebidasLEVANTE | B66: =B$3 -> DISTRIBUCION VOLUMEN POR CRITERIO (Consumiciones) | C66: =$C$63 -> Total Bebidas | D66: LEVANTE | E66: 13.346819 | F66: 13.20224 | G66: 13.410607 | H66: 14.088981 | I66: 13.802616 | J66: 13.638868 | K66: 14.691993 | L66: 14.123241 | M66: 14.394506
A67: =B67&C67&D67 -> DISTRIBUCION VOLUMEN POR CRITERIO (Consumiciones)Total BebidasANDALUCIA | B67: =B$3 -> DISTRIBUCION VOLUMEN POR CRITERIO (Consumiciones) | C67: =$C$63 -> Total Bebidas | D67: ANDALUCIA | E67: 19.607939 | F67: 19.874225 | G67: 19.237368 | H67: 18.813068 | I67: 18.75458 | J67: 18.495312 | K67: 18.931735 | L67: 18.944008 | M67: 20.035426
A68: =B68&C68&D68 -> DISTRIBUCION VOLUMEN POR CRITERIO (Consumiciones)Total BebidasMDD AM | B68: =B$3 -> DISTRIBUCION VOLUMEN POR CRITERIO (Consumiciones) | C68: =$C$63 -> Total Bebidas | D68: MDD AM | E68: 12.596924 | F68: 12.250993 | G68: 12.100896 | H68: 11.616098 | I68: 12.66882 | J68: 12.091731 | K68: 11.558488 | L68: 11.063179 | M68: 11.873058
A69: =B69&C69&D69 -> DISTRIBUCION VOLUMEN POR CRITERIO (Consumiciones)Total BebidasRTO CENTRO | B69: =B$3 -> DISTRIBUCION VOLUMEN POR CRITERIO (Consumiciones) | C69: =$C$63 -> Total Bebidas | D69: RTO CENTRO | E69: 8.8618269 | F69: 9.1163354 | G69: 9.0220859 | H69: 9.0856771 | I69: 8.4769322 | J69: 8.6091853 | K69: 8.9183939 | L69: 9.176967 | M69: 9.5438071
A70: =B70&C70&D70 -> DISTRIBUCION VOLUMEN POR CRITERIO (Consumiciones)Total BebidasNORTE-CENTRO | B70: =B$3 -> DISTRIBUCION VOLUMEN POR CRITERIO (Consumiciones) | C70: =$C$63 -> Total Bebidas | D70: NORTE-CENTRO | E70: 11.009293 | F70: 11.312126 | G70: 10.96591 | H70: 10.67643 | I70: 10.726349 | J70: 10.570815 | K70: 10.294141 | L70: 10.353729 | M70: 10.145301
A71: =B71&C71&D71 -> DISTRIBUCION VOLUMEN POR CRITERIO (Consumiciones)Total BebidasNOROESTE | B71: =B$3 -> DISTRIBUCION VOLUMEN POR CRITERIO (Consumiciones) | C71: =$C$63 -> Total Bebidas | D71: NOROESTE | E71: 11.256071 | F71: 10.956064 | G71: 10.963805 | H71: 11.782975 | I71: 11.211409 | J71: 11.340176 | K71: 11.527356 | L71: 11.108859 | M71: 10.550114
A72: =B72&C72&D72 -> DISTRIBUCION VOLUMEN POR CRITERIO (Consumiciones)Total Bebidas<2MIL | B72: =B$3 -> DISTRIBUCION VOLUMEN POR CRITERIO (Consumiciones) | C72: =$C$63 -> Total Bebidas | D72: <2MIL | E72: 6.0311135 | F72: 6.0443603 | G72: 5.8538075 | H72: 6.2857818 | I72: 5.7916499 | J72: 6.1672513 | K72: 5.8422147 | L72: 5.9918717 | M72: 4.9654333
A73: =B73&C73&D73 -> DISTRIBUCION VOLUMEN POR CRITERIO (Consumiciones)Total Bebidas2-5MIL | B73: =B$3 -> DISTRIBUCION VOLUMEN POR CRITERIO (Consumiciones) | C73: =$C$63 -> Total Bebidas | D73: 2-5MIL | E73: 4.9158011 | F73: 4.8898622 | G73: 4.4998225 | H73: 4.2949158 | I73: 4.3710942 | J73: 4.360075 | K73: 4.6588478 | L73: 5.2291062 | M73: 4.8052614
A74: =B74&C74&D74 -> DISTRIBUCION VOLUMEN POR CRITERIO (Consumiciones)Total Bebidas5-10MIL | B74: =B$3 -> DISTRIBUCION VOLUMEN POR CRITERIO (Consumiciones) | C74: =$C$63 -> Total Bebidas | D74: 5-10MIL | E74: 7.8413907 | F74: 7.578813 | G74: 7.6065458 | H74: 7.3009994 | I74: 7.8565242 | J74: 7.5268742 | K74: 7.7635532 | L74: 7.568132 | M74: 7.2026628
A75: =B75&C75&D75 -> DISTRIBUCION VOLUMEN POR CRITERIO (Consumiciones)Total Bebidas10-30MIL | B75: =B$3 -> DISTRIBUCION VOLUMEN POR CRITERIO (Consumiciones) | C75: =$C$63 -> Total Bebidas | D75: 10-30MIL | E75: 18.280009 | F75: 17.912042 | G75: 18.14203 | H75: 18.051325 | I75: 18.249789 | J75: 18.404746 | K75: 17.990555 | L75: 18.286714 | M75: 19.19512
... A92: =B92&C92&D92 -> DISTRIBUCION VOLUMEN POR CRITERIO (Consumiciones)Total BebidasMUJER | B92: =B$3 -> DISTRIBUCION VOLUMEN POR CRITERIO (Consumiciones) | C92: =$C$63 -> Total Bebidas | D92: MUJER | E92: 39.48014 | F92: 39.446791 | G92: 38.780499 | H92: 38.477248 | I92: 38.719106 | J92: 39.219322 | K92: 39.099349 | L92: 38.187685 | M92: 40.743358
A93: =B93&C93&D93 -> DISTRIBUCION VOLUMEN POR CRITERIO (Consumiciones)Total Bebidas FriasT.ESPAÑA | B93: =B$3 -> DISTRIBUCION VOLUMEN POR CRITERIO (Consumiciones) | C93: Total Bebidas Frias | D93: T.ESPAÑA | E93: 100 | F93: 100 | G93: 100 | H93: 100 | I93: 100 | J93: 100 | K93: 100 | L93: 100 | M93: 100
A94: =B94&C94&D94 -> DISTRIBUCION VOLUMEN POR CRITERIO (Consumiciones)Total Bebidas FriasBCN AM | B94: =B$3 -> DISTRIBUCION VOLUMEN POR CRITERIO (Consumiciones) | C94: =$C$93 -> Total Bebidas Frias | D94: BCN AM | E94: 8.116021 | F94: 8.4522063 | G94: 8.503959 | H94: 8.6340675 | I94: 8.8466727 | J94: 9.1605068 | K94: 8.659594 | L94: 8.8760484 | M94: 8.7238866
A95: =B95&C95&D95 -> DISTRIBUCION VOLUMEN POR CRITERIO (Consumiciones)Total Bebidas FriasREST.CAT ARAGON | B95: =B$3 -> DISTRIBUCION VOLUMEN POR CRITERIO (Consumiciones) | C95: =$C$93 -> Total Bebidas Frias | D95: REST.CAT ARAGON | E95: 13.424816 | F95: 13.815639 | G95: 13.629316 | H95: 13.789617 | I95: 13.874504 | J95: 15.116593 | K95: 13.996564 | L95: 14.788616 | M95: 13.218548
A96: =B96&C96&D96 -> DISTRIBUCION VOLUMEN POR CRITERIO (Consumiciones)Total Bebidas FriasLEVANTE | B96: =B$3 -> DISTRIBUCION VOLUMEN POR CRITERIO (Consumiciones) | C96: =$C$93 -> Total Bebidas Frias | D96: LEVANTE | E96: 12.381843 | F96: 12.440712 | G96: 12.490613 | H96: 13.251187 | I96: 12.578451 | J96: 12.77352 | K96: 13.842006 | L96: 13.529332 | M96: 13.822686
A97: =B97&C97&D97 -> DISTRIBUCION VOLUMEN POR CRITERIO (Consumiciones)Total Bebidas FriasANDALUCIA | B97: =B$3 -> DISTRIBUCION VOLUMEN POR CRITERIO (Consumiciones) | C97: =$C$93 -> Total Bebidas Frias | D97: ANDALUCIA | E97: 21.54904 | F97: 21.062465 | G97: 21.591 | H97: 20.625258 | I97: 20.236168 | J97: 19.666962 | K97: 20.613204 | L97: 20.58023 | M97: 21.112702
A98: =B98&C98&D98 -> DISTRIBUCION VOLUMEN POR CRITERIO (Consumiciones)Total Bebidas FriasMDD AM | B98: =B$3 -> DISTRIBUCION VOLUMEN POR CRITERIO (Consumiciones) | C98: =$C$93 -> Total Bebidas Frias | D98: MDD AM | E98: 14.004459 | F98: 13.36308 | G98: 13.339307 | H98: 12.926766 | I98: 14.352848 | J98: 13.3292 | K98: 12.965717 | L98: 12.533554 | M98: 13.316895
A99: =B99&C99&D99 -> DISTRIBUCION VOLUMEN POR CRITERIO (Consumiciones)Total Bebidas FriasRTO CENTRO | B99: =B$3 -> DISTRIBUCION VOLUMEN POR CRITERIO (Consumiciones) | C99: =$C$93 -> Total Bebidas Frias | D99: RTO CENTRO | E99: 9.7427049 | F99: 9.8883793 | G99: 9.9600063 | H99: 9.9973468 | I99: 9.3516299 | J99: 9.460948 | K99: 10.0357 | L99: 10.174394 | M99: 10.499712
A100: =B100&C100&D100 -> DISTRIBUCION VOLUMEN POR CRITERIO (Consumiciones)Total Bebidas FriasNORTE-CENTRO | B100: =B$3 -> DISTRIBUCION VOLUMEN POR CRITERIO (Consumiciones) | C100: =$C$93 -> Total Bebidas Frias | D100: NORTE-CENTRO | E100: 10.214925 | F100: 10.926439 | G100: 10.447646 | H100: 9.9840418 | I100: 10.311565 | J100: 9.9594289 | K100: 9.4819028 | L100: 9.3223931 | M100: 9.5377651
A101: =B101&C101&D101 -> DISTRIBUCION VOLUMEN POR CRITERIO (Consumiciones)Total Bebidas FriasNOROESTE | B101: =B$3 -> DISTRIBUCION VOLUMEN POR CRITERIO (Consumiciones) | C101: =$C$93 -> Total Bebidas Frias | D101: NOROESTE | E101: 10.56619 | F101: 10.051099 | G101: 10.038155 | H101: 10.791724 | I101: 10.448162 | J101: 10.532877 | K101: 10.405323 | L101: 10.19544 | M101: 9.7677971
A102: =B102&C102&D102 -> DISTRIBUCION VOLUMEN POR CRITERIO (Consumiciones)Total Bebidas Frias<2MIL | B102: =B$3 -> DISTRIBUCION VOLUMEN POR CRITERIO (Consumiciones) | C102: =$C$93 -> Total Bebidas Frias | D102: <2MIL | E102: 5.9833482 | F102: 6.2294337 | G102: 5.832859 | H102: 6.8554745 | I102: 5.9850144 | J102: 6.3547182 | K102: 6.2174818 | L102: 6.3711227 | M102: 5.2733271
A103: =B103&C103&D103 -> DISTRIBUCION VOLUMEN POR CRITERIO (Consumiciones)Total Bebidas Frias2-5MIL | B103: =B$3 -> DISTRIBUCION VOLUMEN POR CRITERIO (Consumiciones) | C103: =$C$93 -> Total Bebidas Frias | D103: 2-5MIL | E103: 4.8671982 | F103: 5.1579892 | G103: 4.5681183 | H103: 4.1528116 | I103: 4.1613717 | J103: 4.2224419 | K103: 4.5455965 | L103: 5.1580507 | M103: 4.8025197
A104: =B104&C104&D104 -> DISTRIBUCION VOLUMEN POR CRITERIO (Consumiciones)Total Bebidas Frias5-10MIL | B104: =B$3 -> DISTRIBUCION VOLUMEN POR CRITERIO (Consumiciones) | C104: =$C$93 -> Total Bebidas Frias | D104: 5-10MIL | E104: 8.0862544 | F104: 7.6973398 | G104: 8.0722138 | H104: 7.3105553 | I104: 7.9274842 | J104: 7.586811 | K104: 7.9143078 | L104: 7.6430849 | M104: 7.1723082
A105: =B105&C105&D105 -> DISTRIBUCION VOLUMEN POR CRITERIO (Consumiciones)Total Bebidas Frias10-30MIL | B105: =B$3 -> DISTRIBUCION VOLUMEN POR CRITERIO (Consumiciones) | C105: =$C$93 -> Total Bebidas Frias | D105: 10-30MIL | E105: 17.871582 | F105: 17.669822 | G105: 17.981422 | H105: 17.92757 | I105: 18.203098 | J105: 18.172886 | K105: 17.835173 | L105: 17.684836 | M105: 18.760707
... A122: =B122&C122&D122 -> DISTRIBUCION VOLUMEN POR CRITERIO (Consumiciones)Total Bebidas FriasMUJER | B122: =B$3 -> DISTRIBUCION VOLUMEN POR CRITERIO (Consumiciones) | C122: =$C$93 -> Total Bebidas Frias | D122: MUJER | E122: 40.804017 | F122: 40.884548 | G122: 38.986227 | H122: 39.041162 | I122: 39.817818 | J122: 40.936081 | K122: 39.886081 | L122: 39.051832 | M122: 42.697122
A123: =B123&C123&D123 -> DISTRIBUCION VOLUMEN POR CRITERIO (Consumiciones)Total Bebidas CalientesT.ESPAÑA | B123: =B$3 -> DISTRIBUCION VOLUMEN POR CRITERIO (Consumiciones) | C123: Total Bebidas Calientes | D123: T.ESPAÑA | E123: 100 | F123: 100 | G123: 100 | H123: 100 | I123: 100 | J123: 100 | K123: 100 | L123: 100 | M123: 100
A124: =B124&C124&D124 -> DISTRIBUCION VOLUMEN POR CRITERIO (Consumiciones)Total Bebidas CalientesBCN AM | B124: =B$3 -> DISTRIBUCION VOLUMEN POR CRITERIO (Consumiciones) | C124: =C$123 -> Total Bebidas Calientes | D124: BCN AM | E124: 10.119464 | F124: 10.094014 | G124: 10.79186 | H124: 10.154129 | I124: 10.831221 | J124: 10.955431 | K124: 10.546248 | L124: 11.366273 | M124: 11.341695
A125: =B125&C125&D125 -> DISTRIBUCION VOLUMEN POR CRITERIO (Consumiciones)Total Bebidas CalientesREST.CAT ARAGON | B125: =B$3 -> DISTRIBUCION VOLUMEN POR CRITERIO (Consumiciones) | C125: =C$123 -> Total Bebidas Calientes | D125: REST.CAT ARAGON | E125: 15.965869 | F125: 15.153519 | G125: 16.592028 | H125: 15.816015 | I125: 16.193413 | J125: 16.167963 | K125: 15.395865 | L125: 15.787195 | M125: 14.3728
A126: =B126&C126&D126 -> DISTRIBUCION VOLUMEN POR CRITERIO (Consumiciones)Total Bebidas CalientesLEVANTE | B126: =B$3 -> DISTRIBUCION VOLUMEN POR CRITERIO (Consumiciones) | C126: =C$123 -> Total Bebidas Calientes | D126: LEVANTE | E126: 14.845073 | F126: 14.664974 | G126: 14.720679 | H126: 15.214801 | I126: 15.794423 | J126: 15.295006 | K126: 15.806509 | L126: 14.853002 | M126: 15.246042
A127: =B127&C127&D127 -> DISTRIBUCION VOLUMEN POR CRITERIO (Consumiciones)Total Bebidas CalientesANDALUCIA | B127: =B$3 -> DISTRIBUCION VOLUMEN POR CRITERIO (Consumiciones) | C127: =C$123 -> Total Bebidas Calientes | D127: ANDALUCIA | E127: 16.594071 | F127: 17.591888 | G127: 15.885731 | H127: 16.377816 | I127: 16.34392 | J127: 16.252982 | K127: 16.726963 | L127: 16.933514 | M127: 18.431143
A128: =B128&C128&D128 -> DISTRIBUCION VOLUMEN POR CRITERIO (Consumiciones)Total Bebidas CalientesMDD AM | B128: =B$3 -> DISTRIBUCION VOLUMEN POR CRITERIO (Consumiciones) | C128: =C$123 -> Total Bebidas Calientes | D128: MDD AM | E128: 10.411516 | F128: 10.114917 | G128: 10.337369 | H128: 9.8548064 | I128: 9.9287751 | J128: 9.7234429 | K128: 9.7133104 | L128: 9.2564665 | M128: 9.7228929
A129: =B129&C129&D129 -> DISTRIBUCION VOLUMEN POR CRITERIO (Consumiciones)Total Bebidas CalientesRTO CENTRO | B129: =B$3 -> DISTRIBUCION VOLUMEN POR CRITERIO (Consumiciones) | C129: =C$123 -> Total Bebidas Calientes | D129: RTO CENTRO | E129: 7.49413 | F129: 7.6334229 | G129: 7.6864708 | H129: 7.8605606 | I129: 7.0537283 | J129: 6.9790627 | K129: 7.4533538 | L129: 7.9513883 | M129: 8.1202765
A130: =B130&C130&D130 -> DISTRIBUCION VOLUMEN POR CRITERIO (Consumiciones)Total Bebidas CalientesNORTE-CENTRO | B130: =B$3 -> DISTRIBUCION VOLUMEN POR CRITERIO (Consumiciones) | C130: =C$123 -> Total Bebidas Calientes | D130: NORTE-CENTRO | E130: 12.242667 | F130: 12.052955 | G130: 11.703919 | H130: 11.606856 | I130: 11.401224 | J130: 11.740906 | K130: 11.359153 | L130: 11.62096 | M130: 11.050034
A131: =B131&C131&D131 -> DISTRIBUCION VOLUMEN POR CRITERIO (Consumiciones)Total Bebidas CalientesNOROESTE | B131: =B$3 -> DISTRIBUCION VOLUMEN POR CRITERIO (Consumiciones) | C131: =C$123 -> Total Bebidas Calientes | D131: NOROESTE | E131: 12.327207 | F131: 12.694317 | G131: 12.281943 | H131: 13.115015 | I131: 12.453284 | J131: 12.885204 | K131: 12.998593 | L131: 12.231199 | M131: 11.715124
A132: =B132&C132&D132 -> DISTRIBUCION VOLUMEN POR CRITERIO (Consumiciones)Total Bebidas Calientes<2MIL | B132: =B$3 -> DISTRIBUCION VOLUMEN POR CRITERIO (Consumiciones) | C132: =C$123 -> Total Bebidas Calientes | D132: <2MIL | E132: 6.1052715 | F132: 5.6888824 | G132: 5.8836354 | H132: 5.5202176 | I132: 5.47703 | J132: 5.8084707 | K132: 5.3501572 | L132: 5.5258694 | M132: 4.5069156
A133: =B133&C133&D133 -> DISTRIBUCION VOLUMEN POR CRITERIO (Consumiciones)Total Bebidas Calientes2-5MIL | B133: =B$3 -> DISTRIBUCION VOLUMEN POR CRITERIO (Consumiciones) | C133: =C$123 -> Total Bebidas Calientes | D133: 2-5MIL | E133: 4.9912622 | F133: 4.3748562 | G133: 4.4025645 | H133: 4.4858726 | I133: 4.71233 | J133: 4.6234798 | K133: 4.8073456 | L133: 5.3164123 | M133: 4.8093411
A134: =B134&C134&D134 -> DISTRIBUCION VOLUMEN POR CRITERIO (Consumiciones)Total Bebidas Calientes5-10MIL | B134: =B$3 -> DISTRIBUCION VOLUMEN POR CRITERIO (Consumiciones) | C134: =C$123 -> Total Bebidas Calientes | D134: 5-10MIL | E134: 7.4611967 | F134: 7.3511442 | G134: 6.9434207 | H134: 7.2881472 | I134: 7.7410721 | J134: 7.4121774 | K134: 7.56588 | L134: 7.4760343 | M134: 7.2478617
A135: =B135&C135&D135 -> DISTRIBUCION VOLUMEN POR CRITERIO (Consumiciones)Total Bebidas Calientes10-30MIL | B135: =B$3 -> DISTRIBUCION VOLUMEN POR CRITERIO (Consumiciones) | C135: =C$123 -> Total Bebidas Calientes | D135: 10-30MIL | E135: 18.914123 | F135: 18.377303 | G135: 18.370739 | H135: 18.2176 | I135: 18.325755 | J135: 18.848488 | K135: 18.194277 | L135: 19.026256 | M135: 19.842032
... A152: =B152&C152&D152 -> DISTRIBUCION VOLUMEN POR CRITERIO (Consumiciones)Total Bebidas CalientesMUJER | B152: =B$3 -> DISTRIBUCION VOLUMEN POR CRITERIO (Consumiciones) | C152: =C$123 -> Total Bebidas Calientes | D152: MUJER | E152: 37.424606 | F152: 36.685197 | G152: 38.487493 | H152: 37.719429 | I152: 36.931427 | J152: 35.933754 | K152: 38.067767 | L152: 37.125857 | M152: 37.833787
A153: =B153&C153&D153 -> DISTRIBUCION VOLUMEN POR CRITERIO (Consumiciones)Total AperitivosT.ESPAÑA | B153: =B$3 -> DISTRIBUCION VOLUMEN POR CRITERIO (Consumiciones) | C153: Total Aperitivos | D153: T.ESPAÑA | E153: 100 | F153: 100 | G153: 100 | H153: 100 | I153: 100 | J153: 100 | K153: 100 | L153: 100 | M153: 100
A154: =B154&C154&D154 -> DISTRIBUCION VOLUMEN POR CRITERIO (Consumiciones)Total AperitivosBCN AM | B154: =B$3 -> DISTRIBUCION VOLUMEN POR CRITERIO (Consumiciones) | C154: =C$153 -> Total Aperitivos | D154: BCN AM | E154: 11.858079 | F154: 8.8941704 | G154: 9.1887628 | H154: 11.032868 | I154: 13.098015 | J154: 10.192618 | K154: 9.3955185 | L154: 8.3877342 | M154: 9.9527558
A155: =B155&C155&D155 -> DISTRIBUCION VOLUMEN POR CRITERIO (Consumiciones)Total AperitivosREST.CAT ARAGON | B155: =B$3 -> DISTRIBUCION VOLUMEN POR CRITERIO (Consumiciones) | C155: =C$153 -> Total Aperitivos | D155: REST.CAT ARAGON | E155: 17.569313 | F155: 15.35151 | G155: 16.461179 | H155: 15.130265 | I155: 16.877034 | J155: 13.869823 | K155: 13.08315 | L155: 11.032666 | M155: 12.125929
A156: =B156&C156&D156 -> DISTRIBUCION VOLUMEN POR CRITERIO (Consumiciones)Total AperitivosLEVANTE | B156: =B$3 -> DISTRIBUCION VOLUMEN POR CRITERIO (Consumiciones) | C156: =C$153 -> Total Aperitivos | D156: LEVANTE | E156: 13.195972 | F156: 14.496706 | G156: 12.726734 | H156: 10.948922 | I156: 10.01563 | J156: 12.450085 | K156: 10.031787 | L156: 11.423621 | M156: 14.046929
A157: =B157&C157&D157 -> DISTRIBUCION VOLUMEN POR CRITERIO (Consumiciones)Total AperitivosANDALUCIA | B157: =B$3 -> DISTRIBUCION VOLUMEN POR CRITERIO (Consumiciones) | C157: =C$153 -> Total Aperitivos | D157: ANDALUCIA | E157: 17.842844 | F157: 18.063126 | G157: 24.240408 | H157: 26.462681 | I157: 21.879327 | J157: 25.847456 | K157: 28.693486 | L157: 31.518457 | M157: 23.566339
A158: =B158&C158&D158 -> DISTRIBUCION VOLUMEN POR CRITERIO (Consumiciones)Total AperitivosMDD AM | B158: =B$3 -> DISTRIBUCION VOLUMEN POR CRITERIO (Consumiciones) | C158: =C$153 -> Total Aperitivos | D158: MDD AM | E158: 9.1807548 | F158: 14.328132 | G158: 9.227489 | H158: 8.4101576 | I158: 8.8233956 | J158: 11.923095 | K158: 11.59645 | L158: 8.7626003 | M158: 11.739146
A159: =B159&C159&D159 -> DISTRIBUCION VOLUMEN POR CRITERIO (Consumiciones)Total AperitivosRTO CENTRO | B159: =B$3 -> DISTRIBUCION VOLUMEN POR CRITERIO (Consumiciones) | C159: =C$153 -> Total Aperitivos | D159: RTO CENTRO | E159: 10.216955 | F159: 8.9842363 | G159: 12.599295 | H159: 11.715461 | I159: 11.431802 | J159: 11.106463 | K159: 12.933445 | L159: 11.873921 | M159: 9.0874864
A160: =B160&C160&D160 -> DISTRIBUCION VOLUMEN POR CRITERIO (Consumiciones)Total AperitivosNORTE-CENTRO | B160: =B$3 -> DISTRIBUCION VOLUMEN POR CRITERIO (Consumiciones) | C160: =C$153 -> Total Aperitivos | D160: NORTE-CENTRO | E160: 10.948351 | F160: 12.182069 | G160: 9.4616168 | H160: 9.730493 | I160: 10.426167 | J160: 7.9363539 | K160: 7.8473363 | L160: 11.11785 | M160: 13.68873
A161: =B161&C161&D161 -> DISTRIBUCION VOLUMEN POR CRITERIO (Consumiciones)Total AperitivosNOROESTE | B161: =B$3 -> DISTRIBUCION VOLUMEN POR CRITERIO (Consumiciones) | C161: =C$153 -> Total Aperitivos | D161: NOROESTE | E161: 9.1877046 | F161: 7.7000213 | G161: 6.0945124 | H161: 6.5691678 | I161: 7.4486091 | J161: 6.6740839 | K161: 6.4188515 | L161: 5.8831446 | M161: 5.7926839
A162: =B162&C162&D162 -> DISTRIBUCION VOLUMEN POR CRITERIO (Consumiciones)Total Aperitivos<2MIL | B162: =B$3 -> DISTRIBUCION VOLUMEN POR CRITERIO (Consumiciones) | C162: =C$153 -> Total Aperitivos | D162: <2MIL | E162: 5.911427 | F162: 5.4683689 | G162: 4.6441065 | H162: 5.7054161 | I162: 6.1186655 | J162: 5.1346394 | K162: 3.9397788 | L162: 5.4011163 | M162: 4.5083479
A163: =B163&C163&D163 -> DISTRIBUCION VOLUMEN POR CRITERIO (Consumiciones)Total Aperitivos2-5MIL | B163: =B$3 -> DISTRIBUCION VOLUMEN POR CRITERIO (Consumiciones) | C163: =C$153 -> Total Aperitivos | D163: 2-5MIL | E163: 4.8936371 | F163: 4.8040943 | G163: 4.1181926 | H163: 4.2370685 | I163: 4.9630026 | J163: 3.742408 | K163: 4.052026 | L163: 3.936318 | M163: 3.8783486
A164: =B164&C164&D164 -> DISTRIBUCION VOLUMEN POR CRITERIO (Consumiciones)Total Aperitivos5-10MIL | B164: =B$3 -> DISTRIBUCION VOLUMEN POR CRITERIO (Consumiciones) | C164: =C$153 -> Total Aperitivos | D164: 5-10MIL | E164: 5.3842603 | F164: 5.9954745 | G164: 8.7367569 | H164: 13.172753 | I164: 7.5690941 | J164: 11.344126 | K164: 12.643237 | L164: 12.216599 | M164: 9.0298905
A165: =B165&C165&D165 -> DISTRIBUCION VOLUMEN POR CRITERIO (Consumiciones)Total Aperitivos10-30MIL | B165: =B$3 -> DISTRIBUCION VOLUMEN POR CRITERIO (Consumiciones) | C165: =C$153 -> Total Aperitivos | D165: 10-30MIL | E165: 23.253996 | F165: 20.340085 | G165: 20.62723 | H165: 16.932446 | I165: 16.532055 | J165: 18.304779 | K165: 17.405648 | L165: 17.358297 | M165: 16.864728
... A182: =B182&C182&D182 -> DISTRIBUCION VOLUMEN POR CRITERIO (Consumiciones)Total AperitivosMUJER | B182: =B$3 -> DISTRIBUCION VOLUMEN POR CRITERIO (Consumiciones) | C182: =C$153 -> Total Aperitivos | D182: MUJER | E182: 57.387685 | F182: 59.598315 | G182: 58.777067 | H182: 59.308274 | I182: 59.570231 | J182: 53.635891 | K182: 57.637444 | L182: 58.23804 | M182: 55.507476
A183: =B183&C183&D183 -> DISTRIBUCION VOLUMEN POR CRITERIO (kg o litros)TotalAlimentacionT.ESPAÑA | B183: DISTRIBUCION VOLUMEN POR CRITERIO (kg o litros) | C183: TotalAlimentacion | D183: T.ESPAÑA | E183: 100 | F183: 100 | G183: 100 | H183: 100 | I183: 100 | J183: 100 | K183: 100 | L183: 100 | M183: 100
A184: =B184&C184&D184 -> DISTRIBUCION VOLUMEN POR CRITERIO (kg o litros)TotalAlimentacionBCN AM | B184: =B$183 -> DISTRIBUCION VOLUMEN POR CRITERIO (kg o litros) | C184: =C$183 -> TotalAlimentacion | D184: BCN AM | E184: 9.18302 | F184: 9.2653133 | G184: 9.3215792 | H184: 8.7972655 | I184: 8.7523664 | J184: 9.5631384 | K184: 9.4740419 | L184: 9.3833773 | M184: 9.9137306
A185: =B185&C185&D185 -> DISTRIBUCION VOLUMEN POR CRITERIO (kg o litros)TotalAlimentacionREST.CAT ARAGON | B185: =B$183 -> DISTRIBUCION VOLUMEN POR CRITERIO (kg o litros) | C185: =C$183 -> TotalAlimentacion | D185: REST.CAT ARAGON | E185: 13.645404 | F185: 15.001475 | G185: 15.227876 | H185: 15.15199 | I185: 14.328866 | J185: 15.764353 | K185: 15.435408 | L185: 15.468978 | M185: 14.660759
A186: =B186&C186&D186 -> DISTRIBUCION VOLUMEN POR CRITERIO (kg o litros)TotalAlimentacionLEVANTE | B186: =B$183 -> DISTRIBUCION VOLUMEN POR CRITERIO (kg o litros) | C186: =C$183 -> TotalAlimentacion | D186: LEVANTE | E186: 15.004261 | F186: 14.90401 | G186: 14.838684 | H186: 15.364571 | I186: 15.431588 | J186: 14.85435 | K186: 15.454743 | L186: 15.54909 | M186: 15.958128
A187: =B187&C187&D187 -> DISTRIBUCION VOLUMEN POR CRITERIO (kg o litros)TotalAlimentacionANDALUCIA | B187: =B$183 -> DISTRIBUCION VOLUMEN POR CRITERIO (kg o litros) | C187: =C$183 -> TotalAlimentacion | D187: ANDALUCIA | E187: 19.988703 | F187: 19.447117 | G187: 19.863086 | H187: 18.963175 | I187: 18.900413 | J187: 18.090917 | K187: 19.245285 | L187: 18.85066 | M187: 18.872995
A188: =B188&C188&D188 -> DISTRIBUCION VOLUMEN POR CRITERIO (kg o litros)TotalAlimentacionMDD AM | B188: =B$183 -> DISTRIBUCION VOLUMEN POR CRITERIO (kg o litros) | C188: =C$183 -> TotalAlimentacion | D188: MDD AM | E188: 14.836167 | F188: 13.952084 | G188: 13.937277 | H188: 13.882616 | I188: 14.968365 | J188: 14.095319 | K188: 13.557157 | L188: 13.735518 | M188: 14.18781
A189: =B189&C189&D189 -> DISTRIBUCION VOLUMEN POR CRITERIO (kg o litros)TotalAlimentacionRTO CENTRO | B189: =B$183 -> DISTRIBUCION VOLUMEN POR CRITERIO (kg o litros) | C189: =C$183 -> TotalAlimentacion | D189: RTO CENTRO | E189: 9.2705599 | F189: 9.2160413 | G189: 9.901631 | H189: 10.176888 | I189: 9.4206799 | J189: 10.345518 | K189: 10.034328 | L189: 10.639795 | M189: 10.183557
A190: =B190&C190&D190 -> DISTRIBUCION VOLUMEN POR CRITERIO (kg o litros)TotalAlimentacionNORTE-CENTRO | B190: =B$183 -> DISTRIBUCION VOLUMEN POR CRITERIO (kg o litros) | C190: =C$183 -> TotalAlimentacion | D190: NORTE-CENTRO | E190: 8.5067318 | F190: 9.3358685 | G190: 8.8818266 | H190: 9.0775349 | I190: 9.9075801 | J190: 8.9125806 | K190: 8.3786509 | L190: 8.3855096 | M190: 8.2743446
A191: =B191&C191&D191 -> DISTRIBUCION VOLUMEN POR CRITERIO (kg o litros)TotalAlimentacionNOROESTE | B191: =B$183 -> DISTRIBUCION VOLUMEN POR CRITERIO (kg o litros) | C191: =C$183 -> TotalAlimentacion | D191: NOROESTE | E191: 9.5651552 | F191: 8.8780904 | G191: 8.0280423 | H191: 8.5859653 | I191: 8.2901429 | J191: 8.3738255 | K191: 8.4203897 | L191: 7.9870755 | M191: 7.9486796
A192: =B192&C192&D192 -> DISTRIBUCION VOLUMEN POR CRITERIO (kg o litros)TotalAlimentacion<2MIL | B192: =B$183 -> DISTRIBUCION VOLUMEN POR CRITERIO (kg o litros) | C192: =C$183 -> TotalAlimentacion | D192: <2MIL | E192: 5.6044072 | F192: 5.5900794 | G192: 5.337772 | H192: 5.8310413 | I192: 5.2653653 | J192: 5.5184083 | K192: 5.6799768 | L192: 6.2842649 | M192: 4.8604742
A193: =B193&C193&D193 -> DISTRIBUCION VOLUMEN POR CRITERIO (kg o litros)TotalAlimentacion2-5MIL | B193: =B$183 -> DISTRIBUCION VOLUMEN POR CRITERIO (kg o litros) | C193: =C$183 -> TotalAlimentacion | D193: 2-5MIL | E193: 4.4452449 | F193: 4.4077105 | G193: 3.9209991 | H193: 3.8351967 | I193: 4.0666985 | J193: 3.9563289 | K193: 4.2553361 | L193: 4.7838826 | M193: 4.6915944
A194: =B194&C194&D194 -> DISTRIBUCION VOLUMEN POR CRITERIO (kg o litros)TotalAlimentacion5-10MIL | B194: =B$183 -> DISTRIBUCION VOLUMEN POR CRITERIO (kg o litros) | C194: =C$183 -> TotalAlimentacion | D194: 5-10MIL | E194: 8.1605853 | F194: 7.7067311 | G194: 8.5535307 | H194: 8.037735 | I194: 8.2490154 | J194: 7.8665302 | K194: 8.1925499 | L194: 7.8756621 | M194: 7.2256797
A195: =B195&C195&D195 -> DISTRIBUCION VOLUMEN POR CRITERIO (kg o litros)TotalAlimentacion10-30MIL | B195: =B$183 -> DISTRIBUCION VOLUMEN POR CRITERIO (kg o litros) | C195: =C$183 -> TotalAlimentacion | D195: 10-30MIL | E195: 18.517608 | F195: 17.985112 | G195: 18.500851 | H195: 17.947865 | I195: 18.416241 | J195: 18.304346 | K195: 18.124057 | L195: 17.828609 | M195: 18.916749
... A212: =B212&C212&D212 -> DISTRIBUCION VOLUMEN POR CRITERIO (kg o litros)TotalAlimentacionMUJER | B212: =B$183 -> DISTRIBUCION VOLUMEN POR CRITERIO (kg o litros) | C212: =C$183 -> TotalAlimentacion | D212: MUJER | E212: 45.730823 | F212: 45.11156 | G212: 44.132993 | H212: 45.142174 | I212: 44.581209 | J212: 43.846858 | K212: 44.734013 | L212: 42.731981 | M212: 45.419084
A213: =B213&C213&D213 -> DISTRIBUCION VOLUMEN POR CRITERIO (kg o litros).T.Alimentos TOTAL INGT.ESPAÑA | B213: =B$183 -> DISTRIBUCION VOLUMEN POR CRITERIO (kg o litros) | C213: .T.Alimentos TOTAL ING | D213: T.ESPAÑA | E213: 100 | F213: 100 | G213: 100 | H213: 100 | I213: 100 | J213: 100 | K213: 100 | L213: 100 | M213: 100
...

Sheet PERFIL
A3: Informe consumo de alimentacion fuera del hogar
A4: 2
A5: 3
A6: Perfil sociodemográfico
A7: Perfil de la categoría
A9: 3 | C9: 0 | D9: 3 | E9: =VLOOKUP(D9,DESPLEGABLES!$F$3:$G$74,2,0) -> Total Bebidas
C10: 5 | D10: 6 | E10: 7 | F10: 8 | G10: 9 | H10: 10 | I10: 11 | J10: 12 | K10: 13
A11: =VLOOKUP(A9,DESPLEGABLES!K3:L5,2,0) -> CONSUMO PER CAPITA (kg o litros por individuo) | C11: =KPI!C8 -> TRIM 2 24 | D11: =KPI!D8 -> TRIM 3 24 | E11: =KPI!E8 -> TRIM 4 24 | F11: =KPI!F8 -> TRIM 1 25 | G11: =KPI!G8 -> TRIM 2 25 | H11: =KPI!H8 -> TRIM 3 25 | I11: =KPI!I8 -> TRIM 4 25 | J11: =KPI!J8 -> TRIM 1 26 | K11: =KPI!K8 -> TRIM 2 26 | M11: % Población
A12: T.ESPAÑA | B12: T.ESPAñA | C12: =VLOOKUP($A$11&$E$9&$A12,PERFIL_DATOS!$A:$M,C$10,0) -> 14.059937 | D12: =VLOOKUP($A$11&$E$9&$A12,PERFIL_DATOS!$A:$M,D$10,0) -> 21.61022 | E12: =VLOOKUP($A$11&$E$9&$A12,PERFIL_DATOS!$A:$M,E$10,0) -> 12.943993 | F12: =VLOOKUP($A$11&$E$9&$A12,PERFIL_DATOS!$A:$M,F$10,0) -> 12.306124 | G12: =VLOOKUP($A$11&$E$9&$A12,PERFIL_DATOS!$A:$M,G$10,0) -> 13.674214 | H12: =VLOOKUP($A$11&$E$9&$A12,PERFIL_DATOS!$A:$M,H$10,0) -> 19.989408 | I12: =VLOOKUP($A$11&$E$9&$A12,PERFIL_DATOS!$A:$M,I$10,0) -> 12.326801 | J12: =VLOOKUP($A$11&$E$9&$A12,PERFIL_DATOS!$A:$M,J$10,0) -> 11.722553 | K12: =VLOOKUP($A$11&$E$9&$A12,PERFIL_DATOS!$A:$M,K$10,0) -> 12.414209 | M12: =DESPLEGABLES!$P$3 -> 100
A13: BCN AM | B13: BCN AM | C13: =VLOOKUP($A$11&$E$9&$A13,PERFIL_DATOS!$A:$M,C$10,0) -> 14.145775 | D13: =VLOOKUP($A$11&$E$9&$A13,PERFIL_DATOS!$A:$M,D$10,0) -> 20.620004 | E13: =VLOOKUP($A$11&$E$9&$A13,PERFIL_DATOS!$A:$M,E$10,0) -> 12.743019 | F13: =VLOOKUP($A$11&$E$9&$A13,PERFIL_DATOS!$A:$M,F$10,0) -> 11.636987 | G13: =VLOOKUP($A$11&$E$9&$A13,PERFIL_DATOS!$A:$M,G$10,0) -> 13.411894 | H13: =VLOOKUP($A$11&$E$9&$A13,PERFIL_DATOS!$A:$M,H$10,0) -> 20.088713 | I13: =VLOOKUP($A$11&$E$9&$A13,PERFIL_DATOS!$A:$M,I$10,0) -> 12.131389 | J13: =VLOOKUP($A$11&$E$9&$A13,PERFIL_DATOS!$A:$M,J$10,0) -> 11.866652 | K13: =VLOOKUP($A$11&$E$9&$A13,PERFIL_DATOS!$A:$M,K$10,0) -> 12.136508 | M13: =DESPLEGABLES!P4 -> 9.5390535
A14: REST.CAT ARAGON | B14: REST.CAT ARAGON | C14: =VLOOKUP($A$11&$E$9&$A14,PERFIL_DATOS!$A:$M,C$10,0) -> 15.237379 | D14: =VLOOKUP($A$11&$E$9&$A14,PERFIL_DATOS!$A:$M,D$10,0) -> 26.159252 | E14: =VLOOKUP($A$11&$E$9&$A14,PERFIL_DATOS!$A:$M,E$10,0) -> 16.0796 | F14: =VLOOKUP($A$11&$E$9&$A14,PERFIL_DATOS!$A:$M,F$10,0) -> 15.811408 | G14: =VLOOKUP($A$11&$E$9&$A14,PERFIL_DATOS!$A:$M,G$10,0) -> 16.912325 | H14: =VLOOKUP($A$11&$E$9&$A14,PERFIL_DATOS!$A:$M,H$10,0) -> 26.623308 | I14: =VLOOKUP($A$11&$E$9&$A14,PERFIL_DATOS!$A:$M,I$10,0) -> 15.636105 | J14: =VLOOKUP($A$11&$E$9&$A14,PERFIL_DATOS!$A:$M,J$10,0) -> 15.517719 | K14: =VLOOKUP($A$11&$E$9&$A14,PERFIL_DATOS!$A:$M,K$10,0) -> 14.121845 | M14: =DESPLEGABLES!P5 -> 13.260336
A15: LEVANTE | B15: LEVANTE | C15: =VLOOKUP($A$11&$E$9&$A15,PERFIL_DATOS!$A:$M,C$10,0) -> 12.009233 | D15: =VLOOKUP($A$11&$E$9&$A15,PERFIL_DATOS!$A:$M,D$10,0) -> 18.557335 | E15: =VLOOKUP($A$11&$E$9&$A15,PERFIL_DATOS!$A:$M,E$10,0) -> 11.093898 | F15: =VLOOKUP($A$11&$E$9&$A15,PERFIL_DATOS!$A:$M,F$10,0) -> 11.052334 | G15: =VLOOKUP($A$11&$E$9&$A15,PERFIL_DATOS!$A:$M,G$10,0) -> 11.698764 | H15: =VLOOKUP($A$11&$E$9&$A15,PERFIL_DATOS!$A:$M,H$10,0) -> 17.126506 | I15: =VLOOKUP($A$11&$E$9&$A15,PERFIL_DATOS!$A:$M,I$10,0) -> 11.212088 | J15: =VLOOKUP($A$11&$E$9&$A15,PERFIL_DATOS!$A:$M,J$10,0) -> 10.371656 | K15: =VLOOKUP($A$11&$E$9&$A15,PERFIL_DATOS!$A:$M,K$10,0) -> 11.592182 | M15: =DESPLEGABLES!P6 -> 15.940248
A16: ANDALUCIA | B16: ANDALUCIA | C16: =VLOOKUP($A$11&$E$9&$A16,PERFIL_DATOS!$A:$M,C$10,0) -> 14.045495 | D16: =VLOOKUP($A$11&$E$9&$A16,PERFIL_DATOS!$A:$M,D$10,0) -> 20.82099 | E16: =VLOOKUP($A$11&$E$9&$A16,PERFIL_DATOS!$A:$M,E$10,0) -> 12.420074 | F16: =VLOOKUP($A$11&$E$9&$A16,PERFIL_DATOS!$A:$M,F$10,0) -> 11.319422 | G16: =VLOOKUP($A$11&$E$9&$A16,PERFIL_DATOS!$A:$M,G$10,0) -> 12.861477 | H16: =VLOOKUP($A$11&$E$9&$A16,PERFIL_DATOS!$A:$M,H$10,0) -> 18.339972 | I16: =VLOOKUP($A$11&$E$9&$A16,PERFIL_DATOS!$A:$M,I$10,0) -> 11.54007 | J16: =VLOOKUP($A$11&$E$9&$A16,PERFIL_DATOS!$A:$M,J$10,0) -> 11.129307 | K16: =VLOOKUP($A$11&$E$9&$A16,PERFIL_DATOS!$A:$M,K$10,0) -> 12.215975 | M16: =DESPLEGABLES!P7 -> 20.080118
A17: MDD AM | B17: MDD AM | C17: =VLOOKUP($A$11&$E$9&$A17,PERFIL_DATOS!$A:$M,C$10,0) -> 13.293137 | D17: =VLOOKUP($A$11&$E$9&$A17,PERFIL_DATOS!$A:$M,D$10,0) -> 20.542371 | E17: =VLOOKUP($A$11&$E$9&$A17,PERFIL_DATOS!$A:$M,E$10,0) -> 11.912814 | F17: =VLOOKUP($A$11&$E$9&$A17,PERFIL_DATOS!$A:$M,F$10,0) -> 10.483459 | G17: =VLOOKUP($A$11&$E$9&$A17,PERFIL_DATOS!$A:$M,G$10,0) -> 12.905847 | H17: =VLOOKUP($A$11&$E$9&$A17,PERFIL_DATOS!$A:$M,H$10,0) -> 17.8437 | I17: =VLOOKUP($A$11&$E$9&$A17,PERFIL_DATOS!$A:$M,I$10,0) -> 10.329987 | J17: =VLOOKUP($A$11&$E$9&$A17,PERFIL_DATOS!$A:$M,J$10,0) -> 9.2027583 | K17: =VLOOKUP($A$11&$E$9&$A17,PERFIL_DATOS!$A:$M,K$10,0) -> 10.851964 | M17: =DESPLEGABLES!P8 -> 13.617304
A18: RTO CENTRO | B18: RTO CENTRO | C18: =VLOOKUP($A$11&$E$9&$A18,PERFIL_DATOS!$A:$M,C$10,0) -> 13.137758 | D18: =VLOOKUP($A$11&$E$9&$A18,PERFIL_DATOS!$A:$M,D$10,0) -> 19.685565 | E18: =VLOOKUP($A$11&$E$9&$A18,PERFIL_DATOS!$A:$M,E$10,0) -> 11.949742 | F18: =VLOOKUP($A$11&$E$9&$A18,PERFIL_DATOS!$A:$M,F$10,0) -> 12.10105 | G18: =VLOOKUP($A$11&$E$9&$A18,PERFIL_DATOS!$A:$M,G$10,0) -> 12.686499 | H18: =VLOOKUP($A$11&$E$9&$A18,PERFIL_DATOS!$A:$M,H$10,0) -> 18.626411 | I18: =VLOOKUP($A$11&$E$9&$A18,PERFIL_DATOS!$A:$M,I$10,0) -> 12.366195 | J18: =VLOOKUP($A$11&$E$9&$A18,PERFIL_DATOS!$A:$M,J$10,0) -> 11.83329 | K18: =VLOOKUP($A$11&$E$9&$A18,PERFIL_DATOS!$A:$M,K$10,0) -> 12.763459 | M18: =DESPLEGABLES!P9 -> 9.5414632
A19: NORTE-CENTRO | B19: NORTE-CENTRO | C19: =VLOOKUP($A$11&$E$9&$A19,PERFIL_DATOS!$A:$M,C$10,0) -> 14.175185 | D19: =VLOOKUP($A$11&$E$9&$A19,PERFIL_DATOS!$A:$M,D$10,0) -> 23.376768 | E19: =VLOOKUP($A$11&$E$9&$A19,PERFIL_DATOS!$A:$M,E$10,0) -> 13.707478 | F19: =VLOOKUP($A$11&$E$9&$A19,PERFIL_DATOS!$A:$M,F$10,0) -> 12.475615 | G19: =VLOOKUP($A$11&$E$9&$A19,PERFIL_DATOS!$A:$M,G$10,0) -> 14.357381 | H19: =VLOOKUP($A$11&$E$9&$A19,PERFIL_DATOS!$A:$M,H$10,0) -> 20.198499 | I19: =VLOOKUP($A$11&$E$9&$A19,PERFIL_DATOS!$A:$M,I$10,0) -> 12.256102 | J19: =VLOOKUP($A$11&$E$9&$A19,PERFIL_DATOS!$A:$M,J$10,0) -> 11.705131 | K19: =VLOOKUP($A$11&$E$9&$A19,PERFIL_DATOS!$A:$M,K$10,0) -> 12.650164 | M19: =DESPLEGABLES!P10 -> 9.2405598
A20: NOROESTE | B20: NOROESTE | C20: =VLOOKUP($A$11&$E$9&$A20,PERFIL_DATOS!$A:$M,C$10,0) -> 17.896603 | D20: =VLOOKUP($A$11&$E$9&$A20,PERFIL_DATOS!$A:$M,D$10,0) -> 24.91515 | E20: =VLOOKUP($A$11&$E$9&$A20,PERFIL_DATOS!$A:$M,E$10,0) -> 14.768891 | F20: =VLOOKUP($A$11&$E$9&$A20,PERFIL_DATOS!$A:$M,F$10,0) -> 15.126967 | G20: =VLOOKUP($A$11&$E$9&$A20,PERFIL_DATOS!$A:$M,G$10,0) -> 16.03805 | H20: =VLOOKUP($A$11&$E$9&$A20,PERFIL_DATOS!$A:$M,H$10,0) -> 23.404085 | I20: =VLOOKUP($A$11&$E$9&$A20,PERFIL_DATOS!$A:$M,I$10,0) -> 14.480007 | J20: =VLOOKUP($A$11&$E$9&$A20,PERFIL_DATOS!$A:$M,J$10,0) -> 13.450437 | K20: =VLOOKUP($A$11&$E$9&$A20,PERFIL_DATOS!$A:$M,K$10,0) -> 13.877589 | M20: =DESPLEGABLES!P11 -> 8.7809218
A21: <2MIL | B21: <2MIL | C21: =VLOOKUP($A$11&$E$9&$A21,PERFIL_DATOS!$A:$M,C$10,0) -> 13.923555 | D21: =VLOOKUP($A$11&$E$9&$A21,PERFIL_DATOS!$A:$M,D$10,0) -> 21.245982 | E21: =VLOOKUP($A$11&$E$9&$A21,PERFIL_DATOS!$A:$M,E$10,0) -> 11.410081 | F21: =VLOOKUP($A$11&$E$9&$A21,PERFIL_DATOS!$A:$M,F$10,0) -> 13.099376 | G21: =VLOOKUP($A$11&$E$9&$A21,PERFIL_DATOS!$A:$M,G$10,0) -> 13.136352 | H21: =VLOOKUP($A$11&$E$9&$A21,PERFIL_DATOS!$A:$M,H$10,0) -> 20.221673 | I21: =VLOOKUP($A$11&$E$9&$A21,PERFIL_DATOS!$A:$M,I$10,0) -> 11.886205 | J21: =VLOOKUP($A$11&$E$9&$A21,PERFIL_DATOS!$A:$M,J$10,0) -> 13.696493 | K21: =VLOOKUP($A$11&$E$9&$A21,PERFIL_DATOS!$A:$M,K$10,0) -> 11.420517 | M21: =DESPLEGABLES!P12 -> 5.7199069
A22: 2-5MIL | B22: 2-5MIL | C22: =VLOOKUP($A$11&$E$9&$A22,PERFIL_DATOS!$A:$M,C$10,0) -> 9.9859403 | D22: =VLOOKUP($A$11&$E$9&$A22,PERFIL_DATOS!$A:$M,D$10,0) -> 15.627134 | E22: =VLOOKUP($A$11&$E$9&$A22,PERFIL_DATOS!$A:$M,E$10,0) -> 8.432604 | F22: =VLOOKUP($A$11&$E$9&$A22,PERFIL_DATOS!$A:$M,F$10,0) -> 7.4373382 | G22: =VLOOKUP($A$11&$E$9&$A22,PERFIL_DATOS!$A:$M,G$10,0) -> 9.1600206 | H22: =VLOOKUP($A$11&$E$9&$A22,PERFIL_DATOS!$A:$M,H$10,0) -> 12.610522 | I22: =VLOOKUP($A$11&$E$9&$A22,PERFIL_DATOS!$A:$M,I$10,0) -> 8.3803002 | J22: =VLOOKUP($A$11&$E$9&$A22,PERFIL_DATOS!$A:$M,J$10,0) -> 9.2622508 | K22: =VLOOKUP($A$11&$E$9&$A22,PERFIL_DATOS!$A:$M,K$10,0) -> 9.5444815 | M22: =DESPLEGABLES!P13 -> 6.4097901
A23: 5-10MIL | B23: 5-10MIL | C23: =VLOOKUP($A$11&$E$9&$A23,PERFIL_DATOS!$A:$M,C$10,0) -> 13.35883 | D23: =VLOOKUP($A$11&$E$9&$A23,PERFIL_DATOS!$A:$M,D$10,0) -> 20.190335 | E23: =VLOOKUP($A$11&$E$9&$A23,PERFIL_DATOS!$A:$M,E$10,0) -> 12.907539 | F23: =VLOOKUP($A$11&$E$9&$A23,PERFIL_DATOS!$A:$M,F$10,0) -> 11.031081 | G23: =VLOOKUP($A$11&$E$9&$A23,PERFIL_DATOS!$A:$M,G$10,0) -> 13.652071 | H23: =VLOOKUP($A$11&$E$9&$A23,PERFIL_DATOS!$A:$M,H$10,0) -> 19.399386 | I23: =VLOOKUP($A$11&$E$9&$A23,PERFIL_DATOS!$A:$M,I$10,0) -> 12.137462 | J23: =VLOOKUP($A$11&$E$9&$A23,PERFIL_DATOS!$A:$M,J$10,0) -> 11.558232 | K23: =VLOOKUP($A$11&$E$9&$A23,PERFIL_DATOS!$A:$M,K$10,0) -> 11.289252 | M23: =DESPLEGABLES!P14 -> 7.9702166
A24: 10-30MIL | B24: 10-30MIL | C24: =VLOOKUP($A$11&$E$9&$A24,PERFIL_DATOS!$A:$M,C$10,0) -> 14.283429 | D24: =VLOOKUP($A$11&$E$9&$A24,PERFIL_DATOS!$A:$M,D$10,0) -> 20.989226 | E24: =VLOOKUP($A$11&$E$9&$A24,PERFIL_DATOS!$A:$M,E$10,0) -> 12.343377 | F24: =VLOOKUP($A$11&$E$9&$A24,PERFIL_DATOS!$A:$M,F$10,0) -> 11.661797 | G24: =VLOOKUP($A$11&$E$9&$A24,PERFIL_DATOS!$A:$M,G$10,0) -> 13.191722 | H24: =VLOOKUP($A$11&$E$9&$A24,PERFIL_DATOS!$A:$M,H$10,0) -> 19.73987 | I24: =VLOOKUP($A$11&$E$9&$A24,PERFIL_DATOS!$A:$M,I$10,0) -> 11.883448 | J24: =VLOOKUP($A$11&$E$9&$A24,PERFIL_DATOS!$A:$M,J$10,0) -> 11.3771 | K24: =VLOOKUP($A$11&$E$9&$A24,PERFIL_DATOS!$A:$M,K$10,0) -> 12.868035 | M24: =DESPLEGABLES!P15 -> 18.011835
... A41: MUJER | B41: MUJER | C41: =VLOOKUP($A$11&$E$9&$A41,PERFIL_DATOS!$A:$M,C$10,0) -> 11.65639 | D41: =VLOOKUP($A$11&$E$9&$A41,PERFIL_DATOS!$A:$M,D$10,0) -> 17.634219 | E41: =VLOOKUP($A$11&$E$9&$A41,PERFIL_DATOS!$A:$M,E$10,0) -> 10.230317 | F41: =VLOOKUP($A$11&$E$9&$A41,PERFIL_DATOS!$A:$M,F$10,0) -> 9.7509385 | G41: =VLOOKUP($A$11&$E$9&$A41,PERFIL_DATOS!$A:$M,G$10,0) -> 10.842467 | H41: =VLOOKUP($A$11&$E$9&$A41,PERFIL_DATOS!$A:$M,H$10,0) -> 16.211523 | I41: =VLOOKUP($A$11&$E$9&$A41,PERFIL_DATOS!$A:$M,I$10,0) -> 9.8037145 | J41: =VLOOKUP($A$11&$E$9&$A41,PERFIL_DATOS!$A:$M,J$10,0) -> 9.078514 | K41: =VLOOKUP($A$11&$E$9&$A41,PERFIL_DATOS!$A:$M,K$10,0) -> 10.580035 | M41: =DESPLEGABLES!P32 -> 50.200078
A42: Datos en color gris no tienen suficiente base muestral
A43: (-) o celda en blanco, dato no disponible

Sheet MOTIVOS_DATOS
B2: 0 | C2: 0 | D2: 0 | E2: TRIM 2 24 | F2: TRIM 3 24 | G2: TRIM 4 24 | H2: TRIM 1 25 | I2: TRIM 2 25 | J2: TRIM 3 25 | K2: TRIM 4 25 | L2: TRIM 1 26 | M2: TRIM 2 26
A3: =B3&C3&D3 -> DISTRIBUCION VOLUMEN POR CRITERIO (Consumiciones)TotalAlimentacionT.ESPAÑA | B3: DISTRIBUCION VOLUMEN POR CRITERIO (Consumiciones) | C3: TotalAlimentacion | D3: T.ESPAÑA | E3: 100 | F3: 100 | G3: 100 | H3: 100 | I3: 100 | J3: 100 | K3: 100 | L3: 100 | M3: 100
A4: =B3&C3&D4 -> DISTRIBUCION VOLUMEN POR CRITERIO (Consumiciones)TotalAlimentacionHiper+Super+Discount+G.A | B4: 0 | C4: 0 | D4: Hiper+Super+Discount+G.A | E4: 6.258965 | F4: 6.9002185 | G4: 6.8458984 | H4: 7.4040639 | I4: 7.210675 | J4: 7.1482575 | K4: 7.4021293 | L4: 8.4288259 | M4: 7.4770605
A5: =B3&C3&D5 -> DISTRIBUCION VOLUMEN POR CRITERIO (Consumiciones)TotalAlimentacionRestaurantes | B5: 0 | C5: 0 | D5: Restaurantes | E5: 16.806308 | F5: 16.466342 | G5: 17.0996 | H5: 17.137776 | I5: 16.646619 | J5: 16.722708 | K5: 16.845951 | L5: 17.083977 | M5: 17.674094
A6: =B3&C3&D6 -> DISTRIBUCION VOLUMEN POR CRITERIO (Consumiciones)TotalAlimentacionRestaurantes Fast Food | B6: 0 | C6: 0 | D6: Restaurantes Fast Food | E6: 9.5757947 | F6: 9.926821 | G6: 10.285458 | H6: 10.120091 | I6: 10.441658 | J6: 10.349541 | K6: 10.810151 | L6: 10.381684 | M6: 11.289202
A7: =B3&C3&D7 -> DISTRIBUCION VOLUMEN POR CRITERIO (Consumiciones)TotalAlimentacionBares/Cafeterias/Cervecerias | B7: 0 | C7: 0 | D7: Bares/Cafeterias/Cervecerias | E7: 48.679597 | F7: 46.686423 | G7: 47.495441 | H7: 46.987689 | I7: 47.425076 | J7: 45.973092 | K7: 46.9797 | L7: 46.664225 | M7: 44.064694
A8: =B3&C3&D8 -> DISTRIBUCION VOLUMEN POR CRITERIO (Consumiciones)TotalAlimentacionPanaderias/Pastelerias | B8: 0 | C8: 0 | D8: Panaderias/Pastelerias | E8: 2.8055635 | F8: 2.3889378 | G8: 3.1488028 | H8: 3.2836428 | I8: 3.1720212 | J8: 2.5779222 | K8: 3.3931031 | L8: 3.3980489 | M8: 3.238875
A9: =B3&C3&D9 -> DISTRIBUCION VOLUMEN POR CRITERIO (Consumiciones)TotalAlimentacionTda.Alimentacion/Delicatesen | B9: 0 | C9: 0 | D9: Tda.Alimentacion/Delicatesen | E9: 1.1516273 | F9: 1.299643 | G9: 1.1872915 | H9: 1.3927248 | I9: 1.2056863 | J9: 1.2207666 | K9: 1.1961288 | L9: 1.0516061 | M9: 1.2804974
A10: =B3&C3&D10 -> DISTRIBUCION VOLUMEN POR CRITERIO (Consumiciones)TotalAlimentacionCanal Conveniencia/24h | B10: 0 | C10: 0 | D10: Canal Conveniencia/24h | E10: 3.7732951 | F10: 3.2420716 | G10: 3.8017257 | H10: 3.7839195 | I10: 3.5561432 | J10: 3.3494869 | K10: 3.8639618 | L10: 3.8512624 | M10: 3.7082105
A11: =B3&C3&D11 -> DISTRIBUCION VOLUMEN POR CRITERIO (Consumiciones)TotalAlimentacionHoteles | B11: 0 | C11: 0 | D11: Hoteles | E11: 0.7100738 | F11: 0.77930037 | G11: 0.75031738 | H11: 0.49214019 | I11: 0.42810613 | J11: 0.63071255 | K11: 0.31883903 | L11: 0.34210293 | M11: 0.46101692
A12: =B3&C3&D12 -> DISTRIBUCION VOLUMEN POR CRITERIO (Consumiciones)TotalAlimentacionEstaciones de servicio | B12: 0 | C12: 0 | D12: Estaciones de servicio | E12: 1.3776623 | F12: 1.736583 | G12: 1.4301123 | H12: 1.3385642 | I12: 1.5502535 | J12: 1.4991339 | K12: 1.2201468 | L12: 1.3548002 | M12: 1.5554065
A13: =B3&C3&D13 -> DISTRIBUCION VOLUMEN POR CRITERIO (Consumiciones)TotalAlimentacionMaquinas dispensadoras | B13: 0 | C13: 0 | D13: Maquinas dispensadoras | E13: 2.8159746 | F13: 2.5368638 | G13: 2.8012359 | H13: 3.0005909 | I13: 2.7205229 | J13: 2.5029838 | K13: 2.8554222 | L13: 2.7907101 | M13: 2.8633242
A14: =B3&C3&D14 -> DISTRIBUCION VOLUMEN POR CRITERIO (Consumiciones)TotalAlimentacionServicio en la empresa | B14: 0 | C14: 0 | D14: Servicio en la empresa | E14: 1.5201833 | F14: 1.1753895 | G14: 1.3368593 | H14: 1.3180788 | I14: 1.2135685 | J14: 1.0904502 | K14: 1.409354 | L14: 1.4991297 | M14: 1.7207006
A15: =B3&C3&D15 -> DISTRIBUCION VOLUMEN POR CRITERIO (Consumiciones)TotalAlimentacionResto de canales | B15: 0 | C15: 0 | D15: Resto de canales | E15: 4.5249737 | F15: 6.8613937 | G15: 3.8172412 | H15: 3.7407401 | I15: 4.429697 | J15: 6.9349293 | K15: 3.7051232 | L15: 3.1536221 | M15: 4.6669019
A16: =B3&C3&D16 -> DISTRIBUCION VOLUMEN POR CRITERIO (Consumiciones)TotalAlimentacionEN LA CALLE | B16: 0 | C16: 0 | D16: EN LA CALLE | E16: 4.593535 | F16: 5.8627164 | G16: 4.0737345 | H16: 4.3324266 | I16: 5.4719072 | J16: 5.9491796 | K16: 4.3620675 | L16: 3.9345874 | M16: 6.2457561
A17: =B3&C3&D17 -> DISTRIBUCION VOLUMEN POR CRITERIO (Consumiciones)TotalAlimentacionEN CASA DE OTROS | B17: 0 | C17: 0 | D17: EN CASA DE OTROS | E17: 4.347643 | F17: 4.4007313 | G17: 5.1071409 | H17: 5.0646172 | I17: 4.3784432 | J17: 4.276709 | K17: 4.774548 | L17: 5.1314686 | M17: 3.8064378
A18: =B3&C3&D18 -> DISTRIBUCION VOLUMEN POR CRITERIO (Consumiciones)TotalAlimentacionEN EL ESTABLECIMIENTO | B18: 0 | C18: 0 | D18: EN EL ESTABLECIMIENTO | E18: 73.902205 | F18: 74.317749 | G18: 72.600682 | H18: 71.623714 | I18: 72.822523 | J18: 73.757078 | K18: 72.418917 | L18: 71.259704 | M18: 71.558446
A19: =B3&C3&D19 -> DISTRIBUCION VOLUMEN POR CRITERIO (Consumiciones)TotalAlimentacionEN EL TRABAJO | B19: 0 | C19: 0 | D19: EN EL TRABAJO | E19: 6.4397195 | F19: 5.3075661 | G19: 6.0316824 | H19: 6.1262275 | I19: 5.5932597 | J19: 4.9910237 | K19: 5.8198978 | L19: 5.9855337 | M19: 6.1312272
A20: =B3&C3&D20 -> DISTRIBUCION VOLUMEN POR CRITERIO (Consumiciones)TotalAlimentacionEN COLEGIO/INSTITUTO/UNIV. | B20: 0 | C20: 0 | D20: EN COLEGIO/INSTITUTO/UNIV. | E20: 0.25635627 | F20: 0.14435792 | G20: 0.36379253 | H20: 0.21377576 | I20: 0.30103708 | J20: 0.13334854 | K20: 0.31290544 | L20: 0.37041265 | M20: 0.45778258
A21: =B3&C3&D21 -> DISTRIBUCION VOLUMEN POR CRITERIO (Consumiciones)TotalAlimentacionEN MI CASA | B21: 0 | C21: 0 | D21: EN MI CASA | E21: 7.8869903 | F21: 7.016043 | G21: 8.6198346 | H21: 9.0423846 | I21: 8.4360669 | J21: 7.5504281 | K21: 9.1172966 | L21: 10.129208 | M21: 8.7649572
A22: =B3&C3&D22 -> DISTRIBUCION VOLUMEN POR CRITERIO (Consumiciones)TotalAlimentacionEN M.TRANSP.(AVION,TREN,AUTOC,E | B22: 0 | C22: 0 | D22: EN M.TRANSP.(AVION,TREN,AUTOC,E | E22: 0.094655014 | F22: 0.1500945 | G22: 0.12628842 | H22: 0.133948 | I22: 0.12170407 | J22: 0.15815692 | K22: 0.16036395 | L22: 0.12693651 | M22: 0.1402593
A23: =B3&C3&D23 -> DISTRIBUCION VOLUMEN POR CRITERIO (Consumiciones)TotalAlimentacionEN OTRO LUGAR | B23: 0 | C23: 0 | D23: EN OTRO LUGAR | E23: 2.4789202 | F23: 2.8007316 | G23: 3.0768355 | H23: 3.462904 | I23: 2.8750824 | J23: 3.1840746 | K23: 3.0340292 | L23: 3.0621708 | M23: 2.8951172
A24: =B3&C3&D24 -> DISTRIBUCION VOLUMEN POR CRITERIO (Consumiciones)TotalAlimentacionDESAYUNO | B24: 0 | C24: 0 | D24: DESAYUNO | E24: 20.505125 | F24: 19.001513 | G24: 20.57366 | H24: 20.997681 | I24: 19.599052 | J24: 18.97698 | K24: 21.751781 | L24: 22.079572 | M24: 19.7955
A25: =B3&C3&D25 -> DISTRIBUCION VOLUMEN POR CRITERIO (Consumiciones)TotalAlimentacionAPERITIVO/ANTES DE COMER | B25: 0 | C25: 0 | D25: APERITIVO/ANTES DE COMER | E25: 11.470297 | F25: 11.140584 | G25: 11.111002 | H25: 11.169524 | I25: 11.738064 | J25: 11.383715 | K25: 11.102642 | L25: 11.163235 | M25: 11.617765
A26: =B3&C3&D26 -> DISTRIBUCION VOLUMEN POR CRITERIO (Consumiciones)TotalAlimentacionCOMIDA | B26: 0 | C26: 0 | D26: COMIDA | E26: 29.36548 | F26: 28.134961 | G26: 30.43525 | H26: 30.491815 | I26: 29.826239 | J26: 28.032432 | K26: 30.411401 | L26: 30.607201 | M26: 30.539396
A27: =B3&C3&D27 -> DISTRIBUCION VOLUMEN POR CRITERIO (Consumiciones)TotalAlimentacionTARDE/MERIENDA | B27: 0 | C27: 0 | D27: TARDE/MERIENDA | E27: 13.380581 | F27: 11.908774 | G27: 12.408086 | H27: 12.345879 | I27: 12.931849 | J27: 11.250448 | K27: 12.006415 | L27: 12.389367 | M27: 12.793759
A28: =B3&C3&D28 -> DISTRIBUCION VOLUMEN POR CRITERIO (Consumiciones)TotalAlimentacionANTES DE CENAR | B28: 0 | C28: 0 | D28: ANTES DE CENAR | E28: 4.9405071 | F28: 5.345914 | G28: 4.919097 | H28: 4.7597967 | I28: 4.7497913 | J28: 5.47009 | K28: 4.6655963 | L28: 4.3954617 | M28: 4.5399677
A29: =B3&C3&D29 -> DISTRIBUCION VOLUMEN POR CRITERIO (Consumiciones)TotalAlimentacionCENA | B29: 0 | C29: 0 | D29: CENA | E29: 15.004093 | F29: 17.890118 | G29: 15.232059 | H29: 14.62132 | I29: 15.514744 | J29: 18.133648 | K29: 14.515213 | L29: 13.922444 | M29: 15.559762
A30: =B3&C3&D30 -> DISTRIBUCION VOLUMEN POR CRITERIO (Consumiciones)TotalAlimentacionDESPUES DE LA CENA | B30: 0 | C30: 0 | D30: DESPUES DE LA CENA | E30: 1.6714248 | F30: 2.7781806 | G30: 1.6967192 | H30: 1.6966592 | I30: 1.6860094 | J30: 2.7990409 | K30: 1.4705509 | L30: 1.403409 | M30: 1.5419394
A31: =B3&C3&D31 -> DISTRIBUCION VOLUMEN POR CRITERIO (Consumiciones)TotalAlimentacionDURANTE EL DIA | B31: 0 | C31: 0 | D31: DURANTE EL DIA | E31: 3.6625088 | F31: 3.7999601 | G31: 3.6241265 | H31: 3.9173397 | I31: 3.9542676 | J31: 3.9536282 | K31: 4.0764188 | L31: 4.0393113 | M31: 3.6118962
A32: =B3&C3&D32 -> DISTRIBUCION VOLUMEN POR CRITERIO (Consumiciones)TotalAlimentacionCON AMIGOS | B32: 0 | C32: 0 | D32: CON AMIGOS | E32: 24.729534 | F32: 24.366343 | G32: 25.949362 | H32: 25.996777 | I32: 25.123678 | J32: 25.089697 | K32: 25.683477 | L32: 25.423404 | M32: 24.552187
A33: =B3&C3&D33 -> DISTRIBUCION VOLUMEN POR CRITERIO (Consumiciones)TotalAlimentacionCON CLIENTES | B33: 0 | C33: 0 | D33: CON CLIENTES | E33: 0.46002381 | F33: 0.49474321 | G33: 0.60728011 | H33: 0.64112238 | I33: 0.58191369 | J33: 0.52353528 | K33: 0.49820236 | L33: 0.67233902 | M33: 0.79057463
A34: =B3&C3&D34 -> DISTRIBUCION VOLUMEN POR CRITERIO (Consumiciones)TotalAlimentacionCON COMPAÑEROS DE TRABAJO | B34: 0 | C34: 0 | D34: CON COMPAÑEROS DE TRABAJO | E34: 7.7906617 | F34: 5.9147629 | G34: 7.4412631 | H34: 7.1842739 | I34: 6.7306761 | J34: 5.6646706 | K34: 7.5770313 | L34: 6.9725615 | M34: 7.4615873
A35: =B3&C3&D35 -> DISTRIBUCION VOLUMEN POR CRITERIO (Consumiciones)TotalAlimentacionCON COMPAÑEROS DE CLASE | B35: 0 | C35: 0 | D35: CON COMPAÑEROS DE CLASE | E35: 0.41368765 | F35: 0.33012182 | G35: 0.52043961 | H35: 0.38655399 | I35: 0.55361549 | J35: 0.24821432 | K35: 0.44968202 | L35: 0.46052704 | M35: 0.59201559
A36: =B3&C3&D36 -> DISTRIBUCION VOLUMEN POR CRITERIO (Consumiciones)TotalAlimentacionCON FAMILIA | B36: 0 | C36: 0 | D36: CON FAMILIA | E36: 31.392733 | F36: 34.005885 | G36: 29.299615 | H36: 29.6026 | I36: 30.713829 | J36: 33.190409 | K36: 29.471512 | L36: 29.421477 | M36: 29.907291
A37: =B3&C3&D37 -> DISTRIBUCION VOLUMEN POR CRITERIO (Consumiciones)TotalAlimentacionCON LA PAREJA | B37: 0 | C37: 0 | D37: CON LA PAREJA | E37: 18.150323 | F37: 18.995693 | G37: 18.200818 | H37: 17.46492 | I37: 18.546647 | J37: 18.830534 | K37: 17.602829 | L37: 17.92687 | M37: 18.287131
A38: =B3&C3&D38 -> DISTRIBUCION VOLUMEN POR CRITERIO (Consumiciones)TotalAlimentacionESTABA SOLO/A | B38: 0 | C38: 0 | D38: ESTABA SOLO/A | E38: 16.367958 | F38: 15.392743 | G38: 17.374851 | H38: 18.117901 | I38: 17.095385 | J38: 15.850702 | K38: 17.90679 | L38: 18.372017 | M38: 17.730764
A39: =B3&C3&D39 -> DISTRIBUCION VOLUMEN POR CRITERIO (Consumiciones)TotalAlimentacionOTROS | B39: 0 | C39: 0 | D39: OTROS | E39: 0.69509264 | F39: 0.4997027 | G39: 0.60637161 | H39: 0.60586538 | I39: 0.65427208 | J39: 0.60221415 | K39: 0.81048983 | L39: 0.75080301 | M39: 0.67843864
A40: =B3&C3&D40 -> DISTRIBUCION VOLUMEN POR CRITERIO (Consumiciones)TotalAlimentacionESTAR TRABAJANDO | B40: 0 | C40: 0 | D40: ESTAR TRABAJANDO | E40: 11.339398 | F40: 9.4828442 | G40: 11.135 | H40: 11.559595 | I40: 10.935337 | J40: 9.3537454 | K40: 10.735822 | L40: 11.059278 | M40: 10.692857
A41: =B3&C3&D41 -> DISTRIBUCION VOLUMEN POR CRITERIO (Consumiciones)TotalAlimentacionCOMIDA DE NEGOCIOS | B41: 0 | C41: 0 | D41: COMIDA DE NEGOCIOS | E41: 0.17733369 | F41: 0.28396281 | G41: 0.42249263 | H41: 0.26714515 | I41: 0.27203955 | J41: 0.17122016 | K41: 0.3712648 | L41: 0.26466151 | M41: 0.30880855
A42: =B3&C3&D42 -> DISTRIBUCION VOLUMEN POR CRITERIO (Consumiciones)TotalAlimentacionPOR PLACER/RELAX | B42: 0 | C42: 0 | D42: POR PLACER/RELAX | E42: 17.307153 | F42: 19.83962 | G42: 16.337582 | H42: 15.586703 | I42: 16.882677 | J42: 19.235286 | K42: 16.22526 | L42: 16.035934 | M42: 16.67606
A43: =B3&C3&D43 -> DISTRIBUCION VOLUMEN POR CRITERIO (Consumiciones)TotalAlimentacionTENER HAMBRE/SIN PLANIFICAR | B43: 0 | C43: 0 | D43: TENER HAMBRE/SIN PLANIFICAR | E43: 24.006671 | F43: 23.930024 | G43: 23.831401 | H43: 23.816228 | I43: 24.498859 | J43: 24.493039 | K43: 23.817763 | L43: 24.134054 | M43: 24.71402
A44: =B3&C3&D44 -> DISTRIBUCION VOLUMEN POR CRITERIO (Consumiciones)TotalAlimentacionESTAR DE COMPRAS | B44: 0 | C44: 0 | D44: ESTAR DE COMPRAS | E44: 2.6927862 | F44: 2.9222797 | G44: 3.3952394 | H44: 3.3650587 | I44: 2.5335783 | J44: 2.8862281 | K44: 3.3720365 | L44: 3.6389212 | M44: 3.3259594
A45: =B3&C3&D45 -> DISTRIBUCION VOLUMEN POR CRITERIO (Consumiciones)TotalAlimentacionNO COCINAR EN CASA | B45: 0 | C45: 0 | D45: NO COCINAR EN CASA | E45: 5.8678922 | F45: 5.2513505 | G45: 5.7828171 | H45: 5.684368 | I45: 5.7178967 | J45: 5.7334095 | K45: 5.7109788 | L45: 5.5822426 | M45: 5.1055532
A46: =B3&C3&D46 -> DISTRIBUCION VOLUMEN POR CRITERIO (Consumiciones)TotalAlimentacionCELEBRACION/FIESTA/SALIR TOMAR | B46: 0 | C46: 0 | D46: CELEBRACION/FIESTA/SALIR TOMAR | E46: 31.441561 | F46: 30.935586 | G46: 31.889682 | H46: 32.222971 | I46: 31.262096 | J46: 31.205575 | K46: 32.113663 | L46: 31.313871 | M46: 31.570805
A47: =B3&C3&D47 -> DISTRIBUCION VOLUMEN POR CRITERIO (Consumiciones)TotalAlimentacionVIENDO DEPORTES | B47: 0 | C47: 0 | D47: VIENDO DEPORTES | E47: 1.1403215 | F47: 1.2859456 | G47: 1.1886916 | H47: 1.3322554 | I47: 1.4509459 | J47: 0.81506563 | K47: 1.1480735 | L47: 1.3809842 | M47: 1.3320349
A48: =B3&C3&D48 -> DISTRIBUCION VOLUMEN POR CRITERIO (Consumiciones)TotalAlimentacionOTROS MOTIVOS | B48: 0 | C48: 0 | D48: OTROS MOTIVOS | E48: 6.0268929 | F48: 6.0683816 | G48: 6.0170866 | H48: 6.1656894 | I48: 6.4465817 | J48: 6.1064171 | K48: 6.5051502 | L48: 6.5900515 | M48: 6.2738908
A49: =B3&C49&D49 -> DISTRIBUCION VOLUMEN POR CRITERIO (Consumiciones).T.Alimentos TOTAL INGT.ESPAÑA | B49: 0 | C49: .T.Alimentos TOTAL ING | D49: T.ESPAÑA | E49: 100 | F49: 100 | G49: 100 | H49: 100 | I49: 100 | J49: 100 | K49: 100 | L49: 100 | M49: 100
A50: =B3&C49&D50 -> DISTRIBUCION VOLUMEN POR CRITERIO (Consumiciones).T.Alimentos TOTAL INGHiper+Super+Discount+G.A | B50: 0 | C50: 0 | D50: Hiper+Super+Discount+G.A | E50: 6.5613939 | F50: 7.2288161 | G50: 7.3788509 | H50: 8.0104189 | I50: 7.2329302 | J50: 7.1651097 | K50: 8.1543551 | L50: 10.182886 | M50: 8.470259
A51: =B3&C49&D51 -> DISTRIBUCION VOLUMEN POR CRITERIO (Consumiciones).T.Alimentos TOTAL INGRestaurantes | B51: 0 | C51: 0 | D51: Restaurantes | E51: 24.619397 | F51: 23.886261 | G51: 25.127517 | H51: 25.35337 | I51: 24.313296 | J51: 24.225659 | K51: 24.211895 | L51: 24.49217 | M51: 27.104821
A52: =B3&C49&D52 -> DISTRIBUCION VOLUMEN POR CRITERIO (Consumiciones).T.Alimentos TOTAL INGRestaurantes Fast Food | B52: 0 | C52: 0 | D52: Restaurantes Fast Food | E52: 16.443561 | F52: 16.528134 | G52: 17.099504 | H52: 16.639075 | I52: 17.277633 | J52: 17.049454 | K52: 17.947979 | L52: 17.200105 | M52: 16.958642
A53: =B3&C49&D53 -> DISTRIBUCION VOLUMEN POR CRITERIO (Consumiciones).T.Alimentos TOTAL INGBares/Cafeterias/Cervecerias | B53: 0 | C53: 0 | D53: Bares/Cafeterias/Cervecerias | E53: 32.757245 | F53: 31.470187 | G53: 32.183504 | H53: 31.654354 | I53: 32.449129 | J53: 31.053308 | K53: 31.608314 | L53: 31.011485 | M53: 28.586028
A54: =B3&C49&D54 -> DISTRIBUCION VOLUMEN POR CRITERIO (Consumiciones).T.Alimentos TOTAL INGPanaderias/Pastelerias | B54: 0 | C54: 0 | D54: Panaderias/Pastelerias | E54: 4.2120163 | F54: 3.3626002 | G54: 4.4742064 | H54: 4.7102962 | I54: 4.5697805 | J54: 3.5748642 | K54: 4.9960814 | L54: 4.7328524 | M54: 4.5525846
A55: =B3&C49&D55 -> DISTRIBUCION VOLUMEN POR CRITERIO (Consumiciones).T.Alimentos TOTAL INGTda.Alimentacion/Delicatesen | B55: 0 | C55: 0 | D55: Tda.Alimentacion/Delicatesen | E55: 0.96236349 | F55: 1.1835158 | G55: 1.1006517 | H55: 1.4504454 | I55: 0.97711655 | J55: 1.1331071 | K55: 1.0597618 | L55: 0.88618889 | M55: 0.98333443
A56: =B3&C49&D56 -> DISTRIBUCION VOLUMEN POR CRITERIO (Consumiciones).T.Alimentos TOTAL INGCanal Conveniencia/24h | B56: 0 | C56: 0 | D56: Canal Conveniencia/24h | E56: 5.958574 | F56: 5.2114104 | G56: 6.0635345 | H56: 5.9532593 | I56: 5.629096 | J56: 5.5068857 | K56: 6.1617658 | L56: 6.2885494 | M56: 4.8431479
A57: =B3&C49&D57 -> DISTRIBUCION VOLUMEN POR CRITERIO (Consumiciones).T.Alimentos TOTAL INGHoteles | B57: 0 | C57: 0 | D57: Hoteles | E57: 0.89920924 | F57: 0.89955534 | G57: 0.89275229 | H57: 0.54198494 | I57: 0.42393154 | J57: 0.5944525 | K57: 0.39347343 | L57: 0.42901437 | M57: 0.53928161
A58: =B3&C49&D58 -> DISTRIBUCION VOLUMEN POR CRITERIO (Consumiciones).T.Alimentos TOTAL INGEstaciones de servicio | B58: 0 | C58: 0 | D58: Estaciones de servicio | E58: 1.0995481 | F58: 1.3411092 | G58: 1.0620278 | H58: 1.0352313 | I58: 1.2787296 | J58: 1.0509768 | K58: 0.78273199 | L58: 1.0182841 | M58: 1.2806392
A59: =B3&C49&D59 -> DISTRIBUCION VOLUMEN POR CRITERIO (Consumiciones).T.Alimentos TOTAL INGMaquinas dispensadoras | B59: 0 | C59: 0 | D59: Maquinas dispensadoras | E59: 0.29860915 | F59: 0.30057533 | G59: 0.26573915 | H59: 0.29323808 | I59: 0.24549665 | J59: 0.28403688 | K59: 0.30532722 | L59: 0.23643197 | M59: 0.37081087
A60: =B3&C49&D60 -> DISTRIBUCION VOLUMEN POR CRITERIO (Consumiciones).T.Alimentos TOTAL INGServicio en la empresa | B60: 0 | C60: 0 | D60: Servicio en la empresa | E60: 1.4413108 | F60: 1.0344313 | G60: 1.1295884 | H60: 1.1676951 | I60: 1.0068111 | J60: 0.88260782 | K60: 1.088366 | L60: 1.1135536 | M60: 1.4269264
A61: =B3&C49&D61 -> DISTRIBUCION VOLUMEN POR CRITERIO (Consumiciones).T.Alimentos TOTAL INGResto de canales | B61: 0 | C61: 0 | D61: Resto de canales | E61: 4.7468103 | F61: 7.5533779 | G61: 3.2221084 | H61: 3.1906423 | I61: 4.5960327 | J61: 7.479515 | K61: 3.2899453 | L61: 2.4085084 | M61: 4.8835568
A62: =B3&C49&D62 -> DISTRIBUCION VOLUMEN POR CRITERIO (Consumiciones).T.Alimentos TOTAL INGEN LA CALLE | B62: 0 | C62: 0 | D62: EN LA CALLE | E62: 4.1863117 | F62: 5.729276 | G62: 3.5562903 | H62: 3.5507274 | I62: 4.9581201 | J62: 5.8152929 | K62: 3.4983595 | L62: 3.2776172 | M62: 5.9504715
A63: =B3&C49&D63 -> DISTRIBUCION VOLUMEN POR CRITERIO (Consumiciones).T.Alimentos TOTAL INGEN CASA DE OTROS | B63: 0 | C63: 0 | D63: EN CASA DE OTROS | E63: 6.2695725 | F63: 6.6014514 | G63: 7.7271258 | H63: 7.6402943 | I63: 6.2628394 | J63: 6.3924343 | K63: 7.2505151 | L63: 7.892111 | M63: 5.6807521
A64: =B3&C49&D64 -> DISTRIBUCION VOLUMEN POR CRITERIO (Consumiciones).T.Alimentos TOTAL INGEN EL ESTABLECIMIENTO | B64: 0 | C64: 0 | D64: EN EL ESTABLECIMIENTO | E64: 65.927683 | F64: 67.19126 | G64: 64.783817 | H64: 63.374794 | I64: 65.399877 | J64: 67.088834 | K64: 64.641595 | L64: 61.793001 | M64: 65.259355
A65: =B3&C49&D65 -> DISTRIBUCION VOLUMEN POR CRITERIO (Consumiciones).T.Alimentos TOTAL INGEN EL TRABAJO | B65: 0 | C65: 0 | D65: EN EL TRABAJO | E65: 4.4139999 | F65: 3.3117109 | G65: 3.4811935 | H65: 3.7660106 | I65: 3.4781108 | J65: 2.8682529 | K65: 3.2871015 | L65: 3.7810016 | M65: 4.0120972
A66: =B3&C49&D66 -> DISTRIBUCION VOLUMEN POR CRITERIO (Consumiciones).T.Alimentos TOTAL INGEN COLEGIO/INSTITUTO/UNIV. | B66: 0 | C66: 0 | D66: EN COLEGIO/INSTITUTO/UNIV. | E66: 0.34248785 | F66: 0.13311155 | G66: 0.3700828 | H66: 0.25847966 | I66: 0.3837428 | J66: 0.1310461 | K66: 0.34658375 | L66: 0.46082 | M66: 0.59502394
A67: =B3&C49&D67 -> DISTRIBUCION VOLUMEN POR CRITERIO (Consumiciones).T.Alimentos TOTAL INGEN MI CASA | B67: 0 | C67: 0 | D67: EN MI CASA | E67: 16.194033 | F67: 13.991545 | G67: 16.745652 | H67: 17.738292 | I67: 16.549779 | J67: 14.633655 | K67: 17.734066 | L67: 19.68289 | M67: 15.627676
A68: =B3&C49&D68 -> DISTRIBUCION VOLUMEN POR CRITERIO (Consumiciones).T.Alimentos TOTAL INGEN M.TRANSP.(AVION,TREN,AUTOC,E | B68: 0 | C68: 0 | D68: EN M.TRANSP.(AVION,TREN,AUTOC,E | E68: 0.10536515 | F68: 0.13045403 | G68: 0.072466786 | H68: 0.089637117 | I68: 0.11292025 | J68: 0.12955636 | K68: 0.13959192 | L68: 0.079992556 | M68: 0.1167075
A69: =B3&C49&D69 -> DISTRIBUCION VOLUMEN POR CRITERIO (Consumiciones).T.Alimentos TOTAL INGEN OTRO LUGAR | B69: 0 | C69: 0 | D69: EN OTRO LUGAR | E69: 2.5605788 | F69: 2.9111902 | G69: 3.2633573 | H69: 3.581762 | I69: 2.8545943 | J69: 2.9408929 | K69: 3.1021851 | L69: 3.0326061 | M69: 2.7579556
A70: =B3&C49&D70 -> DISTRIBUCION VOLUMEN POR CRITERIO (Consumiciones).T.Alimentos TOTAL INGDESAYUNO | B70: 0 | C70: 0 | D70: DESAYUNO | E70: 15.161673 | F70: 14.090234 | G70: 15.028716 | H70: 15.303876 | I70: 14.458651 | J70: 13.784913 | K70: 15.216435 | L70: 15.452344 | M70: 13.60129
A71: =B3&C49&D71 -> DISTRIBUCION VOLUMEN POR CRITERIO (Consumiciones).T.Alimentos TOTAL INGAPERITIVO/ANTES DE COMER | B71: 0 | C71: 0 | D71: APERITIVO/ANTES DE COMER | E71: 4.82392 | F71: 4.3833607 | G71: 4.442189 | H71: 4.5783595 | I71: 4.8867185 | J71: 4.3383048 | K71: 4.4649561 | L71: 4.6659051 | M71: 4.9757495
A72: =B3&C49&D72 -> DISTRIBUCION VOLUMEN POR CRITERIO (Consumiciones).T.Alimentos TOTAL INGCOMIDA | B72: 0 | C72: 0 | D72: COMIDA | E72: 43.177463 | F72: 41.414103 | G72: 44.708734 | H72: 45.276007 | I72: 43.70632 | J72: 41.394074 | K72: 45.026756 | L72: 44.672947 | M72: 45.434486
A73: =B3&C49&D73 -> DISTRIBUCION VOLUMEN POR CRITERIO (Consumiciones).T.Alimentos TOTAL INGTARDE/MERIENDA | B73: 0 | C73: 0 | D73: TARDE/MERIENDA | E73: 9.7173315 | F73: 8.9231359 | G73: 8.546288 | H73: 8.5693584 | I73: 9.3321064 | J73: 8.2608764 | K73: 8.4366468 | L73: 9.1292349 | M73: 9.2005103
A74: =B3&C49&D74 -> DISTRIBUCION VOLUMEN POR CRITERIO (Consumiciones).T.Alimentos TOTAL INGANTES DE CENAR | B74: 0 | C74: 0 | D74: ANTES DE CENAR | E74: 1.6848099 | F74: 1.67196 | G74: 1.4184665 | H74: 1.5037302 | I74: 1.6184869 | J74: 2.13635 | K74: 1.6621142 | L74: 1.5342819 | M74: 1.6116228
A75: =B3&C49&D75 -> DISTRIBUCION VOLUMEN POR CRITERIO (Consumiciones).T.Alimentos TOTAL INGCENA | B75: 0 | C75: 0 | D75: CENA | E75: 22.564415 | F75: 25.517951 | G75: 23.258242 | H75: 22.063918 | I75: 22.761306 | J75: 25.581154 | K75: 22.066107 | L75: 21.092006 | M75: 22.039519
A76: =B3&C49&D76 -> DISTRIBUCION VOLUMEN POR CRITERIO (Consumiciones).T.Alimentos TOTAL INGDESPUES DE LA CENA | B76: 0 | C76: 0 | D76: DESPUES DE LA CENA | E76: 0.60731333 | F76: 1.7082685 | G76: 0.49389543 | H76: 0.44583922 | I76: 0.53822024 | J76: 1.7124014 | K76: 0.46494292 | L76: 0.37785388 | M76: 0.62733767
A77: =B3&C49&D77 -> DISTRIBUCION VOLUMEN POR CRITERIO (Consumiciones).T.Alimentos TOTAL INGDURANTE EL DIA | B77: 0 | C77: 0 | D77: DURANTE EL DIA | E77: 2.2631099 | F77: 2.2909595 | G77: 2.1034521 | H77: 2.2589115 | I77: 2.698174 | J77: 2.7918899 | K77: 2.6620382 | L77: 3.0754628 | M77: 2.5095199
A78: =B3&C49&D78 -> DISTRIBUCION VOLUMEN POR CRITERIO (Consumiciones).T.Alimentos TOTAL INGCON AMIGOS | B78: 0 | C78: 0 | D78: CON AMIGOS | E78: 18.779649 | F78: 18.632937 | G78: 20.673196 | H78: 20.22367 | I78: 19.311777 | J78: 19.046477 | K78: 20.335748 | L78: 19.836691 | M78: 20.037314
A79: =B3&C49&D79 -> DISTRIBUCION VOLUMEN POR CRITERIO (Consumiciones).T.Alimentos TOTAL INGCON CLIENTES | B79: 0 | C79: 0 | D79: CON CLIENTES | E79: 0.28528475 | F79: 0.37817846 | G79: 0.47128468 | H79: 0.51099774 | I79: 0.43653056 | J79: 0.43076982 | K79: 0.31975926 | L79: 0.45592152 | M79: 0.68862387
A80: =B3&C49&D80 -> DISTRIBUCION VOLUMEN POR CRITERIO (Consumiciones).T.Alimentos TOTAL INGCON COMPAÑEROS DE TRABAJO | B80: 0 | C80: 0 | D80: CON COMPAÑEROS DE TRABAJO | E80: 5.8624373 | F80: 3.8506636 | G80: 5.119758 | H80: 4.869543 | I80: 4.4671544 | J80: 3.4482783 | K80: 4.8510765 | L80: 4.4369998 | M80: 5.3332609
A81: =B3&C49&D81 -> DISTRIBUCION VOLUMEN POR CRITERIO (Consumiciones).T.Alimentos TOTAL INGCON COMPAÑEROS DE CLASE | B81: 0 | C81: 0 | D81: CON COMPAÑEROS DE CLASE | E81: 0.45637129 | F81: 0.35380063 | G81: 0.55660569 | H81: 0.40456325 | I81: 0.68290459 | J81: 0.32790848 | K81: 0.56532418 | L81: 0.64337493 | M81: 0.64635803
A82: =B3&C49&D82 -> DISTRIBUCION VOLUMEN POR CRITERIO (Consumiciones).T.Alimentos TOTAL INGCON FAMILIA | B82: 0 | C82: 0 | D82: CON FAMILIA | E82: 40.710542 | F82: 43.122717 | G82: 37.878843 | H82: 39.286502 | I82: 40.034876 | J82: 42.947329 | K82: 39.172987 | L82: 38.912381 | M82: 38.223341
A83: =B3&C49&D83 -> DISTRIBUCION VOLUMEN POR CRITERIO (Consumiciones).T.Alimentos TOTAL INGCON LA PAREJA | B83: 0 | C83: 0 | D83: CON LA PAREJA | E83: 20.184935 | F83: 21.025743 | G83: 20.843842 | H83: 19.779046 | I83: 20.780425 | J83: 20.858879 | K83: 20.287941 | L83: 20.414743 | M83: 20.348927
A84: =B3&C49&D84 -> DISTRIBUCION VOLUMEN POR CRITERIO (Consumiciones).T.Alimentos TOTAL INGESTABA SOLO/A | B84: 0 | C84: 0 | D84: ESTABA SOLO/A | E84: 12.954052 | F84: 12.151763 | G84: 13.800993 | H84: 14.230954 | I84: 13.671008 | J84: 12.298995 | K84: 13.590652 | L84: 14.388343 | M84: 13.842924
A85: =B3&C49&D85 -> DISTRIBUCION VOLUMEN POR CRITERIO (Consumiciones).T.Alimentos TOTAL INGOTROS | B85: 0 | C85: 0 | D85: OTROS | E85: 0.76675856 | F85: 0.48417308 | G85: 0.6554588 | H85: 0.69473316 | I85: 0.6153161 | J85: 0.64134018 | K85: 0.87651665 | L85: 0.91157912 | M85: 0.87929371
A86: =B3&C49&D86 -> DISTRIBUCION VOLUMEN POR CRITERIO (Consumiciones).T.Alimentos TOTAL INGESTAR TRABAJANDO | B86: 0 | C86: 0 | D86: ESTAR TRABAJANDO | E86: 8.6163418 | F86: 6.9099602 | G86: 8.0385139 | H86: 8.6943583 | I86: 8.1546046 | J86: 6.7214046 | K86: 7.1389878 | L86: 7.6494377 | M86: 7.6374341
A87: =B3&C49&D87 -> DISTRIBUCION VOLUMEN POR CRITERIO (Consumiciones).T.Alimentos TOTAL INGCOMIDA DE NEGOCIOS | B87: 0 | C87: 0 | D87: COMIDA DE NEGOCIOS | E87: 0.19575634 | F87: 0.41697982 | G87: 0.5861202 | H87: 0.36134662 | I87: 0.33496309 | J87: 0.18748377 | K87: 0.44100738 | L87: 0.3593965 | M87: 0.43234166
A88: =B3&C49&D88 -> DISTRIBUCION VOLUMEN POR CRITERIO (Consumiciones).T.Alimentos TOTAL INGPOR PLACER/RELAX | B88: 0 | C88: 0 | D88: POR PLACER/RELAX | E88: 19.781395 | F88: 22.129597 | G88: 17.882806 | H88: 17.102776 | I88: 18.293487 | J88: 21.064397 | K88: 18.050057 | L88: 17.541266 | M88: 18.894474
A89: =B3&C49&D89 -> DISTRIBUCION VOLUMEN POR CRITERIO (Consumiciones).T.Alimentos TOTAL INGTENER HAMBRE/SIN PLANIFICAR | B89: 0 | C89: 0 | D89: TENER HAMBRE/SIN PLANIFICAR | E89: 23.580056 | F89: 23.729729 | G89: 23.291938 | H89: 23.187714 | I89: 24.515404 | J89: 24.248153 | K89: 23.690857 | L89: 24.197375 | M89: 23.950356
A90: =B3&C49&D90 -> DISTRIBUCION VOLUMEN POR CRITERIO (Consumiciones).T.Alimentos TOTAL INGESTAR DE COMPRAS | B90: 0 | C90: 0 | D90: ESTAR DE COMPRAS | E90: 3.0041232 | F90: 3.322075 | G90: 3.9776541 | H90: 3.7828816 | I90: 2.8647903 | J90: 3.2797686 | K90: 3.8219697 | L90: 4.2112947 | M90: 3.7998284
A91: =B3&C49&D91 -> DISTRIBUCION VOLUMEN POR CRITERIO (Consumiciones).T.Alimentos TOTAL INGNO COCINAR EN CASA | B91: 0 | C91: 0 | D91: NO COCINAR EN CASA | E91: 9.9255839 | F91: 8.8233208 | G91: 10.068684 | H91: 9.643167 | I91: 9.4534724 | J91: 9.5487255 | K91: 9.8675415 | L91: 9.5728326 | M91: 8.2534251
A92: =B3&C49&D92 -> DISTRIBUCION VOLUMEN POR CRITERIO (Consumiciones).T.Alimentos TOTAL INGCELEBRACION/FIESTA/SALIR TOMAR | B92: 0 | C92: 0 | D92: CELEBRACION/FIESTA/SALIR TOMAR | E92: 27.844067 | F92: 27.527702 | G92: 29.088993 | H92: 29.556862 | I92: 28.058067 | J92: 27.885921 | K92: 28.944235 | L92: 28.175938 | M92: 29.327882
A93: =B3&C49&D93 -> DISTRIBUCION VOLUMEN POR CRITERIO (Consumiciones).T.Alimentos TOTAL INGVIENDO DEPORTES | B93: 0 | C93: 0 | D93: VIENDO DEPORTES | E93: 0.76356163 | F93: 0.78965838 | G93: 0.71522118 | H93: 0.84854423 | I93: 1.0062748 | J93: 0.45051946 | K93: 0.6822995 | L93: 0.85688393 | M93: 0.92349911
A94: =B3&C49&D94 -> DISTRIBUCION VOLUMEN POR CRITERIO (Consumiciones).T.Alimentos TOTAL INGOTROS MOTIVOS | B94: 0 | C94: 0 | D94: OTROS MOTIVOS | E94: 6.2891483 | F94: 6.3509495 | G94: 6.3500408 | H94: 6.8223512 | I94: 7.3189187 | J94: 6.6135961 | K94: 7.3630421 | L94: 7.4356121 | M94: 6.7808008
A95: =B3&C95&D95 -> DISTRIBUCION VOLUMEN POR CRITERIO (Consumiciones)Total BebidasT.ESPAÑA | B95: 0 | C95: Total Bebidas | D95: T.ESPAÑA | E95: 100 | F95: 100 | G95: 100 | H95: 100 | I95: 100 | J95: 100 | K95: 100 | L95: 100 | M95: 100
A96: =B3&C95&D96 -> DISTRIBUCION VOLUMEN POR CRITERIO (Consumiciones)Total BebidasHiper+Super+Discount+G.A | B96: 0 | C96: 0 | D96: Hiper+Super+Discount+G.A | E96: 3.7568358 | F96: 4.7094448 | G96: 3.8028591 | H96: 4.1880863 | I96: 4.4592934 | J96: 5.0318313 | K96: 4.4859175 | L96: 4.3899125 | M96: 4.2031205
A97: =B3&C95&D97 -> DISTRIBUCION VOLUMEN POR CRITERIO (Consumiciones)Total BebidasRestaurantes | B97: 0 | C97: 0 | D97: Restaurantes | E97: 12.053128 | F97: 11.914584 | G97: 12.164888 | H97: 12.005104 | I97: 11.950754 | J97: 12.164925 | K97: 12.425437 | L97: 12.359365 | M97: 11.160011
A98: =B3&C95&D98 -> DISTRIBUCION VOLUMEN POR CRITERIO (Consumiciones)Total BebidasRestaurantes Fast Food | B98: 0 | C98: 0 | D98: Restaurantes Fast Food | E98: 5.1248549 | F98: 5.6101472 | G98: 5.7487716 | H98: 5.7954965 | I98: 5.9470245 | J98: 5.946174 | K98: 6.1504923 | L98: 5.7384177 | M98: 7.2836898
A99: =B3&C95&D99 -> DISTRIBUCION VOLUMEN POR CRITERIO (Consumiciones)Total BebidasBares/Cafeterias/Cervecerias | B99: 0 | C99: 0 | D99: Bares/Cafeterias/Cervecerias | E99: 62.868554 | F99: 59.735844 | G99: 62.05661 | H99: 61.706255 | I99: 61.355919 | J99: 59.160985 | K99: 61.367114 | L99: 61.662398 | M99: 59.865358
A100: =B3&C95&D100 -> DISTRIBUCION VOLUMEN POR CRITERIO (Consumiciones)Total BebidasPanaderias/Pastelerias | B100: 0 | C100: 0 | D100: Panaderias/Pastelerias | E100: 1.86877 | F100: 1.783926 | G100: 2.3163305 | H100: 2.3816997 | I100: 2.2646611 | J100: 1.9640225 | K100: 2.3540466 | L100: 2.5427077 | M100: 2.2807204
A101: =B3&C95&D101 -> DISTRIBUCION VOLUMEN POR CRITERIO (Consumiciones)Total BebidasTda.Alimentacion/Delicatesen | B101: 0 | C101: 0 | D101: Tda.Alimentacion/Delicatesen | E101: 0.82681485 | F101: 0.98278126 | G101: 0.8569249 | H101: 0.88958502 | I101: 0.99873385 | J101: 1.0260953 | K101: 0.87727547 | L101: 0.78333629 | M101: 0.91875018
...

Sheet MOTIVOS
A2: Informe consumo de alimentacion fuera del hogar
A3: 1
A5: Motivos y lugares de consumo
A6: Perfil de la categoría | D6: 6 | E6: 7 | F6: 8 | G6: 9 | H6: 10 | I6: 11 | J6: 12 | K6: 13
A7: =VLOOKUP(A9,DESPLEGABLES!K3:L5,2,0) -> CONSUMO PER CAPITA (kg o litros por individuo) | C7: 4 | D7: =VLOOKUP(C7,DESPLEGABLES!$F$3:$G$8,2,0) -> Total Bebidas Frias
A8: 5 | C8: 5 | D8: 6 | E8: 7 | F8: 8 | G8: 9 | H8: 10 | I8: 11 | J8: 12 | K8: 13
A9: 3 | C9: =KPI!C8 -> TRIM 2 24 | D9: =KPI!D8 -> TRIM 3 24 | E9: =KPI!E8 -> TRIM 4 24 | F9: =KPI!F8 -> TRIM 1 25 | G9: =KPI!G8 -> TRIM 2 25 | H9: =KPI!H8 -> TRIM 3 25 | I9: =KPI!I8 -> TRIM 4 25 | J9: =KPI!J8 -> TRIM 1 26 | K9: =KPI!K8 -> TRIM 2 26
A10: T.ESPAÑA | B10: T.ESPAÑA | C10: =VLOOKUP($A$7&$D$7&$A10,MOTIVOS_DATOS!$A:$M,C$8,0) -> 12.255948 | D10: =VLOOKUP($A$7&$D$7&$A10,MOTIVOS_DATOS!$A:$M,D$8,0) -> 19.399762 | E10: =VLOOKUP($A$7&$D$7&$A10,MOTIVOS_DATOS!$A:$M,E$8,0) -> 11.135374 | F10: =VLOOKUP($A$7&$D$7&$A10,MOTIVOS_DATOS!$A:$M,F$8,0) -> 10.500059 | G10: =VLOOKUP($A$7&$D$7&$A10,MOTIVOS_DATOS!$A:$M,G$8,0) -> 11.99938 | H10: =VLOOKUP($A$7&$D$7&$A10,MOTIVOS_DATOS!$A:$M,H$8,0) -> 17.929886 | I10: =VLOOKUP($A$7&$D$7&$A10,MOTIVOS_DATOS!$A:$M,I$8,0) -> 10.468665 | J10: =VLOOKUP($A$7&$D$7&$A10,MOTIVOS_DATOS!$A:$M,J$8,0) -> 9.8622507 | K10: =VLOOKUP($A$7&$D$7&$A10,MOTIVOS_DATOS!$A:$M,K$8,0) -> 10.735934
A12: Hiper+Super+Discount+G.A | B12: Hiper+Super+Discount+G.A | C12: =VLOOKUP($A$7&$D$7&$A12,MOTIVOS_DATOS!$A:$M,C$8,0) -> 1.3542434 | D12: =VLOOKUP($A$7&$D$7&$A12,MOTIVOS_DATOS!$A:$M,D$8,0) -> 2.5851607 | E12: =VLOOKUP($A$7&$D$7&$A12,MOTIVOS_DATOS!$A:$M,E$8,0) -> 1.4059728 | F12: =VLOOKUP($A$7&$D$7&$A12,MOTIVOS_DATOS!$A:$M,F$8,0) -> 1.5361618 | G12: =VLOOKUP($A$7&$D$7&$A12,MOTIVOS_DATOS!$A:$M,G$8,0) -> 1.6794395 | H12: =VLOOKUP($A$7&$D$7&$A12,MOTIVOS_DATOS!$A:$M,H$8,0) -> 2.3434281 | I12: =VLOOKUP($A$7&$D$7&$A12,MOTIVOS_DATOS!$A:$M,I$8,0) -> 1.4758359 | J12: =VLOOKUP($A$7&$D$7&$A12,MOTIVOS_DATOS!$A:$M,J$8,0) -> 1.4811938 | K12: =VLOOKUP($A$7&$D$7&$A12,MOTIVOS_DATOS!$A:$M,K$8,0) -> 1.2699558
A13: Restaurantes | B13: Restaurantes | C13: =VLOOKUP($A$7&$D$7&$A13,MOTIVOS_DATOS!$A:$M,C$8,0) -> 2.3686356 | D13: =VLOOKUP($A$7&$D$7&$A13,MOTIVOS_DATOS!$A:$M,D$8,0) -> 3.4790795 | E13: =VLOOKUP($A$7&$D$7&$A13,MOTIVOS_DATOS!$A:$M,E$8,0) -> 2.2521412 | F13: =VLOOKUP($A$7&$D$7&$A13,MOTIVOS_DATOS!$A:$M,F$8,0) -> 2.0620652 | G13: =VLOOKUP($A$7&$D$7&$A13,MOTIVOS_DATOS!$A:$M,G$8,0) -> 2.2286066 | H13: =VLOOKUP($A$7&$D$7&$A13,MOTIVOS_DATOS!$A:$M,H$8,0) -> 3.2963129 | I13: =VLOOKUP($A$7&$D$7&$A13,MOTIVOS_DATOS!$A:$M,I$8,0) -> 2.1214158 | J13: =VLOOKUP($A$7&$D$7&$A13,MOTIVOS_DATOS!$A:$M,J$8,0) -> 2.0689357 | K13: =VLOOKUP($A$7&$D$7&$A13,MOTIVOS_DATOS!$A:$M,K$8,0) -> 1.9854633
A14: Restaurantes fast food | B14: Restaurantes Fast Food | C14: =VLOOKUP($A$7&$D$7&$A14,MOTIVOS_DATOS!$A:$M,C$8,0) -> 0.7479143 | D14: =VLOOKUP($A$7&$D$7&$A14,MOTIVOS_DATOS!$A:$M,D$8,0) -> 1.1516265 | E14: =VLOOKUP($A$7&$D$7&$A14,MOTIVOS_DATOS!$A:$M,E$8,0) -> 0.78325261 | F14: =VLOOKUP($A$7&$D$7&$A14,MOTIVOS_DATOS!$A:$M,F$8,0) -> 0.77187078 | G14: =VLOOKUP($A$7&$D$7&$A14,MOTIVOS_DATOS!$A:$M,G$8,0) -> 0.84666726 | H14: =VLOOKUP($A$7&$D$7&$A14,MOTIVOS_DATOS!$A:$M,H$8,0) -> 1.1760999 | I14: =VLOOKUP($A$7&$D$7&$A14,MOTIVOS_DATOS!$A:$M,I$8,0) -> 0.82722051 | J14: =VLOOKUP($A$7&$D$7&$A14,MOTIVOS_DATOS!$A:$M,J$8,0) -> 0.69661591 | K14: =VLOOKUP($A$7&$D$7&$A14,MOTIVOS_DATOS!$A:$M,K$8,0) -> 0.97458394
A15: Bares/Cafeterias/Cervecerias | B15: Bares/Cafeterias/Cervecerias | C15: =VLOOKUP($A$7&$D$7&$A15,MOTIVOS_DATOS!$A:$M,C$8,0) -> 5.9461308 | D15: =VLOOKUP($A$7&$D$7&$A15,MOTIVOS_DATOS!$A:$M,D$8,0) -> 8.892428 | E15: =VLOOKUP($A$7&$D$7&$A15,MOTIVOS_DATOS!$A:$M,E$8,0) -> 5.2007148 | F15: =VLOOKUP($A$7&$D$7&$A15,MOTIVOS_DATOS!$A:$M,F$8,0) -> 4.7770305 | G15: =VLOOKUP($A$7&$D$7&$A15,MOTIVOS_DATOS!$A:$M,G$8,0) -> 5.6190826 | H15: =VLOOKUP($A$7&$D$7&$A15,MOTIVOS_DATOS!$A:$M,H$8,0) -> 8.1822528 | I15: =VLOOKUP($A$7&$D$7&$A15,MOTIVOS_DATOS!$A:$M,I$8,0) -> 4.7549765 | J15: =VLOOKUP($A$7&$D$7&$A15,MOTIVOS_DATOS!$A:$M,J$8,0) -> 4.3836689 | K15: =VLOOKUP($A$7&$D$7&$A15,MOTIVOS_DATOS!$A:$M,K$8,0) -> 4.8744773
A16: Panaderias/Pastelerias | B16: Panaderias/Pastelerias | C16: =VLOOKUP($A$7&$D$7&$A16,MOTIVOS_DATOS!$A:$M,C$8,0) -> 0.080474831 | D16: =VLOOKUP($A$7&$D$7&$A16,MOTIVOS_DATOS!$A:$M,D$8,0) -> 0.13254701 | E16: =VLOOKUP($A$7&$D$7&$A16,MOTIVOS_DATOS!$A:$M,E$8,0) -> 0.067675993 | F16: =VLOOKUP($A$7&$D$7&$A16,MOTIVOS_DATOS!$A:$M,F$8,0) -> 0.066498283 | G16: =VLOOKUP($A$7&$D$7&$A16,MOTIVOS_DATOS!$A:$M,G$8,0) -> 0.08929796 | H16: =VLOOKUP($A$7&$D$7&$A16,MOTIVOS_DATOS!$A:$M,H$8,0) -> 0.12304176 | I16: =VLOOKUP($A$7&$D$7&$A16,MOTIVOS_DATOS!$A:$M,I$8,0) -> 0.074324239 | J16: =VLOOKUP($A$7&$D$7&$A16,MOTIVOS_DATOS!$A:$M,J$8,0) -> 0.076493954 | K16: =VLOOKUP($A$7&$D$7&$A16,MOTIVOS_DATOS!$A:$M,K$8,0) -> 0.077180987
A17: Tda.Alimentacion/Delicatesen | B17: Tda.Alimentacion/24 horas | C17: =VLOOKUP($A$7&$D$7&$A17,MOTIVOS_DATOS!$A:$M,C$8,0) -> 0.19665739 | D17: =VLOOKUP($A$7&$D$7&$A17,MOTIVOS_DATOS!$A:$M,D$8,0) -> 0.33499014 | E17: =VLOOKUP($A$7&$D$7&$A17,MOTIVOS_DATOS!$A:$M,E$8,0) -> 0.18698321 | F17: =VLOOKUP($A$7&$D$7&$A17,MOTIVOS_DATOS!$A:$M,F$8,0) -> 0.16534391 | G17: =VLOOKUP($A$7&$D$7&$A17,MOTIVOS_DATOS!$A:$M,G$8,0) -> 0.20070907 | H17: =VLOOKUP($A$7&$D$7&$A17,MOTIVOS_DATOS!$A:$M,H$8,0) -> 0.33618812 | I17: =VLOOKUP($A$7&$D$7&$A17,MOTIVOS_DATOS!$A:$M,I$8,0) -> 0.19260494 | J17: =VLOOKUP($A$7&$D$7&$A17,MOTIVOS_DATOS!$A:$M,J$8,0) -> 0.14586423 | K17: =VLOOKUP($A$7&$D$7&$A17,MOTIVOS_DATOS!$A:$M,K$8,0) -> 0.18273784
A18: Canal Conveniencia/24h | B18: Hoteles | C18: =VLOOKUP($A$7&$D$7&$A18,MOTIVOS_DATOS!$A:$M,C$8,0) -> 0.20262645 | D18: =VLOOKUP($A$7&$D$7&$A18,MOTIVOS_DATOS!$A:$M,D$8,0) -> 0.31074018 | E18: =VLOOKUP($A$7&$D$7&$A18,MOTIVOS_DATOS!$A:$M,E$8,0) -> 0.15850306 | F18: =VLOOKUP($A$7&$D$7&$A18,MOTIVOS_DATOS!$A:$M,F$8,0) -> 0.1562773 | G18: =VLOOKUP($A$7&$D$7&$A18,MOTIVOS_DATOS!$A:$M,G$8,0) -> 0.17738242 | H18: =VLOOKUP($A$7&$D$7&$A18,MOTIVOS_DATOS!$A:$M,H$8,0) -> 0.26284568 | I18: =VLOOKUP($A$7&$D$7&$A18,MOTIVOS_DATOS!$A:$M,I$8,0) -> 0.13320145 | J18: =VLOOKUP($A$7&$D$7&$A18,MOTIVOS_DATOS!$A:$M,J$8,0) -> 0.13426202 | K18: =VLOOKUP($A$7&$D$7&$A18,MOTIVOS_DATOS!$A:$M,K$8,0) -> 0.17381142
A19: Hoteles | B19: Estaciones de servicio | C19: =VLOOKUP($A$7&$D$7&$A19,MOTIVOS_DATOS!$A:$M,C$8,0) -> 0.080944764 | D19: =VLOOKUP($A$7&$D$7&$A19,MOTIVOS_DATOS!$A:$M,D$8,0) -> 0.1613326 | E19: =VLOOKUP($A$7&$D$7&$A19,MOTIVOS_DATOS!$A:$M,E$8,0) -> 0.085157624 | F19: =VLOOKUP($A$7&$D$7&$A19,MOTIVOS_DATOS!$A:$M,F$8,0) -> 0.049862521 | G19: =VLOOKUP($A$7&$D$7&$A19,MOTIVOS_DATOS!$A:$M,G$8,0) -> 0.054107599 | H19: =VLOOKUP($A$7&$D$7&$A19,MOTIVOS_DATOS!$A:$M,H$8,0) -> 0.13242565 | I19: =VLOOKUP($A$7&$D$7&$A19,MOTIVOS_DATOS!$A:$M,I$8,0) -> 0.037620885 | J19: =VLOOKUP($A$7&$D$7&$A19,MOTIVOS_DATOS!$A:$M,J$8,0) -> 0.035539065 | K19: =VLOOKUP($A$7&$D$7&$A19,MOTIVOS_DATOS!$A:$M,K$8,0) -> 0.048720561
A20: Estaciones de servicio | B20: Maquinas dispensadoras | C20: =VLOOKUP($A$7&$D$7&$A20,MOTIVOS_DATOS!$A:$M,C$8,0) -> 0.21259286 | D20: =VLOOKUP($A$7&$D$7&$A20,MOTIVOS_DATOS!$A:$M,D$8,0) -> 0.39008266 | E20: =VLOOKUP($A$7&$D$7&$A20,MOTIVOS_DATOS!$A:$M,E$8,0) -> 0.18238395 | F20: =VLOOKUP($A$7&$D$7&$A20,MOTIVOS_DATOS!$A:$M,F$8,0) -> 0.16310817 | G20: =VLOOKUP($A$7&$D$7&$A20,MOTIVOS_DATOS!$A:$M,G$8,0) -> 0.18800733 | H20: =VLOOKUP($A$7&$D$7&$A20,MOTIVOS_DATOS!$A:$M,H$8,0) -> 0.32038942 | I20: =VLOOKUP($A$7&$D$7&$A20,MOTIVOS_DATOS!$A:$M,I$8,0) -> 0.1390214 | J20: =VLOOKUP($A$7&$D$7&$A20,MOTIVOS_DATOS!$A:$M,J$8,0) -> 0.18903944 | K20: =VLOOKUP($A$7&$D$7&$A20,MOTIVOS_DATOS!$A:$M,K$8,0) -> 0.19090628
A21: Maquinas dispensadoras | B21: Servicio en la empresa | C21: =VLOOKUP($A$7&$D$7&$A21,MOTIVOS_DATOS!$A:$M,C$8,0) -> 0.23466409 | D21: =VLOOKUP($A$7&$D$7&$A21,MOTIVOS_DATOS!$A:$M,D$8,0) -> 0.35261293 | E21: =VLOOKUP($A$7&$D$7&$A21,MOTIVOS_DATOS!$A:$M,E$8,0) -> 0.24314251 | F21: =VLOOKUP($A$7&$D$7&$A21,MOTIVOS_DATOS!$A:$M,F$8,0) -> 0.23088211 | G21: =VLOOKUP($A$7&$D$7&$A21,MOTIVOS_DATOS!$A:$M,G$8,0) -> 0.23627318 | H21: =VLOOKUP($A$7&$D$7&$A21,MOTIVOS_DATOS!$A:$M,H$8,0) -> 0.31652767 | I21: =VLOOKUP($A$7&$D$7&$A21,MOTIVOS_DATOS!$A:$M,I$8,0) -> 0.22010855 | J21: =VLOOKUP($A$7&$D$7&$A21,MOTIVOS_DATOS!$A:$M,J$8,0) -> 0.21647372 | K21: =VLOOKUP($A$7&$D$7&$A21,MOTIVOS_DATOS!$A:$M,K$8,0) -> 0.22375907
A22: Servicio en la empresa | B22: Resto de canales | C22: =VLOOKUP($A$7&$D$7&$A22,MOTIVOS_DATOS!$A:$M,C$8,0) -> 0.15502572 | D22: =VLOOKUP($A$7&$D$7&$A22,MOTIVOS_DATOS!$A:$M,D$8,0) -> 0.17172136 | E22: =VLOOKUP($A$7&$D$7&$A22,MOTIVOS_DATOS!$A:$M,E$8,0) -> 0.10730886 | F22: =VLOOKUP($A$7&$D$7&$A22,MOTIVOS_DATOS!$A:$M,F$8,0) -> 0.067279384 | G22: =VLOOKUP($A$7&$D$7&$A22,MOTIVOS_DATOS!$A:$M,G$8,0) -> 0.063053723 | H22: =VLOOKUP($A$7&$D$7&$A22,MOTIVOS_DATOS!$A:$M,H$8,0) -> 0.10179835 | I22: =VLOOKUP($A$7&$D$7&$A22,MOTIVOS_DATOS!$A:$M,I$8,0) -> 0.086265152 | J22: =VLOOKUP($A$7&$D$7&$A22,MOTIVOS_DATOS!$A:$M,J$8,0) -> 0.079269207 | K22: =VLOOKUP($A$7&$D$7&$A22,MOTIVOS_DATOS!$A:$M,K$8,0) -> 0.11530313
... A58: Celebracion/fiesta/salir tomar | B58: Otros motivos | C58: =VLOOKUP($A$7&$D$7&$A58,MOTIVOS_DATOS!$A:$M,C$8,0) -> 4.6061665 | D58: =VLOOKUP($A$7&$D$7&$A58,MOTIVOS_DATOS!$A:$M,D$8,0) -> 6.8334611 | E58: =VLOOKUP($A$7&$D$7&$A58,MOTIVOS_DATOS!$A:$M,E$8,0) -> 4.3055277 | F58: =VLOOKUP($A$7&$D$7&$A58,MOTIVOS_DATOS!$A:$M,F$8,0) -> 4.0661268 | G58: =VLOOKUP($A$7&$D$7&$A58,MOTIVOS_DATOS!$A:$M,G$8,0) -> 4.4276157 | H58: =VLOOKUP($A$7&$D$7&$A58,MOTIVOS_DATOS!$A:$M,H$8,0) -> 6.456108 | I58: =VLOOKUP($A$7&$D$7&$A58,MOTIVOS_DATOS!$A:$M,I$8,0) -> 4.0910875 | J58: =VLOOKUP($A$7&$D$7&$A58,MOTIVOS_DATOS!$A:$M,J$8,0) -> 3.7395174 | K58: =VLOOKUP($A$7&$D$7&$A58,MOTIVOS_DATOS!$A:$M,K$8,0) -> 4.0469051
A59: Viendo deportes | C59: =VLOOKUP($A$7&$D$7&$A59,MOTIVOS_DATOS!$A:$M,C$8,0) -> 0.22798882 | D59: =VLOOKUP($A$7&$D$7&$A59,MOTIVOS_DATOS!$A:$M,D$8,0) -> 0.37196254 | E59: =VLOOKUP($A$7&$D$7&$A59,MOTIVOS_DATOS!$A:$M,E$8,0) -> 0.20467054 | F59: =VLOOKUP($A$7&$D$7&$A59,MOTIVOS_DATOS!$A:$M,F$8,0) -> 0.24217779 | G59: =VLOOKUP($A$7&$D$7&$A59,MOTIVOS_DATOS!$A:$M,G$8,0) -> 0.26205059 | H59: =VLOOKUP($A$7&$D$7&$A59,MOTIVOS_DATOS!$A:$M,H$8,0) -> 0.22952788 | I59: =VLOOKUP($A$7&$D$7&$A59,MOTIVOS_DATOS!$A:$M,I$8,0) -> 0.21318777 | J59: =VLOOKUP($A$7&$D$7&$A59,MOTIVOS_DATOS!$A:$M,J$8,0) -> 0.23504353 | K59: =VLOOKUP($A$7&$D$7&$A59,MOTIVOS_DATOS!$A:$M,K$8,0) -> 0.22987125
A60: Otros motivos | C60: =VLOOKUP($A$7&$D$7&$A60,MOTIVOS_DATOS!$A:$M,C$8,0) -> 0.70441842 | D60: =VLOOKUP($A$7&$D$7&$A60,MOTIVOS_DATOS!$A:$M,D$8,0) -> 1.230794 | E60: =VLOOKUP($A$7&$D$7&$A60,MOTIVOS_DATOS!$A:$M,E$8,0) -> 0.66279453 | F60: =VLOOKUP($A$7&$D$7&$A60,MOTIVOS_DATOS!$A:$M,F$8,0) -> 0.63226157 | G60: =VLOOKUP($A$7&$D$7&$A60,MOTIVOS_DATOS!$A:$M,G$8,0) -> 0.75249141 | H60: =VLOOKUP($A$7&$D$7&$A60,MOTIVOS_DATOS!$A:$M,H$8,0) -> 1.1742804 | I60: =VLOOKUP($A$7&$D$7&$A60,MOTIVOS_DATOS!$A:$M,I$8,0) -> 0.64268303 | J60: =VLOOKUP($A$7&$D$7&$A60,MOTIVOS_DATOS!$A:$M,J$8,0) -> 0.611239 | K60: =VLOOKUP($A$7&$D$7&$A60,MOTIVOS_DATOS!$A:$M,K$8,0) -> 0.67065899
