Workbook

Sheet PORTADA
E1: Informe consumo de alimentación fuera del hogar
J5: Principales variables
J6: Perfil sociodemográfico
J7: Lugares y motivos de consumo
J8: Metodología
J9: Glosario variables
J10: Conclusiones

Sheet VARIABLES
A6: Periodicidad
A8: Trim 1: de enero a marzo
A9: Trim 2: de abril a junio
A10: Trim 3: de julio a septiembre
A11: Trim 4: de octubre a diciembre
A12: TAM : Últimos 12 meses
A14: Variables
A16: Volumen (millones de consumiciones): Volumen total en consumiciones realizado por los individuos residentes en España.
A17: Volumen (millones de kilos o litros consumidos): Volumen total de kilos o litros consumidos por los individuos residentes en España.
A18: Valor (euros): Gasto total realizado por los individuos residentes en España.
A19: Penetración (%): Porcentaje de individuos que han consumido el producto/categoría a lo largo del periodo de estudio.
A20: Frecuencia: Actos de consumo.
... A37: * No se incluye Canarias

Sheet Conclusiones 
A6: El consumo extradoméstico cierra en el segundo trimestre de 2026 con más consumidores, más visitas y más valor, pero menos volumen. Aunque el consumo fuera del hogar avanza durante el segundo trimestre del año creciendo en clientela y frecuencia, disminuye en ocasiones de entornos sociales con amigos y familiares, además se reduce el desembolso medio por individuo. El valor se impulsa a través del aumento de los precios medios. El 91,6 % de los españoles ha consumido alimentos y bebidas fuera de casa, por encima del 90,5 % registrado un año antes. Sin embargo, la mayor presencia de consumidores no impulsa el crecimiento del mercado. La evolución del periodo está marcada por una reducción del volumen consumido (4,1 %), una menor compra media (2,3 %) y un gasto medio estable respecto al mismo periodo del año anterior (253,46 €) y eso a pesar de que salimos un 2,2 % más (26,8 veces por trimestre). Por tanto, es evidente que más alcance y más visitas, no significa necesariamente mas consumo. La evolución por categorías pone de manifiesto un cambio en los hábitos de consumo fuera del hogar. Los alimentos ganan relevancia fuera de casa, mientras que las bebidas caen. Los españoles realizan un 5,0 % más de ocasiones de consumo de alimentos, aunque el volumen solo crece un 0,5 %, reflejando consumiciones más frecuentes, pero de menor tamaño. Si bien, bebemos menos fuera de casa, se reducen las consumiciones un 4,3 % siendo la caída del volumen del 8,0 %. Existe una polarización del consumo fuera del hogar en función de la edad. Los jóvenes consumen más fuera de casa, con aumentos del 72,7 % entre los 15-19 años y del 45,5 % entre los 20-24 años. Sin embargo, no compensa la caída de los adultos, entre los 35-49 años (5,2 %) y los 50-59 años (9,7 %), y el retroceso de adultos de 60 a 75 años (8,2 %). Desde una perspectiva territorial, también existen diferencias con focos de crecimiento aislados como el área metropolitana de Barcelona y la región resto centro frente a una mayoría de regiones en retroceso.
A7: La comida es el principal momento de consumo fuera del hogar, aumentando su alcance hasta representar el 40,3 % del volumen total, consumido fuera de casa, si bien pierde un 1,6 % a cierre de trimestre 2 2026. La cena continúa perdiendo relevancia (20,1 % vs 20,4 %), al igual que otros momentos vinculados a la tarde y la noche, lo que refleja una menor actividad nocturna. Los establecimientos mantienen su posición dominante (71,1 %), aunque con una evolución negativa (4,9 %), mientras crece el consumo asociado al propio hogar (4,0 %) que ya representa un 11,6 % del volumen total, o en colegios, institutos o universidades. Si tenemos en cuenta el entorno o canal de consumo extradoméstico, los restaurantes crecen un 2,1 % algo lógico si tenemos en cuenta que el consumo de alimentos crecía en este periodo, mientras que bares, cafeterías, cervecerías pierden el 10,1 % del volumen frente al segundo trimestre del año anterior. Además, el componente social pierde intensidad, con una reducción de las ocasiones compartidas con familiares y amigos y un mayor peso de los consumos ligados al trabajo, los estudios y las compras.

Sheet METODOLOGÍA 
A2: Informe consumo de alimentación fuera del hogar
A4: Metodología del panel de consumo alimentario fuera de hogares: alimentación
B6: El panel de consumo alimentario fuera de los hogares, estudio elaborado por el Ministerio de Agricultura, Pesca y Alimentación, tiene por objeto conocer la demanda total de alimentos y bebidas en el sector extradoméstico desde el punto de vista del consumidor final residente en España peninsular y Baleares, identificando los principales factores que caracterizan los hábitos alimentarios de los españoles fuera de su hogar y conociendo la importancia de los distintos tipos de establecimientos donde el consumidor compra los productos para su consumo extradoméstico. En particular, este informe se centra en la demanda total de alimentación en el sector extradoméstico. Para ello se aplica la siguiente metodología: Universo: Los individuos residentes en España peninsular e Islas Baleares de edades comprendidas entre 15-75 años (>18 años para la declaración de vino y derivados, cerveza, sidra y bebidas espirituosas). El estudio no recoge el consumo realizado por el turismo, permitiendo así cuantificar el consumo per cápita real de los españoles. Asimismo, no recoge el consumo realizado en las Islas Canarias ni en las ciudades autónomas de Ceuta y Melilla. Muestra*: 10.500 panelistas al año (8.500 individuos al trimestre) de entre 15 y 75 años. De ellos, 3.000 individuos declaran el consumo detallado de alimentos. La información se recoge mediante una aplicación de smartphone, con lectura de códigos EAN para aquellos productos que los tengan, y declaración manual guiada por categorías en el resto. La recogida de información se realiza en el momento de consumo, para lo cual los formularios están diseñados para una rápida declaración. Las posibilidades de respuesta están adaptadas a la realidad de las diferentes opciones de restauración al componerse de diferentes productos, así como de las recetas que hay disponibles, según elección del panelista. La asignación del precio no se hace por tipo de receta o plato de forma independiente, si no por menú u opción elegida, es decir por el precio total pagado por ticket. De ahí que no se pueda asignar un valor por tipo de producto de forma concreta en el caso de algunas categorías de productos de consumo extradoméstico, sino que se obtiene un dato global de facturación del grupo. En el caso de productos que se adquieren por unidades, como pueden ser las bebidas o los aperitivos, sí es posible asignar un valor de adquisición. * Desde T2 de 2018 **Los informes desde T1 2024 están elaborados con el panel ya adaptado al nuevo censo de población publicado por el INE (censo 2021). Por ello, los datos pueden sufrir alguna ligera variación respecto a informes de meses anteriores. En todo caso, la tendencia en el consumo alimentario fuera del hogar no se ha visto afectada. Para más información consultar el apartado de metodología de la web.

Sheet DESPLEGABLES
C2: KPI | F2: PERFIL - NOMECLATURA | K2: Motivos | N2: %POBLACION | O2: 0 | P2: 1
C3: 1 | D3: Volumen (millones de consumiciones) | E3: VOLUMEN (miles consumiciones) | F3: 1 | G3: TotalAlimentacion | K3: 1 | L3: DISTRIBUCION VOLUMEN POR CRITERIO (consumiciones) | N3: .T.Alimentos TOTAL ING | O3: T.ESPAÑA | P3: 100
C4: 2 | D4: Volumen (millones de kilos o litros) | E4: VOLUMEN (miles kg ó litros) | F4: 2 | G4: .T.Alimentos TOTAL ING | K4: 2 | L4: DISTRIBUCION VOLUMEN POR CRITERIO (kg o litros) | N4: 0 | O4: BCN AM | P4: 9.5390535
C5: 3 | D5: Valor (millones de euros) | E5: VALOR (miles euros) | F5: 3 | G5: Total Bebidas | K5: 3 | L5: CONSUMO PER CAPITA (kg o litros por individuo) | N5: 0 | O5: REST.CAT ARAGON | P5: 13.260336
C6: 4 | D6: % Penetración (población 15-75 años) | E6: PENETRACION (%) | F6: 4 | G6: Total Bebidas Frias | N6: 0 | O6: LEVANTE | P6: 15.940248
C7: 5 | D7: Frecuencia (actos de consumo) | E7: FRECUENCIA COMPRA (actos) | F7: 5 | G7: Total Bebidas Calientes | N7: 0 | O7: ANDALUCIA | P7: 20.080118
C8: 6 | D8: Consumo medio (consumiciones por consumidor) | E8: COMPRA MEDIA (Consumiciones) | F8: 6 | G8: Total Aperitivos | N8: 0 | O8: MDD AM | P8: 13.617304
C9: 7 | D9: Consumo medio (kilos o litros por consumidor) | E9: CONSUMO MEDIO (kg ó litros por consumidor) | N9: 0 | O9: RTO CENTRO | P9: 9.5414632
C10: 8 | D10: Consumo por acto (consumiciones) | E10: VOLUMEN POR ACTO (consumiciones) | N10: 0 | O10: NORTE-CENTRO | P10: 9.2405598
C11: 9 | D11: Consumo per cápita (kilos o litros por individuo) | E11: CONSUMO PER CAPITA (kg ó litros por individuo) | N11: 0 | O11: NOROESTE | P11: 8.7809218
C12: 10 | D12: Gasto per cápita (euros por individuo) | E12: GASTO PER CAPITA (€ por individuo) | N12: 0 | O12: <2MIL | P12: 5.7199069
C13: 11 | D13: Precio medio (€/kg o L) | E13: PRECIO MEDIO (kg ó litros) | N13: 0 | O13: 2-5MIL | P13: 6.4097901
N14: 0 | O14: 5-10MIL | P14: 7.9702166
N15: 0 | O15: 10-30MIL | P15: 18.011835
N16: 0 | O16: 30-100MIL | P16: 21.314428
N17: 0 | O17: 100-200MIL | P17: 9.9002701
N18: 0 | O18: 200-500MIL | P18: 13.459976
N19: 0 | O19: >500MIL | P19: 17.213585
N20: 0 | O20: DE 15 A 19 AÑOS | P20: 7.09855
N21: 0 | O21: DE 20 A 24 AÑOS | P21: 7.1000905
N22: 0 | O22: DE 25 A 34 AÑOS | P22: 14.64018
N23: 0 | O23: DE 35 A 49 AÑOS | P23: 27.660196
N24: 0 | O24: DE 50 A 59 AÑOS | P24: 19.960391
N25: 0 | O25: DE 60 A 75 AÑOS | P25: 23.540599
... N31: 0 | O31: HOMBRE | P31: 49.79995
O32: MUJER | P32: 50.200078

Sheet KPI_DATOS
B2: 0 | C2: 0 | D2: TRIM 2 24 | E2: TRIM 3 24 | F2: TRIM 4 24 | G2: TRIM 1 25 | H2: TRIM 2 25 | I2: TRIM 3 25 | J2: TRIM 4 25 | K2: TRIM 1 26 | L2: TRIM 2 26
A3: =B3&C3 -> VOLUMEN (miles Consumiciones)TotalAlimentacion | B3: VOLUMEN (miles Consumiciones) | C3: TotalAlimentacion | D3: 2900176 | E3: 4046382 | F3: 2772704 | G3: 2733018 | H3: 2840569 | I3: 3874077 | J3: 2752227 | K3: 2687067 | L3: 2848800
A4: =B3&C4 -> VOLUMEN (miles Consumiciones).T.Alimentos TOTAL ING | B4: 0 | C4: .T.Alimentos TOTAL ING | D4: 1171655 | E4: 1643940 | F4: 1145535 | G4: 1130641 | H4: 1169273 | I4: 1585310 | J4: 1132279 | K4: 1128410 | L4: 1228221
A5: =B3&C5 -> VOLUMEN (miles Consumiciones)Total Bebidas | B5: 0 | C5: Total Bebidas | D5: 1618014 | E5: 2267297 | F5: 1515358 | G5: 1486302 | H5: 1557475 | I5: 2149927 | J5: 1505844 | K5: 1449869 | L5: 1489874
A6: =B3&C6 -> VOLUMEN (miles Consumiciones)Total Bebidas Frias | B6: 0 | C6: Total Bebidas Frias | D6: 984158 | E6: 1491032 | F6: 890214.9 | G6: 852162.9 | H6: 964620.4 | I6: 1412090 | J6: 854306.8 | K6: 799335.1 | L6: 891336.9
A7: =B3&C7 -> VOLUMEN (miles Consumiciones)Total Bebidas Calientes | B7: 0 | C7: Total Bebidas Calientes | D7: 633856.5 | E7: 776264.6 | F7: 625143.6 | G7: 634139.5 | H7: 592854.7 | I7: 737836.9 | J7: 651537.3 | K7: 650534.2 | L7: 598537.5
A8: =B3&C8 -> VOLUMEN (miles Consumiciones)Total Aperitivos | B8: 0 | C8: Total Aperitivos | D8: 110506.6 | E8: 135145.6 | F8: 111810.7 | G8: 116074.9 | H8: 113821.6 | I8: 138839.7 | J8: 114104.4 | K8: 108787.4 | L8: 130703.8
A9: =B9&C9 -> VOLUMEN (Miles kg ó litros)TotalAlimentacion | B9: VOLUMEN (Miles kg ó litros) | C9: TotalAlimentacion | D9: 883396 | E9: 1315575.8 | F9: 832287.34 | G9: 817354.68 | H9: 878197.76 | I9: 1241772.6 | J9: 812866.06 | K9: 805355.34 | L9: 841906.91
A10: =B9&C10 -> VOLUMEN (Miles kg ó litros).T.Alimentos TOTAL ING | B10: 0 | C10: .T.Alimentos TOTAL ING | D10: 372997.05 | E10: 532973.67 | F10: 360562.31 | G10: 363167.45 | H10: 374273.11 | I10: 508098.02 | J10: 358516.33 | K10: 367443.65 | L10: 376084.37
A11: =B9&C11 -> VOLUMEN (Miles kg ó litros)Total Bebidas | B11: 0 | C11: Total Bebidas | D11: 499115.49 | E11: 767143.08 | F11: 459500 | G11: 442214.77 | H11: 491381.02 | I11: 718314.4 | J11: 442961.09 | K11: 426830.04 | L11: 452018.96
A12: =B9&C12 -> VOLUMEN (Miles kg ó litros)Total Bebidas Frias | B12: 0 | C12: Total Bebidas Frias | D12: 435075.51 | E12: 688673.79 | F12: 395295.66 | G12: 377314.71 | H12: 431196 | I12: 644305.99 | J12: 376189.36 | K12: 359094.55 | L12: 390910.64
A13: =B9&C13 -> VOLUMEN (Miles kg ó litros)Total Bebidas Calientes | B13: 0 | C13: Total Bebidas Calientes | D13: 64039.979 | E13: 78469.286 | F13: 64204.337 | G13: 64900.057 | H13: 60185.021 | I13: 74008.405 | J13: 66771.731 | K13: 67735.492 | L13: 61108.315
A14: =B9&C14 -> VOLUMEN (Miles kg ó litros)Total Aperitivos | B14: 0 | C14: Total Aperitivos | D14: 11283.45 | E14: 15459.029 | F14: 12225.029 | G14: 11972.463 | H14: 12543.626 | I14: 15360.196 | J14: 11388.636 | K14: 11081.657 | L14: 13803.58
A15: =B15&C15 -> VALOR (Miles Euros)TotalAlimentacion | B15: VALOR (Miles Euros) | C15: TotalAlimentacion | D15: 8227662 | E15: 11951200 | F15: 7990992 | G15: 7830530 | H15: 8244287 | I15: 11699540 | J15: 8088205 | K15: 7849904 | L15: 8452106
A16: =B15&C16 -> VALOR (Miles Euros).T.Alimentos TOTAL ING | B16: 0 | C16: .T.Alimentos TOTAL ING | D16: 5477959 | E16: 8006886 | F16: 5379315 | G16: 5310900 | H16: 5571363 | I16: 7942736 | J16: 5524333 | K16: 5396978 | L16: 5876764
A17: =B15&C17 -> VALOR (Miles Euros)Total Bebidas | B17: 0 | C17: Total Bebidas | D17: 2652668 | E17: 3812512 | F17: 2512798 | G17: 2419150 | H17: 2568413 | I17: 3629556 | J17: 2465304 | K17: 2356272 | L17: 2453265
A18: =B15&C18 -> VALOR (Miles Euros)Total Bebidas Frias | B18: 0 | C18: Total Bebidas Frias | D18: 1919954 | E18: 2914173 | F18: 1777767 | G18: 1674249 | H18: 1877952 | I18: 2774797 | J18: 1698576 | K18: 1589661 | L18: 1759680
A19: =B15&C19 -> VALOR (Miles Euros)Total Bebidas Calientes | B19: 0 | C19: Total Bebidas Calientes | D19: 732714.2 | E19: 898338.7 | F19: 735031.9 | G19: 744901.2 | H19: 690460.7 | I19: 854759.3 | J19: 766727.6 | K19: 766610.4 | L19: 693585.5
A20: =B15&C20 -> VALOR (Miles Euros)Total Aperitivos | B20: 0 | C20: Total Aperitivos | D20: 97035.13 | E20: 131803.9 | F20: 98878.77 | G20: 100480.5 | H20: 104511.6 | I20: 127251.9 | J20: 98568.15 | K20: 96655.23 | L20: 122077
A21: =B21&C21 -> PENETRACION (%)TotalAlimentacion | B21: PENETRACION (%) | C21: TotalAlimentacion | D21: 90.62217 | E21: 91.671 | F21: 91.00283 | G21: 90.06156 | H21: 90.4474 | I21: 91.20715 | J21: 90.65229 | K21: 91.37186 | L21: 91.5853
A22: =B21&C22 -> PENETRACION (%).T.Alimentos TOTAL ING | B22: 0 | C22: .T.Alimentos TOTAL ING | D22: 80.71718 | E22: 82.42254 | F22: 79.79079 | G22: 78.71038 | H22: 79.51106 | I22: 81.42354 | J22: 79.62246 | K22: 79.68672 | L22: 82.22069
A23: =B21&C23 -> PENETRACION (%)Total Bebidas | B23: 0 | C23: Total Bebidas | D23: 86.04392 | E23: 88.39309 | F23: 86.87743 | G23: 85.96108 | H23: 85.5504 | I23: 87.70922 | J23: 86.13348 | K23: 86.13432 | L23: 89.1999
A24: =B21&C24 -> PENETRACION (%)Total Bebidas Frias | B24: 0 | C24: Total Bebidas Frias | D24: 80.75916 | E24: 84.92157 | F24: 80.11025 | G24: 79.1919 | H24: 80.21913 | I24: 83.6136 | J24: 78.74654 | K24: 78.45107 | L24: 84.08534
A25: =B21&C25 -> PENETRACION (%)Total Bebidas Calientes | B25: 0 | C25: Total Bebidas Calientes | D25: 67.10987 | E25: 68.23751 | F25: 69.44415 | G25: 67.68888 | H25: 66.13644 | I25: 67.56464 | J25: 69.39255 | K25: 68.43119 | L25: 67.17547
A26: =B21&C26 -> PENETRACION (%)Total Aperitivos | B26: 0 | C26: Total Aperitivos | D26: 31.20548 | E26: 36.52927 | F26: 30.77507 | G26: 29.51961 | H26: 31.8002 | I26: 35.34304 | J26: 30.53125 | K26: 30.13621 | L26: 37.15305
A27: =B27&C27 -> FRECUENCIA COMPRA (Actos)TotalAlimentacion | B27: FRECUENCIA COMPRA (Actos) | C27: TotalAlimentacion | D27: 27.064148 | E27: 36.696897 | F27: 25.822495 | G27: 25.594861 | H27: 26.225948 | I27: 35.070467 | J27: 25.767801 | K27: 24.807177 | L27: 26.790876
A28: =B27&C28 -> FRECUENCIA COMPRA (Actos).T.Alimentos TOTAL ING | B28: 0 | C28: .T.Alimentos TOTAL ING | D28: 12.888554 | E28: 17.680839 | F28: 12.537186 | G28: 12.483238 | H28: 12.817169 | I28: 17.021745 | J28: 12.378163 | K28: 12.043778 | L28: 12.644577
A29: =B27&C29 -> FRECUENCIA COMPRA (Actos)Total Bebidas | B29: 0 | C29: Total Bebidas | D29: 23.247697 | E29: 30.906171 | F29: 22.294202 | G29: 22.003583 | H29: 22.659303 | I29: 29.623264 | J29: 22.174316 | K29: 21.387433 | L29: 22.373048
A30: =B27&C30 -> FRECUENCIA COMPRA (Actos)Total Bebidas Frias | B30: 0 | C30: Total Bebidas Frias | D30: 13.704606 | E30: 19.481702 | F30: 12.918141 | G30: 12.442784 | H30: 13.702157 | I30: 18.868924 | J30: 12.402054 | K30: 11.631282 | L30: 12.919926
A31: =B27&C31 -> FRECUENCIA COMPRA (Actos)Total Bebidas Calientes | B31: 0 | C31: Total Bebidas Calientes | D31: 16.082981 | E31: 19.537147 | F31: 15.465592 | G31: 15.998295 | H31: 15.492842 | I31: 18.725542 | J31: 16.038622 | K31: 16.000869 | L31: 15.755161
A32: =B27&C32 -> FRECUENCIA COMPRA (Actos)Total Aperitivos | B32: 0 | C32: Total Aperitivos | D32: 4.8889144 | E32: 5.6550384 | F32: 4.7319831 | G32: 5.1388205 | H32: 5.0639684 | I32: 5.6312986 | J32: 4.8463205 | K32: 4.7590564 | L32: 5.1016969
A33: =B33&C33 -> COMPRA MEDIA (Consumiciones)TotalAlimentacion | B33: COMPRA MEDIA (Consumiciones) | C33: TotalAlimentacion | D33: 90.151346 | E33: 124.34196 | F33: 85.828491 | G33: 84.448324 | H33: 87.396341 | I33: 118.20194 | J33: 84.487092 | K33: 80.766872 | L33: 85.427668
A34: =B33&C34 -> COMPRA MEDIA (Consumiciones).T.Alimentos TOTAL ING | B34: 0 | C34: .T.Alimentos TOTAL ING | D34: 40.889911 | E34: 56.185309 | F34: 40.442542 | G34: 39.974297 | H34: 40.923464 | I34: 54.181313 | J34: 39.573335 | K34: 38.890909 | L34: 41.02587
A35: =B33&C35 -> COMPRA MEDIA (Consumiciones)Total Bebidas | B35: 0 | C35: Total Bebidas | D35: 52.971762 | E35: 72.255833 | F35: 49.135007 | G35: 48.116412 | H35: 50.662082 | I35: 68.212477 | J35: 48.651116 | K35: 46.229559 | L35: 45.871988
A36: =B33&C36 -> COMPRA MEDIA (Consumiciones)Total Bebidas Frias | B36: 0 | C36: Total Bebidas Frias | D36: 34.328538 | E36: 49.459736 | F36: 31.303259 | G36: 29.945381 | H36: 33.462822 | I36: 46.997072 | J36: 30.190282 | K36: 27.983191 | L36: 29.112797
A37: =B33&C37 -> COMPRA MEDIA (Consumiciones)Total Bebidas Calientes | B37: 0 | C37: Total Bebidas Calientes | D37: 26.606444 | E37: 32.045679 | F37: 25.358696 | G37: 26.07087 | H37: 24.945456 | I37: 30.389684 | J37: 26.128307 | K37: 26.108581 | L37: 24.470513
A38: =B33&C38 -> COMPRA MEDIA (Consumiciones)Total Aperitivos | B38: 0 | C38: Total Aperitivos | D38: 9.9756176 | E38: 10.421822 | F38: 10.234511 | G38: 10.942483 | H38: 9.9604458 | I38: 10.931881 | J38: 10.400225 | K38: 9.9141886 | L38: 9.6617595
A39: =B39&C39 -> CONSUMO MEDIO (kg ó litros por consumidor)TotalAlimentacion | B39: CONSUMO MEDIO (kg ó litros por consumidor) | C39: TotalAlimentacion | D39: 27.460174 | E39: 40.426551 | F39: 25.763286 | G39: 25.255682 | H39: 27.019682 | I39: 37.887718 | J39: 24.953134 | K39: 24.207075 | L39: 25.24647
A40: =B39&C40 -> CONSUMO MEDIO (kg ó litros por consumidor).T.Alimentos TOTAL ING | B40: 0 | C40: .T.Alimentos TOTAL ING | D40: 13.017327 | E40: 18.215561 | F40: 12.729472 | G40: 12.839941 | H40: 13.09921 | I40: 17.365321 | J40: 12.530204 | K40: 12.664029 | L40: 12.562225
A41: =B39&C41 -> CONSUMO MEDIO (kg ó litros por consumidor)Total Bebidas | B41: 0 | C41: Total Bebidas | D41: 16.340419 | E41: 24.447861 | F41: 14.899143 | G41: 14.315925 | H41: 15.983811 | I41: 22.790543 | J41: 14.311278 | K41: 13.609619 | L41: 13.91729
...

Sheet KPI
A2: Informe consumo de alimentacion fuera del hogar
A3: 2
A5: Dimensión
A7: 11 | C7: 4 | D7: 5 | E7: 6 | F7: 7 | G7: 8 | H7: 9 | I7: 10 | J7: 11 | K7: 12
A8: =VLOOKUP(A7,DESPLEGABLES!C3:E13,3,0) -> PRECIO MEDIO (kg ó litros) | C8: =KPI_DATOS!D2 -> TRIM 2 24 | D8: =KPI_DATOS!E2 -> TRIM 3 24 | E8: =KPI_DATOS!F2 -> TRIM 4 24 | F8: =KPI_DATOS!G2 -> TRIM 1 25 | G8: =KPI_DATOS!H2 -> TRIM 2 25 | H8: =KPI_DATOS!I2 -> TRIM 3 25 | I8: =KPI_DATOS!J2 -> TRIM 4 25 | J8: =KPI_DATOS!K2 -> TRIM 1 26 | K8: =KPI_DATOS!L2 -> TRIM 2 26 | M8: ="Evolución "&K8&" vs "&G8 -> Evolución TRIM 2 26 vs TRIM 2 25
A9: Total Alimentacion | B9: TotalAlimentacion | C9: =IF($A$7<4,VLOOKUP($A$8&$B9,KPI_DATOS!$A:$L,C$7,0)/1000,VLOOKUP($A$8&$B9,KPI_DATOS!$A:$L,C$7,0)) -> 9.3136736 | D9: =IF($A$7<4,VLOOKUP($A$8&$B9,KPI_DATOS!$A:$L,D$7,0)/1000,VLOOKUP($A$8&$B9,KPI_DATOS!$A:$L,D$7,0)) -> 9.0843874 | E9: =IF($A$7<4,VLOOKUP($A$8&$B9,KPI_DATOS!$A:$L,E$7,0)/1000,VLOOKUP($A$8&$B9,KPI_DATOS!$A:$L,E$7,0)) -> 9.6012418 | F9: =IF($A$7<4,VLOOKUP($A$8&$B9,KPI_DATOS!$A:$L,F$7,0)/1000,VLOOKUP($A$8&$B9,KPI_DATOS!$A:$L,F$7,0)) -> 9.580333 | G9: =IF($A$7<4,VLOOKUP($A$8&$B9,KPI_DATOS!$A:$L,G$7,0)/1000,VLOOKUP($A$8&$B9,KPI_DATOS!$A:$L,G$7,0)) -> 9.387734 | H9: =IF($A$7<4,VLOOKUP($A$8&$B9,KPI_DATOS!$A:$L,H$7,0)/1000,VLOOKUP($A$8&$B9,KPI_DATOS!$A:$L,H$7,0)) -> 9.4216444 | I9: =IF($A$7<4,VLOOKUP($A$8&$B9,KPI_DATOS!$A:$L,I$7,0)/1000,VLOOKUP($A$8&$B9,KPI_DATOS!$A:$L,I$7,0)) -> 9.950231 | J9: =IF($A$7<4,VLOOKUP($A$8&$B9,KPI_DATOS!$A:$L,J$7,0)/1000,VLOOKUP($A$8&$B9,KPI_DATOS!$A:$L,J$7,0)) -> 9.747131 | K9: =IF($A$7<4,VLOOKUP($A$8&$B9,KPI_DATOS!$A:$L,K$7,0)/1000,VLOOKUP($A$8&$B9,KPI_DATOS!$A:$L,K$7,0)) -> 10.039241 | M9: =IFERROR(IF($A$7=4,(K9-G9),((K9/G9-1)*100)),"-") -> 6.9399767
A10: .T.Alimentos TOTAL ING | C10: =IF($A$7<4,VLOOKUP($A$8&$A10,KPI_DATOS!$A:$L,C$7,0)/1000,VLOOKUP($A$8&$A10,KPI_DATOS!$A:$L,C$7,0)) -> 14.686333 | D10: =IF($A$7<4,VLOOKUP($A$8&$A10,KPI_DATOS!$A:$L,D$7,0)/1000,VLOOKUP($A$8&$A10,KPI_DATOS!$A:$L,D$7,0)) -> 15.023042 | E10: =IF($A$7<4,VLOOKUP($A$8&$A10,KPI_DATOS!$A:$L,E$7,0)/1000,VLOOKUP($A$8&$A10,KPI_DATOS!$A:$L,E$7,0)) -> 14.919238 | F10: =IF($A$7<4,VLOOKUP($A$8&$A10,KPI_DATOS!$A:$L,F$7,0)/1000,VLOOKUP($A$8&$A10,KPI_DATOS!$A:$L,F$7,0)) -> 14.623833 | G10: =IF($A$7<4,VLOOKUP($A$8&$A10,KPI_DATOS!$A:$L,G$7,0)/1000,VLOOKUP($A$8&$A10,KPI_DATOS!$A:$L,G$7,0)) -> 14.885822 | H10: =IF($A$7<4,VLOOKUP($A$8&$A10,KPI_DATOS!$A:$L,H$7,0)/1000,VLOOKUP($A$8&$A10,KPI_DATOS!$A:$L,H$7,0)) -> 15.632291 | I10: =IF($A$7<4,VLOOKUP($A$8&$A10,KPI_DATOS!$A:$L,I$7,0)/1000,VLOOKUP($A$8&$A10,KPI_DATOS!$A:$L,I$7,0)) -> 15.408874 | J10: =IF($A$7<4,VLOOKUP($A$8&$A10,KPI_DATOS!$A:$L,J$7,0)/1000,VLOOKUP($A$8&$A10,KPI_DATOS!$A:$L,J$7,0)) -> 14.687907 | K10: =IF($A$7<4,VLOOKUP($A$8&$A10,KPI_DATOS!$A:$L,K$7,0)/1000,VLOOKUP($A$8&$A10,KPI_DATOS!$A:$L,K$7,0)) -> 15.626185 | M10: =IFERROR(IF($A$7=4,(K10-G10),((K10/G10-1)*100)),"-") -> 4.9736121
A11: Total Bebidas | C11: =IF($A$7<4,VLOOKUP($A$8&$A11,KPI_DATOS!$A:$L,C$7,0)/1000,VLOOKUP($A$8&$A11,KPI_DATOS!$A:$L,C$7,0)) -> 5.3147378 | D11: =IF($A$7<4,VLOOKUP($A$8&$A11,KPI_DATOS!$A:$L,D$7,0)/1000,VLOOKUP($A$8&$A11,KPI_DATOS!$A:$L,D$7,0)) -> 4.9697535 | E11: =IF($A$7<4,VLOOKUP($A$8&$A11,KPI_DATOS!$A:$L,E$7,0)/1000,VLOOKUP($A$8&$A11,KPI_DATOS!$A:$L,E$7,0)) -> 5.4685484 | F11: =IF($A$7<4,VLOOKUP($A$8&$A11,KPI_DATOS!$A:$L,F$7,0)/1000,VLOOKUP($A$8&$A11,KPI_DATOS!$A:$L,F$7,0)) -> 5.4705319 | G11: =IF($A$7<4,VLOOKUP($A$8&$A11,KPI_DATOS!$A:$L,G$7,0)/1000,VLOOKUP($A$8&$A11,KPI_DATOS!$A:$L,G$7,0)) -> 5.2269276 | H11: =IF($A$7<4,VLOOKUP($A$8&$A11,KPI_DATOS!$A:$L,H$7,0)/1000,VLOOKUP($A$8&$A11,KPI_DATOS!$A:$L,H$7,0)) -> 5.0528794 | I11: =IF($A$7<4,VLOOKUP($A$8&$A11,KPI_DATOS!$A:$L,I$7,0)/1000,VLOOKUP($A$8&$A11,KPI_DATOS!$A:$L,I$7,0)) -> 5.5655091 | J11: =IF($A$7<4,VLOOKUP($A$8&$A11,KPI_DATOS!$A:$L,J$7,0)/1000,VLOOKUP($A$8&$A11,KPI_DATOS!$A:$L,J$7,0)) -> 5.5203987 | K11: =IF($A$7<4,VLOOKUP($A$8&$A11,KPI_DATOS!$A:$L,K$7,0)/1000,VLOOKUP($A$8&$A11,KPI_DATOS!$A:$L,K$7,0)) -> 5.4273498 | M11: =IFERROR(IF($A$7=4,(K11-G11),((K11/G11-1)*100)),"-") -> 3.8344175
A12: Total Bebidas Frias | C12: =IF($A$7<4,VLOOKUP($A$8&$A12,KPI_DATOS!$A:$L,C$7,0)/1000,VLOOKUP($A$8&$A12,KPI_DATOS!$A:$L,C$7,0)) -> 4.4129213 | D12: =IF($A$7<4,VLOOKUP($A$8&$A12,KPI_DATOS!$A:$L,D$7,0)/1000,VLOOKUP($A$8&$A12,KPI_DATOS!$A:$L,D$7,0)) -> 4.2315724 | E12: =IF($A$7<4,VLOOKUP($A$8&$A12,KPI_DATOS!$A:$L,E$7,0)/1000,VLOOKUP($A$8&$A12,KPI_DATOS!$A:$L,E$7,0)) -> 4.4973096 | F12: =IF($A$7<4,VLOOKUP($A$8&$A12,KPI_DATOS!$A:$L,F$7,0)/1000,VLOOKUP($A$8&$A12,KPI_DATOS!$A:$L,F$7,0)) -> 4.4372747 | G12: =IF($A$7<4,VLOOKUP($A$8&$A12,KPI_DATOS!$A:$L,G$7,0)/1000,VLOOKUP($A$8&$A12,KPI_DATOS!$A:$L,G$7,0)) -> 4.3552167 | H12: =IF($A$7<4,VLOOKUP($A$8&$A12,KPI_DATOS!$A:$L,H$7,0)/1000,VLOOKUP($A$8&$A12,KPI_DATOS!$A:$L,H$7,0)) -> 4.3066447 | I12: =IF($A$7<4,VLOOKUP($A$8&$A12,KPI_DATOS!$A:$L,I$7,0)/1000,VLOOKUP($A$8&$A12,KPI_DATOS!$A:$L,I$7,0)) -> 4.5152154 | J12: =IF($A$7<4,VLOOKUP($A$8&$A12,KPI_DATOS!$A:$L,J$7,0)/1000,VLOOKUP($A$8&$A12,KPI_DATOS!$A:$L,J$7,0)) -> 4.4268592 | K12: =IF($A$7<4,VLOOKUP($A$8&$A12,KPI_DATOS!$A:$L,K$7,0)/1000,VLOOKUP($A$8&$A12,KPI_DATOS!$A:$L,K$7,0)) -> 4.5014891 | M12: =IFERROR(IF($A$7=4,(K12-G12),((K12/G12-1)*100)),"-") -> 3.3585571
A13: Total Bebidas Calientes | C13: =IF($A$7<4,VLOOKUP($A$8&$A13,KPI_DATOS!$A:$L,C$7,0)/1000,VLOOKUP($A$8&$A13,KPI_DATOS!$A:$L,C$7,0)) -> 11.441512 | D13: =IF($A$7<4,VLOOKUP($A$8&$A13,KPI_DATOS!$A:$L,D$7,0)/1000,VLOOKUP($A$8&$A13,KPI_DATOS!$A:$L,D$7,0)) -> 11.448284 | E13: =IF($A$7<4,VLOOKUP($A$8&$A13,KPI_DATOS!$A:$L,E$7,0)/1000,VLOOKUP($A$8&$A13,KPI_DATOS!$A:$L,E$7,0)) -> 11.448322 | F13: =IF($A$7<4,VLOOKUP($A$8&$A13,KPI_DATOS!$A:$L,F$7,0)/1000,VLOOKUP($A$8&$A13,KPI_DATOS!$A:$L,F$7,0)) -> 11.477666 | G13: =IF($A$7<4,VLOOKUP($A$8&$A13,KPI_DATOS!$A:$L,G$7,0)/1000,VLOOKUP($A$8&$A13,KPI_DATOS!$A:$L,G$7,0)) -> 11.472301 | H13: =IF($A$7<4,VLOOKUP($A$8&$A13,KPI_DATOS!$A:$L,H$7,0)/1000,VLOOKUP($A$8&$A13,KPI_DATOS!$A:$L,H$7,0)) -> 11.54949 | I13: =IF($A$7<4,VLOOKUP($A$8&$A13,KPI_DATOS!$A:$L,I$7,0)/1000,VLOOKUP($A$8&$A13,KPI_DATOS!$A:$L,I$7,0)) -> 11.482818 | J13: =IF($A$7<4,VLOOKUP($A$8&$A13,KPI_DATOS!$A:$L,J$7,0)/1000,VLOOKUP($A$8&$A13,KPI_DATOS!$A:$L,J$7,0)) -> 11.317706 | K13: =IF($A$7<4,VLOOKUP($A$8&$A13,KPI_DATOS!$A:$L,K$7,0)/1000,VLOOKUP($A$8&$A13,KPI_DATOS!$A:$L,K$7,0)) -> 11.3501 | M13: =IFERROR(IF($A$7=4,(K13-G13),((K13/G13-1)*100)),"-") -> -1.0651845
A14: Total Aperitivos | C14: =IF($A$7<4,VLOOKUP($A$8&$A14,KPI_DATOS!$A:$L,C$7,0)/1000,VLOOKUP($A$8&$A14,KPI_DATOS!$A:$L,C$7,0)) -> 8.599775 | D14: =IF($A$7<4,VLOOKUP($A$8&$A14,KPI_DATOS!$A:$L,D$7,0)/1000,VLOOKUP($A$8&$A14,KPI_DATOS!$A:$L,D$7,0)) -> 8.526014 | E14: =IF($A$7<4,VLOOKUP($A$8&$A14,KPI_DATOS!$A:$L,E$7,0)/1000,VLOOKUP($A$8&$A14,KPI_DATOS!$A:$L,E$7,0)) -> 8.0882237 | F14: =IF($A$7<4,VLOOKUP($A$8&$A14,KPI_DATOS!$A:$L,F$7,0)/1000,VLOOKUP($A$8&$A14,KPI_DATOS!$A:$L,F$7,0)) -> 8.3926339 | G14: =IF($A$7<4,VLOOKUP($A$8&$A14,KPI_DATOS!$A:$L,G$7,0)/1000,VLOOKUP($A$8&$A14,KPI_DATOS!$A:$L,G$7,0)) -> 8.3318489 | H14: =IF($A$7<4,VLOOKUP($A$8&$A14,KPI_DATOS!$A:$L,H$7,0)/1000,VLOOKUP($A$8&$A14,KPI_DATOS!$A:$L,H$7,0)) -> 8.284523 | I14: =IF($A$7<4,VLOOKUP($A$8&$A14,KPI_DATOS!$A:$L,I$7,0)/1000,VLOOKUP($A$8&$A14,KPI_DATOS!$A:$L,I$7,0)) -> 8.6549565 | J14: =IF($A$7<4,VLOOKUP($A$8&$A14,KPI_DATOS!$A:$L,J$7,0)/1000,VLOOKUP($A$8&$A14,KPI_DATOS!$A:$L,J$7,0)) -> 8.7220917 | K14: =IF($A$7<4,VLOOKUP($A$8&$A14,KPI_DATOS!$A:$L,K$7,0)/1000,VLOOKUP($A$8&$A14,KPI_DATOS!$A:$L,K$7,0)) -> 8.843865 | M14: =IFERROR(IF($A$7=4,(K14-G14),((K14/G14-1)*100)),"-") -> 6.1452876

Sheet PERFIL_DATOS
B2: 0 | C2: 0 | D2: 0 | E2: TRIM 2 24 | F2: TRIM 3 24 | G2: TRIM 4 24 | H2: TRIM 1 25 | I2: TRIM 2 25 | J2: TRIM 3 25 | K2: TRIM 4 25 | L2: TRIM 1 26 | M2: TRIM 2 26
A3: =B3&C3&D3 -> DISTRIBUCION VOLUMEN POR CRITERIO (Consumiciones)TotalAlimentacionT.ESPAÑA | B3: DISTRIBUCION VOLUMEN POR CRITERIO (Consumiciones) | C3: TotalAlimentacion | D3: T.ESPAÑA | E3: 100 | F3: 100 | G3: 100 | H3: 100 | I3: 100 | J3: 100 | K3: 100 | L3: 100 | M3: 100
A4: =B4&C4&D4 -> DISTRIBUCION VOLUMEN POR CRITERIO (Consumiciones)TotalAlimentacionBCN AM | B4: =B$3 -> DISTRIBUCION VOLUMEN POR CRITERIO (Consumiciones) | C4: =$C$3 -> TotalAlimentacion | D4: BCN AM | E4: 9.5656471 | F4: 9.4915285 | G4: 9.731825 | H4: 9.688103 | I4: 9.6465919 | J4: 10.197554 | K4: 9.8205744 | L4: 10.239953 | M4: 10.296662
A5: =B5&C5&D5 -> DISTRIBUCION VOLUMEN POR CRITERIO (Consumiciones)TotalAlimentacionREST.CAT ARAGON | B5: =B$3 -> DISTRIBUCION VOLUMEN POR CRITERIO (Consumiciones) | C5: =$C$3 -> TotalAlimentacion | D5: REST.CAT ARAGON | E5: 14.266279 | F5: 14.347298 | G5: 15.442597 | H5: 15.148466 | I5: 14.860959 | J5: 15.658698 | K5: 15.546668 | L5: 15.546218 | M5: 14.347364
A6: =B6&C6&D6 -> DISTRIBUCION VOLUMEN POR CRITERIO (Consumiciones)TotalAlimentacionLEVANTE | B6: =B$3 -> DISTRIBUCION VOLUMEN POR CRITERIO (Consumiciones) | C6: =$C$3 -> TotalAlimentacion | D6: LEVANTE | E6: 14.424207 | F6: 14.361724 | G6: 14.379692 | H6: 14.681063 | I6: 14.969856 | J6: 14.504211 | K6: 15.196534 | L6: 14.819452 | M6: 15.683239
A7: =B7&C7&D7 -> DISTRIBUCION VOLUMEN POR CRITERIO (Consumiciones)TotalAlimentacionANDALUCIA | B7: =B$3 -> DISTRIBUCION VOLUMEN POR CRITERIO (Consumiciones) | C7: =$C$3 -> TotalAlimentacion | D7: ANDALUCIA | E7: 20.116669 | F7: 20.278876 | G7: 19.951279 | H7: 19.772885 | I7: 19.401116 | J7: 19.073222 | K7: 19.633148 | L7: 19.716903 | M7: 19.79854
A8: =B8&C8&D8 -> DISTRIBUCION VOLUMEN POR CRITERIO (Consumiciones)TotalAlimentacionMDD AM | B8: =B$3 -> DISTRIBUCION VOLUMEN POR CRITERIO (Consumiciones) | C8: =$C$3 -> TotalAlimentacion | D8: MDD AM | E8: 13.753265 | F8: 13.165168 | G8: 13.078118 | H8: 12.714475 | I8: 13.789096 | J8: 13.082381 | K8: 12.79042 | L8: 12.502074 | M8: 12.900786
A9: =B9&C9&D9 -> DISTRIBUCION VOLUMEN POR CRITERIO (Consumiciones)TotalAlimentacionRTO CENTRO | B9: =B$3 -> DISTRIBUCION VOLUMEN POR CRITERIO (Consumiciones) | C9: =$C$3 -> TotalAlimentacion | D9: RTO CENTRO | E9: 8.5054459 | F9: 8.5617522 | G9: 8.8182006 | H9: 8.7914716 | I9: 8.2818266 | J9: 8.6194028 | K9: 8.8209657 | L9: 9.0733502 | M9: 9.0406592
A10: =B10&C10&D10 -> DISTRIBUCION VOLUMEN POR CRITERIO (Consumiciones)TotalAlimentacionNORTE-CENTRO | B10: =B$3 -> DISTRIBUCION VOLUMEN POR CRITERIO (Consumiciones) | C10: =$C$3 -> TotalAlimentacion | D10: NORTE-CENTRO | E10: 9.6015518 | F10: 10.314108 | G10: 9.5559569 | H10: 9.4839149 | I10: 9.733226 | J10: 9.4715541 | K10: 8.8333738 | L10: 9.1186636 | M10: 9.308056
A11: =B11&C11&D11 -> DISTRIBUCION VOLUMEN POR CRITERIO (Consumiciones)TotalAlimentacionNOROESTE | B11: =B$3 -> DISTRIBUCION VOLUMEN POR CRITERIO (Consumiciones) | C11: =$C$3 -> TotalAlimentacion | D11: NOROESTE | E11: 9.7669452 | F11: 9.4795425 | G11: 9.0423356 | H11: 9.7196359 | I11: 9.317341 | J11: 9.3929677 | K11: 9.3583305 | L11: 8.983386 | M11: 8.6246806
A12: =B12&C12&D12 -> DISTRIBUCION VOLUMEN POR CRITERIO (Consumiciones)TotalAlimentacion<2MIL | B12: =B$3 -> DISTRIBUCION VOLUMEN POR CRITERIO (Consumiciones) | C12: =$C$3 -> TotalAlimentacion | D12: <2MIL | E12: 5.5038108 | F12: 5.4811706 | G12: 5.3324625 | H12: 5.6440426 | I12: 5.3222506 | J12: 5.509795 | K12: 5.4647346 | L12: 5.6859468 | M12: 4.7831684
A13: =B13&C13&D13 -> DISTRIBUCION VOLUMEN POR CRITERIO (Consumiciones)TotalAlimentacion2-5MIL | B13: =B$3 -> DISTRIBUCION VOLUMEN POR CRITERIO (Consumiciones) | C13: =$C$3 -> TotalAlimentacion | D13: 2-5MIL | E13: 4.5335593 | F13: 4.6242594 | G13: 4.091937 | H13: 4.0235044 | I13: 4.0653827 | J13: 4.0758199 | K13: 4.341873 | L13: 4.9121105 | M13: 4.467976
A14: =B14&C14&D14 -> DISTRIBUCION VOLUMEN POR CRITERIO (Consumiciones)TotalAlimentacion5-10MIL | B14: =B$3 -> DISTRIBUCION VOLUMEN POR CRITERIO (Consumiciones) | C14: =$C$3 -> TotalAlimentacion | D14: 5-10MIL | E14: 7.7464161 | F14: 7.4341671 | G14: 7.5857574 | H14: 7.6456686 | I14: 7.9956762 | J14: 7.6559991 | K14: 7.8359816 | L14: 7.6886769 | M14: 7.2942502
A15: =B15&C15&D15 -> DISTRIBUCION VOLUMEN POR CRITERIO (Consumiciones)TotalAlimentacion10-30MIL | B15: =B$3 -> DISTRIBUCION VOLUMEN POR CRITERIO (Consumiciones) | C15: =$C$3 -> TotalAlimentacion | D15: 10-30MIL | E15: 17.950842 | F15: 17.542778 | G15: 17.958047 | H15: 17.196381 | I15: 17.538902 | J15: 17.598424 | K15: 17.361795 | L15: 17.450521 | M15: 18.658144
... A32: =B32&C32&D32 -> DISTRIBUCION VOLUMEN POR CRITERIO (Consumiciones)TotalAlimentacionMUJER | B32: =B$3 -> DISTRIBUCION VOLUMEN POR CRITERIO (Consumiciones) | C32: =$C$3 -> TotalAlimentacion | D32: MUJER | E32: 43.624525 | F32: 43.686385 | G32: 43.487116 | H32: 43.585187 | I32: 43.510649 | J32: 43.550915 | K32: 44.010287 | L32: 42.892715 | M32: 45.417404
A33: =B33&C33&D33 -> DISTRIBUCION VOLUMEN POR CRITERIO (Consumiciones).T.Alimentos TOTAL INGT.ESPAÑA | B33: =B$3 -> DISTRIBUCION VOLUMEN POR CRITERIO (Consumiciones) | C33: .T.Alimentos TOTAL ING | D33: T.ESPAÑA | E33: 100 | F33: 100 | G33: 100 | H33: 100 | I33: 100 | J33: 100 | K33: 100 | L33: 100 | M33: 100
A34: =B34&C34&D34 -> DISTRIBUCION VOLUMEN POR CRITERIO (Consumiciones).T.Alimentos TOTAL INGBCN AM | B34: =B$3 -> DISTRIBUCION VOLUMEN POR CRITERIO (Consumiciones) | C34: =C$33 -> .T.Alimentos TOTAL ING | D34: BCN AM | E34: 10.267468 | F34: 10.198797 | G34: 10.160536 | H34: 10.083086 | I34: 9.3698905 | J34: 10.768992 | K34: 10.321802 | L34: 10.735353 | M34: 10.96538
A35: =B35&C35&D35 -> DISTRIBUCION VOLUMEN POR CRITERIO (Consumiciones).T.Alimentos TOTAL INGREST.CAT ARAGON | B35: =B$3 -> DISTRIBUCION VOLUMEN POR CRITERIO (Consumiciones) | C35: =C$33 -> .T.Alimentos TOTAL ING | D35: REST.CAT ARAGON | E35: 13.742091 | F35: 14.366254 | G35: 16.125033 | H35: 15.800082 | I35: 14.802899 | J35: 16.061212 | K35: 17.051257 | L35: 16.3791 | M35: 15.390569
A36: =B36&C36&D36 -> DISTRIBUCION VOLUMEN POR CRITERIO (Consumiciones).T.Alimentos TOTAL INGLEVANTE | B36: =B$3 -> DISTRIBUCION VOLUMEN POR CRITERIO (Consumiciones) | C36: =C$33 -> .T.Alimentos TOTAL ING | D36: LEVANTE | E36: 16.027892 | F36: 15.949767 | G36: 15.822974 | H36: 15.842553 | I36: 17.006875 | J36: 15.857649 | K36: 16.388002 | L36: 16.041386 | M36: 17.420668
A37: =B37&C37&D37 -> DISTRIBUCION VOLUMEN POR CRITERIO (Consumiciones).T.Alimentos TOTAL INGANDALUCIA | B37: =B$3 -> DISTRIBUCION VOLUMEN POR CRITERIO (Consumiciones) | C37: =C$33 -> .T.Alimentos TOTAL ING | D37: ANDALUCIA | E37: 21.033675 | F37: 21.019113 | G37: 20.477035 | H37: 20.347838 | I37: 20.021056 | J37: 19.263683 | K37: 19.652921 | L37: 19.57223 | M37: 19.11025
A38: =B38&C38&D38 -> DISTRIBUCION VOLUMEN POR CRITERIO (Consumiciones).T.Alimentos TOTAL INGMDD AM | B38: =B$3 -> DISTRIBUCION VOLUMEN POR CRITERIO (Consumiciones) | C38: =C$33 -> .T.Alimentos TOTAL ING | D38: MDD AM | E38: 15.781403 | F38: 14.330377 | G38: 14.746673 | H38: 14.600258 | I38: 15.764676 | J38: 14.527386 | K38: 14.549108 | L38: 14.711399 | M38: 14.271096
A39: =B39&C39&D39 -> DISTRIBUCION VOLUMEN POR CRITERIO (Consumiciones).T.Alimentos TOTAL INGRTO CENTRO | B39: =B$3 -> DISTRIBUCION VOLUMEN POR CRITERIO (Consumiciones) | C39: =C$33 -> .T.Alimentos TOTAL ING | D39: RTO CENTRO | E39: 7.8518762 | F39: 7.7621446 | G39: 8.1794323 | H39: 8.104538 | I39: 7.715312 | J39: 8.4154393 | K39: 8.2769618 | L39: 8.67022 | M39: 8.4253485
A40: =B40&C40&D40 -> DISTRIBUCION VOLUMEN POR CRITERIO (Consumiciones).T.Alimentos TOTAL INGNORTE-CENTRO | B40: =B$3 -> DISTRIBUCION VOLUMEN POR CRITERIO (Consumiciones) | C40: =C$33 -> .T.Alimentos TOTAL ING | D40: NORTE-CENTRO | E40: 7.5304838 | F40: 8.7840919 | G40: 7.7000275 | H40: 7.8909654 | I40: 8.3429327 | J40: 8.1152393 | K40: 6.9900378 | L40: 7.3390266 | M40: 7.8262796
A41: =B41&C41&D41 -> DISTRIBUCION VOLUMEN POR CRITERIO (Consumiciones).T.Alimentos TOTAL INGNOROESTE | B41: =B$3 -> DISTRIBUCION VOLUMEN POR CRITERIO (Consumiciones) | C41: =C$33 -> .T.Alimentos TOTAL ING | D41: NOROESTE | E41: 7.7651476 | F41: 7.5894315 | G41: 6.7882649 | H41: 7.3306788 | I41: 6.9763374 | J41: 6.9903741 | K41: 6.7699057 | L41: 6.551312 | M41: 6.5904475
A42: =B42&C42&D42 -> DISTRIBUCION VOLUMEN POR CRITERIO (Consumiciones).T.Alimentos TOTAL ING<2MIL | B42: =B$3 -> DISTRIBUCION VOLUMEN POR CRITERIO (Consumiciones) | C42: =C$33 -> .T.Alimentos TOTAL ING | D42: <2MIL | E42: 4.7371846 | F42: 4.7054777 | G42: 4.7099949 | H42: 4.7941301 | I42: 4.6194841 | J42: 4.6510411 | K42: 5.1163918 | L42: 5.3203313 | M42: 4.5913219
A43: =B43&C43&D43 -> DISTRIBUCION VOLUMEN POR CRITERIO (Consumiciones).T.Alimentos TOTAL ING2-5MIL | B43: =B$3 -> DISTRIBUCION VOLUMEN POR CRITERIO (Consumiciones) | C43: =C$33 -> .T.Alimentos TOTAL ING | D43: 2-5MIL | E43: 3.9717357 | F43: 4.2431555 | G43: 3.5498086 | H43: 3.6447944 | I43: 3.570794 | J43: 3.7195293 | K43: 3.9495319 | L43: 4.598886 | M43: 4.1215856
A44: =B44&C44&D44 -> DISTRIBUCION VOLUMEN POR CRITERIO (Consumiciones).T.Alimentos TOTAL ING5-10MIL | B44: =B$3 -> DISTRIBUCION VOLUMEN POR CRITERIO (Consumiciones) | C44: =C$33 -> .T.Alimentos TOTAL ING | D44: 5-10MIL | E44: 7.8380564 | F44: 7.3529448 | G44: 7.4459183 | H44: 7.5313402 | I44: 8.2225417 | J44: 7.5081151 | K44: 7.4478587 | L44: 7.4070427 | M44: 7.2206541
A45: =B45&C45&D45 -> DISTRIBUCION VOLUMEN POR CRITERIO (Consumiciones).T.Alimentos TOTAL ING10-30MIL | B45: =B$3 -> DISTRIBUCION VOLUMEN POR CRITERIO (Consumiciones) | C45: =C$33 -> .T.Alimentos TOTAL ING | D45: 10-30MIL | E45: 16.996104 | F45: 16.803527 | G45: 17.454142 | H45: 16.099602 | I45: 16.689995 | J45: 16.443068 | K45: 16.521175 | L45: 16.38502 | M45: 18.197637
... A62: =B62&C62&D62 -> DISTRIBUCION VOLUMEN POR CRITERIO (Consumiciones).T.Alimentos TOTAL INGMUJER | B62: =B$3 -> DISTRIBUCION VOLUMEN POR CRITERIO (Consumiciones) | C62: =C$33 -> .T.Alimentos TOTAL ING | D62: MUJER | E62: 48.049656 | F62: 48.225434 | G62: 48.220858 | H62: 48.685781 | I62: 48.329646 | J62: 48.542014 | K62: 49.168164 | L62: 47.458699 | M62: 50.013475
A63: =B63&C63&D63 -> DISTRIBUCION VOLUMEN POR CRITERIO (Consumiciones)Total BebidasT.ESPAÑA | B63: =B$3 -> DISTRIBUCION VOLUMEN POR CRITERIO (Consumiciones) | C63: Total Bebidas | D63: T.ESPAÑA | E63: 100 | F63: 100 | G63: 100 | H63: 100 | I63: 100 | J63: 100 | K63: 100 | L63: 100 | M63: 100
A64: =B64&C64&D64 -> DISTRIBUCION VOLUMEN POR CRITERIO (Consumiciones)Total BebidasBCN AM | B64: =B$3 -> DISTRIBUCION VOLUMEN POR CRITERIO (Consumiciones) | C64: =$C$63 -> Total Bebidas | D64: BCN AM | E64: 8.9008748 | F64: 9.0143153 | G64: 9.4478071 | H64: 9.2826155 | I64: 9.6020931 | J64: 9.7765087 | K64: 9.4758952 | L64: 9.9933787 | M64: 9.7755582
A65: =B65&C65&D65 -> DISTRIBUCION VOLUMEN POR CRITERIO (Consumiciones)Total BebidasREST.CAT ARAGON | B65: =B$3 -> DISTRIBUCION VOLUMEN POR CRITERIO (Consumiciones) | C65: =$C$63 -> Total Bebidas | D65: REST.CAT ARAGON | E65: 14.420277 | F65: 14.273692 | G65: 14.851553 | H65: 14.654195 | I65: 14.7572 | J65: 15.477419 | K65: 14.601997 | L65: 15.236666 | M65: 13.682258
A66: =B66&C66&D66 -> DISTRIBUCION VOLUMEN POR CRITERIO (Consumiciones)Total BebidasLEVANTE | B66: =B$3 -> DISTRIBUCION VOLUMEN POR CRITERIO (Consumiciones) | C66: =$C$63 -> Total Bebidas | D66: LEVANTE | E66: 13.346819 | F66: 13.20224 | G66: 13.410607 | H66: 14.088981 | I66: 13.802616 | J66: 13.638868 | K66: 14.691993 | L66: 14.123241 | M66: 14.394506
A67: =B67&C67&D67 -> DISTRIBUCION VOLUMEN POR CRITERIO (Consumiciones)Total BebidasANDALUCIA | B67: =B$3 -> DISTRIBUCION VOLUMEN POR CRITERIO (Consumiciones) | C67: =$C$63 -> Total Bebidas | D67: ANDALUCIA | E67: 19.607939 | F67: 19.874225 | G67: 19.237368 | H67: 18.813068 | I67: 18.75458 | J67: 18.495312 | K67: 18.931735 | L67: 18.944008 | M67: 20.035426
A68: =B68&C68&D68 -> DISTRIBUCION VOLUMEN POR CRITERIO (Consumiciones)Total BebidasMDD AM | B68: =B$3 -> DISTRIBUCION VOLUMEN POR CRITERIO (Consumiciones) | C68: =$C$63 -> Total Bebidas | D68: MDD AM | E68: 12.596924 | F68: 12.250993 | G68: 12.100896 | H68: 11.616098 | I68: 12.66882 | J68: 12.091731 | K68: 11.558488 | L68: 11.063179 | M68: 11.873058
A69: =B69&C69&D69 -> DISTRIBUCION VOLUMEN POR CRITERIO (Consumiciones)Total BebidasRTO CENTRO | B69: =B$3 -> DISTRIBUCION VOLUMEN POR CRITERIO (Consumiciones) | C69: =$C$63 -> Total Bebidas | D69: RTO CENTRO | E69: 8.8618269 | F69: 9.1163354 | G69: 9.0220859 | H69: 9.0856771 | I69: 8.4769322 | J69: 8.6091853 | K69: 8.9183939 | L69: 9.176967 | M69: 9.5438071
A70: =B70&C70&D70 -> DISTRIBUCION VOLUMEN POR CRITERIO (Consumiciones)Total BebidasNORTE-CENTRO | B70: =B$3 -> DISTRIBUCION VOLUMEN POR CRITERIO (Consumiciones) | C70: =$C$63 -> Total Bebidas | D70: NORTE-CENTRO | E70: 11.009293 | F70: 11.312126 | G70: 10.96591 | H70: 10.67643 | I70: 10.726349 | J70: 10.570815 | K70: 10.294141 | L70: 10.353729 | M70: 10.145301
A71: =B71&C71&D71 -> DISTRIBUCION VOLUMEN POR CRITERIO (Consumiciones)Total BebidasNOROESTE | B71: =B$3 -> DISTRIBUCION VOLUMEN POR CRITERIO (Consumiciones) | C71: =$C$63 -> Total Bebidas | D71: NOROESTE | E71: 11.256071 | F71: 10.956064 | G71: 10.963805 | H71: 11.782975 | I71: 11.211409 | J71: 11.340176 | K71: 11.527356 | L71: 11.108859 | M71: 10.550114
A72: =B72&C72&D72 -> DISTRIBUCION VOLUMEN POR CRITERIO (Consumiciones)Total Bebidas<2MIL | B72: =B$3 -> DISTRIBUCION VOLUMEN POR CRITERIO (Consumiciones) | C72: =$C$63 -> Total Bebidas | D72: <2MIL | E72: 6.0311135 | F72: 6.0443603 | G72: 5.8538075 | H72: 6.2857818 | I72: 5.7916499 | J72: 6.1672513 | K72: 5.8422147 | L72: 5.9918717 | M72: 4.9654333
A73: =B73&C73&D73 -> DISTRIBUCION VOLUMEN POR CRITERIO (Consumiciones)Total Bebidas2-5MIL | B73: =B$3 -> DISTRIBUCION VOLUMEN POR CRITERIO (Consumiciones) | C73: =$C$63 -> Total Bebidas | D73: 2-5MIL | E73: 4.9158011 | F73: 4.8898622 | G73: 4.4998225 | H73: 4.2949158 | I73: 4.3710942 | J73: 4.360075 | K73: 4.6588478 | L73: 5.2291062 | M73: 4.8052614
...

Sheet PERFIL
A3: Informe consumo de alimentacion fuera del hogar
A4: 2
A5: 3
A6: Perfil sociodemográfico
A7: Perfil de la categoría
A9: 3 | C9: 0 | D9: 3 | E9: =VLOOKUP(D9,DESPLEGABLES!$F$3:$G$74,2,0) -> Total Bebidas
C10: 5 | D10: 6 | E10: 7 | F10: 8 | G10: 9 | H10: 10 | I10: 11 | J10: 12 | K10: 13
A11: =VLOOKUP(A9,DESPLEGABLES!K3:L5,2,0) -> CONSUMO PER CAPITA (kg o litros por individuo) | C11: =KPI!C8 -> TRIM 2 24 | D11: =KPI!D8 -> TRIM 3 24 | E11: =KPI!E8 -> TRIM 4 24 | F11: =KPI!F8 -> TRIM 1 25 | G11: =KPI!G8 -> TRIM 2 25 | H11: =KPI!H8 -> TRIM 3 25 | I11: =KPI!I8 -> TRIM 4 25 | J11: =KPI!J8 -> TRIM 1 26 | K11: =KPI!K8 -> TRIM 2 26 | M11: % Población
A12: T.ESPAÑA | B12: T.ESPAñA | C12: =VLOOKUP($A$11&$E$9&$A12,PERFIL_DATOS!$A:$M,C$10,0) -> 14.059937 | D12: =VLOOKUP($A$11&$E$9&$A12,PERFIL_DATOS!$A:$M,D$10,0) -> 21.61022 | E12: =VLOOKUP($A$11&$E$9&$A12,PERFIL_DATOS!$A:$M,E$10,0) -> 12.943993 | F12: =VLOOKUP($A$11&$E$9&$A12,PERFIL_DATOS!$A:$M,F$10,0) -> 12.306124 | G12: =VLOOKUP($A$11&$E$9&$A12,PERFIL_DATOS!$A:$M,G$10,0) -> 13.674214 | H12: =VLOOKUP($A$11&$E$9&$A12,PERFIL_DATOS!$A:$M,H$10,0) -> 19.989408 | I12: =VLOOKUP($A$11&$E$9&$A12,PERFIL_DATOS!$A:$M,I$10,0) -> 12.326801 | J12: =VLOOKUP($A$11&$E$9&$A12,PERFIL_DATOS!$A:$M,J$10,0) -> 11.722553 | K12: =VLOOKUP($A$11&$E$9&$A12,PERFIL_DATOS!$A:$M,K$10,0) -> 12.414209 | M12: =DESPLEGABLES!$P$3 -> 100
A13: BCN AM | B13: BCN AM | C13: =VLOOKUP($A$11&$E$9&$A13,PERFIL_DATOS!$A:$M,C$10,0) -> 14.145775 | D13: =VLOOKUP($A$11&$E$9&$A13,PERFIL_DATOS!$A:$M,D$10,0) -> 20.620004 | E13: =VLOOKUP($A$11&$E$9&$A13,PERFIL_DATOS!$A:$M,E$10,0) -> 12.743019 | F13: =VLOOKUP($A$11&$E$9&$A13,PERFIL_DATOS!$A:$M,F$10,0) -> 11.636987 | G13: =VLOOKUP($A$11&$E$9&$A13,PERFIL_DATOS!$A:$M,G$10,0) -> 13.411894 | H13: =VLOOKUP($A$11&$E$9&$A13,PERFIL_DATOS!$A:$M,H$10,0) -> 20.088713 | I13: =VLOOKUP($A$11&$E$9&$A13,PERFIL_DATOS!$A:$M,I$10,0) -> 12.131389 | J13: =VLOOKUP($A$11&$E$9&$A13,PERFIL_DATOS!$A:$M,J$10,0) -> 11.866652 | K13: =VLOOKUP($A$11&$E$9&$A13,PERFIL_DATOS!$A:$M,K$10,0) -> 12.136508 | M13: =DESPLEGABLES!P4 -> 9.5390535
A14: REST.CAT ARAGON | B14: REST.CAT ARAGON | C14: =VLOOKUP($A$11&$E$9&$A14,PERFIL_DATOS!$A:$M,C$10,0) -> 15.237379 | D14: =VLOOKUP($A$11&$E$9&$A14,PERFIL_DATOS!$A:$M,D$10,0) -> 26.159252 | E14: =VLOOKUP($A$11&$E$9&$A14,PERFIL_DATOS!$A:$M,E$10,0) -> 16.0796 | F14: =VLOOKUP($A$11&$E$9&$A14,PERFIL_DATOS!$A:$M,F$10,0) -> 15.811408 | G14: =VLOOKUP($A$11&$E$9&$A14,PERFIL_DATOS!$A:$M,G$10,0) -> 16.912325 | H14: =VLOOKUP($A$11&$E$9&$A14,PERFIL_DATOS!$A:$M,H$10,0) -> 26.623308 | I14: =VLOOKUP($A$11&$E$9&$A14,PERFIL_DATOS!$A:$M,I$10,0) -> 15.636105 | J14: =VLOOKUP($A$11&$E$9&$A14,PERFIL_DATOS!$A:$M,J$10,0) -> 15.517719 | K14: =VLOOKUP($A$11&$E$9&$A14,PERFIL_DATOS!$A:$M,K$10,0) -> 14.121845 | M14: =DESPLEGABLES!P5 -> 13.260336
A15: LEVANTE | B15: LEVANTE | C15: =VLOOKUP($A$11&$E$9&$A15,PERFIL_DATOS!$A:$M,C$10,0) -> 12.009233 | D15: =VLOOKUP($A$11&$E$9&$A15,PERFIL_DATOS!$A:$M,D$10,0) -> 18.557335 | E15: =VLOOKUP($A$11&$E$9&$A15,PERFIL_DATOS!$A:$M,E$10,0) -> 11.093898 | F15: =VLOOKUP($A$11&$E$9&$A15,PERFIL_DATOS!$A:$M,F$10,0) -> 11.052334 | G15: =VLOOKUP($A$11&$E$9&$A15,PERFIL_DATOS!$A:$M,G$10,0) -> 11.698764 | H15: =VLOOKUP($A$11&$E$9&$A15,PERFIL_DATOS!$A:$M,H$10,0) -> 17.126506 | I15: =VLOOKUP($A$11&$E$9&$A15,PERFIL_DATOS!$A:$M,I$10,0) -> 11.212088 | J15: =VLOOKUP($A$11&$E$9&$A15,PERFIL_DATOS!$A:$M,J$10,0) -> 10.371656 | K15: =VLOOKUP($A$11&$E$9&$A15,PERFIL_DATOS!$A:$M,K$10,0) -> 11.592182 | M15: =DESPLEGABLES!P6 -> 15.940248
A16: ANDALUCIA | B16: ANDALUCIA | C16: =VLOOKUP($A$11&$E$9&$A16,PERFIL_DATOS!$A:$M,C$10,0) -> 14.045495 | D16: =VLOOKUP($A$11&$E$9&$A16,PERFIL_DATOS!$A:$M,D$10,0) -> 20.82099 | E16: =VLOOKUP($A$11&$E$9&$A16,PERFIL_DATOS!$A:$M,E$10,0) -> 12.420074 | F16: =VLOOKUP($A$11&$E$9&$A16,PERFIL_DATOS!$A:$M,F$10,0) -> 11.319422 | G16: =VLOOKUP($A$11&$E$9&$A16,PERFIL_DATOS!$A:$M,G$10,0) -> 12.861477 | H16: =VLOOKUP($A$11&$E$9&$A16,PERFIL_DATOS!$A:$M,H$10,0) -> 18.339972 | I16: =VLOOKUP($A$11&$E$9&$A16,PERFIL_DATOS!$A:$M,I$10,0) -> 11.54007 | J16: =VLOOKUP($A$11&$E$9&$A16,PERFIL_DATOS!$A:$M,J$10,0) -> 11.129307 | K16: =VLOOKUP($A$11&$E$9&$A16,PERFIL_DATOS!$A:$M,K$10,0) -> 12.215975 | M16: =DESPLEGABLES!P7 -> 20.080118
A17: MDD AM | B17: MDD AM | C17: =VLOOKUP($A$11&$E$9&$A17,PERFIL_DATOS!$A:$M,C$10,0) -> 13.293137 | D17: =VLOOKUP($A$11&$E$9&$A17,PERFIL_DATOS!$A:$M,D$10,0) -> 20.542371 | E17: =VLOOKUP($A$11&$E$9&$A17,PERFIL_DATOS!$A:$M,E$10,0) -> 11.912814 | F17: =VLOOKUP($A$11&$E$9&$A17,PERFIL_DATOS!$A:$M,F$10,0) -> 10.483459 | G17: =VLOOKUP($A$11&$E$9&$A17,PERFIL_DATOS!$A:$M,G$10,0) -> 12.905847 | H17: =VLOOKUP($A$11&$E$9&$A17,PERFIL_DATOS!$A:$M,H$10,0) -> 17.8437 | I17: =VLOOKUP($A$11&$E$9&$A17,PERFIL_DATOS!$A:$M,I$10,0) -> 10.329987 | J17: =VLOOKUP($A$11&$E$9&$A17,PERFIL_DATOS!$A:$M,J$10,0) -> 9.2027583 | K17: =VLOOKUP($A$11&$E$9&$A17,PERFIL_DATOS!$A:$M,K$10,0) -> 10.851964 | M17: =DESPLEGABLES!P8 -> 13.617304
A18: RTO CENTRO | B18: RTO CENTRO | C18: =VLOOKUP($A$11&$E$9&$A18,PERFIL_DATOS!$A:$M,C$10,0) -> 13.137758 | D18: =VLOOKUP($A$11&$E$9&$A18,PERFIL_DATOS!$A:$M,D$10,0) -> 19.685565 | E18: =VLOOKUP($A$11&$E$9&$A18,PERFIL_DATOS!$A:$M,E$10,0) -> 11.949742 | F18: =VLOOKUP($A$11&$E$9&$A18,PERFIL_DATOS!$A:$M,F$10,0) -> 12.10105 | G18: =VLOOKUP($A$11&$E$9&$A18,PERFIL_DATOS!$A:$M,G$10,0) -> 12.686499 | H18: =VLOOKUP($A$11&$E$9&$A18,PERFIL_DATOS!$A:$M,H$10,0) -> 18.626411 | I18: =VLOOKUP($A$11&$E$9&$A18,PERFIL_DATOS!$A:$M,I$10,0) -> 12.366195 | J18: =VLOOKUP($A$11&$E$9&$A18,PERFIL_DATOS!$A:$M,J$10,0) -> 11.83329 | K18: =VLOOKUP($A$11&$E$9&$A18,PERFIL_DATOS!$A:$M,K$10,0) -> 12.763459 | M18: =DESPLEGABLES!P9 -> 9.5414632
A19: NORTE-CENTRO | B19: NORTE-CENTRO | C19: =VLOOKUP($A$11&$E$9&$A19,PERFIL_DATOS!$A:$M,C$10,0) -> 14.175185 | D19: =VLOOKUP($A$11&$E$9&$A19,PERFIL_DATOS!$A:$M,D$10,0) -> 23.376768 | E19: =VLOOKUP($A$11&$E$9&$A19,PERFIL_DATOS!$A:$M,E$10,0) -> 13.707478 | F19: =VLOOKUP($A$11&$E$9&$A19,PERFIL_DATOS!$A:$M,F$10,0) -> 12.475615 | G19: =VLOOKUP($A$11&$E$9&$A19,PERFIL_DATOS!$A:$M,G$10,0) -> 14.357381 | H19: =VLOOKUP($A$11&$E$9&$A19,PERFIL_DATOS!$A:$M,H$10,0) -> 20.198499 | I19: =VLOOKUP($A$11&$E$9&$A19,PERFIL_DATOS!$A:$M,I$10,0) -> 12.256102 | J19: =VLOOKUP($A$11&$E$9&$A19,PERFIL_DATOS!$A:$M,J$10,0) -> 11.705131 | K19: =VLOOKUP($A$11&$E$9&$A19,PERFIL_DATOS!$A:$M,K$10,0) -> 12.650164 | M19: =DESPLEGABLES!P10 -> 9.2405598
A20: NOROESTE | B20: NOROESTE | C20: =VLOOKUP($A$11&$E$9&$A20,PERFIL_DATOS!$A:$M,C$10,0) -> 17.896603 | D20: =VLOOKUP($A$11&$E$9&$A20,PERFIL_DATOS!$A:$M,D$10,0) -> 24.91515 | E20: =VLOOKUP($A$11&$E$9&$A20,PERFIL_DATOS!$A:$M,E$10,0) -> 14.768891 | F20: =VLOOKUP($A$11&$E$9&$A20,PERFIL_DATOS!$A:$M,F$10,0) -> 15.126967 | G20: =VLOOKUP($A$11&$E$9&$A20,PERFIL_DATOS!$A:$M,G$10,0) -> 16.03805 | H20: =VLOOKUP($A$11&$E$9&$A20,PERFIL_DATOS!$A:$M,H$10,0) -> 23.404085 | I20: =VLOOKUP($A$11&$E$9&$A20,PERFIL_DATOS!$A:$M,I$10,0) -> 14.480007 | J20: =VLOOKUP($A$11&$E$9&$A20,PERFIL_DATOS!$A:$M,J$10,0) -> 13.450437 | K20: =VLOOKUP($A$11&$E$9&$A20,PERFIL_DATOS!$A:$M,K$10,0) -> 13.877589 | M20: =DESPLEGABLES!P11 -> 8.7809218
A21: <2MIL | B21: <2MIL | C21: =VLOOKUP($A$11&$E$9&$A21,PERFIL_DATOS!$A:$M,C$10,0) -> 13.923555 | D21: =VLOOKUP($A$11&$E$9&$A21,PERFIL_DATOS!$A:$M,D$10,0) -> 21.245982 | E21: =VLOOKUP($A$11&$E$9&$A21,PERFIL_DATOS!$A:$M,E$10,0) -> 11.410081 | F21: =VLOOKUP($A$11&$E$9&$A21,PERFIL_DATOS!$A:$M,F$10,0) -> 13.099376 | G21: =VLOOKUP($A$11&$E$9&$A21,PERFIL_DATOS!$A:$M,G$10,0) -> 13.136352 | H21: =VLOOKUP($A$11&$E$9&$A21,PERFIL_DATOS!$A:$M,H$10,0) -> 20.221673 | I21: =VLOOKUP($A$11&$E$9&$A21,PERFIL_DATOS!$A:$M,I$10,0) -> 11.886205 | J21: =VLOOKUP($A$11&$E$9&$A21,PERFIL_DATOS!$A:$M,J$10,0) -> 13.696493 | K21: =VLOOKUP($A$11&$E$9&$A21,PERFIL_DATOS!$A:$M,K$10,0) -> 11.420517 | M21: =DESPLEGABLES!P12 -> 5.7199069
A22: 2-5MIL | B22: 2-5MIL | C22: =VLOOKUP($A$11&$E$9&$A22,PERFIL_DATOS!$A:$M,C$10,0) -> 9.9859403 | D22: =VLOOKUP($A$11&$E$9&$A22,PERFIL_DATOS!$A:$M,D$10,0) -> 15.627134 | E22: =VLOOKUP($A$11&$E$9&$A22,PERFIL_DATOS!$A:$M,E$10,0) -> 8.432604 | F22: =VLOOKUP($A$11&$E$9&$A22,PERFIL_DATOS!$A:$M,F$10,0) -> 7.4373382 | G22: =VLOOKUP($A$11&$E$9&$A22,PERFIL_DATOS!$A:$M,G$10,0) -> 9.1600206 | H22: =VLOOKUP($A$11&$E$9&$A22,PERFIL_DATOS!$A:$M,H$10,0) -> 12.610522 | I22: =VLOOKUP($A$11&$E$9&$A22,PERFIL_DATOS!$A:$M,I$10,0) -> 8.3803002 | J22: =VLOOKUP($A$11&$E$9&$A22,PERFIL_DATOS!$A:$M,J$10,0) -> 9.2622508 | K22: =VLOOKUP($A$11&$E$9&$A22,PERFIL_DATOS!$A:$M,K$10,0) -> 9.5444815 | M22: =DESPLEGABLES!P13 -> 6.4097901
A23: 5-10MIL | B23: 5-10MIL | C23: =VLOOKUP($A$11&$E$9&$A23,PERFIL_DATOS!$A:$M,C$10,0) -> 13.35883 | D23: =VLOOKUP($A$11&$E$9&$A23,PERFIL_DATOS!$A:$M,D$10,0) -> 20.190335 | E23: =VLOOKUP($A$11&$E$9&$A23,PERFIL_DATOS!$A:$M,E$10,0) -> 12.907539 | F23: =VLOOKUP($A$11&$E$9&$A23,PERFIL_DATOS!$A:$M,F$10,0) -> 11.031081 | G23: =VLOOKUP($A$11&$E$9&$A23,PERFIL_DATOS!$A:$M,G$10,0) -> 13.652071 | H23: =VLOOKUP($A$11&$E$9&$A23,PERFIL_DATOS!$A:$M,H$10,0) -> 19.399386 | I23: =VLOOKUP($A$11&$E$9&$A23,PERFIL_DATOS!$A:$M,I$10,0) -> 12.137462 | J23: =VLOOKUP($A$11&$E$9&$A23,PERFIL_DATOS!$A:$M,J$10,0) -> 11.558232 | K23: =VLOOKUP($A$11&$E$9&$A23,PERFIL_DATOS!$A:$M,K$10,0) -> 11.289252 | M23: =DESPLEGABLES!P14 -> 7.9702166
A24: 10-30MIL | B24: 10-30MIL | C24: =VLOOKUP($A$11&$E$9&$A24,PERFIL_DATOS!$A:$M,C$10,0) -> 14.283429 | D24: =VLOOKUP($A$11&$E$9&$A24,PERFIL_DATOS!$A:$M,D$10,0) -> 20.989226 | E24: =VLOOKUP($A$11&$E$9&$A24,PERFIL_DATOS!$A:$M,E$10,0) -> 12.343377 | F24: =VLOOKUP($A$11&$E$9&$A24,PERFIL_DATOS!$A:$M,F$10,0) -> 11.661797 | G24: =VLOOKUP($A$11&$E$9&$A24,PERFIL_DATOS!$A:$M,G$10,0) -> 13.191722 | H24: =VLOOKUP($A$11&$E$9&$A24,PERFIL_DATOS!$A:$M,H$10,0) -> 19.73987 | I24: =VLOOKUP($A$11&$E$9&$A24,PERFIL_DATOS!$A:$M,I$10,0) -> 11.883448 | J24: =VLOOKUP($A$11&$E$9&$A24,PERFIL_DATOS!$A:$M,J$10,0) -> 11.3771 | K24: =VLOOKUP($A$11&$E$9&$A24,PERFIL_DATOS!$A:$M,K$10,0) -> 12.868035 | M24: =DESPLEGABLES!P15 -> 18.011835
... A41: MUJER | B41: MUJER | C41: =VLOOKUP($A$11&$E$9&$A41,PERFIL_DATOS!$A:$M,C$10,0) -> 11.65639 | D41: =VLOOKUP($A$11&$E$9&$A41,PERFIL_DATOS!$A:$M,D$10,0) -> 17.634219 | E41: =VLOOKUP($A$11&$E$9&$A41,PERFIL_DATOS!$A:$M,E$10,0) -> 10.230317 | F41: =VLOOKUP($A$11&$E$9&$A41,PERFIL_DATOS!$A:$M,F$10,0) -> 9.7509385 | G41: =VLOOKUP($A$11&$E$9&$A41,PERFIL_DATOS!$A:$M,G$10,0) -> 10.842467 | H41: =VLOOKUP($A$11&$E$9&$A41,PERFIL_DATOS!$A:$M,H$10,0) -> 16.211523 | I41: =VLOOKUP($A$11&$E$9&$A41,PERFIL_DATOS!$A:$M,I$10,0) -> 9.8037145 | J41: =VLOOKUP($A$11&$E$9&$A41,PERFIL_DATOS!$A:$M,J$10,0) -> 9.078514 | K41: =VLOOKUP($A$11&$E$9&$A41,PERFIL_DATOS!$A:$M,K$10,0) -> 10.580035 | M41: =DESPLEGABLES!P32 -> 50.200078
A42: Datos en color gris no tienen suficiente base muestral
A43: (-) o celda en blanco, dato no disponible

Sheet MOTIVOS_DATOS
B2: 0 | C2: 0 | D2: 0 | E2: TRIM 2 24 | F2: TRIM 3 24 | G2: TRIM 4 24 | H2: TRIM 1 25 | I2: TRIM 2 25 | J2: TRIM 3 25 | K2: TRIM 4 25 | L2: TRIM 1 26 | M2: TRIM 2 26
A3: =B3&C3&D3 -> DISTRIBUCION VOLUMEN POR CRITERIO (Consumiciones)TotalAlimentacionT.ESPAÑA | B3: DISTRIBUCION VOLUMEN POR CRITERIO (Consumiciones) | C3: TotalAlimentacion | D3: T.ESPAÑA | E3: 100 | F3: 100 | G3: 100 | H3: 100 | I3: 100 | J3: 100 | K3: 100 | L3: 100 | M3: 100
A4: =B3&C3&D4 -> DISTRIBUCION VOLUMEN POR CRITERIO (Consumiciones)TotalAlimentacionHiper+Super+Discount+G.A | B4: 0 | C4: 0 | D4: Hiper+Super+Discount+G.A | E4: 6.258965 | F4: 6.9002185 | G4: 6.8458984 | H4: 7.4040639 | I4: 7.210675 | J4: 7.1482575 | K4: 7.4021293 | L4: 8.4288259 | M4: 7.4770605
A5: =B3&C3&D5 -> DISTRIBUCION VOLUMEN POR CRITERIO (Consumiciones)TotalAlimentacionRestaurantes | B5: 0 | C5: 0 | D5: Restaurantes | E5: 16.806308 | F5: 16.466342 | G5: 17.0996 | H5: 17.137776 | I5: 16.646619 | J5: 16.722708 | K5: 16.845951 | L5: 17.083977 | M5: 17.674094
A6: =B3&C3&D6 -> DISTRIBUCION VOLUMEN POR CRITERIO (Consumiciones)TotalAlimentacionRestaurantes Fast Food | B6: 0 | C6: 0 | D6: Restaurantes Fast Food | E6: 9.5757947 | F6: 9.926821 | G6: 10.285458 | H6: 10.120091 | I6: 10.441658 | J6: 10.349541 | K6: 10.810151 | L6: 10.381684 | M6: 11.289202
A7: =B3&C3&D7 -> DISTRIBUCION VOLUMEN POR CRITERIO (Consumiciones)TotalAlimentacionBares/Cafeterias/Cervecerias | B7: 0 | C7: 0 | D7: Bares/Cafeterias/Cervecerias | E7: 48.679597 | F7: 46.686423 | G7: 47.495441 | H7: 46.987689 | I7: 47.425076 | J7: 45.973092 | K7: 46.9797 | L7: 46.664225 | M7: 44.064694
A8: =B3&C3&D8 -> DISTRIBUCION VOLUMEN POR CRITERIO (Consumiciones)TotalAlimentacionPanaderias/Pastelerias | B8: 0 | C8: 0 | D8: Panaderias/Pastelerias | E8: 2.8055635 | F8: 2.3889378 | G8: 3.1488028 | H8: 3.2836428 | I8: 3.1720212 | J8: 2.5779222 | K8: 3.3931031 | L8: 3.3980489 | M8: 3.238875
A9: =B3&C3&D9 -> DISTRIBUCION VOLUMEN POR CRITERIO (Consumiciones)TotalAlimentacionTda.Alimentacion/Delicatesen | B9: 0 | C9: 0 | D9: Tda.Alimentacion/Delicatesen | E9: 1.1516273 | F9: 1.299643 | G9: 1.1872915 | H9: 1.3927248 | I9: 1.2056863 | J9: 1.2207666 | K9: 1.1961288 | L9: 1.0516061 | M9: 1.2804974
A10: =B3&C3&D10 -> DISTRIBUCION VOLUMEN POR CRITERIO (Consumiciones)TotalAlimentacionCanal Conveniencia/24h | B10: 0 | C10: 0 | D10: Canal Conveniencia/24h | E10: 3.7732951 | F10: 3.2420716 | G10: 3.8017257 | H10: 3.7839195 | I10: 3.5561432 | J10: 3.3494869 | K10: 3.8639618 | L10: 3.8512624 | M10: 3.7082105
A11: =B3&C3&D11 -> DISTRIBUCION VOLUMEN POR CRITERIO (Consumiciones)TotalAlimentacionHoteles | B11: 0 | C11: 0 | D11: Hoteles | E11: 0.7100738 | F11: 0.77930037 | G11: 0.75031738 | H11: 0.49214019 | I11: 0.42810613 | J11: 0.63071255 | K11: 0.31883903 | L11: 0.34210293 | M11: 0.46101692
A12: =B3&C3&D12 -> DISTRIBUCION VOLUMEN POR CRITERIO (Consumiciones)TotalAlimentacionEstaciones de servicio | B12: 0 | C12: 0 | D12: Estaciones de servicio | E12: 1.3776623 | F12: 1.736583 | G12: 1.4301123 | H12: 1.3385642 | I12: 1.5502535 | J12: 1.4991339 | K12: 1.2201468 | L12: 1.3548002 | M12: 1.5554065
A13: =B3&C3&D13 -> DISTRIBUCION VOLUMEN POR CRITERIO (Consumiciones)TotalAlimentacionMaquinas dispensadoras | B13: 0 | C13: 0 | D13: Maquinas dispensadoras | E13: 2.8159746 | F13: 2.5368638 | G13: 2.8012359 | H13: 3.0005909 | I13: 2.7205229 | J13: 2.5029838 | K13: 2.8554222 | L13: 2.7907101 | M13: 2.8633242
A14: =B3&C3&D14 -> DISTRIBUCION VOLUMEN POR CRITERIO (Consumiciones)TotalAlimentacionServicio en la empresa | B14: 0 | C14: 0 | D14: Servicio en la empresa | E14: 1.5201833 | F14: 1.1753895 | G14: 1.3368593 | H14: 1.3180788 | I14: 1.2135685 | J14: 1.0904502 | K14: 1.409354 | L14: 1.4991297 | M14: 1.7207006
A15: =B3&C3&D15 -> DISTRIBUCION VOLUMEN POR CRITERIO (Consumiciones)TotalAlimentacionResto de canales | B15: 0 | C15: 0 | D15: Resto de canales | E15: 4.5249737 | F15: 6.8613937 | G15: 3.8172412 | H15: 3.7407401 | I15: 4.429697 | J15: 6.9349293 | K15: 3.7051232 | L15: 3.1536221 | M15: 4.6669019
A16: =B3&C3&D16 -> DISTRIBUCION VOLUMEN POR CRITERIO (Consumiciones)TotalAlimentacionEN LA CALLE | B16: 0 | C16: 0 | D16: EN LA CALLE | E16: 4.593535 | F16: 5.8627164 | G16: 4.0737345 | H16: 4.3324266 | I16: 5.4719072 | J16: 5.9491796 | K16: 4.3620675 | L16: 3.9345874 | M16: 6.2457561
A17: =B3&C3&D17 -> DISTRIBUCION VOLUMEN POR CRITERIO (Consumiciones)TotalAlimentacionEN CASA DE OTROS | B17: 0 | C17: 0 | D17: EN CASA DE OTROS | E17: 4.347643 | F17: 4.4007313 | G17: 5.1071409 | H17: 5.0646172 | I17: 4.3784432 | J17: 4.276709 | K17: 4.774548 | L17: 5.1314686 | M17: 3.8064378
A18: =B3&C3&D18 -> DISTRIBUCION VOLUMEN POR CRITERIO (Consumiciones)TotalAlimentacionEN EL ESTABLECIMIENTO | B18: 0 | C18: 0 | D18: EN EL ESTABLECIMIENTO | E18: 73.902205 | F18: 74.317749 | G18: 72.600682 | H18: 71.623714 | I18: 72.822523 | J18: 73.757078 | K18: 72.418917 | L18: 71.259704 | M18: 71.558446
A19: =B3&C3&D19 -> DISTRIBUCION VOLUMEN POR CRITERIO (Consumiciones)TotalAlimentacionEN EL TRABAJO | B19: 0 | C19: 0 | D19: EN EL TRABAJO | E19: 6.4397195 | F19: 5.3075661 | G19: 6.0316824 | H19: 6.1262275 | I19: 5.5932597 | J19: 4.9910237 | K19: 5.8198978 | L19: 5.9855337 | M19: 6.1312272
A20: =B3&C3&D20 -> DISTRIBUCION VOLUMEN POR CRITERIO (Consumiciones)TotalAlimentacionEN COLEGIO/INSTITUTO/UNIV. | B20: 0 | C20: 0 | D20: EN COLEGIO/INSTITUTO/UNIV. | E20: 0.25635627 | F20: 0.14435792 | G20: 0.36379253 | H20: 0.21377576 | I20: 0.30103708 | J20: 0.13334854 | K20: 0.31290544 | L20: 0.37041265 | M20: 0.45778258
A21: =B3&C3&D21 -> DISTRIBUCION VOLUMEN POR CRITERIO (Consumiciones)TotalAlimentacionEN MI CASA | B21: 0 | C21: 0 | D21: EN MI CASA | E21: 7.8869903 | F21: 7.016043 | G21: 8.6198346 | H21: 9.0423846 | I21: 8.4360669 | J21: 7.5504281 | K21: 9.1172966 | L21: 10.129208 | M21: 8.7649572
A22: =B3&C3&D22 -> DISTRIBUCION VOLUMEN POR CRITERIO (Consumiciones)TotalAlimentacionEN M.TRANSP.(AVION,TREN,AUTOC,E | B22: 0 | C22: 0 | D22: EN M.TRANSP.(AVION,TREN,AUTOC,E | E22: 0.094655014 | F22: 0.1500945 | G22: 0.12628842 | H22: 0.133948 | I22: 0.12170407 | J22: 0.15815692 | K22: 0.16036395 | L22: 0.12693651 | M22: 0.1402593
A23: =B3&C3&D23 -> DISTRIBUCION VOLUMEN POR CRITERIO (Consumiciones)TotalAlimentacionEN OTRO LUGAR | B23: 0 | C23: 0 | D23: EN OTRO LUGAR | E23: 2.4789202 | F23: 2.8007316 | G23: 3.0768355 | H23: 3.462904 | I23: 2.8750824 | J23: 3.1840746 | K23: 3.0340292 | L23: 3.0621708 | M23: 2.8951172
A24: =B3&C3&D24 -> DISTRIBUCION VOLUMEN POR CRITERIO (Consumiciones)TotalAlimentacionDESAYUNO | B24: 0 | C24: 0 | D24: DESAYUNO | E24: 20.505125 | F24: 19.001513 | G24: 20.57366 | H24: 20.997681 | I24: 19.599052 | J24: 18.97698 | K24: 21.751781 | L24: 22.079572 | M24: 19.7955
A25: =B3&C3&D25 -> DISTRIBUCION VOLUMEN POR CRITERIO (Consumiciones)TotalAlimentacionAPERITIVO/ANTES DE COMER | B25: 0 | C25: 0 | D25: APERITIVO/ANTES DE COMER | E25: 11.470297 | F25: 11.140584 | G25: 11.111002 | H25: 11.169524 | I25: 11.738064 | J25: 11.383715 | K25: 11.102642 | L25: 11.163235 | M25: 11.617765
A26: =B3&C3&D26 -> DISTRIBUCION VOLUMEN POR CRITERIO (Consumiciones)TotalAlimentacionCOMIDA | B26: 0 | C26: 0 | D26: COMIDA | E26: 29.36548 | F26: 28.134961 | G26: 30.43525 | H26: 30.491815 | I26: 29.826239 | J26: 28.032432 | K26: 30.411401 | L26: 30.607201 | M26: 30.539396
A27: =B3&C3&D27 -> DISTRIBUCION VOLUMEN POR CRITERIO (Consumiciones)TotalAlimentacionTARDE/MERIENDA | B27: 0 | C27: 0 | D27: TARDE/MERIENDA | E27: 13.380581 | F27: 11.908774 | G27: 12.408086 | H27: 12.345879 | I27: 12.931849 | J27: 11.250448 | K27: 12.006415 | L27: 12.389367 | M27: 12.793759
A28: =B3&C3&D28 -> DISTRIBUCION VOLUMEN POR CRITERIO (Consumiciones)TotalAlimentacionANTES DE CENAR | B28: 0 | C28: 0 | D28: ANTES DE CENAR | E28: 4.9405071 | F28: 5.345914 | G28: 4.919097 | H28: 4.7597967 | I28: 4.7497913 | J28: 5.47009 | K28: 4.6655963 | L28: 4.3954617 | M28: 4.5399677
